Workbook
Name Acreditar_y_mantener_la_certificación_del_del_laboratorio_antidopaje_y__sus_procesos_conforme_a_los_requisitos__establecidos_por_los_organismos_internacionales: varios!$F$51
Name AREA: Organigrama!$A$3:$A$13
Name Aumentar_el_número_de_deportistas__con_talento_deportivo_identificados_con_proyección_de_alto_rendimiento: varios!$F$49:$F$50
Name Consolidar_la_estratégia_de_gestión_de_la_información_del_sector_deporte_que_contribuya_a_la_toma_de_decisiones: varios!$F$39
Name Despacho_del_Ministerio: Organigrama!$C$2:$C$3
Name Despacho_del_Ministro: varios!$I$4:$I$5
Name Despacho_del_Viceministerio: Organigrama!$B$4
Name Dirección_de_Fomento_y_Desarrollo: varios!$I$21:$I$24
Name Dirección_de_Fomento_y_Desarrollo: Organigrama!$C$25:$C$28
Name Dirección_de_Inspección__Vigilancia_y_Control: varios!$I$18:$I$20
Name Dirección_de_Inspección_Vigilancia_y_Control: Organigrama!$C$29:$C$31
Name Dirección_de_Posicionalmiento_y_Liderazgo: varios!$I$12:$I$17
Name Dirección_de_PosicIonamiento_y_Liderazgo_Deportivo: Organigrama!$C$19:$C$24
Name Dirección_de_Recursos_y_Herramientas_del_Sistema: varios!$I$25:$I$27
Name Dirección_de_Recursos_y_herramientas_del_SND: Organigrama!$C$32:$C$34
Name Ejercer_inspeccion__vigilancia_y_control_sobre_las_entidades__personas_y_los_organismos_deportivos_y_demás_entidades_que_conforman_el_Sistema_nacional_del_Deporte: varios!$F$38
Name Elaborar_propuestas_de_mejora_normativa_fomentando_la_articulación_y_cumplimiento_de_los_objetivos_del_Sistema_Nacional_del_Deporte: varios!$F$35
Name Fortalecer_las_capacidades_institucionales_y_de_gestión_de_los_actores_del_SND_para_el_cumplimiento_de_los_objetivos_del_sector.: varios!$F$36:$F$37
Name Fortalecer_y_socializar_los_lineamientos_de_política_pública_en_altos_logros_al_SND_y_organización_de_eventos_deportivos_así_como_el_apoyo_integral_a_los_atletas: varios!$F$47:$F$48
Name Garantizar_la_infraestructura_recreodeportiva_para_el_desarrollo_de_los_programas_de_deporte__recreación__actividad_física_y_aprovechamiento_del_tiempo_libre: varios!$F$46
Name Implementar_un_modelo_de_gestión_pública_efectivo_orientado_a_resultados_y_a_la_satisfacción_de_los_grupos_de_valor: varios!$F$41:$F$43
Name Incrementar_programas_que_promuevan_la_practica_del_deporte_la_recreación_y_la_actividad_fisica_y_fomente_los_estilos_de_vida_saludables: varios!$F$44:$F$45
Name INDICADOR_PND: 'Objetivos PND'!$D$2:$D$9
Name Objetivo_Estrategico_PEI: PEI!$A$2:$A$15
Name OBJETIVO_PND: 'Objetivos PND'!$A$2:$A$23
Name OBJETIVOS_PND: [1]Hoja1!$C$263:$C$266
Name Oficina_Asesora_de_Planeación: varios!$I$7:$I$9
Name Oficina_Asesora_de_Planeación: Organigrama!$C$6:$C$9
Name Oficina_Asesora_Juridica: Organigrama!$B$5
Name Oficina_de_Control_Interno_Disciplinario: Organigrama!$B$10
Name Orientar__desarrollar_y_coordinar_el_Programa_Nacional_Antidopaje_en_cumplimiento_de_la_normatividad_nacional_e_internacional.: varios!$F$40
Name Porcentaje_de_cumplimiento_de_la_implementación_del_Plan_Estratégico_de_Formación_de_Mindeporte: varios!$G$36
Name PROCESO: varios!$B$3:$B$18
Name Propuestas_de_ajuste_normativo_realizadas: varios!$G$35
Name PROYECTOS_DE_INVERSION: 'Metas PND'!$A$2:$A$15
Name RUBRO: [1]Hoja1!$B$137:$B$154
Name Secretaria_General: varios!$I$28:$I$34
Name Secretaria_General: Organigrama!$C$11:$C$18
Name TIPO_DE_ACUMULACION: varios!#REF!
Name TIPO_DE_INDICADOR: varios!#REF!

Sheet GENERAL
E2: PROCESO: | I2: Versión: 3
E3: DIRECCIONAMIENTO ESTRATÉGICO Y APRENDIZAJE ORGANIZACIONAL | I3: CÓDIGO:
I4: DE-FR-024
E5: FORMATO:
E6: FORMULACIÓN PLAN DE ACCIÓN INSTITUCIONAL | I6: FECHA:
A8: I. IDENTIFICACIÓN GENERAL
B10: 1. VIGENCIA:
B12: 2. DEPENDENCIA:
B14: 3. PROYECTO DE INVERSIÓN | D14: APOYO AL PROGRAMA DE CONTROL DOPAJE NACIONAL | G14: 3.1. RUBRO: | H14: =INDEX(Presupuesto!A1:B14,MATCH(D14,Presupuesto!A1:A14,0),2) -> C-4302-1604-24 | I14: 3.2. BPIN | J14: =INDEX(Presupuesto!A2:C13,MATCH(D14,Presupuesto!A2:A13,0),3) -> 2018011000422
D15: DESARROLLO DE POLITICAS PUBLICAS E INVESTIGACION SECTORIAL A NIVEL NACIONAL | H15: =INDEX(Presupuesto!A2:B15,MATCH(D15,Presupuesto!A2:A15,0),2) -> C-4302-1604-20 | J15: =INDEX(Presupuesto!A3:C14,MATCH(D15,Presupuesto!A3:A14,0),3) -> 2018011000092
B17: 4.1. INDICADOR SINERGIA | G17: 5.1 OBJETIVO ESPECIFICO PLAN ESTRATEGICO INSTITUCIONAL | H17: =INDEX('Metas PND'!A:E,MATCH(D14,'Metas PND'!A:A,0),5) -> N/A
B19: 4.2 META SINERGIA | G19: 5.2 META PEI
B21: 4.3 TRASFORMACIONES PND | D21: =+varios!S18 -> Seguridad humana y justicia social | G21: 5.3 PILARES
B25: 6. NOMBRE DEL DIRECTIVO RESPONSABLE DE LA FORMULACIÓN Y EJECUCIÓN DEL PLAN DE ACCIÓN
C27: II. DEFINICIÓN DE PLAN DE ACCIÓN.
B29: Elaboró | E29: Revisó | H29: Aprobó
B31: Nombre: | E31: Nombre: | H31: Nombre:
B32: Cargo: | E32: Cargo: | H32: Cargo:
B33: GIT: | E33: GIT: | H33: GIT:

Sheet Instrucciones
E1: PROCESO: | I1: Versión: 3
E2: DIRECCIONAMIENTO ESTRATEGICO Y APRENDIZAJE ORGANIZACIONAL | I2: CÓDIGO:
I3: DE-FR-024
E4: FORMATO:
E5: FORMULACIÓN PLAN DE ACCIÓN INSTITUCIONAL | I5: FECHA:
I6: 45251
D9: La OAP, presenta el Formato de Formulación Plan De Acción Institucional-PAI, con el fin de Implementar un instrumento de formulación, seguimiento y control a la programación anual. El Plan de Acción institucional - PAI, es un instrumento de programación anual que permite establecer actividades y desagregar metas de la entidad, desarrolladas por cada dependencia, articulando sus procesos, políticas, planes estratégicos con los lineamientos con el Plan Nacional de Desarrollo -PND, Plan Estratégico Institucional y demás políticas del sector, la plataforma estratégica institucional (misión, visión, objetivos estratégicos, valores institucionales) y las funciones del Ministerio. En el Plan de Acción se definen los productos, actividades y metas que se realizarán en cada vigencia con sus correspondientes indicadores, teniendo en cuenta los recursos disponibles (humanos, financieros, físicos, tecnológicos).
D16: INSTRUCCIONES PARA EL DILIGENCIAMIENTO DEL FORMATO.
D17: I. IDENTIFICACIÓN GENERAL DEL PLAN DE ACCIÓN. (GENERAL)
D18: 1 | E18: Escriba la vigencia del plan de acción
D19: 2 | E19: Seleccione la dependencia a la cual hace parte el plan de acción institucional
D20: 2.1 | E20: Seleccione la dependencia responsable de ejecutar el PAI
D21: 3 | E21: Selecciones el Proyecto de inversión al cual esta asociado el plan de acción de la vigencia actual.
D22: 3.1 | E22: Código del Rubro aparecen automático
D23: 3.2 | E23: Código BPIN aparecen automático
D24: 4 | E24: Información del objetivo del Plan Nacional de Desarrollo - PND 2022 - 2026 asociado al plan de acción y el proyecto de inversión. El plan de acción debe apuntar al logro de estos objetivos.
D25: 4.1 | E25: Identifique el indicador del PND que reporta en SINERGIA de acuerdo a las actividades de la dependencia.
D26: 4.2 | E26: Identifique la Meta del PND a la cual las actividades y productos del PAI aportarían para su cumplimiento.
D27: 4.3 | E27: identifique las transformaciones PND son: Las estrategias y políticas en materia económica, social y ambiental que guiarán la acción del Gobierno para alcanzar los objetivos y metas que se hayan definido; por lo anterior se debe seleccionar la transformación a la cual se aportara para el cumplimiento de la Meta PND seleccionada.
D28: 5.1 | E28: Identifique el objetivo especifico del PEI el cual tiene asociado el plan de acción
D29: 5.2 | E29: Identifique la meta del Plan Estrategico institucional el cual tiene asociado el plan de acción
D30: 5.3. | E30: Identificar los pilares del cual del tiene asociado el plan de acción
D31: 6 | E31: Nombre del Director responsable del Plan de Acción
D34: II. DEFINICIÓN DE PLAN DE ACCIÓN. (PAI)
D35: 7. | E35: Formule las actividades para la ejecución del plan de acción, teniendo encuenta los objetivos del PND, PEI, los diferentes compromisos establecidos.
D36: 7.1 | E36: Seleccione la línea estratégica acorde con el proyecto de inversión.
D37: 7.2 | E37: Seleccione el proyecto de inversión.
D38: 7.3 | E38: Diligencie el producto según el proyecto de inversión.
D39: 7.4 | E39: Registre la actividad según el proyecto de inversión.
D40: 7.5 | E40: Diligencie la subactividad, la cual corresponde a la actividad concreta del plan de acción.
D41: 7.6 | E41: Denominación del Producto: Diligencie el nombre que caracteriza al bien o servicio.
D42: 7.7 | E42: Indique la meta del producto: es la programación en tiempo y cantidad con respecto a la generación o provisión de un producto La definición de las metas debe realizarse teniendo en cuenta los recursos (presupuestales, humanos, tecnológicos, etc.) con los que cuenta la dependencia en la vigencia para llevar a cabo el cumplimiento del producto, ya sea en términos numéricos o porcentuales. Meta numérica: Corresponde con el número de veces que la Dependencia prestará el servicio durante la vigencia. Esta meta debe ser programada para el año, y se deberá distribuir mensual, bimensual, trimestral o semestralmente. Meta porcentual: corresponde con el porcentaje que se espera alcanzar en la prestación del servicio por demanda.
D43: 7.8 | E43: Entregable: A partir de la definición de los productos, cada dependencia formulará entregables
D44: 7.9 | E44: Responsable: hace referencia a la persona que tendrá bajo su responsabilidad un 100% de cumplimiento en la realización del entregable.
D45: 7.10 | E45: Origen de la Necesidad: se debe seleccionar el insumo que da origen a la actividad y/o producto de no encontrarse en la lista de despegable deberá seleccionar "otros" y en la celda de observaciones describir cual es.
D46: 7.11 | E46: Proceso: En esta casilla se debe incluir el proceso al cual apunte la actividad que se va a programar, para tal fin se debe revisar el Mapa de procesos del Ministerio.
... D51: 7.16 | E51: Fecha de final: indicar la fecha final de la actividad en el formato (DD/MM/AAAA)
D53: III.SEGUIMIENTO DEL PAI
D54: 8.1 | E54: Nombre del Indicador: Registré el nombre con el que se identifica el indicador de producto. Se debe formular únicamente indicadores de producto.
D55: 8.2 | E55: Fórmula de calculo: Especifique claramente la formula de calculo
...

Sheet PAI
C1: PROCESO: DIRECCIONAMIENTO ESTRATÉGICO Y APRENDIZAJE ORGANIZACIONAL | D1: DIRECCIONAMIENTO ESTRATÉGICO Y APRENDIZAJE ORGANIZACIONAL | Y1: Versión | AA1: 3
C4: FORMATO: FORMULACIÓN PLAN DE ACCIÓN INSTITUCIONAL | D4: FORMULACIÓN PLAN DE ACCIÓN INSTITUCIONAL | Y4: Código | AA4: DE-FR-024
Y6: Fecha | AA6: 45251
A7: 7. Formule las actividades para la ejecución del plan de acción, teniendo en cuenta los siguiente:
T8: 8. INDICADOR DE CUMPLIMIENTO
A9: No. | B9: 7.1. LINEA ESTRATEGICA | C9: 7.2. NOMBRE DEL PROYECTO DE INVERSIÓN | D9: 7.3 PRODUCTO DEL PROYECTO | E9: 7.4 ACTIVIDAD | F9: 7.5. SUB-ACTIVIDAD | I9: 7.6. DENOMINACIÓN DEL PRODUCTO | J9: 7.7. META DE PRODUCTO | K9: 7.8. ENTREGABLE | L9: 7.9. RESPONSABLE DEL ENTREGABLE | M9: 7.10. ORIGEN DE LA NECESIDAD | N9: 7.11. PROCESO | O9: 7.12. POLITICA-MIPG | P9: 7.13. ARTICULACIÓN CON PLANES | Q9: 7.14. GRUPO INTERNO DE TRABAJO | R9: 7.15. FECHA DE INICIO (DD/MM/AAAA) | S9: 7.16. FECHA FINAL (DD/MM/AAAA) | T9: 8.1. NOMBRE INDICADOR | U9: 8.2. FÓRMULA DE CÁLCULO | V9: 8.3. DESCRIPCIÓN DEL INDICADOR | W9: 8.4. DESCRIPCIÓN DE EVIDENCIA DEL INDICADOR | X9: 8.5. TIPO DE ACUMULACIÓN | Y9: 8.6. UNIDAD DE MEDIDA | Z9: 8.7 LÍNEA BASE | AA9: 8.8. META DEL INDICADOR | AB9: 8. 9. PROGRAMACIÓN DE LA META
AB10: I TRIMESTRE | AC10: II TRIMESTRE | AD10: III TRIMESTRE | AE10: IV TRIMESTRE
A11: 1 | B11: Atletas y paratletas como embajadores de paz en el mundo | C11: DESARROLLO DEL DEPORTE OLIMPICO, PARALIMPICO Y NIVEL MUNDIAL PARA EL POSICIONAMIENTO Y LIDERAZGO DEPORTIVO 2021011000262 | D11: Servicio de identificación de talentos deportivos | E11: Detectar e identificar los potenciales talentos deportivos a través del Programa Escuela de Talentos | F11: Detectar e identificar los potenciales talentos deportivos a través del Programa Escuela de Talentos | I11: Número de deportistas valorados de la etapa enseñanza- aprendizaje | J11: 2400 | K11: Base de datos de los deportistas valorados en el programa Escuela de Talentos | L11: COORDINADOR GIT TALENTO Y RESERVA | M11: Plataforma estratégica (misión, visión y Objetivos) | N11: Altos Logros | O11: Planeación Institucional | P11: Plan Estratégico Sectorial | Q11: GIT Talento y Reserva Deportiva | R11: 45383 | S11: 45657 | T11: Número de deportistas valorados de la escuela de talentos. | U11: Sumatoria de Niños, Niñas, Jóvenes y Adolescentes valorados en el programa escuela de talentos | V11: NÚMERO de Niños, Niñas, Jóvenes y Adolescentes valorados en el programa escuela de talentos | W11: Base de datos de los deportistas valorados | X11: ACUMULADO | Y11: PERSONAS | Z11: 1700 | AA11: 2400 | AB11: 0 | AC11: 600 | AD11: 1800 | AE11: 0
A12: =+A11+1 -> 2 | B12: Atletas y paratletas como embajadores de paz en el mundo | C12: DESARROLLO DEL DEPORTE OLIMPICO, PARALIMPICO Y NIVEL MUNDIAL PARA EL POSICIONAMIENTO Y LIDERAZGO DEPORTIVO 2021011000262 | D12: Servicio de identificación de talentos deportivos | E12: Desarrollar el proceso de formación deportiva de los talentos para el alto rendimiento | F12: Desarrollar el proceso de formación deportiva de los talentos para el alto rendimiento | I12: Número de atletas y para atletas seleccionados de categorías menores que conforman los seleccionados nacionales | J12: 300 | K12: Base de datos de los deportistas seleccionados para Programa Avanzado de desarrollo PAD | L12: COORDINADOR GIT TALENTO Y RESERVA | M12: Plataforma estratégica (misión, visión y Objetivos) | N12: Altos Logros | O12: Planeación Institucional | P12: Plan Estratégico Sectorial | Q12: GIT Talento y Reserva Deportiva | R12: 45383 | S12: 45657 | T12: Número de deportistas seleccionados para el Programa Avanzado de desarrollo PAD | U12: Sumatoria de Niños, Niñas, Jóvenes y Adolescentes vinculados al Programa Avanzado de desarrollo PAD | V12: NÚMERO de Niños, Niñas, Jóvenes y Adolescentes vinculados al Programa Avanzado de desarrollo PAD | W12: Base de datos de los deportistas seleccionados con sus logros obtenidos | X12: ACUMULADO | Y12: PERSONAS | Z12: 200 | AA12: 300 | AB12: 0 | AC12: 100 | AD12: 200 | AE12: 0
A13: 3 | B13: Atletas y paratletas como embajadores de paz en el mundo | C13: DESARROLLO DEL DEPORTE OLIMPICO, PARALIMPICO Y NIVEL MUNDIAL PARA EL POSICIONAMIENTO Y LIDERAZGO DEPORTIVO 2021011000262 | D13: Servicio de identificación de talentos deportivos | E13: Recolectar, analizar e interpretar la información generada en el proceso de Talento y Reserva Deportiva | F13: Recolectar, analizar e interpretar la información generada en el proceso de Talento y Reserva Deportiva | I13: Lineamientos técnicos y de ciencias de la salud de las etapas de enseñanza- aprendizaje y desarrollo | J13: 10 documentos (Uno por modalidad deportiva) | K13: Lineamientos ténicos y de ciencias de la salud construídos | L13: COORDINADOR GIT TALENTO Y RESERVA | M13: Necesidades de innovación, investigación y de documentación técnica. | N13: Altos Logros | O13: Planeación Institucional | P13: Plan Estratégico Sectorial | Q13: GIT Talento y Reserva Deportiva | R13: 45383 | S13: 45657 | T13: Número de lineamientos técnicos y de ciencias de la salud de las etapas de enseñanza- aprendizaje y desarrollo construídos | U13: Sumatoria de lineamientos técnicos y de ciencias de la salud de las etapas de enseñanza- aprendizaje y desarrollo construídos | V13: NÚMERO de documentos construídos | W13: Documentos construídos | X13: ACUMULADO | Y13: PERSONAS | Z13: 3 | AA13: 10 | AB13: 0 | AC13: 0 | AD13: 0 | AE13: 10
A14: 4 | B14: Atletas y paratletas como embajadores de paz en el mundo | C14: APOYO EN EL DESARROLLO DE JUEGOS Y EVENTOS DEPORTIVOS DE RENDIMIENTO Y ALTO RENDIMIENTO EN COLOMBIA 2021011000263 | D14: Servicio de organización de eventos deportivos de alto rendimiento | E14: Apoyar financieramente la operación de juegos y eventos deportivos | F14: Apoyar financieramente la operación de juegos y eventos deportivos | I14: Evento multideportivo planeado, organizado y realizado. | J14: 1 | K14: Evento multideportivo nacional realizado | L14: COORDINADOR GIT JUEGOS Y EVENTOS DEPORTIVOS | M14: Funciones de la dependencia y GIT | N14: Altos Logros | O14: Planeación Institucional | P14: Plan Estratégico Sectorial | Q14: GIT Juegos y Eventos Deportivos | R14: 45307 | S14: 45657 | T14: Atletas participantes en eventos deportivos y multideportivos de rendimiento y alto rendimiento. | U14: NÚMERO de atletas participantes en eventos internacionales que competirán en eventos multideportivos nacionales. Meta: 150 | V14: Cuantificar los atletas participantes en eventos deportivos de rendimiento y alto rendimiento, que competirán en los eventos multideportivos nacionales organizados y apoyados por el Ministerio del Deporte, como estrategia para el posicionamiento y liderazgo deportivo del país y su proyección como potencia deportiva a nivel continental. | W14: *Reporte de atletas participantes eventos deportivos internacionales. *Reporte de atletas participantes en evento multideportivo nacional. *Cuadros comparativos. | X14: FLUJO | Y14: PERSONAS | Z14: 0 | AA14: 150 | AB14: 0 | AC14: 0 | AD14: 0 | AE14: 150
A15: 5 | B15: Atletas y paratletas como embajadores de paz en el mundo | C15: APOYO EN EL DESARROLLO DE JUEGOS Y EVENTOS DEPORTIVOS DE RENDIMIENTO Y ALTO RENDIMIENTO EN COLOMBIA 2021011000263 | D15: Servicio de organización de eventos deportivos de alto rendimiento | E15: Apoyar financieramente la operación de juegos y eventos deportivos | F15: Apoyar financieramente la operación de juegos y eventos deportivos | I15: Evento multideportivo planeado, organizado y realizado. | J15: 1 | K15: Evento multideportivo nacional realizado | L15: COORDINADOR GIT JUEGOS Y EVENTOS DEPORTIVOS | M15: Funciones de la dependencia y GIT | N15: Altos Logros | O15: Planeación Institucional | P15: Plan Estratégico Sectorial | Q15: GIT Juegos y Eventos Deportivos | R15: 45307 | S15: 45657 | T15: Pruebas en evento multideportivo organizado en el país. | U15: (NÚMERO de pruebas realizadas / NÚMERO de pruebas programadas)*100 Meta: 75% | V15: Permite medir la CANTIDAD de pruebas que se hicieron en cada uno de los campeonatos del evento multideportivo I Juegos Deportivos Juveniles Nacionales y Paranacionales, realizados en el territorio nacional con los estándares mínimos requeridos a nivel internacional | W15: *Reporte de pruebas programadas por deporte. *Reporte de pruebas realizadas por deporte. | X15: FLUJO | Y15: PORCENTAJE | Z15: 0 | AA15: 0.75 | AB15: 0 | AC15: 0 | AD15: 0 | AE15: 0.75
A16: =+A15+1 -> 6 | B16: Atletas y paratletas como embajadores de paz en el mundo | C16: APOYO EN EL DESARROLLO DE JUEGOS Y EVENTOS DEPORTIVOS DE RENDIMIENTO Y ALTO RENDIMIENTO EN COLOMBIA 2021011000263 | D16: Servicio de organización de eventos deportivos de alto rendimiento | E16: Apoyar financieramente la operación de juegos y eventos deportivos | F16: Apoyar financieramente la operación de juegos y eventos deportivos | I16: Eventos deportivos o multideportivos apoyados financiera o técnicamente. | J16: 2 | K16: Eventos deportivos o multideportivos apoyados | L16: COORDINADOR GIT JUEGOS Y EVENTOS DEPORTIVOS | M16: Plataforma estratégica (misión, visión y Objetivos) | N16: Altos Logros | O16: Planeación Institucional | P16: Plan Estratégico Sectorial | Q16: GIT Juegos y Eventos Deportivos | R16: 45307 | S16: 45657 | T16: Compromisos adquiridos para apoyar la planeación, organización y realización de eventos deportivos o multideportivos asignados al país. | U16: CANTIDAD de compromisos cumplidos durante la vigencia. | V16: Medir el cumplimiento de los compromisos adquiridos por el gobierno nacional a través del Ministerio del Deporte para apoyar la organización de eventos deportivos o multideportivos con los estándares exigidos por la organización internacional regente, como estrategia para la proyeccion del deporte a nivel internacional y que respondan a las necesidades del sector | W16: *Informes o reportes de los eventos. *Contratos suscritos | X16: FLUJO | Y16: NÚMERO | Z16: 0 | AA16: 2 | AB16: 0 | AC16: 1 | AD16: 1 | AE16: 0
A17: 7 | B17: Atletas y paratletas como embajadores de paz en el mundo | C17: APOYO EN EL DESARROLLO DE JUEGOS Y EVENTOS DEPORTIVOS DE RENDIMIENTO Y ALTO RENDIMIENTO EN COLOMBIA 2021011000263 | D17: Documentos de lineamientos técnicos | E17: Construir, Formalizar y divulgar el documento de lineamientos tecnicos nacionales. | F17: Construir, Formalizar y divulgar el documento de lineamientos tecnicos nacionales. | I17: Documento de lineamiento técnico nacional | J17: 1 | K17: Documento de Lineamiento Técnico para la Organización de Eventos Deportivos en Colombia. | L17: COORDINADOR GIT JUEGOS Y EVENTOS DEPORTIVOS | M17: Funciones de la dependencia y GIT | N17: Altos Logros | O17: Planeación Institucional | P17: Plan Estratégico Sectorial | Q17: GIT Juegos y Eventos Deportivos | R17: 45349 | S17: 45657 | T17: Avance del Documento de Lineamiento de Política Pública para la Organización de Eventos Deportivos en Colombia | U17: NÚMERO de fases realizadas / NÚMERO de fases programadas Meta: 60% | V17: Este indicador mostrará el avance de las fases realizadas en la construcción del documento de Lineamiento Técnico. | W17: * Comunicados inicio proceso. * Documento evaluación propuestas. * Contrato suscrito *Informe de las actividades desarrolladas. *Documento Preliminar o borrador del Lineamiento Técnico. | X17: ACUMULADO | Y17: PORCENTAJE | Z17: 0 | AA17: 0.6 | AB17: 0 | AC17: 0.2 | AD17: 0.2 | AE17: 0.2
A18: =+A17+1 -> 8 | B18: Atletas y paratletas como embajadores de paz en el mundo | C18: DESARROLLO DEL DEPORTE OLIMPICO, PARALIMPICO Y NIVEL MUNDIAL PARA EL POSICIONAMIENTO Y LIDERAZGO DEPORTIVO 2021011000262 | D18: SERVICIO DE APOYO FINANCIERO A ATLETAS | E18: Apoyar mediante estímulos a los atletas que hacen parte del programa institucional sector olimpico y paralimpico. | F18: Apoyar mediante estímulos a los atletas que hacen parte del programa institucional sector olimpico y paralimpico. | I18: Reconocimiento de estímulos a los atletas excelencia que hacen parte del programa institucional | J18: 500 | K18: Acto administrativo reconocimiento del estimulo (cumplimiento de requisitos) | L18: Coordiandor(a) GIT Desarrollo Psicosocial | M18: Plataforma estratégica (misión, visión y Objetivos) | N18: Altos Logros | O18: Planeación Institucional | P18: Plan Estratégico Sectorial | Q18: GIT Desarrollo Psicosocial | R18: 45292 | S18: 45657 | T18: Estimulo atletas | U18: (PORCENTAJE de Cumplimiento de Requisitos + tiempos optimos de Pago)/2 | V18: indicador de desempeño que proporciona una medida general de cumplimiento del programa, considerando tanto el cumplimiento de requisitos como la puntualidad en los pagos. | W18: Acto administrativos Tiempos de pago | X18: ACUMULADO | Y18: PORCENTAJE | Z18: 529 | AA18: 1 | AB18: 0.25 | AC18: 0.25 | AD18: 0.25 | AE18: 0.25
A19: 9 | B19: Atletas y paratletas como embajadores de paz en el mundo | C19: DESARROLLO DEL DEPORTE OLIMPICO, PARALIMPICO Y NIVEL MUNDIAL PARA EL POSICIONAMIENTO Y LIDERAZGO DEPORTIVO 2021011000262 | D19: SERVICIO DE APOYO FINANCIERO A ATLETAS | E19: Apoyar mediante incentivos la obtención de medallas en los eventos del sector olimpico y paralimpico | F19: Apoyar mediante incentivos la obtención de medallas en los eventos del sector olimpico y paralimpico | I19: Desembolso de incentivo a medallistas paralimpicos y nivel mundial | J19: 300 | K19: Acto administrativo reconocimiento del incentivo / Evidencia del desembolso | L19: Coordiandor(a) GIT Desarrollo Psicosocial | M19: Plataforma estratégica (misión, visión y Objetivos) | N19: Altos Logros | O19: Planeación Institucional | P19: Plan Estratégico Sectorial | Q19: GIT Desarrollo Psicosocial | R19: 45292 | S19: 45657 | T19: Incentivos medallas entrenadores y atletas | U19: actos administrativos + cumplimiento de requisitos/2 | V19: indicador de desempeño que proporciona una medida general de cumplimiento del programa, considerando el Total de desembolsos de incentivos a medallistas y el cumplimiento de requisitos | W19: Acto administrativo Cumplimiento de requisitos | X19: ACUMULADO | Y19: PORCENTAJE | Z19: 200 | AA19: 1 | AB19: 0 | AC19: 0 | AD19: 0.25 | AE19: 0.75
A20: =+A19+1 -> 10 | B20: Atletas y paratletas como embajadores de paz en el mundo | C20: DESARROLLO DEL DEPORTE OLIMPICO, PARALIMPICO Y NIVEL MUNDIAL PARA EL POSICIONAMIENTO Y LIDERAZGO DEPORTIVO 2021011000262 | D20: SERVICIO DE APOYO FINANCIERO A ATLETAS | E20: Implementar el programa de incentivos a glorias del deporte del sector olimpico y paralimpico | F20: Implementar el programa de incentivos a glorias del deporte del sector olimpico y paralimpico | I20: Desembolso de incentivos a los exatletas que hacen parte del programa glorias del deporte sector paralimpico | J20: 68 | K20: Acto administrativo reconocimiento del incentivo / Evidencia del desembolso | L20: Coordiandor(a) GIT Desarrollo Psicosocial | M20: Plataforma estratégica (misión, visión y Objetivos) | N20: Altos Logros | O20: Planeación Institucional | P20: Plan Estratégico Sectorial | Q20: GIT Desarrollo Psicosocial | R20: 45292 | S20: 45657 | T20: Incentivo glorias del deporte sector olimpico | U20: (NÚMERO de glorias del deporte pagados sector olímpico y paralímpico/ glorias del deporte que cumplen los requisitos)*100 | V20: CANTIDAD de incentivos pagados frente a cumplimiento de requisitos | W20: Soportes de radicación de pagos en Git contable | X20: ACUMULADO | Y20: PORCENTAJE | Z20: 68 | AA20: 1 | AB20: 0.25 | AC20: 0.25 | AD20: 0.25 | AE20: 0.25
A21: 11 | B21: Atletas y paratletas como embajadores de paz en el mundo | C21: DESARROLLO DEL DEPORTE OLIMPICO, PARALIMPICO Y NIVEL MUNDIAL PARA EL POSICIONAMIENTO Y LIDERAZGO DEPORTIVO 2021011000262 | D21: Servicio de atención médica especializada | E21: Apoyar a los atletas del sector olimpico y paralimpico mediante el programa de desarrollo psicosocial | F21: Apoyar a los atletas del sector olimpico y paralimpico mediante el programa de desarrollo psicosocial | I21: Seguimiento psicosocial a los atletas del sector olimpico | J21: 500 | K21: Atenciones realizadas | L21: Coordiandor(a) GIT Desarrollo Psicosocial | M21: Plataforma estratégica (misión, visión y Objetivos) | N21: Altos Logros | O21: Planeación Institucional | P21: Plan Estratégico Sectorial | Q21: GIT Desarrollo Psicosocial | R21: 45292 | S21: 45657 | T21: nivel de atencion y satisfaccion psicosocial | U21: Proporción de atenciones por atleta/ PORCENTAJE de atletas satisfechos/2 | V21: calidad del servicio y la satisfacción del atleta | W21: consolidado de atenciones de atenciones por atleta Informe a partir de las encuestas de satisfaccion | X21: ACUMULADO | Y21: NÚMERO | Z21: 500 | AA21: 500 | AB21: 0 | AC21: 125 | AD21: 125 | AE21: 250
A22: 13 | B22: Atletas y paratletas como embajadores de paz en el mundo | C22: DESARROLLO DEL DEPORTE OLIMPICO, PARALIMPICO Y NIVEL MUNDIAL PARA EL POSICIONAMIENTO Y LIDERAZGO DEPORTIVO 2021011000262 | D22: Servicio de preparación deportiva | E22: Apoyar los eventos del ciclo paralímpico y sordolímpico | F22: Apoyar los eventos del ciclo paralímpico y sordolímpico | I22: Preparacion de ParaAtletas | J22: 36 | K22: Bases de datos de atletas Clasificados a Paris 2024 | L22: Cordinador (a) GIT Deporte de Rendimiento Paralimpico | M22: Plataforma estratégica (misión, visión y Objetivos) | N22: Altos Logros | O22: Planeación Institucional | P22: Plan Estratégico Sectorial | Q22: GIT Deporte de Rendimiento Paralímpico | R22: 45292 | S22: 45543 | T22: Atletas clasificados Paris 2024 | U22: Sumatoria de atletas paralimpicos clasificados a Paris durante el 2024 | V22: Determinar la CANTIDAD de atletas clasificados a Paris 2024. | W22: Bases de datos de atletas clasificados | X22: ACUMULADO | Y22: PERSONAS | Z22: 0 | AA22: 36 | AB22: 4 | AC22: 24 | AD22: 8 | AE22: 0
A23: 14 | B23: Atletas y paratletas como embajadores de paz en el mundo | C23: DESARROLLO DEL DEPORTE OLIMPICO, PARALIMPICO Y NIVEL MUNDIAL PARA EL POSICIONAMIENTO Y LIDERAZGO DEPORTIVO 2021011000262 | D23: Servicio de preparación deportiva | E23: Apoyar los eventos del ciclo paralímpico y sordolímpico | F23: Apoyar los eventos del ciclo paralímpico y sordolímpico | I23: Preparacion de ParaAtletas | J23: 24 | K23: CANTIDAD de medallas obtenidas en los Juegos Paralímpicos Paris 2024 | L23: Cordinador (a) GIT Deporte de Rendimiento Paralimpico | M23: Plataforma estratégica (misión, visión y Objetivos) | N23: Altos Logros | O23: Planeación Institucional | P23: Plan Estratégico Sectorial | Q23: GIT Deporte de Rendimiento Paralímpico | R23: 45292 | S23: 45543 | T23: Medallas Obtenidas | U23: (Sumatoria de Medallas obtenidas juegos Paralimpicos 2024/Medallas Proyectadas Juegos Paralimpicos 2024)*100 | V23: Determinar el PORCENTAJE de medallas obtenidas en Juegos Paralimpicos 2024 versus la meta proyectada. | W23: Bases de datos de medallas obtenidas | X23: ACUMULADO | Y23: PORCENTAJE | Z23: 0 | AA23: 1 | AB23: 0 | AC23: 0 | AD23: 1 | AE23: 0
A24: =+A23+1 -> 15 | B24: Atletas y paratletas como embajadores de paz en el mundo | C24: DESARROLLO DEL DEPORTE OLIMPICO, PARALIMPICO Y NIVEL MUNDIAL PARA EL POSICIONAMIENTO Y LIDERAZGO DEPORTIVO 2021011000262 | D24: Servicio de preparación deportiva | E24: Desarrollar el programa nacional de entrenadores sector paralímpico | F24: Desarrollar el programa nacional de entrenadores sector paralímpico | I24: Planes de entrenamiento aprobados | J24: 27 | K24: Base de datos de planes de entrenamiento | L24: Cordinador (a) GIT Deporte de Rendimiento Paralimpico | M24: Plataforma estratégica (misión, visión y Objetivos) | N24: Altos Logros | O24: Planeación Institucional | P24: Plan Estratégico Sectorial | Q24: GIT Deporte de Rendimiento Paralímpico | R24: 45292 | S24: 45657 | T24: Planes de Entrenamiento aprobados | U24: (NÚMERO de planes de entrenamiento aprobados por los metodologos / Planes de entrenamiento presentados)*100 | V24: PORCENTAJE de planes de entrenamiento aprobados | W24: Base de datos de planes de entrenamiento | X24: ACUMULADO | Y24: PORCENTAJE | Z24: 0 | AA24: 1 | AB24: 0.2 | AC24: 0.5 | AD24: 0.3 | AE24: 0
A25: 15 | B25: Atletas y paratletas como embajadores de paz en el mundo | C25: DESARROLLO DEL DEPORTE OLIMPICO, PARALIMPICO Y NIVEL MUNDIAL PARA EL POSICIONAMIENTO Y LIDERAZGO DEPORTIVO 2021011000262 | D25: Servicio de asistencia técnica para la promoción del deporte | E25: Apoyar la gestión técnica y administrativa de las federaciones del Sistema paralímpico y sordolímpico | F25: Apoyar la gestión técnica y administrativa de las federaciones del Sistema paralímpico y sordolímpico | I25: Eventos organizados de orden nacional por medio de los CAIP de los recursos asignados por el Ministerio del Deporte | J25: 36 | K25: Base de datos de eventos apoyados de orden nacional por medio de los contratos suscritos con las federaciones Nacionales | L25: Cordinador (a) GIT Deporte de Rendimiento Paralimpico | M25: Plataforma estratégica (misión, visión y Objetivos) | N25: Altos Logros | O25: Planeación Institucional | P25: Plan Estratégico Sectorial | Q25: GIT Deporte de Rendimiento Paralímpico | R25: 45292 | S25: 45657 | T25: CANTIDAD de eventos organizados en Colombia apoyados en el trimestre | U25: NÚMERO de eventos de organizacion apoyados | V25: Determinar la CANTIDAD de eventos organizados en Colombia apoyados en el trimestre | W25: Base de datos de eventos apoyados por medio de los contratos con federaciones | X25: ACUMULADO | Y25: NÚMERO | Z25: 0 | AA25: 36 | AC25: 18 | AE25: 18
A26: =+A25+1 -> 16 | B26: Atletas y paratletas como embajadores de paz en el mundo | C26: DESARROLLO DEL DEPORTE OLIMPICO, PARALIMPICO Y NIVEL MUNDIAL PARA EL POSICIONAMIENTO Y LIDERAZGO DEPORTIVO 2021011000262 | D26: Servicio de asistencia técnica para la promoción del deporte | E26: Apoyar la gestión técnica y administrativa de las federaciones del Sistema paralímpico y sordolímpico | F26: Apoyar la gestión técnica y administrativa de las federaciones del Sistema paralímpico y sordolímpico | I26: CANTIDAD de atletas que participan a nivel internacional con apoyo del Ministerio del Deporte | J26: 120 | K26: Base de datos de Atletas apoyados por medio de los contratos suscritos con las Federaciones Nacionales | L26: Cordinador (a) GIT Deporte de Rendimiento Paralimpico | M26: Plataforma estratégica (misión, visión y Objetivos) | N26: Altos Logros | O26: Planeación Institucional | P26: Plan Estratégico Sectorial | Q26: GIT Deporte de Rendimiento Paralímpico | R26: 45292 | S26: 45657 | T26: CANTIDAD de atletas apoyados en eventos de participacion internacional en el trimestre | U26: NÚMERO de atletas apoyados | V26: Determinar la CANTIDAD de atletas apoyados en el trimestre | W26: Base de datos de atletas apoyados por medio de los contratos con federaciones | X26: ACUMULADO | Y26: PERSONAS | Z26: 0 | AA26: 120 | AB26: 40 | AC26: 20 | AD26: 50 | AE26: 20
A27: 17 | B27: Atletas y paratletas como embajadores de paz en el mundo | C27: DESARROLLO DEL DEPORTE OLIMPICO, PARALIMPICO Y NIVEL MUNDIAL PARA EL POSICIONAMIENTO Y LIDERAZGO DEPORTIVO 2021011000262 | D27: Servicio de asistencia técnica para la promoción del deporte | E27: Apoyar la gestión técnica y administrativa de las federaciones del Sistema paralímpico y sordolímpico | F27: Apoyar la gestión técnica y administrativa de las federaciones del Sistema paralímpico y sordolímpico | I27: Participación femenina en eventos multideportivos internacionales | J27: 0.3 | K27: Listado delegación que representa a Colombia en eventos multideportivos internacionales | L27: Cordinador (a) GIT Deporte de Rendimiento Paralimpico | M27: Coordinador GIT Rendimiento Paralímpico | N27: Altos Logros | O27: Planeación Institucional | P27: Plan Estratégico Sectorial | Q27: GIT Deporte de Rendimiento Paralímpico | R27: 45292 | S27: 45543 | T27: Participación femenina en eventos multideportivos internacionales | U27: (NÚMERO de mujeres atletas en la delegación/ NÚMERO total de atletas en la delegación que representan a Colombia en eventos multideportivos internacionales) *100 | V27: Permite medir la equidad de género en el deporte de alto rendimiento | W27: Listado de PERSONAS pertenecientes a la delegación | X27: ACUMULADO | Y27: PORCENTAJE | Z27: 0 | AA27: 0.3 | AB27: 0 | AC27: 0 | AD27: 0.3 | AE27: 0
A28: =+A27+1 -> 18 | B28: Atletas y paratletas como embajadores de paz en el mundo | C28: DESARROLLO DEL DEPORTE OLIMPICO, PARALIMPICO Y NIVEL MUNDIAL PARA EL POSICIONAMIENTO Y LIDERAZGO DEPORTIVO 2021011000262 | D28: Servicio de preparación deportiva | E28: Apoyar los eventos del ciclo olímpico | F28: Apoyar los eventos del ciclo olímpico | I28: Preparacion de Atletas | J28: 71 | K28: Bases de datos de atletas Clasificados a Paris 2024 | L28: Coordinador GIT Rendimiento Convencional | M28: Plataforma estratégica (misión, visión y Objetivos) | N28: Altos Logros | O28: Planeación Institucional | P28: Plan Estratégico Sectorial | Q28: GIT Deporte de Rendimiento Convencional | R28: 45292 | S28: 45534 | T28: Atletas clasificados a Paris 2024 | U28: NÚMERO de atletas clasificados a Paris 2024 | V28: Determinar la CANTIDAD de atletas clasificados a Paris 2024. | W28: Bases de datos de atletas Clasificados | X28: ACUMULADO | Y28: PERSONAS | Z28: 0 | AA28: 71 | AB28: 35 | AC28: 36 | AD28: 0 | AE28: 0
A29: 19 | B29: Atletas y paratletas como embajadores de paz en el mundo | C29: DESARROLLO DEL DEPORTE OLIMPICO, PARALIMPICO Y NIVEL MUNDIAL PARA EL POSICIONAMIENTO Y LIDERAZGO DEPORTIVO 2021011000262 | D29: Servicio de preparación deportiva | E29: Apoyar los eventos del ciclo olímpico | F29: Apoyar los eventos del ciclo olímpico | I29: Preparacion de Atletas | J29: 3 | K29: CANTIDAD de medallas obtenidas en los Juegos Olímpicos Paris 2024 | L29: Coordinador GIT Rendimiento Convencional | M29: Plataforma estratégica (misión, visión y Objetivos) | N29: Altos Logros | O29: Planeación Institucional | P29: Plan Estratégico Sectorial | Q29: GIT Deporte de Rendimiento Convencional | R29: 45292 | S29: 45534 | T29: Medallas Obtenidas | U29: Sumatoria de Medallas obtenidas juegos Olimpicos 2024 | V29: Determinar la CANTIDAD de medallas obtenidas en Juegos Olimpicos 2024 versus la meta proyectada. | W29: Bases de datos de medallas obtenidas | X29: ACUMULADO | Y29: NÚMERO | Z29: 0 | AA29: 3 | AB29: 0 | AC29: 0 | AD29: 3 | AE29: 0
A30: =+A29+1 -> 20 | B30: Atletas y paratletas como embajadores de paz en el mundo | C30: DESARROLLO DEL DEPORTE OLIMPICO, PARALIMPICO Y NIVEL MUNDIAL PARA EL POSICIONAMIENTO Y LIDERAZGO DEPORTIVO 2021011000262 | D30: Servicio de preparación deportiva | E30: Desarrollar el programa nacional de entrenadores sector convencional | F30: Desarrollar el programa nacional de entrenadores sector convencional | I30: Planes de entrenamiento aprobados | J30: 60 | K30: Base de datos de planes de entrenamiento | L30: Coordinador GIT Rendimiento Convencional | M30: Plataforma estratégica (misión, visión y Objetivos) | N30: Altos Logros | O30: Planeación Institucional | P30: Plan Estratégico Sectorial | Q30: GIT Deporte de Rendimiento Convencional | R30: 45292 | S30: 45657 | T30: Planes de Entrenamiento aprobados | U30: (NÚMERO de planes de entrenamiento aprobados por los metodologos/ Planes de entrenamiento presentados)*100 | V30: Medir el PORCENTAJE de planes de entrenamiento aprobados | W30: Base de datos de planes de entrenamiento | X30: ACUMULADO | Y30: PORCENTAJE | Z30: 0 | AA30: 1 | AB30: 0.8 | AC30: 0.1 | AD30: 0.1 | AE30: 0
A31: 21 | B31: Atletas y paratletas como embajadores de paz en el mundo | C31: DESARROLLO DEL DEPORTE OLIMPICO, PARALIMPICO Y NIVEL MUNDIAL PARA EL POSICIONAMIENTO Y LIDERAZGO DEPORTIVO 2021011000262 | D31: Servicio de asistencia técnica para la promoción del deporte | E31: Apoyar la gestión técnica y administrativa de las federaciones del Sistema Deportivo Olímpico y Convencional | F31: Apoyar la gestión técnica y administrativa de las federaciones del Sistema Deportivo Olímpico y Convencional | I31: Eventos organizados de orden nacional por medio de los CAIP de los recursos asignados por el Ministerio del Deporte | J31: 325 | K31: Base de datos de eventos apoyados de orden nacional por medio de los contratos suscritos con las federaciones Nacionales | L31: Coordinador GIT Rendimiento Convencional | M31: Plataforma estratégica (misión, visión y Objetivos) | N31: Altos Logros | O31: Planeación Institucional | P31: Plan Estratégico Sectorial | Q31: GIT Deporte de Rendimiento Convencional | R31: 45292 | S31: 45657 | T31: CANTIDAD de eventos organizados en Colombia apoyados en el trimestre | U31: NÚMERO de eventos de organizacion apoyados | V31: Determinar la CANTIDAD de eventos organizados en Colombia apoyados en el trimestre | W31: Base de datos de eventos apoyados por medio de los contratos con federaciones | X31: ACUMULADO | Y31: NÚMERO | Z31: 0 | AA31: 325 | AB31: 80 | AC31: 95 | AD31: 100 | AE31: 50
A32: =+A31+1 -> 22 | B32: Atletas y paratletas como embajadores de paz en el mundo | C32: DESARROLLO DEL DEPORTE OLIMPICO, PARALIMPICO Y NIVEL MUNDIAL PARA EL POSICIONAMIENTO Y LIDERAZGO DEPORTIVO 2021011000262 | D32: Servicio de asistencia técnica para la promoción del deporte | E32: Apoyar la gestión técnica y administrativa de las federaciones del Sistema Deportivo Olímpico y Convencional | F32: Apoyar la gestión técnica y administrativa de las federaciones del Sistema Deportivo Olímpico y Convencional | I32: CANTIDAD de atletas que participan a nivel internacional con apoyo del Ministerio del Deporte | J32: 650 | K32: Base de datos de Atletas apoyados por medio de los contratos suscritos con las Federaciones Nacionales | L32: Coordinador GIT Rendimiento Convencional | M32: Plataforma estratégica (misión, visión y Objetivos) | N32: Altos Logros | O32: Planeación Institucional | P32: Plan Estratégico Sectorial | Q32: GIT Deporte de Rendimiento Convencional | R32: 45292 | S32: 45657 | T32: CANTIDAD de atletas apoyados en eventos de participacion internacional en el trimestre | U32: NÚMERO de atletas apoyados | V32: Determinar la CANTIDAD de atletas apoyados en el trimestre | W32: Base de datos de atletas apoyados por medio de los contratos con federaciones | X32: ACUMULADO | Y32: PERSONAS | Z32: 0 | AA32: 650 | AB32: 75 | AC32: 200 | AD32: 300 | AE32: 75
A33: 23 | B33: Atletas y paratletas como embajadores de paz en el mundo | C33: DESARROLLO DEL DEPORTE OLIMPICO, PARALIMPICO Y NIVEL MUNDIAL PARA EL POSICIONAMIENTO Y LIDERAZGO DEPORTIVO 2021011000262 | D33: Servicio de asistencia técnica para la promoción del deporte | E33: Apoyar la gestión técnica y administrativa de las federaciones del Sistema Deportivo Olímpico y Convencional | F33: Apoyar la gestión técnica y administrativa de las federaciones del Sistema Deportivo Olímpico y Convencional | I33: Participación femenina en eventos multideportivos internacionales | J33: 0.45 | K33: Listado delegación que representa a Colombia en eventos multideportivos internacionales | L33: Coordinador GIT Rendimiento Convencional | M33: Coordinador GIT Rendimiento Convencional | N33: Altos Logros | O33: Planeación Institucional | P33: Plan Estratégico Sectorial | Q33: GIT Deporte de Rendimiento Convencional | R33: 45292 | S33: 45657 | T33: Participación femenina en eventos multideportivos internacionales | U33: (NÚMERO de mujeres atletas en la delegación/ NÚMERO total de atletas en la delegación que representan a Colombia en eventos multideportivos internacionales) | V33: Permite medir la equidad de género en el deporte de alto rendimiento | W33: Listado de PERSONAS pertenecientes a la delegación | X33: STOCK | Y33: PORCENTAJE | Z33: 30 | AA33: 0.45 | AB33: 0.35 | AC33: 0.4 | AD33: 0.42 | AE33: 0.45
A34: =+A33+1 -> 24 | B34: Atletas y paratletas como embajadores de paz en el mundo | C34: DESARROLLO DEL DEPORTE OLIMPICO, PARALIMPICO Y NIVEL MUNDIAL PARA EL POSICIONAMIENTO Y LIDERAZGO DEPORTIVO 2021011000262 | D34: Servicio de atención médica especializada | E34: Realizar consultas, control, seguimiento y evaluación a los atletas en sector convencional | F34: Realizar consultas, control, seguimiento y evaluación a los atletas en sector convencional | I34: Servicio de atención médica especializada en medicina del deporte, en fisioterapia, en nutrición, en Psicología, en atenciones biomecánicas, en atenciones de fisiología. | J34: 50000 | K34: NÚMERO de atenciones realizadas | L34: COORDINADORA GIT CENTRO DE CIENCIAS DEL DEPORTE | M34: Plataforma estratégica (misión, visión y Objetivos) | N34: Altos Logros | O34: Planeación Institucional | P34: Plan Estratégico Sectorial | Q34: GIT Centro de Ciencias del Deporte CCD | R34: 45292 | S34: 45657 | T34: Crecimiento en las atenciones en ciencias del deporte efectivamente realizadas en la vigencia | U34: NÚMERO de atenciones realizadas | V34: Crecimiento en las atenciones que realiza el CCD | W34: Listado de atenciones realizadas en la vigencia 2024 | X34: ACUMULADO | Y34: ATENCIONES | Z34: 30000 | AA34: 50000 | AB34: 1000 | AC34: 9000 | AD34: 20000 | AE34: 20000
A35: 25 | B35: Atletas y paratletas como embajadores de paz en el mundo | C35: DESARROLLO DEL DEPORTE OLIMPICO, PARALIMPICO Y NIVEL MUNDIAL PARA EL POSICIONAMIENTO Y LIDERAZGO DEPORTIVO 2021011000262 | D35: Servicio de atención médica especializada | E35: Realizar consultas, control, seguimiento y evaluación a los atletas en el sector Paralimpico. | F35: Realizar consultas, control, seguimiento y evaluación a los atletas en el sector Paralimpico. | I35: Servicio de atención médica especializada en medicina del deporte, en fisioterapia, en nutrición, en Psicología, en atenciones biomecánicas, en atenciones de fisiología. | J35: 8000 | K35: NÚMERO de atenciones realizadas | L35: COORDINADORA GIT CENTRO DE CIENCIAS DEL DEPORTE | M35: Plataforma estratégica (misión, visión y Objetivos) | N35: Altos Logros | O35: Planeación Institucional | P35: Plan Estratégico Sectorial | Q35: GIT Centro de Ciencias del Deporte CCD | R35: 45292 | S35: 45657 | T35: Crecimiento en las atenciones en ciencias del deporte efectivamente realizadas en la vigencia | U35: NÚMERO de atenciones realizadas | V35: Crecimiento en las atenciones que realiza el CCD | W35: Listado de atenciones realizadas en la vigencia 2024 | X35: ACUMULADO | Y35: ATENCIONES | Z35: 5000 | AA35: 8000 | AB35: 500 | AC35: 3000 | AD35: 2500 | AE35: 2000
A36: =+A35+1 -> 26 | B36: Atletas y paratletas como embajadores de paz en el mundo | C36: DESARROLLO DEL DEPORTE OLIMPICO, PARALIMPICO Y NIVEL MUNDIAL PARA EL POSICIONAMIENTO Y LIDERAZGO DEPORTIVO 2021011000262 | D36: Servicio de atención médica especializada | E36: Realizar Investigaciones en Ciencias del Deporte | F36: Realizar Investigaciones en Ciencias del Deporte | I36: Desarrollo de Investigaciones en Ciencias del Deporte | J36: 2 | K36: Publicaciones de Investigaciones en revistas indexadas y/o Especializadas | L36: COORDINADORA GIT CENTRO DE CIENCIAS DEL DEPORTE | M36: Plataforma estratégica (misión, visión y Objetivos) | N36: Altos Logros | O36: Planeación Institucional | P36: Plan Estratégico Sectorial | Q36: GIT Centro de Ciencias del Deporte CCD | R36: 45292 | S36: 45657 | T36: Investigaciones publicadas en revistas indexadas y/o Especializadas | U36: NÚMERO de investigaciones públicadas en revistas indexadas y/o Especializadas | V36: Permite identificar el NÚMERO de investigaciones publicadas en revistas indexadas y/o Especializadas | W36: Documentos de investigación y registro de publicación en revista indexada y/o Especializadas | X36: FLUJO | Y36: NÚMERO | Z36: 0 | AA36: 2 | AB36: 0 | AC36: 0 | AD36: 0 | AE36: 2
A37: 27 | B37: Democratización del acceso de la población al deporte, la recreación y la actividad física | C37: APOYO DE LA INFRAESTRUCTURA DEPORTIVA, RECREATIVA Y DE ALTA COMPETENCIA EN COLOMBIA. 202300000000203 | D37: SERVICIO DE APOYO FINANCIERO PARA EL FOMENTO DE LA INFRAESTRUCTURA DEPORTIVA | E37: Realizar convenios interadministrativos de infraestructura recreativa y de alta competencia. | F37: Cofinanciar y realizar el seguimiento a la ejecución de convenios solidarios para la construcción y/o mejoramiento de escenarios deportivos y recreativos (Democratizar el acceso al Deporte). | I37: CONVENIOS SOLIDARIOS | J37: 100 Convenios cofinanciados | K37: Suscripción de (100) cien convenios solidarios | L37: Coordinador (a) GIT- Infraestructura | M37: Funciones de la dependencia y GIT | N37: Apoyo a la Infraestructura Técnica y Científica | O37: Planeación Institucional | P37: Plan Estratégico Sectorial | Q37: GIT Infraestructura | R37: 45323 | S37: 45657 | T37: Proyectos de infraestructura deportiva cofinanciados | U37: N° de proyectos de infraestructura deportiva cofinanciados | V37: Medir el avance en el N° de proyectos de infraestructura deportiva cofinanciados con los entes ejecutores en cada periodo | W37: Informe de proyectos de infraestructura cofinanciados en el periodo | X37: ACUMULADO | Y37: NÚMERO | Z37: 74 | AA37: 100 | AB37: 5 | AC37: 15 | AD37: 40 | AE37: 40
A38: =+A37+1 -> 28 | B38: Democratización del acceso de la población al deporte, la recreación y la actividad física | C38: APOYO DE LA INFRAESTRUCTURA DEPORTIVA, RECREATIVA Y DE ALTA COMPETENCIA EN COLOMBIA. 202300000000203 | D38: SERVICIO DE APOYO FINANCIERO PARA EL FOMENTO DE LA INFRAESTRUCTURA DEPORTIVA | E38: Realizar acciones y actividades encaminadas a la evaluación, desarrollo y cierre de convenios y proyectos de infraestructura deportiva | F38: Cofinanciación de proyectos para el desarrollo de infraestructura recreodeportiva en el marco de compromisos de enfoque diferencial. | I38: PROYECTOS COFINANCIADOS | J38: 8 Proyectos confinanciados | K38: Informe de ejecución presupuestal | L38: Coordinador (a) GIT- Infraestructura | M38: Funciones de la dependencia y GIT | N38: Apoyo a la Infraestructura Técnica y Científica | O38: Planeación Institucional | P38: Plan Estratégico Sectorial | Q38: GIT Infraestructura | R38: 45323 | S38: 45657 | T38: Proyectos de infraestructura deportiva cofinanciados | U38: N° de proyectos de infraestructura deportiva cofinanciados | V38: Medir el avance en el N° de proyectos de infraestructura deportiva cofinanciados con los entes ejecutores en cada periodo | W38: Informe de proyectos de infraestructura cofinanciados en el periodo | X38: ACUMULADO | Y38: NÚMERO | Z38: 2 | AA38: 8 | AB38: 1 | AC38: 2 | AD38: 3 | AE38: 2
A39: 29 | B39: Democratización del acceso de la población al deporte, la recreación y la actividad física | C39: APOYO DE LA INFRAESTRUCTURA DEPORTIVA, RECREATIVA Y DE ALTA COMPETENCIA EN COLOMBIA. 202300000000203 | D39: SERVICIO DE APOYO FINANCIERO PARA EL FOMENTO DE LA INFRAESTRUCTURA DEPORTIVA | E39: Realizar acciones y actividades encaminadas a la evaluación, desarrollo y cierre de convenios y proyectos de infraestructura deportiva | F39: Cofinanciación de proyectos para el desarrollo de infraestructura recreodeportiva en el marco de las subregiones PDET. | I39: PROYECTOS COFINANCIADOS | J39: 4 Proyectos cofinanciados | K39: Informe de ejecución presupuestal | L39: Coordinador (a) GIT- Infraestructura | M39: Funciones de la dependencia y GIT | N39: Apoyo a la Infraestructura Técnica y Científica | O39: Planeación Institucional | P39: Plan Estratégico Sectorial | Q39: GIT Infraestructura | R39: 45323 | S39: 45657 | T39: Proyectos de infraestructura deportiva cofinanciados | U39: N° de proyectos de infraestructura deportiva cofinanciados | V39: Medir el avance en el N° de proyectos de infraestructura deportiva cofinanciados con los entes ejecutores en cada periodo | W39: Informe de proyectos de infraestructura cofinanciados en el periodo | X39: ACUMULADO | Y39: NÚMERO | Z39: 2 | AA39: 4 | AB39: 1 | AC39: 1 | AD39: 1 | AE39: 1
A40: =+A39+1 -> 30 | B40: Democratización del acceso de la población al deporte, la recreación y la actividad física | C40: APOYO DE LA INFRAESTRUCTURA DEPORTIVA, RECREATIVA Y DE ALTA COMPETENCIA EN COLOMBIA. 202300000000203 | D40: SERVICIO DE APOYO FINANCIERO PARA EL FOMENTO DE LA INFRAESTRUCTURA DEPORTIVA | E40: Realizar acciones y actividades encaminadas a la evaluación, desarrollo y cierre de convenios y proyectos de infraestructura deportiva | F40: Cofinanciar y realizar el seguimiento a la ejecución de convenios y/o contratos de infraestructura deportiva y recreativa y de alta competencia a nivel nacional. | I40: PROYECTOS COFINANCIADOS | J40: 18 proectos cofinanciados | K40: Informe de ejecución presupuestal | L40: Coordinador (a) GIT- Infraestructura | M40: Funciones de la dependencia y GIT | N40: Apoyo a la Infraestructura Técnica y Científica | O40: Planeación Institucional | P40: Plan Estratégico Sectorial | Q40: GIT Infraestructura | R40: 45323 | S40: 45657 | T40: Proyectos de infraestructura deportiva cofinanciados | U40: N° de proyectos de infraestructura deportiva cofinanciados | V40: Medir el avance en el N° de proyectos de infraestructura deportiva cofinanciados con los entes ejecutores en cada periodo | W40: Informe de proyectos de infraestructura cofinanciados en el periodo | X40: ACUMULADO | Y40: NÚMERO | Z40: 14 | AA40: 18 | AB40: 1 | AC40: 9 | AD40: 7 | AE40: 1
A41: 31 | B41: Democratización del acceso de la población al deporte, la recreación y la actividad física | C41: APOYO DE LA INFRAESTRUCTURA DEPORTIVA, RECREATIVA Y DE ALTA COMPETENCIA EN COLOMBIA. 202300000000203 | D41: SERVICIO DE APOYO FINANCIERO PARA EL FOMENTO DE LA INFRAESTRUCTURA DEPORTIVA | E41: Brindar asistencia técnica para la formulación y cumplimiento de requisitos de los proyectos de infraestructura en los entes territoriales | F41: Brindar Asistencia técnica a los entes territoriales y diferenciales en la formulación y estructuración de proyectos de infraestructura deportiva y recreativa en el marco de la resolución vigente y emisión de conceptos técnicos para proyectos de infraestructura recreativa y deportiva radicados por los entes territoriales | I41: ASISTENCIA TECNICA | J41: 100% de asistencias realizadas | K41: Asistencias técnicas realizadas | L41: Coordinador (a) GIT- Infraestructura | M41: Funciones de la dependencia y GIT | N41: Apoyo a la Infraestructura Técnica y Científica | O41: Planeación Institucional | P41: Plan Estratégico Sectorial | Q41: GIT Infraestructura | R41: 45323 | S41: 45657 | T41: PORCENTAJE de Mesas de trabajo con entes territoriales y diferenciales realizadas. | U41: ( # Mesas de trabajo realizadas / # Mesas de trabajo programadas ) * 100 | V41: Medir el PORCENTAJE de mesas de trabajo realizadas por demanda. | W41: Informes Asistencia Técnica | X41: ACUMULADO | Y41: PORCENTAJE | Z41: 462 | AA41: 1 | AB41: 0.3 | AC41: 0.1 | AD41: 0.4 | AE41: 0.2
A42: =+A41+1 -> 32 | B42: Democratización del acceso de la población al deporte, la recreación y la actividad física | C42: APOYO DE LA INFRAESTRUCTURA DEPORTIVA, RECREATIVA Y DE ALTA COMPETENCIA EN COLOMBIA. 202300000000203 | D42: SERVICIO DE APOYO FINANCIERO PARA EL FOMENTO DE LA INFRAESTRUCTURA DEPORTIVA | E42: Establecer lineamientos técnicos para garantizar la conservación y el buen uso de los escenarios deportivos | F42: Socialización y divulgación de lineamientos para la construcción, adecuación, mantenimiento y administración de los escenarios deportivos, recreativos y de actividad física | I42: ASISTENCIA TECNICA | J42: 90% de lineamientos socializados y divulgados | K42: Asistencias técnicas realizadas | L42: Coordinador (a) GIT- Infraestructura | M42: Funciones de la dependencia y GIT | N42: Apoyo a la Infraestructura Técnica y Científica | O42: Planeación Institucional | P42: Plan Estratégico Sectorial | Q42: GIT Infraestructura | R42: 45323 | S42: 45657 | T42: N° Actividades de socialización y divulgación realizadas | U42: N° de socializaciones realizadas | V42: Medir el PORCENTAJE de socializaciones realizadas por demanda. | W42: Informes Asistencia Técnica | X42: ACUMULADO | Y42: PORCENTAJE | Z42: 620 | AA42: 1 | AB42: 0.3 | AC42: 0.2 | AD42: 0.25 | AE42: 0.25
A43: 33 | B43: Democratización del acceso de la población al deporte, la recreación y la actividad física | C43: APOYO DE LA INFRAESTRUCTURA DEPORTIVA, RECREATIVA Y DE ALTA COMPETENCIA EN COLOMBIA. 202300000000203 | D43: SERVICIO DE APOYO FINANCIERO PARA EL FOMENTO DE LA INFRAESTRUCTURA DEPORTIVA | E43: Realizar acciones y actividades encaminadas al fortalecimiento del visor geográfico para el registro de proyectos, seguimiento de convenios, registro predial (banco inmobiliario) e inventario de infraestructura Costo | F43: Fortalecimiento de las herramientas desarrolladas (Visor Geografico, aplicativos de recoleción de información, sitio web de la DRH y tableros de mando) e implementación de nuevos aplicativos que permitan el manejo de la bases de datos de la DRH. | I43: MÓDULOS EN OPERACIÓN | J43: 100% de actualizaciones del visor geográfico | K43: TABLEROS DE MANDO, VISORES GEOGRÁFICOS, APLICATIVOS DE RECOLECCIÓN DE INFORMACIÓN, Y REPORTES | L43: Coordinador (a) GIT- Infraestructura | M43: Funciones de la dependencia y GIT | N43: Apoyo a la Infraestructura Técnica y Científica | O43: Planeación Institucional | P43: NA | Q43: GIT Infraestructura | R43: 45323 | S43: 45657 | T43: PORCENTAJE de implementación de la Herramienta geográfica implementada | U43: (No. funciones creadas o actualizadas en aplicativo/No. funciones propuestas) X 100 | V43: Medir el PORCENTAJE de cumplimiento de actualización del aplicativo | W43: Reporte | X43: ACUMULADO | Y43: PORCENTAJE | Z43: 9 | AA43: 1 | AB43: 0.25 | AC43: 0.25 | AD43: 0.25 | AE43: 0.25
...

Sheet Hoja1

Sheet Objetivos PND
A1: OBJETIVO PND | D1: INDICADOR PND
A2: 1.1.Consolidar la rectoria e institucionalidad del Sistema Nacional del Deporte / OFICINA ASESORA JURIDICA | B2: Actualizar y ajustar procesos normativos o reglamentarios que se requieran para definir los roles, competencias y responsabilidades de todos los actores que hacen parte del SND | C2: =+[2]Organigrama!A32 -> Dirección de Inspección Vigilancia y Control | D2: Nuevas medallas y reconocimientos en competencias internacionales | G2: Deporte y recreación para el desarrollo integral de los individuos, para la convivencia y cohesión social.
A3: 1.2.Consolidar la rectoria e institucionalidad del Sistema Nacional del Deporte / DESPACHO VICEMINISTERIO | B3: Construir la Política Pública del Deporte, en conjunto con la ciudadania, entes territoriales, actores públicos y privados y miembros de la academia | C3: =+[2]Organigrama!A5 -> Despacho del Viceministerio | D3: Avance en la implementación del Observatorio del Sistema Nacional del Deporte | G3: Objetivo 1: Consolidar la rectoría e institucionalidad del Sistema Nacional del Deporte
A4: 1.3.Consolidar la rectoria e institucionalidad del Sistema Nacional del Deporte / DIR. POSICIONAMIENTO Y LIDERAZGO DEPORTIVO | B4: Estandarizar los procesos de promoción, formación y cualificación deportiva. | C4: =+[2]Organigrama!A20 -> Dirección de PosicIonamiento y Liderazgo Deportivo | D4: Personas que acceden a servicios deportivos, recreativos y de actividad física con enfoque diferencial | G4: Objetivo 2: Ampliar oportunidades para la recreación, el deporte social comunitario y el aprovechamiento del tiempo libre
A5: 1.4.Consolidar la rectoria e institucionalidad del Sistema Nacional del Deporte/DIRECCION IVC | B5: Actualizar y reglamentar los procesos de inspección, vigilancvia y control, para garantizar la integridad y transparaencia en las organizaciones deportivas. | C5: =+[2]Organigrama!A32 -> Dirección de Inspección Vigilancia y Control | D5: Municipios que implementan programas de recreación, actividad física, deporte social comunitario y aprovechamiento del tiempo libre | G5: Objetivo 3: Cualificar los talentos deportivos con potencial de alto rendimiento
A6: 1.5.Consolidar la rectoria e institucionalidad del Sistema Nacional del Deporte - OFICINA ASESORA DE PLANEACION / OFICINA ASESORA DE PLANEACION | B6: Implementar el observatorio del SND, para garantizar el accceso y la transparencia de la informacion en materia deportiva, de la recreación y de actividad fisica, para la toma de decisiones en matreria de politica pública | C6: =+[2]Organigrama!A7 -> Oficina Asesora de Planeación | D6: Niños, niñas, adolescentes y jóvenes beneficiarios del Programa SUPÉRATE + (T)
A7: 1.6.Consolidar la rectoria e institucionalidad del Sistema Nacional del Deporte / DIRECCION DE FOMENTO Y DESARROLLO | B7: Desarrollar una accion armonizada y coherente con los organismoque conforman el SND, en articulacion con otras entidades del Gobierno Nacional, Departamental y Municipal, como parte de un diseño institucional funcional para los objetivos y politicas de la primera infancia, adolecencia y juventud. Esta acción se vincula con las acciones propuestas en la Linea A "Primero las niñas y los niño" del presente PND. | C7: =+[2]Organigrama!A27 -> Dirección de Fomento y Desarrollo | D7: Escenarios deportivos y recreativos en condiciones de calidad para el desarrollo de programas
A8: 2.1. Ampliar oportunidades de Recreación, el deporte Social Comunitario y el Aprovechamiento del Tiempo Libre / DIRECCION DE FOMENTO Y DESARRROLLO | B8: Fortalecer el desarrollo social y personal de todo el cyurso de la vida de los colombianos , a través de estartegias de competidor integral que consoliden los programas de actividad fisica, deporrte formativo y deporte social comunitario, con el proposito de generar procesos de inclusión, convivencia y legalidad como aspectos fundamentales de la equidad. Para esto, se desarrollara una estrategia de formación que incluirá, entre otros contenidos virtuales. | C8: =+[2]Organigrama!A27 -> Dirección de Fomento y Desarrollo | D8: Niños, niñas, jóvenes y adolescentes que acceden a la reserva deportiva
