Workbook

Sheet INICIO
F1: PROCESO | P1: VERSIÓN: 01
F2: GESTIÓN ORGANIZACIONAL | P2: CÓDIGO: GO-FR-033
F3: FORMATO: | P3: Pagina 1 de 11
F4: MATRIZ CONTROL AMBIENTAL

Sheet INDICADORES
D1: PROCESO | K1: VERSIÓN: 01
D2: GESTIÓN ORGANIZACIONAL | K2: CÓDIGO: GO-FR-033
D3: FORMATO: | K3: Pagina 9 de 11
D4: MATRIZ CONTROL AMBIENTAL
A11: COMPONENTE | C11: INDICADOR | E11: RESULTADO
E12: Enero | F12: Febrero | G12: Marzo | H12: Abril | I12: Mayo | J12: Junio | K12: Julio | L12: Agosto | M12: Septiembre | N12: Octubre | O12: Noviembre | P12: Diciembre
A13: RESIDUOS | C13: Capacitación | D13: Personal capacitado/Personal objetivo *100 | E13: 0 | F13: 0 | G13: 100 | H13: 0
C15: De Destinación | D15: Cantidad de residuos reiclables en Kg/mes | E15: 1690 | F15: 1376 | G15: 509 | H15: 0
C16: Destinación para Rellenos Sanitarios | D16: Número de botellas PET depositadas en el Ecobot | E16: 1020 | F16: 2783 | G16: 11 | H16: 0 | I16: 0
C17: Destinación para Desactivación de Alta Eficiencia | D17: Cantidad de residuos peligrosos dispuestos en Kg. | E17: 15 | F17: 83 | G17: 2 | H17: 0
A19: AGUA | C19: Capacitación | D19: Personal capacitado/Personal objetivo *100 | G19: 8 | H19: 22.7
C20: consumo de agua | D20: Vol. actual – Vol. Consumido promedio continuo/Vol. Original *100 | E20: -0.06 | F20: 0.52
C21: Reducción de pérdidas (fugas, goteos, daños en tubería) | D21: Reparaciones realizadas/Daños encontrados *100 | E21: No se detectaron | F21: No se detectaron | G21: No se detectaron | H21: No se detectaron
A22: ENERGÍA | C22: Capacitación | D22: Personal capacitado/Personal que labora en las sedes *100 | E22: 0 | F22: 0 | G22: 0 | H22: 0.12
C24: Reducción de la Energía consumida por usuarios | D24: Kw Actual – Kw Consumido promedio continuo/Kw. Actual *100 | E24: -0.13 | F24: 0.08
C26: Reducción de Pérdidas | D26: Reparaciones realizadas/Condiciones encontradas*100 | E26: No se detectaron | F26: No se detectaron | G26: No se detectaron | H26: No se detectaron
C28: Consumo de Insumos | D28: Número de resmas | E28: 0 | F28: 0 | G28: 939 | H28: 0
D30: Número de toner
A31: MOVILIDAD SOSTENIBLE | C31: Sensibilización | D31: Número de personas sensibilizadas | E31: 0 | F31: 0 | G31: 0 | H31: 0
C33: Uso de bicicleta como medio de transporte | D33: Número de funcionarios que usan la bicicleta como medio de transporte

Sheet AGUA
G1: CONSUMO | H1: AGUA | I1: 2020
A2: MES | B2: SEMANA | C2: FECHA | D2: MEDIDOR CAR | E2: MEDIDOR IDRD | F2: CONSUMO CAR m³ | G2: CONSUMO IDRD m³ | H2: TOTAL CAR MINDEPORTE m³ | I2: MEDIDOR ADMIN | J2: MEDIDOR COC | K2: CONSUMO ADMIN m³ | L2: CONSUMO COC m³ | M2: TOTAL ADMIN MINDEPORTE m³ | N2: TOTAL MINDEPORTE m³
A3: 43800 | B3: 4 | C3: 43830 | D3: 239594 | E3: 162213 | F3: 1359 | G3: 153 | H3: =+F3-G3 -> 1206 | I3: 34289 | J3: 13001 | K3: 49 | L3: 2 | M3: =+K3-L3 -> 47
A4: ENERO | B4: 1 | D4: =+D3+D8 -> 240051 | E4: =+E3+E8 -> 162470 | F4: =+D4-D3 -> 457 | G4: =+E4-E3 -> 257 | H4: =+F4-G4 -> 200 | I4: =+I3+I8 -> 34347.25 | J4: =+J3+J8 -> 13017.5 | K4: =+I4-I3 -> 58.25 | L4: =+J4-J3 -> 16.5 | M4: =+K4-L4 -> 41.75 | N4: =+M8+H8 -> 967
B5: 2 | D5: =+D4+D8 -> 240508 | E5: =+E4+E8 -> 162727 | F5: =+D5-D4 -> 457 | G5: =+E5-E4 -> 257 | H5: =+F5-G5 -> 200 | I5: =+I4+I8 -> 34405.5 | J5: =+J4+J8 -> 13034 | K5: =+I5-I4 -> 58.25 | L5: =+J5-J4 -> 16.5 | M5: =+K5-L5 -> 41.75
B6: 3 | D6: =+D5+D8 -> 240965 | E6: =+E5+E8 -> 162984 | F6: =+D6-D5 -> 457 | G6: =+E6-E5 -> 257 | H6: =+F6-G6 -> 200 | I6: =+I5+I8 -> 34463.75 | J6: =+J5+J8 -> 13050.5 | K6: =+I6-I5 -> 58.25 | L6: =+J6-J5 -> 16.5 | M6: =+K6-L6 -> 41.75
B7: 4 | C7: 43861 | D7: 241422 | E7: 163241 | F7: =+D7-D6 -> 457 | G7: =+E7-E6 -> 257 | H7: =+F7-G7 -> 200 | I7: 34522 | J7: 13067 | K7: =+I7-I6 -> 58.25 | L7: =+J7-J6 -> 16.5 | M7: =+K7-L7 -> 41.75
B8: TOTAL | D8: 457 | E8: 257 | F8: =+SUM(F4:F7) -> 1828 | G8: =+SUM(G4:G7) -> 1028 | H8: =+F8-G8 -> 800 | I8: 58.25 | J8: 16.5 | K8: =+SUM(K4:K7) -> 233 | L8: =+SUM(L4:L7) -> 66 | M8: =+K8-L8 -> 167
A9: FEBRERO | B9: 1 | C9: 43868 | D9: 241982 | E9: 163479 | F9: =+D9-D7 -> 560 | G9: =+E9-E7 -> 238 | H9: =+F9-G9 -> 322 | I9: 34570 | J9: 13078 | K9: =+I9-I7 -> 48 | L9: =+J9-J7 -> 11 | M9: =+K9-L9 -> 37 | N9: =+H13+M13 -> 2321
B10: 2 | C10: 14//02/2020 | D10: 242690 | E10: 163644 | F10: =+D10-D9 -> 708 | G10: =+E10-E9 -> 165 | H10: =+F10-G10 -> 543 | I10: 34634 | J10: 13091 | K10: =+I10-I9 -> 64 | L10: =+J10-J9 -> 13 | M10: =+K10-L10 -> 51
B11: 3 | C11: 43882 | D11: 243202 | E11: 163837 | F11: =+D11-D10 -> 512 | G11: =+E11-E10 -> 193 | H11: =+F11-G11 -> 319 | I11: 34680 | J11: 13108 | K11: =+I11-I10 -> 46 | L11: =+J11-J10 -> 17 | M11: =+K11-L11 -> 29
B12: 4 | C12: 43889 | D12: 244408 | E12: 164069 | F12: =+D12-D11 -> 1206 | G12: =+E12-E11 -> 232 | H12: =+F12-G12 -> 974 | I12: 34737 | J12: 13119 | K12: =+I12-I11 -> 57 | L12: =+J12-J11 -> 11 | M12: =+K12-L12 -> 46
B13: TOTAL | F13: =+SUM(F9:F12) -> 2986 | G13: =+SUM(G9:G12) -> 828 | H13: =F13-G13 -> 2158 | K13: =+SUM(K9:K12) -> 215 | L13: =+SUM(L9:L12) -> 52 | M13: =+K13-L13 -> 163
A14: MARZO | B14: 1 | C14: 43896 | D14: 244958 | E14: 164393 | F14: =+D14-D12 -> 550 | G14: =+E14-E12 -> 324 | H14: =+F14-G14 -> 226 | I14: 34813 | J14: 13129 | K14: =+I14-I12 -> 76 | L14: =+J14-J12 -> 10 | M14: =+K14-L14 -> 66 | N14: =+M18+H18 -> 2256.7
B15: 2 | C15: 43903 | D15: 246474 | E15: 164500 | F15: =+D15-D14 -> 1516 | G15: =+E15-E14 -> 107 | H15: =+F15-G15 -> 1409 | I15: 34844 | J15: 13137 | K15: =+I15-I14 -> 31 | L15: =+J15-J14 -> 8 | M15: =+K15-L15 -> 23
B16: 3 | C16: 43909 | D16: 246805 | E16: 164616 | F16: =+D16-D15 -> 331 | G16: =+E16-E15 -> 116 | H16: =+F16-G16 -> 215 | I16: 34878 | J16: 13144 | K16: =+I16-I15 -> 34 | L16: =+J16-J15 -> 7 | M16: =+K16-L16 -> 27
B17: 4 | D17: =+D16+192.2 -> 246997.2 | E17: =+E16+32 -> 164648 | F17: 799 | G17: 547 | H17: =+F17-G17 -> 252 | I17: =+I16+11.8 -> 34889.8 | J17: =+J16+J23 -> 13146.2 | K17: 47 | L17: 8.3 | M17: =+K17-L17 -> 38.7
B18: TOTAL | F18: =+SUM(F14:F17) -> 3196 | G18: =+SUM(G14:G17) -> 1094 | H18: =+F18-G18 -> 2102 | K18: =+SUM(K14:K17) -> 188 | L18: =+SUM(L14:L17) -> 33.3 | M18: =+K18-L18 -> 154.7
A19: ABRIL | B19: 1 | D19: =+D17+192.2 -> 247189.4 | E19: =+E17+32 -> 164680 | F19: =+D19-D17 -> 192.2 | G19: =+E19-E17 -> 32 | H19: =+F19-G19 -> 160.2 | I19: =+I17+I23 -> 34901.6 | J19: =+J17+J23 -> 13148.4 | K19: =+I19-I17 -> 11.8 | L19: =+J19-J17 -> 2.2 | M19: =+K19-L19 -> 9.6 | N19: =+M23+H23 -> 679.2
B20: 2 | D20: =+D19+192.2 -> 247381.6 | E20: =+E19+32 -> 164712 | F20: =+D20-D19 -> 192.2 | G20: =+E20-E19 -> 32 | H20: =+F20-G20 -> 160.2 | I20: =+I19+I23 -> 34913.4 | J20: =+J19+J23 -> 13150.6 | K20: =+I20-I19 -> 11.8 | L20: =+J20-J19 -> 2.2 | M20: =+K20-L20 -> 9.6
B21: 3 | D21: =+D20+192.2 -> 247573.8 | E21: =+E20+32 -> 164744 | F21: =+D21-D20 -> 192.2 | G21: =+E21-E20 -> 32 | H21: =+F21-G21 -> 160.2 | I21: =+I20+I23 -> 34925.2 | J21: =+J20+J23 -> 13152.8 | K21: =+I21-I20 -> 11.8 | L21: =+J21-J20 -> 2.2 | M21: =+K21-L21 -> 9.6
B22: 4 | C22: 43950 | D22: 247766 | E22: 164776 | F22: =+D22-D21 -> 192.2 | G22: =+E22-E21 -> 32 | H22: =+F22-G22 -> 160.2 | I22: 34937 | J22: 13155 | K22: =+I22-I21 -> 11.8 | L22: =+J22-J21 -> 2.2 | M22: =+K22-L22 -> 9.6
B23: TOTAL | D23: =+(D22-D16)/5 -> 192.2 | E23: =+(E22-E16)/5 -> 32 | F23: =+SUM(F19:F22) -> 768.8 | G23: =+SUM(G19:G22) -> 128 | H23: =+F23-G23 -> 640.8 | I23: =+(I22-I16)/5 -> 11.8 | J23: =+(J22-J16)/5 -> 2.2 | K23: =+SUM(K19:K22) -> 47.2 | L23: =+SUM(L19:L22) -> 8.8 | M23: =+K23-L23 -> 38.4
A24: MAYO | B24: 1 | C24: 43962 | D24: 248284 | E24: 164812 | F24: =+D24-D22 -> 518 | G24: =+E24-E22 -> 36 | H24: =+F24-G24 -> 482 | I24: 34942 | J24: 13156 | K24: =+I24-I22 -> 5 | L24: =+J24-J22 -> 1 | M24: =+K24-L24 -> 4 | N24: =+M28+H28 -> 928
B25: 2 | C25: 43966 | D25: 248397 | E25: =+E24+26 -> 164838 | F25: =+D25-D24 -> 113 | G25: =+E25-E24 -> 26 | H25: =+F25-G25 -> 87 | I25: 34965 | J25: 13158 | K25: =+I25-I24 -> 23 | L25: =+J25-J24 -> 2 | M25: =+K25-L25 -> 21
B26: 3 | C26: 43973 | D26: 248635 | E26: 164863 | F26: =+D26-D25 -> 238 | G26: =+E26-E25 -> 25 | H26: =+F26-G26 -> 213 | I26: 34989 | J26: 13180 | K26: =+I26-I25 -> 24 | L26: =+J26-J25 -> 22 | M26: =+K26-L26 -> 2
B27: 4 | C27: 43980 | D27: 248752 | E27: 164875 | F27: =+D27-D26 -> 117 | G27: =+E27-E26 -> 12 | H27: =+F27-G27 -> 105 | I27: 35034 | J27: 13211 | K27: =+I27-I26 -> 45 | L27: =+J27-J26 -> 31 | M27: =+K27-L27 -> 14
B28: TOTAL | F28: =+SUM(F24:F27) -> 986 | G28: =+SUM(G24:G27) -> 99 | H28: =+F28-G28 -> 887 | K28: =+SUM(K24:K27) -> 97 | L28: =+SUM(L24:L27) -> 56 | M28: =+K28-L28 -> 41
A29: JUNIO | B29: 1 | C29: 43987 | D29: 248875 | E29: 164899 | F29: =+D29-D27 -> 123 | G29: =+E29-E27 -> 24 | H29: =+F29-G29 -> 99 | I29: 35065 | J29: 13224 | K29: =+I29-I27 -> 31 | L29: =+J29-J27 -> 13 | M29: =+K29-L29 -> 18 | N29: =+M33+H33 -> 299
B30: 2 | C30: 43994 | D30: 248952 | E30: 164919 | F30: =+D30-D29 -> 77 | G30: =+E30-E29 -> 20 | H30: =+F30-G30 -> 57 | I30: 35074 | J30: 13228 | K30: =+I30-I29 -> 9 | L30: =+J30-J29 -> 4 | M30: =+K30-L30 -> 5
B31: 3 | C31: 44001 | D31: 249011 | E31: 164932 | F31: =+D31-D30 -> 59 | G31: =+E31-E30 -> 13 | H31: =+F31-G31 -> 46 | I31: 35089 | J31: 13234 | K31: =+I31-I30 -> 15 | L31: =+J31-J30 -> 6 | M31: =+K31-L31 -> 9
B32: 4 | C32: 44008 | D32: 249094 | E32: 164954 | F32: =+D32-D31 -> 83 | G32: =+E32-E31 -> 22 | H32: =+F32-G32 -> 61 | I32: 35097 | J32: 13238 | K32: =+I32-I31 -> 8 | L32: =+J32-J31 -> 4 | M32: =+K32-L32 -> 4
B33: TOTAL | F33: =+SUM(F29:F32) -> 342 | G33: =+SUM(G29:G32) -> 79 | H33: =+F33-G33 -> 263 | K33: =+SUM(K29:K32) -> 63 | L33: =+SUM(L29:L32) -> 27 | M33: =+K33-L33 -> 36
A34: JULIO | B34: 1 | F34: =+D34-D32 -> -249094 | G34: =+E34-E32 -> -164954 | H34: =+F34-G34 -> -84140 | K34: =+I34-I32 -> -35097 | L34: =+J34-J32 -> -13238 | M34: =+K34-L34 -> -21859 | N34: =+M38+H38 -> -105999
B35: 2 | F35: =+D35-D34 -> 0 | G35: =+E35-E34 -> 0 | H35: =+F35-G35 -> 0 | K35: =+I35-I34 -> 0 | L35: =+J35-J34 -> 0 | M35: =+K35-L35 -> 0
B36: 3 | F36: =+D36-D35 -> 0 | G36: =+E36-E35 -> 0 | H36: =+F36-G36 -> 0 | K36: =+I36-I35 -> 0 | L36: =+J36-J35 -> 0 | M36: =+K36-L36 -> 0
B37: 4 | F37: =+D37-D36 -> 0 | G37: =+E37-E36 -> 0 | H37: =+F37-G37 -> 0 | K37: =+I37-I36 -> 0 | L37: =+J37-J36 -> 0 | M37: =+K37-L37 -> 0
B38: TOTAL | F38: =+SUM(F34:F37) -> -249094 | G38: =+SUM(G34:G37) -> -164954 | H38: =+F38-G38 -> -84140 | K38: =+SUM(K34:K37) -> -35097 | L38: =+SUM(L34:L37) -> -13238 | M38: =+K38-L38 -> -21859
A39: AGOSTO | B39: 1 | F39: =+D39-D37 -> 0 | G39: =+E39-E37 -> 0 | H39: =+F39-G39 -> 0 | K39: =+I39-I37 -> 0 | L39: =+J39-J37 -> 0 | M39: =+K39-L39 -> 0 | N39: =+M43+H43 -> 0
B40: 2 | F40: =+D40-D39 -> 0 | G40: =+E40-E39 -> 0 | H40: =+F40-G40 -> 0 | K40: =+I40-I39 -> 0 | L40: =+J40-J39 -> 0 | M40: =+K40-L40 -> 0
...

Sheet MENSUAL AGUA
D1: PROCESO | J1: VERSIÓN: 01
D2: GESTIÓN ORGANIZACIONAL | J2: CÓDIGO: GO-FR-033
D3: FORMATO: | J3: Pagina 2 de 11
D4: MATRIZ CONTROL AMBIENTAL
A6: MES | B6: CONSUMO CAR m³ | C6: CONSUMO ADMIN m³
A7: ENERO | B7: =+AGUA!H8 -> 800 | C7: =+AGUA!M8 -> 167
A8: FEBRERO | B8: =+AGUA!H13 -> 2158 | C8: =+AGUA!M13 -> 163
A9: MARZO | B9: =+AGUA!H18 -> 2102 | C9: =+AGUA!M18 -> 154.7
A10: ABRIL | B10: =+AGUA!H23 -> 640.8 | C10: =+AGUA!M23 -> 38.4
A11: MAYO | B11: =+AGUA!H28 -> 887 | C11: =+AGUA!M28 -> 41
A12: JUNIO | B12: =+AGUA!H33 -> 263 | C12: =+AGUA!M33 -> 36
A13: JULIO | B13: =+AGUA!H38 -> -84140 | C13: =+AGUA!M38 -> -21859
A14: AGOSTO | B14: =+AGUA!H43 -> 0 | C14: =+AGUA!M43 -> 0
A15: SEPTIEMBRE | B15: =+AGUA!H48 -> 0 | C15: =+AGUA!M48 -> 0
A16: OCTUBRE | B16: =+AGUA!H53 -> 0 | C16: =+AGUA!M53 -> 0
A17: NOVIEMBRE | B17: =+AGUA!H58 -> 0 | C17: =+AGUA!M58 -> 0
A18: DICIEMBRE | B18: =+AGUA!H63 -> 0 | C18: =+AGUA!M63 -> 0
A20: PROMEDIO | B20: =AVERAGE(B7:B18) -> -6440.7667 | C20: =AVERAGE(C7:C18) -> -1771.575

Sheet ENERGIA
A1: CONSUMO ENERGÍA 2020
F2: 1200 | G2: 285 | I2: 80
A3: MES | B3: SEMANA | C3: FECHA | D3: MEDIDOR CAR | E3: MEDIDOR VILLA | F3: CONSUMO CAR KW/h | G3: CONSUMO VILLA | H3: TOTAL CAR MINDEPORTE KW/h | I3: MEDIDOR ADM KW/h | J3: CONSUMO ADM KW/h | K3: TOTAL MINDEPORTE KW/h
A4: 43800 | B4: 4 | D4: 6708.28 | E4: 974 | F4: 4068 | G4: 855 | H4: =+F4+G4 -> 4923 | I4: 14069.2 | J4: 48.9
A5: ENERO | B5: 1 | D5: =+D4+D9 -> 6713.08 | E5: =+E4+E24 -> 978.8 | F5: =+(D5-D4)*F2 -> 5760 | G5: =+(E5-E4)*G2 -> 1368 | H5: =+F5+G5 -> 7128 | I5: =+I4+75.81 -> 14145.01 | J5: =(I5-I4)*I2 -> 6064.8 | K5: =+H9+J9 -> 52774.08
B6: 2 | D6: =+D5+D9 -> 6717.88 | E6: =+E5+E24 -> 983.6 | F6: =(D6-D5)*$F$2 -> 5760 | G6: =+(E6-E5)*$G$2 -> 1368 | H6: =+F6+G6 -> 7128 | I6: =+I5+75.81 -> 14220.82 | J6: =(I6-I5)*$I$2 -> 6064.8
B7: 3 | D7: =+D6+D9 -> 6722.68 | E7: =+E6+E24 -> 988.4 | F7: =(D7-D6)*$F$2 -> 5760 | G7: =+(E7-E6)*$G$2 -> 1368 | H7: =+F7+G7 -> 7128 | I7: =+I6+75.81 -> 14296.63 | J7: =(I7-I6)*$I$2 -> 6064.8
B8: 4 | C8: 43861 | D8: 6727.48 | E8: =+E7+E24 -> 993.2 | F8: =(D8-D7)*$F$2 -> 5760 | G8: =+(E8-E7)*$G$2 -> 1368 | H8: =+F8+G8 -> 7128 | I8: 14372.476 | J8: =(I8-I7)*$I$2 -> 6067.68
B9: TOTAL | D9: 4.8 | F9: =+SUM(F5:F8) -> 23040 | G9: =+SUM(G5:G8) -> 5472 | H9: =+SUM(H5:H8) -> 28512 | J9: =+SUM(J5:J8) -> 24262.08
A10: FEBRERO | B10: 1 | C10: 43868 | D10: 6732.28 | E10: =+E8+$E$24 -> 998 | F10: =(D10-D8)*$F$2 -> 5760 | G10: =+(E10-E8)*$G$2 -> 1368 | H10: =+F10+G10 -> 7128 | I10: 14450.185 | J10: =(I10-I8)*$I$2 -> 6216.72 | K10: =+H14+J14 -> 55574.96
B11: 2 | C11: 14//02/2020 | D11: 6736.51 | E11: =+E10+E24 -> 1002.8 | F11: =(D11-D10)*$F$2 -> 5076 | G11: =+(E11-E10)*$G$2 -> 1368 | H11: =+F11+G11 -> 6444 | I11: 14518.296 | J11: =(I11-I10)*$I$2 -> 5448.88
B12: 3 | C12: 43882 | D12: 6741.76 | E12: =+E11+$E$24 -> 1007.6 | F12: =(D12-D11)*$F$2 -> 6300 | G12: =+(E12-E11)*$G$2 -> 1368 | H12: =+F12+G12 -> 7668 | I12: 14584.907 | J12: =(I12-I11)*$I$2 -> 5328.88
B13: 4 | C13: 43889 | D13: 6750.27 | E13: =+E12+$E$24 -> 1012.4 | F13: =(D13-D12)*$F$2 -> 10212 | G13: =+(E13-E12)*$G$2 -> 1368 | H13: =+F13+G13 -> 11580 | I13: 14656.913 | J13: =(I13-I12)*$I$2 -> 5760.48
B14: TOTAL | F14: =+SUM(F10:F13) -> 27348 | G14: =+SUM(G10:G13) -> 5472 | H14: =+SUM(H10:H13) -> 32820 | J14: =+SUM(J10:J13) -> 22754.96
A15: MARZO | B15: 1 | C15: 43896 | D15: 6756.45 | E15: =+E13+$E$24 -> 1017.2 | F15: =(D15-D13)*$F$2 -> 7416 | G15: =+(E15-E13)*$G$2 -> 1368 | H15: =+F15+G15 -> 8784 | I15: 14733.178 | J15: =(I15-I13)*$I$2 -> 6101.2 | K15: =+H19+J19 -> 48011.32
B16: 2 | C16: 43903 | D16: 6762.62 | E16: =+E15+E24 -> 1022 | F16: =(D16-D15)*$F$2 -> 7404 | G16: =+(E16-E15)*$G$2 -> 1368 | H16: =+F16+G16 -> 8772 | I16: 14793.16 | J16: =(I16-I15)*$I$2 -> 4798.56
B17: 3 | C17: 43909 | D17: 6765.95 | E17: =+E16+E24 -> 1026.8 | F17: =(D17-D16)*$F$2 -> 3996 | G17: =+(E17-E16)*$G$2 -> 1368 | H17: =+F17+G17 -> 5364 | I17: 14848.179 | J17: =(I17-I16)*$I$2 -> 4401.52
B18: 4 | D18: =+D17+D24 -> 6769.136 | E18: =+E17+E24 -> 1031.6 | F18: =(D18-D17)*$F$2 -> 3823.2 | G18: =+(E18-E17)*$G$2 -> 1368 | H18: =+F18+G18 -> 5191.2 | I18: =+I17+I29 -> 14905.665 | J18: =(I18-I17)*$I$2 -> 4598.84
B19: TOTAL | F19: =+SUM(F15:F18) -> 22639.2 | G19: =+SUM(G15:G18) -> 5472 | H19: =+SUM(H15:H18) -> 28111.2 | J19: =+SUM(J15:J18) -> 19900.12
A20: ABRIL | B20: 1 | D20: =+D18+D24 -> 6772.322 | E20: =+E18+E24 -> 1036.4 | F20: =(D20-D18)*$F$2 -> 3823.2 | G20: =+(E20-E18)*$G$2 -> 1368 | H20: =+F20+G20 -> 5191.2 | I20: =+I18+I29 -> 14963.15 | J20: =(I20-I18)*$I$2 -> 4598.84 | K20: =+H24+J24 -> 39160.16
B21: 2 | D21: =+D20+D24 -> 6775.508 | E21: =+E20+E24 -> 1041.2 | F21: =(D21-D20)*$F$2 -> 3823.2 | G21: =+(E21-E20)*$G$2 -> 1368 | H21: =+F21+G21 -> 5191.2 | I21: =+I20+I29 -> 15020.636 | J21: =(I21-I20)*$I$2 -> 4598.84
B22: 3 | D22: =+D21+D24 -> 6778.694 | E22: =+E21+E24 -> 1046 | F22: =(D22-D21)*$F$2 -> 3823.2 | G22: =+(E22-E21)*$G$2 -> 1368 | H22: =+F22+G22 -> 5191.2 | I22: =+I21+I29 -> 15078.121 | J22: =(I22-I21)*$I$2 -> 4598.84
B23: 4 | C23: 43950 | D23: 6781.88 | E23: =+E22+E24 -> 1050.8 | F23: =(D23-D22)*$F$2 -> 3823.2 | G23: =+(E23-E22)*$G$2 -> 1368 | H23: =+F23+G23 -> 5191.2 | I23: =+I22+I29 -> 15135.607 | J23: =(I23-I22)*$I$2 -> 4598.84
B24: TOTAL | D24: =+(D23-D17)/5 -> 3.186 | E24: 4.8 | F24: =+SUM(F20:F23) -> 15292.8 | G24: =+SUM(G20:G23) -> 5472 | H24: =+SUM(H20:H23) -> 20764.8 | J24: =+SUM(J20:J23) -> 18395.36
A25: MAYO | B25: 1 | C25: 43962 | D25: 6786.68 | E25: 1050.916 | F25: =(D25-D23)*$F$2 -> 5760 | G25: =+(E25-1046.514)*$G$2 -> 1254.57 | H25: =+F25+G25 -> 7014.57 | I25: =+I23+I29 -> 15193.092 | J25: =(I25-I23)*$I$2 -> 4598.84 | K25: =+H29+J29 -> 33528.055
B26: 2 | C26: 43966 | D26: 6788.41 | E26: 1052.473 | F26: =(D26-D25)*$F$2 -> 2076 | G26: =+(E26-E25)*$G$2 -> 443.745 | H26: =+F26+G26 -> 2519.745 | I26: =+I25+I29 -> 15250.578 | J26: =(I26-I25)*$I$2 -> 4598.84
B27: 3 | C27: 43973 | D27: 6791.1 | E27: 1055.051 | F27: =(D27-D26)*$F$2 -> 3228 | G27: =+(E27-E26)*$G$2 -> 734.73 | H27: =+F27+G27 -> 3962.73 | I27: 15308.063 | J27: =(I27-I26)*$I$2 -> 4598.84
B28: 4 | C28: 43980 | D28: 6793.66 | E28: 1057.709 | F28: =(D28-D27)*$F$2 -> 3072 | G28: =+(E28-E27)*$G$2 -> 757.53 | H28: =+F28+G28 -> 3829.53 | I28: 15338.125 | J28: =(I28-I27)*$I$2 -> 2404.96
B29: TOTAL | F29: =+SUM(F25:F28) -> 14136 | G29: =+SUM(G25:G28) -> 3190.575 | H29: =+SUM(H25:H28) -> 17326.575 | I29: =+(I27-I17)/8 -> 57.4855 | J29: =+SUM(J25:J28) -> 16201.48
A30: JUNIO | B30: 1 | C30: 43987 | D30: 6796.35 | E30: 1060.348 | F30: =(D30-D28)*$F$2 -> 3228 | G30: =+(E30-E28)*$G$2 -> 752.115 | H30: =+F30+G30 -> 3980.115 | I30: 15397.209 | J30: =(I30-I28)*$I$2 -> 4726.72 | K30: =+H34+J34 -> 32199.06
B31: 2 | C31: 43994 | D31: 6799.23 | E31: 1063.051 | F31: =(D31-D30)*$F$2 -> 3456 | G31: =+(E31-E30)*$G$2 -> 770.355 | H31: =+F31+G31 -> 4226.355 | I31: 15460.294 | J31: =(I31-I30)*$I$2 -> 5046.8
B32: 3 | C32: 44001 | D32: 6802.11 | E32: 1065.743 | F32: =(D32-D31)*$F$2 -> 3456 | G32: =+(E32-E31)*$G$2 -> 767.22 | H32: =+F32+G32 -> 4223.22 | I32: 15494.693 | J32: =(I32-I31)*$I$2 -> 2751.92
B33: 4 | C33: 44008 | D33: 6804.86 | E33: 1068.321 | F33: =(D33-D32)*$F$2 -> 3300 | G33: =+(E33-E32)*$G$2 -> 734.73 | H33: =+F33+G33 -> 4034.73 | I33: 15534.808 | J33: =(I33-I32)*$I$2 -> 3209.2
B34: TOTAL | F34: =+SUM(F30:F33) -> 13440 | G34: =+SUM(G30:G33) -> 3024.42 | H34: =+SUM(H30:H33) -> 16464.42 | J34: =+SUM(J30:J33) -> 15734.64
A35: JULIO | B35: 1 | F35: =(D35-D33)*$F$2 -> -8165832 | G35: =+(E35-E33)*$G$2 -> -304471.48 | H35: =+F35+G35 -> -8470303.5 | J35: =(I35-I34)*$I$2 -> 0 | K35: =+H39+J39 -> -8470303.5
B36: 2 | F36: =(D36-D35)*$F$2 -> 0 | G36: =+(E36-E35)*$G$2 -> 0 | H36: =+F36+G36 -> 0 | J36: =(I36-I35)*$I$2 -> 0
B37: 3 | F37: =(D37-D36)*$F$2 -> 0 | G37: =+(E37-E36)*$G$2 -> 0 | H37: =+F37+G37 -> 0 | J37: =(I37-I36)*$I$2 -> 0
B38: 4 | F38: =(D38-D37)*$F$2 -> 0 | G38: =+(E38-E37)*$G$2 -> 0 | H38: =+F38+G38 -> 0 | J38: =(I38-I37)*$I$2 -> 0
B39: TOTAL | F39: =+SUM(F35:F38) -> -8165832 | G39: =+SUM(G35:G38) -> -304471.48 | H39: =+SUM(H35:H38) -> -8470303.5 | J39: =+SUM(J35:J38) -> 0
A40: AGOSTO | B40: 1 | F40: =(D40-D38)*$F$2 -> 0 | G40: =+(E40-E38)*$G$2 -> 0 | H40: =+F40+G40 -> 0 | J40: =(I40-I39)*$I$2 -> 0 | K40: =+H44+J44 -> 0
...

Sheet MENSUAL ENERGIA
D1: PROCESO | J1: VERSIÓN: 01
D2: GESTIÓN ORGANIZACIONAL | J2: CÓDIGO: GO-FR-033
D3: FORMATO: | J3: Pagina 3 de 11
D4: MATRIZ CONTROL AMBIENTAL
A8: MES | B8: CONSUMO CAR KW/h | C8: CONSUMO ADMIN KW/h
A9: ENERO | B9: =+ENERGIA!H9 -> 28512 | C9: =+ENERGIA!J9 -> 24262.08
A10: FEBRERO | B10: =+ENERGIA!H14 -> 32820 | C10: =+ENERGIA!J14 -> 22754.96
A11: MARZO | B11: =+ENERGIA!H19 -> 28111.2 | C11: =+ENERGIA!J19 -> 19900.12
A12: ABRIL | B12: =+ENERGIA!H24 -> 20764.8 | C12: =+ENERGIA!J24 -> 18395.36
A13: MAYO | B13: =+ENERGIA!H29 -> 17326.575 | C13: =+ENERGIA!J29 -> 16201.48
A14: JUNIO | B14: =+ENERGIA!H34 -> 16464.42 | C14: =+ENERGIA!J34 -> 15734.64
A15: JULIO | B15: =+ENERGIA!H39 -> -8470303.5 | C15: =+ENERGIA!J39 -> 0
A16: AGOSTO | B16: =+ENERGIA!H44 -> 0 | C16: =+ENERGIA!J44 -> 0
A17: SEPTIEMBRE | B17: =+ENERGIA!H49 -> 0 | C17: =+ENERGIA!J49 -> 0
A18: OCTUBRE | B18: =+ENERGIA!H54 -> 0 | C18: =+ENERGIA!J54 -> 0
A19: NOVIEMBRE | B19: =+ENERGIA!H59 -> 0 | C19: =+ENERGIA!J59 -> 0
A20: DICIEMBRE | B20: =+ENERGIA!H64 -> 0 | C20: =+ENERGIA!J64 -> 0
A22: PROMEDIO | B22: =AVERAGE(B9:B20) -> -693858.71 | C22: =AVERAGE(C9:C20) -> 9770.72
A24: META MENSUAL

Sheet GAS
G1: CONSUMO | I1: 2020
A2: MES | B2: SEMANA | C2: FECHA | D2: MEDIDOR PISCINA | E2: MEDIDOR CASINO | F2: VILLA DEP 1 | G2: VILLA DEP 2 | H2: VILLA DEP 3 | I2: CONSUMO PISCINA m³ | J2: CONSUMO CASINO m³ | K2: CONSUMO VILLA 1 m³ | L2: CONSUMO VILLA 2 m³ | M2: CONSUMO VILLA 3 m³ | N2: TOTAL MINDEPORTE m³
A3: 43800 | C3: 43826 | D3: 519529.4 | E3: 50507.71 | F3: 4457.59 | G3: 32155.9 | H3: 3890.94 | I3: 0 | J3: 72.65 | K3: 0.03 | L3: 13 | M3: 0.3
A4: ENERO | B4: 1 | D4: =+D3+D8 -> 519529.5 | E4: =+E3+E8 -> 50525.59 | F4: 4457.61 | G4: =+G3+G8 -> 32159.7 | H4: =+H3+H8 -> 3891.7025 | I4: =+D4-D3 -> 0.1025 | J4: =+E4-E3 -> 17.88 | K4: =+F4-F3 -> 0.02 | L4: =+G4-G3 -> 3.8 | M4: =+H4-H3 -> 0.7625 | N4: =+SUM(I8:M8) -> 90.29
B5: 2 | D5: =+D4+D8 -> 519529.6 | E5: =+E4+E8 -> 50543.47 | F5: 4457.64 | G5: =+G4+G8 -> 32163.5 | H5: =+H4+H8 -> 3892.465 | I5: =+D5-D4 -> 0.1025 | J5: =+E5-E4 -> 17.88 | K5: =+F5-F4 -> 0.03 | L5: =+G5-G4 -> 3.8 | M5: =+H5-H4 -> 0.7625
B6: 3 | D6: =+D5+D8 -> 519529.71 | E6: =+E5+E8 -> 50561.35 | F6: 4457.67 | G6: =+G5+G8 -> 32167.3 | H6: =+H5+H8 -> 3893.2275 | I6: =+D6-D5 -> 0.1025 | J6: =+E6-E5 -> 17.88 | K6: =+F6-F5 -> 0.03 | L6: =+G6-G5 -> 3.8 | M6: =+H6-H5 -> 0.7625
B7: 4 | C7: 43861 | D7: 519529.81 | E7: 50579.23 | F7: 4457.7 | G7: 32171.1 | H7: 3893.99 | I7: =+D7-D6 -> 0.1025 | J7: =+E7-E6 -> 17.88 | K7: =+F7-F6 -> 0.03 | L7: =+G7-G6 -> 3.8 | M7: =+H7-H6 -> 0.7625
B8: TOTAL | D8: 0.1025 | E8: 17.88 | F8: 0.0275 | G8: 3.8 | H8: 0.7625 | I8: =+SUM(I4:I7) -> 0.41 | J8: =+SUM(J4:J7) -> 71.52 | K8: =+SUM(K4:K7) -> 0.11 | L8: =+SUM(L4:L7) -> 15.2 | M8: =+SUM(M4:M7) -> 3.05
A9: FEBRERO | B9: 1 | C9: 43868 | D9: 519529.81 | E9: 50579.23 | F9: 4457.71 | G9: 32171.1 | H9: 3894.33 | I9: =+D9-D7 -> 0 | J9: =+E9-E7 -> 0 | K9: =+F9-F7 -> 0.01 | L9: =+G9-G7 -> 0 | M9: =+H9-H7 -> 0.34 | N9: =+SUM(I13:M13) -> 3985.2
B10: 2 | C10: 43875 | D10: 519530.3 | E10: 50579.23 | F10: 4457.73 | G10: 32171.1 | H10: 3894.33 | I10: =+D10-D9 -> 0.49 | J10: =+E10-E9 -> 0 | K10: =+F10-F9 -> 0.02 | L10: =+G10-G9 -> 0 | M10: =+H10-H9 -> 0
B11: 3 | C11: 43882 | D11: 520190.82 | E11: 50579.23 | F11: 4457.75 | G11: 32171.1 | H11: 3895.08 | I11: =+D11-D10 -> 660.52 | J11: =+E11-E10 -> 0 | K11: =+F11-F10 -> 0.02 | L11: =+G11-G10 -> 0 | M11: =+H11-H10 -> 0.75
B12: 4 | C12: 43889 | D12: 523347.08 | E12: 50579.23 | F12: =+F11+F13 -> 4457.81 | G12: =+G11+G13 -> 32337.23 | H12: =+H11+H13 -> 3895.68 | I12: =+D12-D11 -> 3156.26 | J12: =+E12-E11 -> 0 | K12: =+F12-F11 -> 0.06 | L12: =+G12-G11 -> 166.13 | M12: =+H12-H11 -> 0.6
B13: TOTAL | F13: 0.06 | G13: 166.13 | H13: 0.6 | I13: =+SUM(I9:I12) -> 3817.27 | J13: =+SUM(J9:J12) -> 0 | K13: =+SUM(K9:K12) -> 0.11 | L13: =+SUM(L9:L12) -> 166.13 | M13: =+SUM(M9:M12) -> 1.69
A14: MARZO | B14: 1 | C14: 43896 | D14: 524785.46 | E14: 50579.61 | F14: =+F12+F13 -> 4457.87 | G14: =+G12+G13 -> 32503.36 | H14: =+H12+H13 -> 3896.28 | I14: =+D14-D12 -> 1438.38 | J14: =+E14-E12 -> 0.38 | K14: =+F14-F12 -> 0.06 | L14: =+G14-G12 -> 166.13 | M14: =+H14-H12 -> 0.6 | N14: =+SUM(I18:M18) -> 1825.893
B15: 2 | C15: 43903 | D15: 524785.53 | E15: 50595.72 | F15: 4457.95 | G15: 32669.5 | H15: 3896.88 | I15: =+D15-D14 -> 0.07 | J15: =+E15-E14 -> 16.11 | K15: =+F15-F14 -> 0.08 | L15: =+G15-G14 -> 166.14 | M15: =+H15-H14 -> 0.6
B16: 3 | C16: 43909 | D16: 524785.53 | E16: 50630.71 | F16: 4457.97 | G16: 32669.5 | H16: 3898.62 | I16: =+D16-D15 -> 0 | J16: =+E16-E15 -> 34.99 | K16: =+F16-F15 -> 0.02 | L16: =+G16-G15 -> 0 | M16: =+H16-H15 -> 1.74
B17: 4 | D17: =+D16+D18 -> 524785.65 | E17: =+E16+E23 -> 50630.961 | F17: =+F16+F23 -> 4457.992 | G17: 32669.5 | H17: =+H16+H23 -> 3898.816 | I17: =+D17-D16 -> 0.124 | J17: =+E17-E16 -> 0.251 | K17: =+F17-F16 -> 0.022 | L17: =+G17-G16 -> 0 | M17: =+H17-H16 -> 0.196
B18: TOTAL | D18: 0.124 | I18: =+SUM(I14:I17) -> 1438.574 | J18: =+SUM(J14:J17) -> 51.731 | K18: =+SUM(K14:K17) -> 0.182 | L18: =+SUM(L14:L17) -> 332.27 | M18: =+SUM(M14:M17) -> 3.136
A19: ABRIL | B19: 1 | D19: =+D17+D18 -> 524785.78 | E19: =+E17+E23 -> 50631.212 | F19: =+F17+F23 -> 4458.014 | G19: 32669.5 | H19: =+H17+H23 -> 3899.012 | I19: =+D19-D17 -> 0.124 | J19: =+E19-E17 -> 0.251 | K19: =+F19-F17 -> 0.022 | L19: =+G19-G17 -> 0 | M19: =+H19-H17 -> 0.196 | N19: =+SUM(I23:M23) -> 2.372
B20: 2 | D20: =+D19+D18 -> 524785.9 | E20: =+E19+E23 -> 50631.463 | F20: =+F19+F23 -> 4458.036 | G20: 32669.5 | H20: =+H19+H23 -> 3899.208 | I20: =+D20-D19 -> 0.124 | J20: =+E20-E19 -> 0.251 | K20: =+F20-F19 -> 0.022 | L20: =+G20-G19 -> 0 | M20: =+H20-H19 -> 0.196
B21: 3 | D21: =+D20+D18 -> 524786.03 | E21: =+E20+E23 -> 50631.714 | F21: =+F20+F23 -> 4458.058 | G21: 32669.5 | H21: =+H20+H23 -> 3899.404 | I21: =+D21-D20 -> 0.124 | J21: =+E21-E20 -> 0.251 | K21: =+F21-F20 -> 0.022 | L21: =+G21-G20 -> 0 | M21: =+H21-H20 -> 0.196
B22: 4 | C22: 43950 | D22: 524786.15 | E22: =+E21+E23 -> 50631.965 | F22: 4458.08 | G22: 32669.5 | H22: 3899.6 | I22: =+D22-D21 -> 0.124 | J22: =+E22-E21 -> 0.251 | K22: =+F22-F21 -> 0.022 | L22: =+G22-G21 -> 0 | M22: =+H22-H21 -> 0.196
B23: TOTAL | D23: 0.83 | E23: 0.251 | F23: 0.022 | H23: 0.196 | I23: =+SUM(I19:I22) -> 0.496 | J23: =+SUM(J19:J22) -> 1.004 | K23: =+SUM(K19:K22) -> 0.088 | L23: =+SUM(L19:L22) -> 0 | M23: =+SUM(M19:M22) -> 0.784
A24: MAYO | B24: 1 | C24: 43962 | D24: 524786.98 | E24: 50632.22 | F24: 4458.12 | G24: 32669.5 | H24: 3899.89 | I24: =+D24-D22 -> 0.83 | J24: =+E24-E22 -> 0.255 | K24: =+F24-F22 -> 0.04 | L24: =+G24-G22 -> 0 | M24: =+H24-H22 -> 0.29 | N24: =+SUM(I28:M28) -> 3.575
B25: 2 | C25: 43966 | D25: 524787.81 | E25: 50632.22 | F25: 4458.14 | G25: 32669.5 | H25: 3900.06 | I25: =+D25-D24 -> 0.83 | J25: =+E25-E24 -> 0 | K25: =+F25-F24 -> 0.02 | L25: =+G25-G24 -> 0 | M25: =+H25-H24 -> 0.17
B26: 3 | C26: 43973 | D26: 524788.65 | E26: 50632.22 | F26: 4458.15 | G26: 32669.5 | H26: 3900.16 | I26: =+D26-D25 -> 0.84 | J26: =+E26-E25 -> 0 | K26: =+F26-F25 -> 0.01 | L26: =+G26-G25 -> 0 | M26: =+H26-H25 -> 0.1
B27: 4 | C27: 43980 | D27: 524788.65 | E27: 50632.22 | F27: 4458.17 | G27: 32669.5 | H27: 3900.33 | I27: =+D27-D26 -> 0 | J27: =+E27-E26 -> 0 | K27: =+F27-F26 -> 0.02 | L27: =+G27-G26 -> 0 | M27: =+H27-H26 -> 0.17
B28: TOTAL | I28: =+SUM(I24:I27) -> 2.5 | J28: =+SUM(J24:J27) -> 0.255 | K28: =+SUM(K24:K27) -> 0.09 | L28: =+SUM(L24:L27) -> 0 | M28: =+SUM(M24:M27) -> 0.73
A29: JUNIO | B29: 1 | C29: 43987 | D29: 524788.65 | E29: 50632.22 | F29: 4458.19 | G29: 32669.5 | H29: 3900.49 | I29: =+D29-D27 -> 0 | J29: =+E29-E27 -> 0 | K29: =+F29-F27 -> 0.02 | L29: =+G29-G27 -> 0 | M29: =+H29-H27 -> 0.16 | N29: =+SUM(I33:M33) -> 1.88
B30: 2 | C30: 43994 | D30: 524788.65 | E30: 50632.22 | F30: 4458.21 | G30: 32669.5 | H30: 3900.66 | I30: =+D30-D29 -> 0 | J30: =+E30-E29 -> 0 | K30: =+F30-F29 -> 0.02 | L30: =+G30-G29 -> 0 | M30: =+H30-H29 -> 0.17
B31: 3 | C31: 44001 | D31: 524789.76 | E31: 50632.22 | F31: 4458.24 | G31: 32669.5 | H31: 3900.83 | I31: =+D31-D30 -> 1.11 | J31: =+E31-E30 -> 0 | K31: =+F31-F30 -> 0.03 | L31: =+G31-G30 -> 0 | M31: =+H31-H30 -> 0.17
B32: 4 | C32: 44008 | D32: 524789.76 | E32: 50632.22 | F32: 4458.26 | G32: 32669.5 | H32: 3901.01 | I32: =+D32-D31 -> 0 | J32: =+E32-E31 -> 0 | K32: =+F32-F31 -> 0.02 | L32: =+G32-G31 -> 0 | M32: =+H32-H31 -> 0.18
B33: TOTAL | I33: =+SUM(I29:I32) -> 1.11 | J33: =+SUM(J29:J32) -> 0 | K33: =+SUM(K29:K32) -> 0.09 | L33: =+SUM(L29:L32) -> 0 | M33: =+SUM(M29:M32) -> 0.68
A34: JULIO | B34: 1 | I34: =+D34-D32 -> -524789.76 | J34: =+E34-E32 -> -50632.22 | K34: =+F34-F32 -> -4458.26 | L34: =+G34-G32 -> -32669.5 | M34: =+H34-H32 -> -3901.01 | N34: =+SUM(I38:M38) -> -616450.75
B35: 2 | I35: =+D35-D34 -> 0 | J35: =+E35-E34 -> 0 | K35: =+F35-F34 -> 0 | L35: =+G35-G34 -> 0 | M35: =+H35-H34 -> 0
B36: 3 | I36: =+D36-D35 -> 0 | J36: =+E36-E35 -> 0 | K36: =+F36-F35 -> 0 | L36: =+G36-G35 -> 0 | M36: =+H36-H35 -> 0
B37: 4 | I37: =+D37-D36 -> 0 | J37: =+E37-E36 -> 0 | K37: =+F37-F36 -> 0 | L37: =+G37-G36 -> 0 | M37: =+H37-H36 -> 0
B38: TOTAL | I38: =+SUM(I34:I37) -> -524789.76 | J38: =+SUM(J34:J37) -> -50632.22 | K38: =+SUM(K34:K37) -> -4458.26 | L38: =+SUM(L34:L37) -> -32669.5 | M38: =+SUM(M34:M37) -> -3901.01
A39: AGOSTO | B39: 1 | I39: =+D39-D37 -> 0 | J39: =+E39-E37 -> 0 | K39: =+F39-F37 -> 0 | L39: =+G39-G37 -> 0 | M39: =+H39-H37 -> 0 | N39: =+SUM(I43:M43) -> 0
B40: 2 | I40: =+D40-D39 -> 0 | J40: =+E40-E39 -> 0 | K40: =+F40-F39 -> 0 | L40: =+G40-G39 -> 0 | M40: =+H40-H39 -> 0
...

Sheet MENSUAL GAS
D1: PROCESO | N1: VERSIÓN: 01
D2: GESTIÓN ORGANIZACIONAL | N2: CÓDIGO: GO-FR-033
D3: FORMATO: | N3: Pagina 4 de 11
D4: MATRIZ CONTROL AMBIENTAL
A7: MES | B7: CONSUMO CAR m³
A8: ENERO | B8: =+GAS!N4 -> 90.29
A9: FEBRERO | B9: =+GAS!N9 -> 3985.2
A10: MARZO | B10: =+GAS!N14 -> 1825.893
A11: ABRIL | B11: =+GAS!N19 -> 2.372
A12: MAYO | B12: =+GAS!N24 -> 3.575
A13: JUNIO | B13: =+GAS!N29 -> 1.88
A14: JULIO | B14: =+GAS!N34 -> -616450.75
A15: AGOSTO | B15: =+GAS!N39 -> 0
A16: SEPTIEMBRE | B16: =+GAS!N44 -> 0
A17: OCTUBRE | B17: =+GAS!N49 -> 0
A18: NOVIEMBRE | B18: =+GAS!N54 -> 0
A19: DICIEMBRE | B19: =+GAS!N59 -> 0
A21: PROMEDIO | B21: =AVERAGE(B8:B19) -> -50878.462
A23: META MENSUAL

Sheet COMBUSTIBLE
A1: CONSUMO GASOLINA Y ACPM
B2: ACPM | R2: GASOLINA
A3: MES | B3: CONSUMO OBI776 | C3: Km inicial | D3: Km Final | E3: KM total | F3: REND Km | G3: CONSUMO OCK338 | H3: Km inicial | I3: Km Final | J3: KM total | K3: REND Km | L3: CONSUMO OCK339 | M3: Km inicial | N3: Km Final | O3: KM total | P3: REND Km | Q3: CONSUMO TOTAL | R3: CONSUMO OBI778 | S3: Km inicial | T3: Km Final | U3: KM total | V3: REND Km | W3: CONSUMO OBI779 | X3: Km inicial | Y3: Km Final | Z3: KM total | AA3: REND Km | AB3: CONSUMO OJX802 | AC3: Km inicial | AD3: Km Final | AE3: KM total | AF3: REND Km | AG3: CONSUMO OJX803 | AH3: Km inicial | AI3: Km Final | AJ3: KM total | AK3: REND Km | AL3: CONSUMO GCR435 | AM3: Km inicial | AN3: Km Final | AO3: KM total | AP3: REND Km | AQ3: CONSUMO TOTAL
A4: ENERO | B4: 25.011 | C4: 169802 | D4: 170338 | E4: =+D4-C4 -> 536 | F4: =+E4/B4 -> 21.430571 | G4: 56.96 | H4: 175854 | I4: 177133 | J4: =+I4-H4 -> 1279 | K4: =+J4/G4 -> 22.454354 | L4: 43.931 | M4: 163222 | N4: 163962 | O4: =+N4-M4 -> 740 | P4: =+O4/L4 -> 16.844597 | Q4: =+B4+G4+L4 -> 125.902 | R4: 46.966 | S4: 204458 | T4: 205575 | U4: =+T4-S4 -> 1117 | V4: =+U4/R4 -> 23.783162 | W4: 52.045 | X4: 170760 | Y4: 171523 | Z4: =+Y4-X4 -> 763 | AA4: =+Z4/W4 -> 14.66039 | AB4: 20.174 | AC4: 121084 | AD4: 121613 | AE4: =+AD4-AC4 -> 529 | AF4: =+AE4/AB4 -> 26.22187 | AG4: 18.51 | AH4: 136474 | AI4: 137126 | AJ4: =+AI4-AH4 -> 652 | AK4: =+AJ4/AG4 -> 35.224203 | AL4: 98.523 | AM4: 982 | AN4: 2812 | AO4: =+AN4-AM4 -> 1830 | AP4: =+AO4/AL4 -> 18.574343 | AQ4: =+R4+W4+AB4+AG4+AL4 -> 236.218
A5: FEBRERO | B5: 20.667 | C5: 170876 | D5: 171172 | E5: =+D5-C5 -> 296 | F5: =+E5/B5 -> 14.32235 | G5: 52.805 | H5: 177557 | I5: 179094 | J5: =+I5-H5 -> 1537 | K5: =+J5/G5 -> 29.107092 | L5: 74.998 | M5: 166316 | N5: 167892 | O5: =+N5-M5 -> 1576 | P5: =+O5/L5 -> 21.013894 | Q5: =+B5+G5+L5 -> 148.47 | R5: 60 | S5: 205973 | T5: 207688 | U5: =+T5-S5 -> 1715 | V5: =+U5/R5 -> 28.583333 | W5: 67.425 | X5: 171648 | Y5: 172925 | Z5: =+Y5-X5 -> 1277 | AA5: =+Z5/W5 -> 18.939562 | AB5: 36.204 | AC5: 122146 | AD5: 123434 | AE5: =+AD5-AC5 -> 1288 | AF5: =+AE5/AB5 -> 35.576179 | AG5: 49.342 | AH5: 137498 | AI5: 139576 | AJ5: =+AI5-AH5 -> 2078 | AK5: =+AJ5/AG5 -> 42.114223 | AL5: 121.833 | AM5: 2997 | AN5: 5262 | AO5: =+AN5-AM5 -> 2265 | AP5: =+AO5/AL5 -> 18.591022 | AQ5: =+R5+W5+AB5+AG5+AL5 -> 334.804
A6: MARZO | B6: 24.016 | C6: 171729 | D6: 172218 | E6: =+D6-C6 -> 489 | F6: =+E6/B6 -> 20.361426 | G6: 30.992 | H6: 179478 | I6: 179992 | J6: =+I6-H6 -> 514 | K6: =+J6/G6 -> 16.584925 | L6: 86.32 | M6: 168201 | N6: 169977 | O6: =+N6-M6 -> 1776 | P6: =+O6/L6 -> 20.574606 | Q6: =+B6+G6+L6 -> 141.328 | R6: 37.844 | S6: 207817 | T6: 208691 | U6: =+T6-S6 -> 874 | V6: =+U6/R6 -> 23.09481 | W6: 53.135 | X6: 173247 | Y6: 174125 | Z6: =+Y6-X6 -> 878 | AA6: =+Z6/W6 -> 16.523948 | AB6: 32.796 | AC6: 123826 | AD6: 124816 | AE6: =+AD6-AC6 -> 990 | AF6: =+AE6/AB6 -> 30.186608 | AG6: 26.679 | AH6: 140110 | AI6: 140812 | AJ6: =+AI6-AH6 -> 702 | AK6: =+AJ6/AG6 -> 26.31283 | AL6: 97.072 | AM6: 5544 | AN6: 7190 | AO6: =+AN6-AM6 -> 1646 | AP6: =+AO6/AL6 -> 16.956486 | AQ6: =+R6+W6+AB6+AG6+AL6 -> 247.526
A7: ABRIL | B7: 5.84 | C7: 172218 | D7: 172502 | E7: =+D7-C7 -> 284 | F7: =+E7/B7 -> 48.630137 | G7: 11.727 | H7: 179992 | I7: 180364 | J7: =+I7-H7 -> 372 | K7: =+J7/G7 -> 31.721668 | L7: 31.038 | M7: 170420 | N7: 170805 | O7: =+N7-M7 -> 385 | P7: =+O7/L7 -> 12.40415 | Q7: =+B7+G7+L7 -> 48.605 | R7: 5.692 | S7: 208691 | T7: 208833 | U7: =+T7-S7 -> 142 | V7: =+U7/R7 -> 24.947294 | W7: 0 | X7: 0 | Y7: 0 | Z7: =+Y7-X7 -> 0 | AA7: =+Z7/W7 -> #DIV/0! | AB7: 4.388 | AC7: 124816 | AD7: 125015 | AE7: =+AD7-AC7 -> 199 | AF7: =+AE7/AB7 -> 45.350957 | AG7: 1.721 | AH7: 140812 | AI7: 140885 | AJ7: =+AI7-AH7 -> 73 | AK7: =+AJ7/AG7 -> 42.417199 | AL7: 87.421 | AM7: 7523 | AN7: 9132 | AO7: =+AN7-AM7 -> 1609 | AP7: =+AO7/AL7 -> 18.405189 | AQ7: =+R7+W7+AB7+AG7+AL7 -> 99.222
A8: MAYO | B8: 24.7 | C8: 173380 | D8: 173962 | E8: =+D8-C8 -> 582 | F8: =+E8/B8 -> 23.562753 | G8: 16.399 | H8: 180364 | I8: 180913 | J8: =+I8-H8 -> 549 | K8: =+J8/G8 -> 33.477651 | L8: 43.74 | M8: 171234 | N8: 172050 | O8: =+N8-M8 -> 816 | P8: =+O8/L8 -> 18.655693 | Q8: =+B8+G8+L8 -> 84.839 | R8: 14.291 | S8: 209019 | T8: 209255 | U8: =+T8-S8 -> 236 | V8: =+U8/R8 -> 16.51389 | W8: 11.458 | X8: 174125 | Y8: 174368 | Z8: =+Y8-X8 -> 243 | AA8: =+Z8/W8 -> 21.20789 | AB8: 7.238 | AC8: 125015 | AD8: 125446 | AE8: =+AD8-AC8 -> 431 | AF8: =+AE8/AB8 -> 59.546836 | AG8: 0 | AH8: 0 | AI8: 0 | AJ8: =+AI8-AH8 -> 0 | AK8: =+AJ8/AG8 -> #DIV/0! | AL8: 115.903 | AM8: 9380 | AN8: 11967 | AO8: =+AN8-AM8 -> 2587 | AP8: =+AO8/AL8 -> 22.320389 | AQ8: =+R8+W8+AB8+AG8+AL8 -> 148.89
A9: JUNIO | B9: 5.282 | C9: 173962 | D9: 174172 | E9: =+D9-C9 -> 210 | F9: =+E9/B9 -> 39.757668 | G9: 14.614 | H9: 180913 | I9: 181374 | J9: =+I9-H9 -> 461 | K9: =+J9/G9 -> 31.545094 | L9: 15.23 | M9: 172545 | N9: 174258 | O9: =+N9-M9 -> 1713 | P9: =+O9/L9 -> 112.47538 | Q9: =+B9+G9+L9 -> 35.126 | R9: 3.475 | S9: 209255 | T9: 209356 | U9: =+T9-S9 -> 101 | V9: =+U9/R9 -> 29.064748 | W9: 0 | X9: 0 | Y9: 0 | Z9: =+Y9-X9 -> 0 | AA9: =+Z9/W9 -> #DIV/0! | AB9: 0 | AC9: 0 | AD9: 0 | AE9: =+AD9-AC9 -> 0 | AF9: =+AE9/AB9 -> #DIV/0! | AG9: 3.455 | AH9: 140885 | AI9: 141071 | AJ9: =+AI9-AH9 -> 186 | AK9: =+AJ9/AG9 -> 53.835022 | AL9: 97.038 | AM9: 12197 | AN9: 14104 | AO9: =+AN9-AM9 -> 1907 | AP9: =+AO9/AL9 -> 19.652095 | AQ9: =+R9+W9+AB9+AG9+AL9 -> 103.968
A10: JULIO | E10: =+D10-C10 -> 0 | F10: =+E10/B10 -> #DIV/0! | J10: =+I10-H10 -> 0 | K10: =+J10/G10 -> #DIV/0! | O10: =+N10-M10 -> 0 | P10: =+O10/L10 -> #DIV/0! | Q10: =+B10+G10+L10 -> 0 | U10: =+T10-S10 -> 0 | V10: =+U10/R10 -> #DIV/0! | Z10: =+Y10-X10 -> 0 | AA10: =+Z10/W10 -> #DIV/0! | AE10: =+AD10-AC10 -> 0 | AF10: =+AE10/AB10 -> #DIV/0! | AJ10: =+AI10-AH10 -> 0 | AK10: =+AJ10/AG10 -> #DIV/0! | AO10: =+AN10-AM10 -> 0 | AP10: =+AO10/AL10 -> #DIV/0! | AQ10: =+R10+W10+AB10+AG10+AL10 -> 0
A11: AGOSTO | E11: =+D11-C11 -> 0 | F11: =+E11/B11 -> #DIV/0! | J11: =+I11-H11 -> 0 | K11: =+J11/G11 -> #DIV/0! | O11: =+N11-M11 -> 0 | P11: =+O11/L11 -> #DIV/0! | Q11: =+B11+G11+L11 -> 0 | U11: =+T11-S11 -> 0 | V11: =+U11/R11 -> #DIV/0! | Z11: =+Y11-X11 -> 0 | AA11: =+Z11/W11 -> #DIV/0! | AE11: =+AD11-AC11 -> 0 | AF11: =+AE11/AB11 -> #DIV/0! | AJ11: =+AI11-AH11 -> 0 | AK11: =+AJ11/AG11 -> #DIV/0! | AO11: =+AN11-AM11 -> 0 | AP11: =+AO11/AL11 -> #DIV/0! | AQ11: =+R11+W11+AB11+AG11+AL11 -> 0
A12: SEPTIEMBRE | E12: =+D12-C12 -> 0 | F12: =+E12/B12 -> #DIV/0! | J12: =+I12-H12 -> 0 | K12: =+J12/G12 -> #DIV/0! | O12: =+N12-M12 -> 0 | P12: =+O12/L12 -> #DIV/0! | Q12: =+B12+G12+L12 -> 0 | U12: =+T12-S12 -> 0 | V12: =+U12/R12 -> #DIV/0! | Z12: =+Y12-X12 -> 0 | AA12: =+Z12/W12 -> #DIV/0! | AE12: =+AD12-AC12 -> 0 | AF12: =+AE12/AB12 -> #DIV/0! | AJ12: =+AI12-AH12 -> 0 | AK12: =+AJ12/AG12 -> #DIV/0! | AO12: =+AN12-AM12 -> 0 | AP12: =+AO12/AL12 -> #DIV/0! | AQ12: =+R12+W12+AB12+AG12+AL12 -> 0
A13: OCTUBRE | E13: =+D13-C13 -> 0 | F13: =+E13/B13 -> #DIV/0! | J13: =+I13-H13 -> 0 | K13: =+J13/G13 -> #DIV/0! | O13: =+N13-M13 -> 0 | P13: =+O13/L13 -> #DIV/0! | Q13: =+B13+G13+L13 -> 0 | U13: =+T13-S13 -> 0 | V13: =+U13/R13 -> #DIV/0! | Z13: =+Y13-X13 -> 0 | AA13: =+Z13/W13 -> #DIV/0! | AE13: =+AD13-AC13 -> 0 | AF13: =+AE13/AB13 -> #DIV/0! | AJ13: =+AI13-AH13 -> 0 | AK13: =+AJ13/AG13 -> #DIV/0! | AO13: =+AN13-AM13 -> 0 | AP13: =+AO13/AL13 -> #DIV/0! | AQ13: =+R13+W13+AB13+AG13+AL13 -> 0
A14: NOVIEMBRE | E14: =+D14-C14 -> 0 | F14: =+E14/B14 -> #DIV/0! | J14: =+I14-H14 -> 0 | K14: =+J14/G14 -> #DIV/0! | O14: =+N14-M14 -> 0 | P14: =+O14/L14 -> #DIV/0! | Q14: =+B14+G14+L14 -> 0 | U14: =+T14-S14 -> 0 | V14: =+U14/R14 -> #DIV/0! | Z14: =+Y14-X14 -> 0 | AA14: =+Z14/W14 -> #DIV/0! | AE14: =+AD14-AC14 -> 0 | AF14: =+AE14/AB14 -> #DIV/0! | AJ14: =+AI14-AH14 -> 0 | AK14: =+AJ14/AG14 -> #DIV/0! | AO14: =+AN14-AM14 -> 0 | AP14: =+AO14/AL14 -> #DIV/0! | AQ14: =+R14+W14+AB14+AG14+AL14 -> 0
A15: DICIEMBRE | E15: =+D15-C15 -> 0 | F15: =+E15/B15 -> #DIV/0! | J15: =+I15-H15 -> 0 | K15: =+J15/G15 -> #DIV/0! | O15: =+N15-M15 -> 0 | P15: =+O15/L15 -> #DIV/0! | Q15: =+B15+G15+L15 -> 0 | U15: =+T15-S15 -> 0 | V15: =+U15/R15 -> #DIV/0! | Z15: =+Y15-X15 -> 0 | AA15: =+Z15/W15 -> #DIV/0! | AE15: =+AD15-AC15 -> 0 | AF15: =+AE15/AB15 -> #DIV/0! | AJ15: =+AI15-AH15 -> 0 | AK15: =+AJ15/AG15 -> #DIV/0! | AO15: =+AN15-AM15 -> 0 | AP15: =+AO15/AL15 -> #DIV/0! | AQ15: =+R15+W15+AB15+AG15+AL15 -> 0

Sheet MENSUAL COMBUSTIBLE
C1: PROCESO | J1: VERSIÓN: 01
C2: GESTIÓN ORGANIZACIONAL | J2: CÓDIGO: GO-FR-033
C3: FORMATO: | J3: Pagina 5 de 11
C4: MATRIZ CONTROL AMBIENTAL
A7: MES | B7: CONSUMO ACPM | C7: CONSUMO GASOLINA
A8: ENERO | B8: =+COMBUSTIBLE!Q4 -> 125.902 | C8: =+COMBUSTIBLE!AQ4 -> 236.218
A9: FEBRERO | B9: =+COMBUSTIBLE!Q5 -> 148.47 | C9: =+COMBUSTIBLE!AQ5 -> 334.804
A10: MARZO | B10: =+COMBUSTIBLE!Q6 -> 141.328 | C10: =+COMBUSTIBLE!AQ6 -> 247.526
A11: ABRIL | B11: =+COMBUSTIBLE!Q7 -> 48.605 | C11: =+COMBUSTIBLE!AQ7 -> 99.222
A12: MAYO | B12: =+COMBUSTIBLE!Q8 -> 84.839 | C12: =+COMBUSTIBLE!AQ8 -> 148.89
A13: JUNIO | B13: =+COMBUSTIBLE!Q9 -> 35.126 | C13: =+COMBUSTIBLE!AQ9 -> 103.968
A14: JULIO | B14: =+COMBUSTIBLE!Q10 -> 0 | C14: =+COMBUSTIBLE!AQ10 -> 0
A15: AGOSTO | B15: =+COMBUSTIBLE!Q11 -> 0 | C15: =+COMBUSTIBLE!AQ11 -> 0
A16: SEPTIEMBRE | B16: =+COMBUSTIBLE!Q12 -> 0 | C16: =+COMBUSTIBLE!AQ12 -> 0
A17: OCTUBRE | B17: =+COMBUSTIBLE!Q13 -> 0 | C17: =+COMBUSTIBLE!AQ13 -> 0
A18: NOVIEMBRE | B18: =+COMBUSTIBLE!Q14 -> 0 | C18: =+COMBUSTIBLE!AQ14 -> 0
A19: DICIEMBRE | B19: =+COMBUSTIBLE!Q15 -> 0 | C19: =+COMBUSTIBLE!AQ15 -> 0
A21: PROMEDIO | B21: =AVERAGE(B8:B19) -> 48.689167
A23: META MENSUAL

Sheet APROVECHABLES
D1: PROCESO | L1: VERSIÓN: 01
D2: GESTIÓN ORGANIZACIONAL | L2: CÓDIGO: GO-FR-033
D3: FORMATO: | L3: Pagina 6 de 11
D4: MATRIZ CONTROL AMBIENTAL
A9: CAR | J9: ADMINISTRATIVA
B10: TIPO DE RESIDUO (EN Kg) | K10: TIPO DE RESIDUO (EN Kg)
A11: Mes | B11: Papel | C11: Cartón | D11: Plastico | E11: Chatarra | F11: Vidrio | G11: Ecobot | H11: Total mes | J11: Mes | K11: Papel | L11: Cartón | M11: Plastico | N11: Chatarra | O11: Vidrio | P11: Total mes
A12: Enero | B12: 150 | C12: 320 | D12: =160+50+30 -> 240 | E12: 0 | F12: 0 | G12: 1020 | H12: =+SUM(B12:F12) -> 710 | J12: Enero | K12: 450 | L12: =156+39 -> 195 | M12: =99+150 -> 249 | N12: 16 | O12: 0 | P12: =+SUM(K12:O12) -> 910
A13: Febrero | B13: 120 | C13: =180+14+13 -> 207 | D13: =15+12+184 -> 211 | E13: =9+13 -> 22 | F13: =16+3 -> 19 | G13: 2783 | H13: =+SUM(B13:F13) -> 579 | J13: Febrero | K13: 293 | L13: =199+9+10 -> 218 | M13: =39+5 -> 44 | N13: =4+88 -> 92 | O13: =115+35 -> 150 | P13: =+SUM(K13:O13) -> 797
A14: Marzo | B14: 69 | C14: 168 | D14: =47+6+7+34+1 -> 95 | E14: 6 | F14: 0 | G14: 11 | H14: =+SUM(B14:F14) -> 338 | J14: Marzo | K14: 110 | L14: 60 | M14: 6 | N14: 0 | O14: 0 | P14: =+SUM(K14:O14) -> 176
A15: Abril | B15: 0 | C15: 0 | D15: 0 | E15: 0 | F15: 0 | G15: 0 | H15: =+SUM(B15:F15) -> 0 | J15: Abril | K15: 0 | L15: 0 | M15: 0 | N15: 0 | O15: 0 | P15: =+SUM(K15:O15) -> 0
A16: Mayo | B16: 10 | C16: 130 | D16: =4+2+4+9 -> 19 | E16: 16 | F16: 0 | G16: 0 | H16: =+SUM(B16:F16) -> 175 | J16: Mayo | K16: 0 | L16: 0 | M16: 0 | N16: 0 | O16: 0 | P16: =+SUM(K16:O16) -> 0
A17: Junio | B17: 85 | C17: =13+362 -> 375 | D17: =6+10 -> 16 | E17: 71 | F17: 1 | G17: 0 | H17: =+SUM(B17:F17) -> 548 | J17: Junio | K17: 26 | L17: 10 | M17: =1+12+9+1+0.5+0.5+1 -> 25 | N17: 37 | O17: 0 | P17: =+SUM(K17:O17) -> 98
A18: Julio | H18: =+SUM(B18:F18) -> 0 | J18: Julio | P18: =+SUM(K18:O18) -> 0
A19: Agosto | H19: =+SUM(B19:F19) -> 0 | J19: Agosto | P19: =+SUM(K19:O19) -> 0
A20: Septiembre | H20: =+SUM(B20:F20) -> 0 | J20: Septiembre | P20: =+SUM(K20:O20) -> 0
A21: Octubre | H21: =+SUM(B21:F21) -> 0 | J21: Octubre | P21: =+SUM(K21:O21) -> 0
A22: Noviembre | H22: =+SUM(B22:F22) -> 0 | J22: Noviembre | P22: =+SUM(K22:O22) -> 0
A23: Diciembre | H23: =+SUM(B23:F23) -> 0 | J23: Diciembre | P23: =+SUM(K23:O23) -> 0
A24: Total | B24: =SUM(B12:B23) -> 434 | C24: =SUM(C12:C23) -> 1200 | D24: =SUM(D12:D23) -> 581 | E24: =SUM(E12:E23) -> 115 | F24: =SUM(F12:F23) -> 20 | G24: =SUM(G12:G23) -> 3814 | J24: Total | K24: =SUM(K12:K23) -> 879 | L24: =SUM(L12:L23) -> 483 | M24: =SUM(M12:M23) -> 324 | N24: =SUM(N12:N23) -> 145 | O24: =SUM(O12:O23) -> 150

Sheet PELIGROSOS
D1: PROCESO | P1: VERSIÓN: 01
D2: GESTIÓN ORGANIZACIONAL | P2: CÓDIGO: GO-FR-033
D3: FORMATO: | P3: Pagina 8 de 11
D4: MATRIZ CONTROL AMBIENTAL
A10: SEDE ADMINISTRATIVA | I10: CENTRO DE ALTO RENDIMIENTO
A11: Mes | B11: Toner (Y12) | C11: Luminarias (Y29) | D11: UPS | E11: Envases contaminados | F11: Total | G11: Media movil | I11: Mes | J11: Aceite usado | K11: Toner (Y12) | L11: Luminarias (Y29) | M11: Biosanitarios | N11: Anatomopatologicos | O11: Cortopunzantes | P11: Residuos Quimicos | Q11: Balastos | R11: Baterias | S11: Aerosoles | T11: Medicamentos vencidos | U11: Total | V11: Media movil
A12: Enero | F12: =SUM(B12:E12) -> 0 | I12: Enero | J12: 50 | M12: 15 | P12: 250 | U12: =+SUM(J12:T12) -> 315
A13: Febrero | F13: =SUM(B13:E13) -> 0 | I13: Febrero | J13: 20 | M13: 11 | O13: 71 | P13: 28 | U13: =+SUM(J13:T13) -> 130
A14: Marzo | F14: =SUM(B14:E14) -> 0 | I14: Marzo | M14: 2 | P14: 4 | U14: =+SUM(J14:T14) -> 6
A15: Abril | F15: =SUM(B15:E15) -> 0 | I15: Abril | P15: 19 | U15: =+SUM(J15:T15) -> 19
A16: Mayo | F16: =SUM(B16:E16) -> 0 | I16: Mayo | P16: 7 | U16: =+SUM(J16:T16) -> 7
A17: Junio | C17: 1 | E17: 4 | F17: =SUM(B17:E17) -> 5 | I17: Junio | J17: 22 | L17: 24 | O17: 1 | P17: 17 | Q17: 1 | R17: 3 | S17: 1 | T17: 4 | U17: =+SUM(J17:T17) -> 73
A18: Julio | F18: =SUM(B18:E18) -> 0 | G18: =SUM(F12:F17)/6 -> 0.83333333 | I18: Julio | U18: =+SUM(J18:T18) -> 0 | V18: =SUM(U12:U17)/6 -> 91.666667
A19: Agosto | F19: =SUM(B19:E19) -> 0 | G19: =SUM(F13:F18)/6 -> 0.83333333 | I19: Agosto | U19: =+SUM(J19:T19) -> 0 | V19: =SUM(U13:U18)/6 -> 39.166667
A20: Septiembre | F20: =SUM(B20:E20) -> 0 | G20: =SUM(F14:F19)/6 -> 0.83333333 | I20: Septiembre | U20: =+SUM(J20:T20) -> 0 | V20: =SUM(U14:U19)/6 -> 17.5
A21: Octubre | F21: =SUM(B21:E21) -> 0 | G21: =SUM(F15:F20)/6 -> 0.83333333 | I21: Octubre | U21: =+SUM(J21:T21) -> 0 | V21: =SUM(U15:U20)/6 -> 16.5
A22: Noviembre | F22: =SUM(B22:E22) -> 0 | G22: =SUM(F16:F21)/6 -> 0.83333333 | I22: Noviembre | U22: =+SUM(J22:T22) -> 0 | V22: =SUM(U16:U21)/6 -> 13.333333
A23: Diciembre | F23: =SUM(B23:E23) -> 0 | G23: =SUM(F17:F22)/6 -> 0.83333333 | I23: Diciembre | U23: =+SUM(J23:T23) -> 0 | V23: =SUM(U17:U22)/6 -> 12.166667
A24: Total | B24: =SUM(B13:B23) -> 0 | C24: =SUM(C13:C23) -> 1 | D24: =SUM(D13:D23) -> 0 | G24: =+AVERAGE(G18:G23) -> 0.83333333 | I24: Total | M24: =SUM(M13:M23) -> 13 | N24: =SUM(N13:N23) -> 0 | O24: =SUM(O13:O23) -> 72 | P24: =SUM(P13:P23) -> 75 | T24: =SUM(T13:T23) -> 4 | V24: =+AVERAGE(V18:V23) -> 31.722222
A25: TIPO DE GENERADOR | G25: =IF(G24>=1000,"GRAN GENERADOR",IF(AND(G24>=100,G24<1000),"MEDIANO GENERADOR",IF(AND(G24>=10,G24<100),"PEQUEÑO GENERADOR"))) -> FALSE | I25: TIPO DE GENERADOR | V25: =IF(V24>=1000,"GRAN GENERADOR",IF(AND(V24>=100,V24<1000),"MEDIANO GENERADOR",IF(AND(V24>=10,V24<100),"PEQUEÑO GENERADOR"))) -> PEQUEÑO GENERADOR

Sheet ESPECIALES
C1: PROCESO | I1: VERSIÓN: 01
C2: GESTIÓN ORGANIZACIONAL | I2: CÓDIGO: GO-FR-033
C3: FORMATO: | I3: Pagina 7 de 11
C4: MATRIZ CONTROL AMBIENTAL
A9: SEDE ADMINISTRATIVA | F9: CENTRO DE ALTO RENDIMIENTO
A10: Mes | B10: Orgánicos | C10: RAEE´S | D10: Total | F10: Mes | G10: Orgánicos | H10: RAEE´S | I10: AVU | J10: RCD´S | K10: Total
A11: Enero | B11: 0 | C11: 0 | D11: =+B11+C11 -> 0 | F11: Enero | G11: 0 | H11: 0 | I11: 0 | J11: 0 | K11: =+SUM(G11:J11) -> 0
A12: Febrero | B12: 0 | C12: 0 | D12: =+B12+C12 -> 0 | F12: Febrero | G12: 0 | H12: 1 | I12: 0 | J12: 0 | K12: =+SUM(G12:J12) -> 1
A13: Marzo | B13: 0 | C13: 0 | D13: =+B13+C13 -> 0 | F13: Marzo | G13: 0 | H13: 0 | I13: 0 | J13: 0 | K13: =+SUM(G13:J13) -> 0
A14: Abril | B14: 0 | C14: 0 | D14: =+B14+C14 -> 0 | F14: Abril | G14: 0 | H14: 0 | I14: 0 | J14: 0 | K14: =+SUM(G14:J14) -> 0
A15: Mayo | B15: 0 | C15: 0 | D15: =+B15+C15 -> 0 | F15: Mayo | G15: 0 | H15: 0 | I15: 0 | J15: 0 | K15: =+SUM(G15:J15) -> 0
A16: Junio | B16: 0 | C16: 0 | D16: =+B16+C16 -> 0 | F16: Junio | G16: 0 | H16: 0 | I16: 0 | J16: 0 | K16: =+SUM(G16:J16) -> 0
A17: Julio | D17: =+B17+C17 -> 0 | F17: Julio | K17: =+SUM(G17:J17) -> 0
A18: Agosto | D18: =+B18+C18 -> 0 | F18: Agosto | K18: =+SUM(G18:J18) -> 0
A19: Septiembre | D19: =+B19+C19 -> 0 | F19: Septiembre | K19: =+SUM(G19:J19) -> 0
A20: Octubre | D20: =+B20+C20 -> 0 | F20: Octubre | K20: =+SUM(G20:J20) -> 0
A21: Noviembre | D21: =+B21+C21 -> 0 | F21: Noviembre | K21: =+SUM(G21:J21) -> 0
A22: Diciembre | D22: =+B22+C22 -> 0 | F22: Diciembre | K22: =+SUM(G22:J22) -> 0
A23: Total | B23: =+SUM(B11:B22) -> 0 | C23: =+SUM(C11:C22) -> 0 | D23: =+SUM(D11:D22) -> 0 | F23: Total | G23: =+SUM(G11:G22) -> 0 | H23: =+SUM(H11:H22) -> 1 | I23: =+SUM(I11:I22) -> 0 | J23: =+SUM(J11:J22) -> 0 | K23: =+SUM(K11:K22) -> 1

Sheet CONSUMO SOSTENIBLE
C1: PROCESO | H1: VERSIÓN: 01
C2: GESTIÓN ORGANIZACIONAL | H2: CÓDIGO: GO-FR-033
C3: FORMATO: | H3: Pagina 10 de 11
C4: MATRIZ CONTROL AMBIENTAL
B10: MES | C10: CANTIDAD PAPEL | D10: CANTIDAD TONERS
B11: ENERO | C11: 0 | D11: 0
B12: FEBRERO | C12: =646+293 -> 939 | D12: 17
B13: MARZO | C13: 0 | D13: 0
B14: ABRIL | C14: 0 | D14: 0
B15: MAYO | C15: 0 | D15: 0
B16: JUNIO | C16: 0 | D16: 0
B17: JULIO
B18: AGOSTO
B19: SEPTIEMBRE
B20: OCTUBRE
B21: NOVIEMBRE
B22: DICIEMBRE

Sheet MOVILIDAD SOSTENIBLE
C1: PROCESO | I1: VERSIÓN: 01
C2: GESTIÓN ORGANIZACIONAL | I2: CÓDIGO: GO-FR-033
C3: FORMATO: | I3: Pagina 11 de 11
C4: MATRIZ CONTROL AMBIENTAL
B10: MES | C10: CANTIDAD BICIUSUARIOS
B11: ENERO | C11: 6
B12: FEBRERO | C12: 7
B13: MARZO | C13: 5
B14: ABRIL | C14: 0
B15: MAYO | C15: 0
B16: JUNIO | C16: 0
B17: JULIO
B18: AGOSTO
B19: SEPTIEMBRE
B20: OCTUBRE
B21: NOVIEMBRE
B22: DICIEMBRE
