Workbook

Sheet Consolidado 
A1: Modelo de Regionalización Consolidado vigencia 2023
B3: Nombre de los proyectos de inversión regionalizados para la vigencia 2023
A4: Departamento | B4: Desarrollo al deporte olímpico, paralimpico de posicionamiento | C4: Fortalecimiento del deporte y la educación física de los niños, niñas y adolescentes en etapa escolar Nacional. | D4: Fortalecimiento fomento y promoción de practica deportiva | E4: Apoyo a la organización de eventos deportivos | F4: Apoyo a la infraestructura de alta competencia a nivel nacional | G4: Apoyo a la infraestructura deportiva, recreativa y actividad física | H4: Total por departamento | I4: Regionalización | J4: Por regionalizar | K4: =SUM('2021011000262'!G4+'2021011000250'!G4+'2021011000248'!G6+'2018011000214'!G4+'2018011000178'!G4+'2018011000022'!G5) -> 307826717781
A5: POR REGIONALIZAR | B5: 254961604606 | C5: 850000000 | D5: 23215113175 | E5: 0 | F5: 4000000000 | G5: 7400000000 | H5: =SUM(B5:G5) -> 290426717781 | I5: Por regionalizar | J5: Eje cafetero | K5: =SUM('2021011000262'!G5+'2021011000250'!G5+'2021011000248'!G7+'2018011000214'!G5+'2018011000178'!G5+'2018011000022'!G6) -> 154405510424
A6: AMAZONAS | B6: 0 | C6: 601339199 | D6: 686689796 | E6: 0 | F6: 0 | G6: 0 | H6: =SUM(B6:G6) -> 1288028995 | I6: centro sur | J6: LLano | K6: =SUM('2021011000262'!G6+'2021011000250'!G6+'2021011000248'!G8+'2018011000214'!G6+'2018011000178'!G6+'2018011000022'!G7) -> 18878600448
A7: ANTIOQUIA | B7: 0 | C7: 3123859200 | D7: 629705306 | E7: 17400000000 | F7: 0 | G7: 27000000000 | H7: =SUM(B7:G7) -> 48153564506 | I7: Eje cafetero | J7: Caribe | K7: =SUM('2021011000262'!G7+'2021011000250'!G7+'2021011000248'!G9+'2018011000214'!G7+'2018011000178'!G7+'2018011000022'!G8) -> 101276549077
A8: ARAUCA | B8: 0 | C8: 569830800 | D8: 925087106 | E8: 0 | F8: 0 | G8: 0 | H8: =SUM(B8:G8) -> 1494917906 | I8: llano | J8: Centro oriente | K8: =SUM('2021011000262'!G8+'2021011000250'!G8+'2021011000248'!G10+'2018011000214'!G8+'2018011000178'!G8+'2018011000022'!G9) -> 127139983339
A9: ATLANTICO | C9: 1048278000 | D9: 764486906 | E9: 12500000000 | G9: 6700000000 | H9: =SUM(B9:G9) -> 21012764906 | I9: caribe | J9: Pacifico | K9: =SUM('2021011000262'!G9+'2021011000250'!G9+'2021011000248'!G11+'2018011000214'!G9+'2018011000178'!G9+'2018011000022'!G10) -> 121860545024
A10: BOGOTA | B10: 0 | C10: 44036442563 | D10: 4139346292 | E10: 6000000000 | F10: 10000000000 | G10: 23792000000 | H10: =SUM(B10:G10) -> 87967788855 | I10: centro oriente | J10: Centro sur | K10: =SUM('2021011000262'!G10+'2021011000250'!G10+'2021011000248'!G12+'2018011000214'!G10+'2018011000178'!G10+'2018011000022'!G11) -> 12573698513
A11: BOLIVAR | B11: 0 | C11: 1828965600 | D11: 1206143306 | E11: 0 | F11: 0 | G11: 500000000 | H11: =SUM(B11:G11) -> 3535108906 | I11: caribe | J11: Total | K11: =SUM('2021011000262'!G11+'2021011000250'!G11+'2021011000248'!G13+'2018011000214'!G11+'2018011000178'!G11+'2018011000022'!G12) -> 843961604606
A12: BOYACA | B12: 0 | C12: 2558879400 | D12: 802929966 | E12: 0 | F12: 0 | G12: 9400000000 | H12: =SUM(B12:G12) -> 12761809366 | I12: centro oriente
A13: CALDAS | B13: 0 | C13: 1610994000 | D13: 673572506 | E13: 12460000000 | F13: 24000000000 | G13: 2398000000 | H13: =SUM(B13:G13) -> 41142566506 | I13: Eje cafetero
A14: CAQUETA | B14: 0 | C14: 909955200 | D14: 817255906 | E14: 0 | F14: 0 | G14: 500000000 | H14: =SUM(B14:G14) -> 2227211106 | I14: llano
A15: CASANARE | B15: 0 | C15: 932269800 | D15: 852715906 | E15: 0 | F15: 0 | G15: 0 | H15: =SUM(B15:G15) -> 1784985706 | I15: llano
A16: CAUCA | B16: 0 | C16: 2530928400 | D16: 1078688906 | E16: 0 | F16: 0 | G16: 21800000000 | H16: =SUM(B16:G16) -> 25409617306 | I16: pacifico
A17: CESAR | B17: 0 | C17: 1121181600 | D17: 799230106 | E17: 0 | F17: 0 | G17: 8200000000 | H17: =SUM(B17:G17) -> 10120411706 | I17: caribe
A18: CHOCO | B18: 0 | C18: 2286761400 | D18: 1178835706 | E18: 0 | F18: 0 | G18: 15260000000 | H18: =SUM(B18:G18) -> 18725597106 | I18: pacifico
A19: CORDOBA | B19: 0 | C19: 1467034800 | D19: 629752706 | E19: 0 | F19: 0 | G19: 8600000000 | H19: =SUM(B19:G19) -> 10696787506 | I19: caribe
A20: CUNDINAMARC A | B20: 0 | C20: 2977590000 | D20: 678079706 | E20: 0 | F20: 0 | G20: 8300000000 | H20: =SUM(B20:G20) -> 11955669706 | I20: centro oriente
A21: GUAINIA | B21: 0 | C21: 458766000 | D21: 651757106 | E21: 0 | F21: 0 | G21: 0 | H21: =SUM(B21:G21) -> 1110523106 | I21: llano
A22: GUAJIRA | B22: 0 | C22: 948024000 | D22: 655057106 | E22: 0 | F22: 0 | G22: 5300000000 | H22: =SUM(B22:G22) -> 6903081106 | I22: caribe
A23: GUAVIARE | B23: 0 | C23: 412797000 | D23: 765377306 | E23: 0 | F23: 0 | G23: 0 | H23: =SUM(B23:G23) -> 1178174306 | I23: llano
... A37: VAUPES | B37: 0 | C37: 546222600 | D37: 663901106 | E37: 0 | F37: 0 | G37: 0 | H37: =SUM(B37:G37) -> 1210123706 | I37: llano
A38: VICHADA | B38: 0 | C38: 443011800 | D38: 701161106 | F38: 0 | G38: 0 | H38: =SUM(B38:G38) -> 1144172906 | I38: llano
A39: Totales | B39: =SUM(B5:B38) -> 254961604606 | C39: =SUM(C5:C38) -> 88000000000 | D39: =SUM(D5:D38) -> 54000000000 | E39: =SUM(E5:E38) -> 87000000000 | F39: =SUM(F5:F38) -> 80000000000 | G39: =SUM(G5:G38) -> 280000000000 | H39: =SUM(H5:H38) -> 843961604606 | I39: =SUM(B39:G39) -> 843961604606

Sheet 2021011000262
A1: Modelo de Regionalizacion 2021011000262 Desarrollo al deporte olímpico, paralimpico de posicionamiento
A2: FICHA EBI SISTEMA UNIFICADO DE INVERSIONES Y FINANZAS PUBLICAS - SUIFP Código Bpin: 2018011000022 Nombre del Proyecto: APOYO A LA INFRAESTRUCTURA DEPORTIVA, RECREATIVA Y DE LA ACTIVIDAD FÍSICA A NIVEL NACIONAL
B3: Vigente 2023
A4: Departamento | B4: Nación | C4: Propios | D4: Otras Fuentes | E4: Regionalizacion | F4: Por regionalizar | G4: =B5 -> 254961604606
A5: POR REGIONALIZAR | B5: 254961604606 | C5: 0 | D5: 0 | E5: Por regionalizar | F5: Eje cafetero | G5: 0
A6: ANTIOQUIA | B6: 0 | C6: 0 | D6: 0 | E6: Eje cafetero | F6: LLano | G6: 0
A7: ARAUCA | B7: 0 | E7: llano | F7: Caribe | G7: 0
A8: ATLANTICO | C8: 0 | D8: 0 | E8: caribe | F8: Centro oriente | G8: =+B9 -> 0
A9: BOGOTA | B9: 0 | C9: 0 | D9: 0 | E9: centro oriente | F9: Pacifico | G9: 0
A10: BOLIVAR | B10: 0 | C10: 0 | D10: 0 | E10: caribe | F10: Centro sur | G10: 0
A11: BOYACA | B11: 0 | C11: 0 | D11: 0 | E11: centro oriente | F11: Total | G11: =SUM(G4:G10) -> 254961604606
A12: CALDAS | B12: 0 | C12: 0 | D12: 0 | E12: Eje cafetero
A13: CAQUETA | B13: 0 | C13: 0 | D13: 0 | E13: llano
A14: CASANARE | B14: 0 | C14: 0 | D14: 0 | E14: llano
A15: CAUCA | B15: 0 | C15: 0 | D15: 0 | E15: pacifico
A16: CESAR | B16: 0 | C16: 0 | D16: 0 | E16: caribe
A17: CHOCO | B17: 0 | C17: 0 | D17: 0 | E17: pacifico
A18: CORDOBA | B18: 0 | C18: 0 | D18: 0 | E18: caribe
A19: CUNDINAMARC A | B19: 0 | C19: 0 | D19: 0 | E19: centro oriente
A20: GUAINIA | B20: 0 | C20: 0 | D20: 0 | E20: llano
A21: GUAJIRA | B21: 0 | C21: 0 | D21: 0 | E21: caribe
A22: GUAVIARE | B22: 0 | C22: 0 | D22: 0 | E22: llano
A23: HUILA | B23: 0 | C23: 0 | D23: 0 | E23: centro sur
... A27: NORTE DE SANTANDER | B27: 0 | C27: 0 | D27: 0 | E27: centro oriente
A28: QUINDIO | B28: 0 | E28: Eje cafetero
A29: RISARALDA | B29: 0 | C29: 0 | D29: 0 | E29: Eje cafetero
A30: SAN ANDRES Y PROVIDENCIA | B30: 0 | C30: 0 | D30: 0 | E30: caribe
A31: SANTANDER | B31: 0 | C31: 0 | D31: 0 | E31: centro oriente
A32: SUCRE | B32: 0 | C32: 0 | D32: 0 | E32: caribe
A33: TOLIMA | B33: 0 | C33: 0 | D33: 0 | E33: centro sur
A34: VALLE | B34: 0 | C34: 0 | D34: 0 | E34: pacifico
A35: VAUPES | B35: 0 | C35: 0 | D35: 0 | E35: llano
A36: VICHADA | B36: 0 | C36: 0 | D36: 0 | E36: llano
A37: Total | B37: =SUM(B5:B36) -> 254961604606 | C37: 0 | D37: 0

Sheet 2021011000250
A1: Modelo de Regionalizacion 2021011000250 Fortalecimiento del deporte y la educación física de los niños, adolescentes
A2: FICHA EBI SISTEMA UNIFICADO DE INVERSIONES Y FINANZAS PUBLICAS - SUIFP Código Bpin: 2018011000022 Nombre del Proyecto: APOYO A LA INFRAESTRUCTURA DEPORTIVA, RECREATIVA Y DE LA ACTIVIDAD FÍSICA A NIVEL NACIONAL
B3: Vigente 2023
A4: Departamento | B4: Nación | C4: Propios | D4: Otras Fuentes | E4: Regionalizacion | F4: Por regionalizar | G4: =+B5 -> 850000000
A5: POR REGIONALIZAR | B5: 850000000 | C5: 0 | D5: 0 | E5: Por regionalizar | F5: Eje cafetero | G5: =+B7+B13+B30+B31 -> 6224664600
A6: AMAZONAS | B6: 601339199 | C6: 0 | D6: 0 | E6: 0 | F6: LLano | G6: =+B8+B14+B15+B21+B23+B26+B37+B38 -> 5431872600
A7: ANTIOQUIA | B7: 3123859200 | C7: 0 | D7: 0 | E7: Eje cafetero | F7: Caribe | G7: =+B9+B11+B17+B19+B22+B25+B32+B34 -> 9007285238
A8: ARAUCA | B8: 569830800 | E8: llano | F8: Centro oriente | G8: =+B10+B12+B20+B28+B33 -> 53965607963
A9: ATLANTICO | B9: 1048278000 | C9: 0 | D9: 0 | E9: caribe | F9: Pacifico | G9: =+B16+B18+B27+B36 -> 8406321000
A10: BOGOTA | B10: 44036442563 | C10: 0 | D10: 0 | E10: centro oriente | F10: Centro sur | G10: =+B29+B6+B35+B24 -> 4114248599
A11: BOLIVAR | B11: 1828965600 | C11: 0 | D11: 0 | E11: caribe | F11: Total | G11: =SUM(G4:G10) -> 88000000000
A12: BOYACA | B12: 2558879400 | C12: 0 | D12: 0 | E12: centro oriente
A13: CALDAS | B13: 1610994000 | C13: 0 | D13: 0 | E13: Eje cafetero
A14: CAQUETA | B14: 909955200 | C14: 0 | D14: 0 | E14: llano
A15: CASANARE | B15: 932269800 | C15: 0 | D15: 0 | E15: llano
A16: CAUCA | B16: 2530928400 | C16: 0 | D16: 0 | E16: pacifico
A17: CESAR | B17: 1121181600 | C17: 0 | D17: 0 | E17: caribe
A18: CHOCO | B18: 2286761400 | C18: 0 | D18: 0 | E18: pacifico
A19: CORDOBA | B19: 1467034800 | C19: 0 | D19: 0 | E19: caribe
A20: CUNDINAMARC A | B20: 2977590000 | C20: 0 | D20: 0 | E20: centro oriente
A21: GUAINIA | B21: 458766000 | C21: 0 | D21: 0 | E21: llano
A22: GUAJIRA | B22: 948024000 | C22: 0 | D22: 0 | E22: caribe
A23: GUAVIARE | B23: 412797000 | C23: 0 | D23: 0 | E23: llano
... A28: NORTE DE SANTANDER | B28: 1610070000 | C28: 0 | D28: 0 | E28: centro oriente
A29: PUTUMAYO | B29: 1117254600
A30: QUINDIO | B30: 704688600 | E30: Eje cafetero
A31: RISARALDA | B31: 785122800 | C31: 0 | D31: 0 | E31: Eje cafetero
A32: SAN ANDRES Y PROVIDENCIA | B32: 363912038 | C32: 0 | D32: 0 | E32: caribe
A33: SANTANDER | B33: 2782626000 | C33: 0 | D33: 0 | E33: centro oriente
A34: SUCRE | B34: 1052620800 | C34: 0 | D34: 0 | E34: caribe
A35: TOLIMA | B35: 1369645200 | C35: 0 | D35: 0 | E35: centro sur
A36: VALLE | B36: 1573803000 | C36: 0 | D36: 0 | E36: pacifico
A37: VAUPES | B37: 546222600 | C37: 0 | D37: 0 | E37: llano
A38: VICHADA | B38: 443011800 | C38: 0 | D38: 0 | E38: llano
A39: Total | B39: =SUM(B5:B38) -> 88000000000 | C39: 0 | D39: 0

Sheet 2021011000248
A1: Modelo de Regionalizacion 2021011000248 Fortalecimiento fomento y promoción de practica deportiva
A2: FICHA EBI SISTEMA UNIFICADO DE INVERSIONES Y FINANZAS PUBLICAS - SUIFP Código Bpin: 2018011000022 Nombre del Proyecto: APOYO A LA INFRAESTRUCTURA DEPORTIVA, RECREATIVA Y DE LA ACTIVIDAD FÍSICA A NIVEL NACIONAL
B3: Vigente 2023
A4: Departamento | B4: Nación | C4: Propios | D4: Otras Fuentes | E4: Regionalizacion
A5: POR REGIONALIZAR | B5: 23215113175 | C5: 0 | D5: 0 | E5: 0
A6: AMAZONAS | B6: 686689796 | C6: 0 | D6: 0 | E6: 0 | F6: POR REGIONALIZAR | G6: =+B5 -> 23215113175
A7: ANTIOQUIA | B7: 629705306 | C7: 0 | D7: 0 | E7: Eje cafetero | F7: Eje cafetero | G7: =+B7+B30+B31+B13 -> 3172845824
A8: ARAUCA | B8: 925087106 | E8: llano | F8: LLano | G8: =+B8+B14+B15+B21+B23+B26+B37+B38 -> 6296727848
A9: ATLANTICO | B9: 764486906 | C9: 0 | D9: 0 | E9: caribe | F9: Caribe | G9: =+B9+B11+B17+B19+B22+B25+B32+B34 -> 5969263839
A10: BOGOTA | B10: 4139346292 | C10: 0 | D10: 0 | E10: centro oriente | F10: Centro oriente | G10: =+B10+B12+B20+B28+B33 -> 7632375376
A11: BOLIVAR | B11: 1206143306 | C11: 0 | D11: 0 | E11: caribe | F11: Pacifico | G11: =+B16+B18+B27+B36 -> 4454224024
A12: BOYACA | B12: 802929966 | C12: 0 | D12: 0 | E12: centro oriente | F12: Centro sur | G12: =+B24+B6+B29+B35 -> 3259449914
A13: CALDAS | B13: 673572506 | C13: 0 | D13: 0 | E13: Eje cafetero | G13: =SUM(G6:G12) -> 54000000000
A14: CAQUETA | B14: 817255906 | E14: llano
A15: CASANARE | B15: 852715906 | C15: 0 | D15: 0 | E15: llano
A16: CAUCA | B16: 1078688906 | C16: 0 | D16: 0 | E16: pacifico
A17: CESAR | B17: 799230106 | C17: 0 | D17: 0 | E17: caribe
A18: CHOCO | B18: 1178835706 | C18: 0 | D18: 0 | E18: pacifico
A19: CORDOBA | B19: 629752706 | C19: 0 | D19: 0 | E19: caribe
A20: CUNDINAMARC A | B20: 678079706 | C20: 0 | D20: 0 | E20: centro oriente
A21: GUAINIA | B21: 651757106 | E21: llano
A22: GUAJIRA | B22: 655057106 | C22: 0 | D22: 0 | E22: caribe
A23: GUAVIARE | B23: 765377306 | C23: 0 | D23: 0 | E23: llano
A24: HUILA | B24: 740830706 | C24: 0 | D24: 0 | E24: centro sur
A25: MAGDALENA | B25: 668452706 | C25: 0 | D25: 0 | E25: caribe
A26: META | B26: 919472306 | C26: 0 | D26: 0 | E26: llano
A27: NARIÑO | B27: 1358362106 | C27: 0 | D27: 0 | E27: pacifico
A28: NORTE DE SANTANDER | B28: 1149115706 | C28: 0 | D28: 0 | E28: centro oriente
A29: PUTUMAYO | B29: 854665106
A30: QUINDIO | B30: 983396906 | E30: Eje cafetero
A31: RISARALDA | B31: 886171106 | C31: 0 | D31: 0 | E31: Eje cafetero
A32: SAN ANDRES Y PROVIDENCIA | B32: 405541106 | C32: 0 | D32: 0 | E32: caribe
A33: SANTANDER | B33: 862903706 | C33: 0 | D33: 0 | E33: centro oriente
A34: SUCRE | B34: 840599897 | C34: 0 | D34: 0 | E34: caribe
A35: TOLIMA | B35: 977264306 | C35: 0 | D35: 0 | E35: centro sur
A36: VALLE | B36: 838337306 | C36: 0 | D36: 0 | E36: pacifico
A37: VAUPES | B37: 663901106 | C37: 0 | D37: 0 | E37: llano
A38: VICHADA | B38: 701161106 | E38: llano
A39: Total | B39: =SUM(B5:B38) -> 54000000000 | C39: 0 | D39: 0

Sheet 2018011000214
A1: Modelo de Regionalizacion 2018011000214 Apoyo a la organización de eventos deportivos
A2: FICHA EBI SISTEMA UNIFICADO DE INVERSIONES Y FINANZAS PUBLICAS - SUIFP Código Bpin: 2018011000022 Nombre del Proyecto: APOYO A LA INFRAESTRUCTURA DEPORTIVA, RECREATIVA Y DE LA ACTIVIDAD FÍSICA A NIVEL NACIONAL
B3: Vigente 2023
A4: Departamento | B4: Nación | C4: Propios | D4: Otras Fuentes | E4: Regionalizacion | F4: POR REGIONALIZAR | G4: 17400000000
A5: POR REGIONALIZAR | B5: 17400000000 | C5: 0 | D5: 0 | E5: Eje cafetero | F5: Eje cafetero | G5: =SUM(B11+B27+B28) -> 37380000000
A6: ARAUCA | B6: 0 | E6: llano | F6: LLano | G6: 0
A7: BARRANQUILLA ATLANTICO | B7: 12500000000 | C7: 0 | D7: 0 | E7: caribe | F7: Caribe | G7: =SUM(B7+B9+B23) -> 25600000000
A8: BOGOTA | B8: 6000000000 | C8: 0 | D8: 0 | E8: centro oriente | F8: Centro oriente | G8: =SUM(B8) -> 6000000000
A9: BOLIVAR | B9: 0 | C9: 0 | D9: 0 | E9: caribe | F9: Pacifico | G9: =SUM(B33) -> 620000000
A10: BOYACA | B10: 0 | C10: 0 | D10: 0 | E10: centro oriente | F10: Centro sur | G10: 0
A11: CALDAS | B11: 12460000000 | C11: 0 | D11: 0 | E11: Eje cafetero | G11: =SUM(G4:G10) -> 87000000000
A12: CAQUETA | B12: 0 | E12: llano
A13: CASANARE | B13: 0 | C13: 0 | D13: 0 | E13: llano
A14: CAUCA | B14: 0 | C14: 0 | D14: 0 | E14: pacifico
A15: CESAR | B15: 0 | C15: 0 | D15: 0 | E15: caribe
A16: CHOCO | B16: 0 | C16: 0 | D16: 0 | E16: pacifico
A17: CORDOBA | B17: 0 | C17: 0 | D17: 0 | E17: caribe
A18: CUNDINAMARC A | B18: 0 | C18: 0 | D18: 0 | E18: centro oriente
A19: GUAINIA | B19: 0 | E19: llano
A20: GUAJIRA | B20: 0 | C20: 0 | D20: 0 | E20: caribe
A21: GUAVIARE | B21: 0 | C21: 0 | D21: 0 | E21: llano
A22: HUILA | B22: 0 | C22: 0 | D22: 0 | E22: centro sur
A23: MAGDALENA | B23: 13100000000 | C23: 0 | D23: 0 | E23: caribe
A24: META | B24: 0 | C24: 0 | D24: 0 | E24: llano
A25: NARIÑO | B25: 0 | C25: 0 | D25: 0 | E25: pacifico
A26: NORTE DE SANTANDER | B26: 0 | C26: 0 | D26: 0 | E26: centro oriente
A27: QUINDIO | B27: 12460000000 | E27: Eje cafetero
A28: RISARALDA | B28: 12460000000 | C28: 0 | D28: 0 | E28: Eje cafetero
A29: SAN ANDRES Y PROVIDENCIA | B29: 0 | C29: 0 | D29: 0 | E29: caribe
A30: SANTANDER | B30: 0 | C30: 0 | D30: 0 | E30: centro oriente
A31: SUCRE | B31: 0 | C31: 0 | D31: 0 | E31: caribe
A32: TOLIMA | B32: 0 | C32: 0 | D32: 0 | E32: centro sur
A33: VALLE | B33: 620000000 | C33: 0 | D33: 0 | E33: pacifico
A34: VAUPES | B34: 0 | C34: 0 | D34: 0 | E34: llano
A35: VICHADA | E35: llano
A36: Total | B36: =SUM(B5:B35) -> 87000000000 | C36: 0 | D36: 0

Sheet 2018011000178
A1: Modelo de Regionalizacion 2018011000178 Apoyo a la infraestructura de alta competencia a nivel nacional
A2: FICHA EBI SISTEMA UNIFICADO DE INVERSIONES Y FINANZAS PUBLICAS - SUIFP Código Bpin: 2018011000022 Nombre del Proyecto: APOYO A LA INFRAESTRUCTURA DEPORTIVA, RECREATIVA Y DE LA ACTIVIDAD FÍSICA A NIVEL NACIONAL
B3: Vigente 2023
A4: Departamento | B4: Nación | C4: Propios | D4: Otras Fuentes | E4: Regionalizacion | F4: Por regionalizar | G4: =+B5 -> 4000000000
A5: POR REGIONALIZAR | B5: 4000000000 | C5: 0 | D5: 0 | E5: Por regionalizar | F5: Eje cafetero | G5: =+B12+B28+B29 -> 66000000000
A6: ANTIOQUIA | B6: 0 | C6: 0 | D6: 0 | E6: Eje cafetero | F6: LLano | G6: 0
A7: ARAUCA | B7: 0 | E7: llano | F7: Caribe | G7: 0
A8: ATLANTICO | C8: 0 | D8: 0 | E8: caribe | F8: Centro oriente | G8: =+B9 -> 10000000000
A9: BOGOTA | B9: 10000000000 | C9: 0 | D9: 0 | E9: centro oriente | F9: Pacifico | G9: 0
A10: BOLIVAR | B10: 0 | C10: 0 | D10: 0 | E10: caribe | F10: Centro sur | G10: 0
A11: BOYACA | B11: 0 | C11: 0 | D11: 0 | E11: centro oriente | F11: Total | G11: =SUM(G4:G10) -> 80000000000
A12: CALDAS | B12: 24000000000 | C12: 0 | D12: 0 | E12: Eje cafetero
A13: CAQUETA | B13: 0 | C13: 0 | D13: 0 | E13: llano
A14: CASANARE | B14: 0 | C14: 0 | D14: 0 | E14: llano
A15: CAUCA | B15: 0 | C15: 0 | D15: 0 | E15: pacifico
A16: CESAR | B16: 0 | C16: 0 | D16: 0 | E16: caribe
A17: CHOCO | B17: 0 | C17: 0 | D17: 0 | E17: pacifico
A18: CORDOBA | B18: 0 | C18: 0 | D18: 0 | E18: caribe
A19: CUNDINAMARC A | B19: 0 | C19: 0 | D19: 0 | E19: centro oriente
A20: GUAINIA | B20: 0 | C20: 0 | D20: 0 | E20: llano
A21: GUAJIRA | B21: 0 | C21: 0 | D21: 0 | E21: caribe
A22: GUAVIARE | B22: 0 | C22: 0 | D22: 0 | E22: llano
A23: HUILA | B23: 0 | C23: 0 | D23: 0 | E23: centro sur
... A27: NORTE DE SANTANDER | B27: 0 | C27: 0 | D27: 0 | E27: centro oriente
A28: QUINDIO | B28: 21000000000 | E28: Eje cafetero
A29: RISARALDA | B29: 21000000000 | C29: 0 | D29: 0 | E29: Eje cafetero
A30: SAN ANDRES Y PROVIDENCIA | B30: 0 | C30: 0 | D30: 0 | E30: caribe
A31: SANTANDER | B31: 0 | C31: 0 | D31: 0 | E31: centro oriente
A32: SUCRE | B32: 0 | C32: 0 | D32: 0 | E32: caribe
A33: TOLIMA | B33: 0 | C33: 0 | D33: 0 | E33: centro sur
A34: VALLE | B34: 0 | C34: 0 | D34: 0 | E34: pacifico
A35: VAUPES | B35: 0 | C35: 0 | D35: 0 | E35: llano
A36: VICHADA | B36: 0 | C36: 0 | D36: 0 | E36: llano
A37: Total | B37: =SUM(B5:B36) -> 80000000000 | C37: 0 | D37: 0

Sheet 2018011000022
A1: Modelo de Regionalizacion 2018011000022 Apoyo a la infraestructura deportiva, recreativa y actividad física
A2: FICHA EBI SISTEMA UNIFICADO DE INVERSIONES Y FINANZAS PUBLICAS - SUIFP Código Bpin: 2018011000022 Nombre del Proyecto: APOYO A LA INFRAESTRUCTURA DEPORTIVA, RECREATIVA Y DE LA ACTIVIDAD FÍSICA A NIVEL NACIONAL
B3: Vigente 2023
A4: Departamento | B4: Nación | C4: Propios | D4: Otras Fuentes | E4: Regionalizacion
A5: POR REGIONALIZAR | B5: 7400000000 | C5: 0 | D5: 0 | E5: 0 | F5: POR REGIONALIZAR | G5: =+B5 -> 7400000000
A6: ANTIOQUIA | B6: 27000000000 | C6: 0 | D6: 0 | E6: Eje cafetero | F6: Eje cafetero | G6: =+B12+B29+B30+B6 -> 41628000000
A7: ARAUCA | B7: 0 | E7: llano | F7: LLano | G7: =+B13+B25 -> 7150000000
A8: ATLANTICO | B8: 6700000000 | C8: 0 | D8: 0 | E8: caribe | F8: Caribe | G8: =+B8+B10+B16+B18+B21+B24+B33 -> 60700000000
A9: BOGOTA | B9: 23792000000 | C9: 0 | D9: 0 | E9: centro oriente | F9: Centro oriente | G9: =+B9+B11+B19+B27+B32 -> 49542000000
A10: BOLIVAR | B10: 500000000 | C10: 0 | D10: 0 | E10: caribe | F10: Pacifico | G10: =+B15+B17+B26+B35 -> 108380000000
A11: BOYACA | B11: 9400000000 | C11: 0 | D11: 0 | E11: centro oriente | F11: Centro sur | G11: =+B28+B34+B23 -> 5200000000
A12: CALDAS | B12: 2398000000 | C12: 0 | D12: 0 | E12: Eje cafetero | G12: =SUM(G5:G11) -> 280000000000
A13: CAQUETA | B13: 500000000 | C13: 0 | D13: 0 | E13: llano
A14: CASANARE | B14: 0 | C14: 0 | D14: 0 | E14: llano
A15: CAUCA | B15: 21800000000 | C15: 0 | D15: 0 | E15: pacifico
A16: CESAR | B16: 8200000000 | C16: 0 | D16: 0 | E16: caribe
A17: CHOCO | B17: 15260000000 | C17: 0 | D17: 0 | E17: pacifico
A18: CORDOBA | B18: 8600000000 | C18: 0 | D18: 0 | E18: caribe
A19: CUNDINAMARC A | B19: 8300000000 | C19: 0 | D19: 0 | E19: centro oriente
A20: GUAINIA | B20: 0 | C20: 0 | D20: 0 | E20: llano
A21: GUAJIRA | B21: 5300000000 | C21: 0 | D21: 0 | E21: caribe
A22: GUAVIARE | B22: 0 | C22: 0 | D22: 0 | E22: llano
A23: HUILA | B23: 500000000 | C23: 0 | D23: 0 | E23: centro sur
A24: MAGDALENA | B24: 23000000000 | C24: 0 | D24: 0 | E24: caribe
... A27: NORTE DE SANTANDER | B27: 4050000000 | C27: 0 | D27: 0 | E27: centro oriente
A28: PUTUMAYO | B28: 4200000000
A29: QUINDIO | B29: 3430000000 | E29: Eje cafetero
A30: RISARALDA | B30: 8800000000 | C30: 0 | D30: 0 | E30: Eje cafetero
A31: SAN ANDRES Y PROVIDENCIA | B31: 0 | C31: 0 | D31: 0 | E31: caribe
A32: SANTANDER | B32: 4000000000 | C32: 0 | D32: 0 | E32: centro oriente
A33: SUCRE | B33: 8400000000 | C33: 0 | D33: 0 | E33: caribe
A34: TOLIMA | B34: 500000000 | C34: 0 | D34: 0 | E34: centro sur
A35: VALLE | B35: 45000000000 | C35: 0 | D35: 0 | E35: pacifico
A36: VAUPES | B36: 0 | C36: 0 | D36: 0 | E36: llano
A37: VICHADA | B37: 0 | E37: llano
A38: Total | B38: =SUM(B5:B37) -> 280000000000 | C38: 0 | D38: 0
