Workbook
Name Acreditar_y_mantener_la_certificación_del_del_laboratorio_antidopaje_y__sus_procesos_conforme_a_los_requisitos__establecidos_por_los_organismos_internacionales: varios!$F$51
Name AREA: Organigrama!$A$3:$A$13
Name Aumentar_el_número_de_deportistas__con_talento_deportivo_identificados_con_proyección_de_alto_rendimiento: varios!$F$49:$F$50
Name Consolidar_la_estratégia_de_gestión_de_la_información_del_sector_deporte_que_contribuya_a_la_toma_de_decisiones: varios!$F$39
Name Despacho_del_Ministerio: Organigrama!$C$2:$C$3
Name Despacho_del_Ministro: varios!$I$4:$I$5
Name Despacho_del_Viceministerio: Organigrama!$B$4
Name Dirección_de_Fomento_y_Desarrollo: varios!$I$21:$I$24
Name Dirección_de_Fomento_y_Desarrollo: Organigrama!$C$25:$C$28
Name Dirección_de_Inspección__Vigilancia_y_Control: varios!$I$18:$I$20
Name Dirección_de_Inspección_Vigilancia_y_Control: Organigrama!$C$29:$C$31
Name Dirección_de_Posicionalmiento_y_Liderazgo: varios!$I$12:$I$17
Name Dirección_de_PosicIonamiento_y_Liderazgo_Deportivo: Organigrama!$C$19:$C$24
Name Dirección_de_Recursos_y_Herramientas_del_Sistema: varios!$I$25:$I$27
Name Dirección_de_Recursos_y_herramientas_del_SND: Organigrama!$C$32:$C$34
Name Ejercer_inspeccion__vigilancia_y_control_sobre_las_entidades__personas_y_los_organismos_deportivos_y_demás_entidades_que_conforman_el_Sistema_nacional_del_Deporte: varios!$F$38
Name Elaborar_propuestas_de_mejora_normativa_fomentando_la_articulación_y_cumplimiento_de_los_objetivos_del_Sistema_Nacional_del_Deporte: varios!$F$35
Name Fortalecer_las_capacidades_institucionales_y_de_gestión_de_los_actores_del_SND_para_el_cumplimiento_de_los_objetivos_del_sector.: varios!$F$36:$F$37
Name Fortalecer_y_socializar_los_lineamientos_de_política_pública_en_altos_logros_al_SND_y_organización_de_eventos_deportivos_así_como_el_apoyo_integral_a_los_atletas: varios!$F$47:$F$48
Name Garantizar_la_infraestructura_recreodeportiva_para_el_desarrollo_de_los_programas_de_deporte__recreación__actividad_física_y_aprovechamiento_del_tiempo_libre: varios!$F$46
Name Implementar_un_modelo_de_gestión_pública_efectivo_orientado_a_resultados_y_a_la_satisfacción_de_los_grupos_de_valor: varios!$F$41:$F$43
Name Incrementar_programas_que_promuevan_la_practica_del_deporte_la_recreación_y_la_actividad_fisica_y_fomente_los_estilos_de_vida_saludables: varios!$F$44:$F$45
Name INDICADOR_PND: 'Objetivos PND'!$D$2:$D$9
Name Objetivo_Estrategico_PEI: PEI!$A$2:$A$15
Name OBJETIVO_PND: 'Objetivos PND'!$A$2:$A$23
Name OBJETIVOS_PND: [1]Hoja1!$C$263:$C$266
Name Oficina_Asesora_de_Planeación: varios!$I$7:$I$9
Name Oficina_Asesora_de_Planeación: Organigrama!$C$6:$C$9
Name Oficina_Asesora_Juridica: Organigrama!$B$5
Name Oficina_de_Control_Interno_Disciplinario: Organigrama!$B$10
Name Orientar__desarrollar_y_coordinar_el_Programa_Nacional_Antidopaje_en_cumplimiento_de_la_normatividad_nacional_e_internacional.: varios!$F$40
Name Porcentaje_de_cumplimiento_de_la_implementación_del_Plan_Estratégico_de_Formación_de_Mindeporte: varios!$G$36
Name PROCESO: varios!$B$3:$B$18
Name Propuestas_de_ajuste_normativo_realizadas: varios!$G$35
Name PROYECTOS_DE_INVERSION: 'Metas PND'!$A$2:$A$15
Name RUBRO: [1]Hoja1!$B$137:$B$154
Name Secretaria_General: varios!$I$28:$I$34
Name Secretaria_General: Organigrama!$C$11:$C$18
Name TIPO_DE_ACUMULACION: varios!#REF!
Name TIPO_DE_INDICADOR: varios!#REF!

Sheet Instrucciones
E1: PROCESO: | I1: Versión: 3
E2: DIRECCIONAMIENTO ESTRATEGICO Y APRENDIZAJE ORGANIZACIONAL | I2: CÓDIGO:
I3: DE-FR-024
E4: FORMATO:
E5: FORMULACIÓN PLAN DE ACCIÓN INSTITUCIONAL | I5: FECHA:
I6: 45251
D9: La OAP, presenta el Formato de Formulación Plan De Acción Institucional-PAI, con el fin de Implementar un instrumento de formulación, seguimiento y control a la programación anual. El Plan de Acción institucional - PAI, es un instrumento de programación anual que permite establecer actividades y desagregar metas de la entidad, desarrolladas por cada dependencia, articulando sus procesos, políticas, planes estratégicos con los lineamientos con el Plan Nacional de Desarrollo -PND, Plan Estratégico Institucional y demás políticas del sector, la plataforma estratégica institucional (misión, visión, objetivos estratégicos, valores institucionales) y las funciones del Ministerio. En el Plan de Acción se definen los productos, actividades y metas que se realizarán en cada vigencia con sus correspondientes indicadores, teniendo en cuenta los recursos disponibles (humanos, financieros, físicos, tecnológicos).
D16: INSTRUCCIONES PARA EL DILIGENCIAMIENTO DEL FORMATO.
D17: I. IDENTIFICACIÓN GENERAL DEL PLAN DE ACCIÓN. (GENERAL)
D18: 1 | E18: Escriba la vigencia del plan de acción
D19: 2 | E19: Seleccione la dependencia a la cual hace parte el plan de acción institucional
D20: 2.1 | E20: Seleccione la dependencia responsable de ejecutar el PAI
D21: 3 | E21: Selecciones el Proyecto de inversión al cual esta asociado el plan de acción de la vigencia actual.
D22: 3.1 | E22: Código del Rubro aparecen automático
D23: 3.2 | E23: Código BPIN aparecen automático
D24: 4 | E24: Información del objetivo del Plan Nacional de Desarrollo - PND 2022 - 2026 asociado al plan de acción y el proyecto de inversión. El plan de acción debe apuntar al logro de estos objetivos.
D25: 4.1 | E25: Identifique el indicador del PND que reporta en SINERGIA de acuerdo a las actividades de la dependencia.
D26: 4.2 | E26: Identifique la Meta del PND a la cual las actividades y productos del PAI aportarían para su cumplimiento.
D27: 4.3 | E27: identifique las transformaciones PND son: Las estrategias y políticas en materia económica, social y ambiental que guiarán la acción del Gobierno para alcanzar los objetivos y metas que se hayan definido; por lo anterior se debe seleccionar la transformación a la cual se aportara para el cumplimiento de la Meta PND seleccionada.
D28: 5.1 | E28: Identifique el objetivo especifico del PEI el cual tiene asociado el plan de acción
D29: 5.2 | E29: Identifique la meta del Plan Estrategico institucional el cual tiene asociado el plan de acción
D30: 5.3. | E30: Identificar los pilares del cual del tiene asociado el plan de acción
D31: 6 | E31: Nombre del Director responsable del Plan de Acción
D34: II. DEFINICIÓN DE PLAN DE ACCIÓN. (PAI)
D35: 7. | E35: Formule las actividades para la ejecución del plan de acción, teniendo encuenta los objetivos del PND, PEI, los diferentes compromisos establecidos.
D36: 7.1 | E36: Seleccione la línea estratégica acorde con el proyecto de inversión.
D37: 7.2 | E37: Seleccione el proyecto de inversión.
D38: 7.3 | E38: Diligencie el producto según el proyecto de inversión.
D39: 7.4 | E39: Registre la actividad según el proyecto de inversión.
D40: 7.5 | E40: Diligencie la subactividad, la cual corresponde a la actividad concreta del plan de acción.
D41: 7.6 | E41: Denominación del Producto: Diligencie el nombre que caracteriza al bien o servicio.
D42: 7.7 | E42: Indique la meta del producto: es la programación en tiempo y cantidad con respecto a la generación o provisión de un producto La definición de las metas debe realizarse teniendo en cuenta los recursos (presupuestales, humanos, tecnológicos, etc.) con los que cuenta la dependencia en la vigencia para llevar a cabo el cumplimiento del producto, ya sea en términos numéricos o porcentuales. Meta numérica: Corresponde con el número de veces que la Dependencia prestará el servicio durante la vigencia. Esta meta debe ser programada para el año, y se deberá distribuir mensual, bimensual, trimestral o semestralmente. Meta porcentual: corresponde con el porcentaje que se espera alcanzar en la prestación del servicio por demanda.
D43: 7.8 | E43: Entregable: A partir de la definición de los productos, cada dependencia formulará entregables
D44: 7.9 | E44: Responsable: hace referencia a la persona que tendrá bajo su responsabilidad un 100% de cumplimiento en la realización del entregable.
D45: 7.10 | E45: Origen de la Necesidad: se debe seleccionar el insumo que da origen a la actividad y/o producto de no encontrarse en la lista de despegable deberá seleccionar "otros" y en la celda de observaciones describir cual es.
D46: 7.11 | E46: Proceso: En esta casilla se debe incluir el proceso al cual apunte la actividad que se va a programar, para tal fin se debe revisar el Mapa de procesos del Ministerio.
... D51: 7.16 | E51: Fecha de final: indicar la fecha final de la actividad en el formato (DD/MM/AAAA)
D53: III.SEGUIMIENTO DEL PAI
D54: 8.1 | E54: Nombre del Indicador: Registré el nombre con el que se identifica el indicador de producto. Se debe formular únicamente indicadores de producto.
D55: 8.2 | E55: Fórmula de calculo: Especifique claramente la formula de calculo
...

Sheet GENERAL
E2: PROCESO: | I2: Versión: 3
E3: DIRECCIONAMIENTO ESTRATÉGICO Y APRENDIZAJE ORGANIZACIONAL | I3: CÓDIGO:
I4: DE-FR-024
E5: FORMATO:
E6: FORMULACIÓN PLAN DE ACCIÓN INSTITUCIONAL | I6: FECHA:
A8: I. IDENTIFICACIÓN GENERAL
B10: 1. VIGENCIA:
B12: 2. DEPENDENCIA:
B14: 3. PROYECTO DE INVERSIÓN | D14: FORTALECIMIENTO FOMENTO Y PROMOCIÓN DE LA PRÁCTICA DEPORTIVA, RECREATIVA Y DE ACTIVIDAD FÍSICA EN COLOMBIA | G14: 3.1. RUBRO: | H14: =INDEX(Presupuesto!A1:B14,MATCH(D14,Presupuesto!A1:A14,0),2) -> C-4301-1604-9 | I14: 3.2. BPIN | J14: =INDEX(Presupuesto!A2:C13,MATCH(D14,Presupuesto!A2:A13,0),3) -> 2021011000248
D15: DESARROLLO DE POLITICAS PUBLICAS E INVESTIGACION SECTORIAL A NIVEL NACIONAL | H15: =INDEX(Presupuesto!A2:B15,MATCH(D15,Presupuesto!A2:A15,0),2) -> C-4302-1604-20 | J15: =INDEX(Presupuesto!A3:C14,MATCH(D15,Presupuesto!A3:A14,0),3) -> 2018011000092
B17: 4.1. INDICADOR SINERGIA | G17: 5.1 OBJETIVO ESPECIFICO PLAN ESTRATEGICO INSTITUCIONAL | H17: =INDEX('Metas PND'!A:E,MATCH(D14,'Metas PND'!A:A,0),5) -> #N/A
B19: 4.2 META SINERGIA | G19: 5.2 META PEI
B21: 4.3 TRASFORMACIONES PND | D21: =+varios!S18 -> Seguridad humana y justicia social | G21: 5.3 PILARES
B25: 6. NOMBRE DEL DIRECTIVO RESPONSABLE DE LA FORMULACIÓN Y EJECUCIÓN DEL PLAN DE ACCIÓN
C27: II. DEFINICIÓN DE PLAN DE ACCIÓN.
B29: Elaboró | E29: Revisó | H29: Aprobó
B31: Nombre: | E31: Nombre: | H31: Nombre:
B32: Cargo: | E32: Cargo: | H32: Cargo:
B33: GIT: | E33: GIT: | H33: GIT:

Sheet PAI 2024
C1: PROCESO: DIRECCIONAMIENTO ESTRATÉGICO Y APRENDIZAJE ORGANIZACIONAL | D1: DIRECCIONAMIENTO ESTRATÉGICO Y APRENDIZAJE ORGANIZACIONAL | Y1: Versión | AA1: 3
C4: FORMATO: FORMULACIÓN PLAN DE ACCIÓN INSTITUCIONAL | D4: FORMULACIÓN PLAN DE ACCIÓN INSTITUCIONAL | Y4: Código | AA4: DE-FR-024
Y6: Fecha | AA6: 45251
A7: 7. Formule las actividades para la ejecución del plan de acción, teniendo en cuenta los siguiente:
T8: 8. INDICADOR DE CUMPLIMIENTO
A9: No. | B9: 7.1. LINEA ESTRATEGICA | C9: 7.2. NOMBRE DEL PROYECTO DE INVERSIÓN | D9: 7.3 PRODUCTO DEL PROYECTO | E9: 7.4 ACTIVIDAD | F9: 7.5. SUB-ACTIVIDAD | I9: 7.6. DENOMINACIÓN DEL PRODUCTO | J9: 7.7. META DE PRODUCTO | K9: 7.8. ENTREGABLE | L9: 7.9. RESPONSABLE DEL ENTREGABLE | M9: 7.10. ORIGEN DE LA NECESIDAD | N9: 7.11. PROCESO | O9: 7.12. POLITICA-MIPG | P9: 7.13. ARTICULACIÓN CON PLANES | Q9: 7.14. GRUPO INTERNO DE TRABAJO | R9: 7.15. FECHA DE INICIO (DD/MM/AAAA) | S9: 7.16. FECHA FINAL (DD/MM/AAAA) | T9: 8.1. NOMBRE INDICADOR | U9: 8.2. FÓRMULA DE CÁLCULO | V9: 8.3. DESCRIPCIÓN DEL INDICADOR | W9: 8.4. DESCRIPCIÓN DE EVIDENCIA DEL INDICADOR | X9: 8.5. TIPO DE ACUMULACIÓN | Y9: 8.6. UNIDAD DE MEDIDA | Z9: 8.7 LÍNEA BASE | AA9: 8.8. META DEL INDICADOR | AB9: 8. 9. PROGRAMACIÓN DE LA META
AB10: I TRIMESTRE | AC10: II TRIMESTRE | AD10: III TRIMESTRE | AE10: IV TRIMESTRE
A11: 1 | B11: Atletas y paratletas como embajadores de paz en el mundo | C11: DESARROLLO DEL DEPORTE OLIMPICO, PARALIMPICO Y NIVEL MUNDIAL PARA EL POSICIONAMIENTO Y LIDERAZGO DEPORTIVO 2021011000262 | D11: Servicio de identificación de talentos deportivos | E11: Detectar e identificar los potenciales talentos deportivos a través del Programa Escuela de Talentos | F11: Detectar e identificar los potenciales talentos deportivos a través del Programa Escuela de Talentos | I11: Deportistas valorados de la etapa enseñanza- aprendizaje | J11: 2400 | K11: Base de datos de los deportistas valorados en el programa Escuela de Talentos | L11: COORDINADOR GIT TALENTO Y RESERVA | M11: Plataforma estratégica (misión, visión y Objetivos) | N11: Altos Logros | O11: Planeación Institucional | P11: Plan Estratégico Sectorial | Q11: GIT Talento y Reserva Deportiva | R11: 45383 | S11: 45657 | T11: Deportistas valorados de la escuela de talentos. | U11: Sumatoria de Niños, Niñas, Jóvenes y Adolescentes valorados en el programa escuela de talentos | V11: El indicador mide el número de Niños, Niñas, Jóvenes y Adolescentes valorados en el programa escuela de talentos | W11: Base de datos de los deportistas valorados | X11: ACUMULADO | Y11: PERSONAS | Z11: 1700 | AA11: 2400 | AB11: 0 | AC11: 600 | AD11: 1800 | AE11: 0
A12: 2 | B12: Atletas y paratletas como embajadores de paz en el mundo | C12: APOYO EN EL DESARROLLO DE JUEGOS Y EVENTOS DEPORTIVOS DE RENDIMIENTO Y ALTO RENDIMIENTO EN COLOMBIA 2021011000263 | D12: Servicio de organización de eventos deportivos de alto rendimiento | E12: Apoyar financieramente la operación de juegos y eventos deportivos | F12: Realización de evento multideportivo | I12: Evento multideportivo planeado, organizado y realizado. | J12: 1 | K12: Evento multideportivo nacional realizado | L12: COORDINADOR GIT JUEGOS Y EVENTOS DEPORTIVOS | M12: Funciones de la dependencia y GIT | N12: Altos Logros | O12: Planeación Institucional | P12: Plan Estratégico Sectorial | Q12: GIT Juegos y Eventos Deportivos | R12: 45307 | S12: 45657 | T12: Atletas participantes en eventos deportivos y multideportivos de rendimiento y alto rendimiento. | U12: NÚMERO de atletas participantes en eventos internacionales que competirán en eventos multideportivos nacionales. Meta: 150 | V12: Cuantificar los atletas participantes en eventos deportivos de rendimiento y alto rendimiento, que competirán en los eventos multideportivos nacionales organizados y apoyados por el Ministerio del Deporte, como estrategia para el posicionamiento y liderazgo deportivo del país y su proyección como potencia deportiva a nivel continental. | W12: *Reporte de atletas participantes eventos deportivos internacionales. *Reporte de atletas participantes en evento multideportivo nacional. *Cuadros comparativos. | X12: ACUMULADO | Y12: PERSONAS | Z12: 0 | AA12: 150 | AB12: 0 | AC12: 0 | AD12: 0 | AE12: 150
A13: 3 | B13: Atletas y paratletas como embajadores de paz en el mundo | C13: APOYO EN EL DESARROLLO DE JUEGOS Y EVENTOS DEPORTIVOS DE RENDIMIENTO Y ALTO RENDIMIENTO EN COLOMBIA 2021011000263 | D13: Servicio de organización de eventos deportivos de alto rendimiento | E13: Apoyar financieramente la operación de juegos y eventos deportivos | F13: Realización de un evento multideportivo | I13: Evento multideportivo planeado, organizado y realizado. | J13: 1 | K13: Evento multideportivo nacional realizado | L13: COORDINADOR GIT JUEGOS Y EVENTOS DEPORTIVOS | M13: Funciones de la dependencia y GIT | N13: Altos Logros | O13: Planeación Institucional | P13: Plan Estratégico Sectorial | Q13: GIT Juegos y Eventos Deportivos | R13: 45307 | S13: 45657 | T13: Pruebas en evento multideportivo organizado en el país. | U13: (NÚMERO de pruebas realizadas / NÚMERO de pruebas programadas)*100 Meta: 75% | V13: Permite medir la CANTIDAD de pruebas que se hicieron en cada uno de los campeonatos del evento multideportivo I Juegos Deportivos Juveniles Nacionales y Paranacionales, realizados en el territorio nacional con los estándares mínimos requeridos a nivel internacional | W13: *Reporte de pruebas programadas por deporte. *Reporte de pruebas realizadas por deporte. | X13: FLUJO | Y13: PORCENTAJE | Z13: 0 | AA13: 0.75 | AB13: 0 | AC13: 0 | AD13: 0 | AE13: 0.75
A14: 3 | B14: Atletas y paratletas como embajadores de paz en el mundo | C14: APOYO EN EL DESARROLLO DE JUEGOS Y EVENTOS DEPORTIVOS DE RENDIMIENTO Y ALTO RENDIMIENTO EN COLOMBIA 2021011000263 | D14: Servicio de organización de eventos deportivos de alto rendimiento | E14: Apoyar financieramente la operación de juegos y eventos deportivos | F14: Realización de eventos deportivos o multideportivos apoyados financiera o técnicamente. | I14: Eventos deportivos o multideportivos apoyados financiera o técnicamente. | J14: 6 | K14: Eventos deportivos o multideportivos apoyados | L14: COORDINADOR GIT JUEGOS Y EVENTOS DEPORTIVOS | M14: Plataforma estratégica (misión, visión y Objetivos) | N14: Altos Logros | O14: Planeación Institucional | P14: Plan Estratégico Sectorial | Q14: GIT Juegos y Eventos Deportivos | R14: 45307 | S14: 45657 | T14: Compromisos adquiridos para apoyar fases como la planeación, organización o realización de eventos deportivos o multideportivos asignados al país. | U14: Sumatoria de compromisos cumplidos durante la vigencia.. | V14: Medir el cumplimiento de los compromisos adquiridos por el gobierno nacional a través del Ministerio del Deporte para apoyar la planeación u organización de eventos deportivos o multideportivos con los estándares exigidos por la organización internacional regente, como estrategia para la proyección del deporte a nivel internacional y que respondan a las necesidades del sector | W14: *Informes o reportes de los eventos. *Contratos suscritos | X14: FLUJO | Y14: NÚMERO | Z14: 0 | AA14: 6 | AB14: 2 | AC14: 0 | AD14: 2 | AE14: 2
A15: 4 | B15: Atletas y paratletas como embajadores de paz en el mundo | C15: APOYO EN EL DESARROLLO DE JUEGOS Y EVENTOS DEPORTIVOS DE RENDIMIENTO Y ALTO RENDIMIENTO EN COLOMBIA 2021011000263 | D15: Documentos de lineamientos técnicos | E15: Implementar criterios técnicos para la gestión y organizaicón de juegos y eventos deporivos nacionales e internacionales con sede en Colombia | F15: Construir, Formalizar y divulgar el documento de lineamientos tecnicos nacionales. | I15: Documento de lineamiento técnico nacional | J15: 1 | K15: Documento de Lineamiento Técnico para la Organización de Eventos Deportivos en Colombia. | L15: COORDINADOR GIT JUEGOS Y EVENTOS DEPORTIVOS | M15: Funciones de la dependencia y GIT | N15: Altos Logros | O15: Planeación Institucional | P15: Plan Estratégico Sectorial | Q15: GIT Juegos y Eventos Deportivos | R15: 45349 | S15: 45657 | T15: Avance del Documento de Lineamiento de Política Pública para la Organización de Eventos Deportivos en Colombia | U15: (Número de fases realizadas / Número de fases programadas) *100 Meta: 60% | V15: Este indicador mostrará el avance de las fases realizadas en la construcción del documento de Lineamiento Técnico. | W15: * Comunicados inicio proceso. * Documento evaluación propuestas. * Contrato suscrito *Informe de las actividades desarrolladas. *Documento Preliminar o borrador del Lineamiento Técnico. | X15: ACUMULADO | Y15: PORCENTAJE | Z15: 0 | AA15: 0.6 | AB15: 0 | AC15: 0.2 | AD15: 0.2 | AE15: 0.2
A16: 5 | B16: Atletas y paratletas como embajadores de paz en el mundo | C16: DESARROLLO DEL DEPORTE OLIMPICO, PARALIMPICO Y NIVEL MUNDIAL PARA EL POSICIONAMIENTO Y LIDERAZGO DEPORTIVO 2021011000262 | D16: SERVICIO DE APOYO FINANCIERO A ATLETAS | E16: Apoyar mediante estímulos a los atletas que hacen parte del programa institucional sector olimpico y paralimpico. | F16: Apoyar mediante estímulos a los atletas que hacen parte del programa institucional sector olimpico y paralimpico. | I16: Reconocimiento de estímulos a los atletas excelencia que hacen parte del programa institucional | J16: 500 | K16: Acto administrativo reconocimiento del estimulo (cumplimiento de requisitos) | L16: Coordiandor(a) GIT Desarrollo Psicosocial | M16: Plataforma estratégica (misión, visión y Objetivos) | N16: Altos Logros | O16: Planeación Institucional | P16: Plan Estratégico Sectorial | Q16: GIT Desarrollo Psicosocial | R16: 45292 | S16: 45657 | T16: Estimulo atletas | U16: (PORCENTAJE de Cumplimiento de Requisitos + tiempos optimos de Pago)/2 | V16: indicador de desempeño que proporciona una medida general de cumplimiento del programa, considerando tanto el cumplimiento de requisitos como la puntualidad en los pagos. | W16: Acto administrativos Tiempos de pago | X16: ACUMULADO | Y16: PORCENTAJE | Z16: 529 | AA16: 1 | AB16: 0.25 | AC16: 0.25 | AD16: 0.25 | AE16: 0.25
A17: 6 | B17: Atletas y paratletas como embajadores de paz en el mundo | C17: DESARROLLO DEL DEPORTE OLIMPICO, PARALIMPICO Y NIVEL MUNDIAL PARA EL POSICIONAMIENTO Y LIDERAZGO DEPORTIVO 2021011000262 | D17: SERVICIO DE APOYO FINANCIERO A ATLETAS | E17: Apoyar mediante incentivos la obtención de medallas en los eventos del sector olimpico y paralimpico | F17: Apoyar mediante incentivos la obtención de medallas en los eventos del sector olimpico y paralimpico | I17: Desembolso de incentivo a medallistas paralimpicos y nivel mundial | J17: 300 | K17: Acto administrativo reconocimiento del incentivo / Evidencia del desembolso | L17: Coordiandor(a) GIT Desarrollo Psicosocial | M17: Plataforma estratégica (misión, visión y Objetivos) | N17: Altos Logros | O17: Planeación Institucional | P17: Plan Estratégico Sectorial | Q17: GIT Desarrollo Psicosocial | R17: 45292 | S17: 45657 | T17: Incentivos medallas entrenadores y atletas | U17: actos administrativos + cumplimiento de requisitos/2 | V17: indicador de desempeño que proporciona una medida general de cumplimiento del programa, considerando el Total de desembolsos de incentivos a medallistas y el cumplimiento de requisitos | W17: Acto administrativo Cumplimiento de requisitos | X17: ACUMULADO | Y17: PORCENTAJE | Z17: 200 | AA17: 1 | AB17: 0 | AC17: 0 | AD17: 0.25 | AE17: 0.75
A18: 7 | B18: Atletas y paratletas como embajadores de paz en el mundo | C18: DESARROLLO DEL DEPORTE OLIMPICO, PARALIMPICO Y NIVEL MUNDIAL PARA EL POSICIONAMIENTO Y LIDERAZGO DEPORTIVO 2021011000262 | D18: SERVICIO DE APOYO FINANCIERO A ATLETAS | E18: Implementar el programa de incentivos a glorias del deporte del sector olimpico y paralimpico | F18: Implementar el programa de incentivos a glorias del deporte del sector olimpico y paralimpico | I18: Desembolso de incentivos a los exatletas que hacen parte del programa glorias del deporte sector paralimpico | J18: 68 | K18: Acto administrativo reconocimiento del incentivo / Evidencia del desembolso | L18: Coordiandor(a) GIT Desarrollo Psicosocial | M18: Plataforma estratégica (misión, visión y Objetivos) | N18: Altos Logros | O18: Planeación Institucional | P18: Plan Estratégico Sectorial | Q18: GIT Desarrollo Psicosocial | R18: 45292 | S18: 45657 | T18: Incentivo glorias del deporte sector olimpico | U18: (NÚMERO de glorias del deporte pagados sector olímpico y paralímpico/ glorias del deporte que cumplen los requisitos)*100 | V18: CANTIDAD de incentivos pagados frente a cumplimiento de requisitos | W18: Soportes de radicación de pagos en Git contable | X18: ACUMULADO | Y18: PORCENTAJE | Z18: 68 | AA18: 1 | AB18: 0.25 | AC18: 0.25 | AD18: 0.25 | AE18: 0.25
A19: 8 | B19: Atletas y paratletas como embajadores de paz en el mundo | C19: DESARROLLO DEL DEPORTE OLIMPICO, PARALIMPICO Y NIVEL MUNDIAL PARA EL POSICIONAMIENTO Y LIDERAZGO DEPORTIVO 2021011000262 | D19: Servicio de atención médica especializada | E19: Apoyar a los atletas del sector olimpico y paralimpico mediante el programa de desarrollo psicosocial | F19: Apoyar a los atletas del sector olimpico y paralimpico mediante el programa de desarrollo psicosocial | I19: Seguimiento psicosocial a los atletas del sector olimpico | J19: 500 | K19: Atenciones realizadas | L19: Coordiandor(a) GIT Desarrollo Psicosocial | M19: Plataforma estratégica (misión, visión y Objetivos) | N19: Altos Logros | O19: Planeación Institucional | P19: Plan Estratégico Sectorial | Q19: GIT Desarrollo Psicosocial | R19: 45292 | S19: 45657 | T19: Atletas atendidos desde el acampamiento psicosocial | U19: (Número de atletas atendidos/ total solicitudes de atención) *100 | V19: Mide el porcentaje de atenciones realizadas en el ejercicio del acompañamiento psicosocial | W19: formato de registro de atletas atendidos durante el mes, denominado "Consolidado de atención atletas" | X19: FLUJO | Y19: PORCENTAJE | Z19: 500 | AA19: 1 | AB19: 1 | AC19: 1 | AD19: 1 | AE19: 1
A20: 9 | B20: Atletas y paratletas como embajadores de paz en el mundo | C20: DESARROLLO DEL DEPORTE OLIMPICO, PARALIMPICO Y NIVEL MUNDIAL PARA EL POSICIONAMIENTO Y LIDERAZGO DEPORTIVO 2021011000262 | D20: Servicio de preparación deportiva | E20: Apoyar los eventos del ciclo paralímpico y sordolímpico | F20: Apoyar los eventos del ciclo paralímpico y sordolímpico | I20: Preparacion de ParaAtletas | J20: 36 | K20: Bases de datos de atletas Clasificados a Paris 2024 | L20: Cordinador (a) GIT Deporte de Rendimiento Paralimpico | M20: Plataforma estratégica (misión, visión y Objetivos) | N20: Altos Logros | O20: Planeación Institucional | P20: Plan Estratégico Sectorial | Q20: GIT Deporte de Rendimiento Paralímpico | R20: 45292 | S20: 45543 | T20: Atletas clasificados Paris 2024 | U20: Sumatoria de atletas paralimpicos clasificados a Paris durante el 2024 | V20: Determinar la CANTIDAD de atletas clasificados a Paris 2024. | W20: Bases de datos de atletas clasificados | X20: ACUMULADO | Y20: PERSONAS | Z20: 0 | AA20: 36 | AB20: 4 | AC20: 24 | AD20: 8 | AE20: 0
A21: 10 | B21: Atletas y paratletas como embajadores de paz en el mundo | C21: DESARROLLO DEL DEPORTE OLIMPICO, PARALIMPICO Y NIVEL MUNDIAL PARA EL POSICIONAMIENTO Y LIDERAZGO DEPORTIVO 2021011000262 | D21: Servicio de preparación deportiva | E21: Apoyar los eventos del ciclo paralímpico y sordolímpico | F21: Apoyar los eventos del ciclo paralímpico y sordolímpico | I21: Preparacion de ParaAtletas | J21: 24 | K21: CANTIDAD de medallas obtenidas en los Juegos Paralímpicos Paris 2024 | L21: Cordinador (a) GIT Deporte de Rendimiento Paralimpico | M21: Plataforma estratégica (misión, visión y Objetivos) | N21: Altos Logros | O21: Planeación Institucional | P21: Plan Estratégico Sectorial | Q21: GIT Deporte de Rendimiento Paralímpico | R21: 45292 | S21: 45543 | T21: Medallas Obtenidas | U21: (Sumatoria de Medallas obtenidas juegos Paralimpicos 2024/Medallas Proyectadas Juegos Paralimpicos 2024)*100 | V21: Determinar el PORCENTAJE de medallas obtenidas en Juegos Paralimpicos 2024 versus la meta proyectada. | W21: Bases de datos de medallas obtenidas | X21: ACUMULADO | Y21: NÚMERO | Z21: 0 | AA21: 24 | AB21: 0 | AC21: 0 | AD21: 24 | AE21: 0
A22: 11 | B22: Atletas y paratletas como embajadores de paz en el mundo | C22: DESARROLLO DEL DEPORTE OLIMPICO, PARALIMPICO Y NIVEL MUNDIAL PARA EL POSICIONAMIENTO Y LIDERAZGO DEPORTIVO 2021011000262 | D22: Servicio de preparación deportiva | E22: Desarrollar el programa nacional de entrenadores sector paralímpico | F22: Desarrollar el programa nacional de entrenadores sector paralímpico | I22: Planes de entrenamiento aprobados | J22: 27 | K22: Base de datos de planes de entrenamiento | L22: Cordinador (a) GIT Deporte de Rendimiento Paralimpico | M22: Plataforma estratégica (misión, visión y Objetivos) | N22: Altos Logros | O22: Planeación Institucional | P22: Plan Estratégico Sectorial | Q22: GIT Deporte de Rendimiento Paralímpico | R22: 45292 | S22: 45657 | T22: Planes de Entrenamiento aprobados | U22: (NÚMERO de planes de entrenamiento aprobados por los metodologos / Planes de entrenamiento presentados)*100 | V22: PORCENTAJE de planes de entrenamiento aprobados | W22: Base de datos de planes de entrenamiento | X22: ACUMULADO | Y22: PORCENTAJE | Z22: 0 | AA22: 1 | AB22: 0.2 | AC22: 0.5 | AD22: 0.3 | AE22: 0
... A34: 23 | B34: Atletas y paratletas como embajadores de paz en el mundo | C34: DESARROLLO DEL DEPORTE OLIMPICO, PARALIMPICO Y NIVEL MUNDIAL PARA EL POSICIONAMIENTO Y LIDERAZGO DEPORTIVO 2021011000262 | D34: Servicio de atención médica especializada | E34: Desarrollar Investigaciones en Ciencias del Deporte | F34: Realizar Investigaciones en Ciencias del Deporte | I34: Investigaciones en ciencias del deporte | J34: 2 | K34: Publicaciones de Investigaciones en revistas indexadas y/o Especializadas | L34: COORDINADORA GIT CENTRO DE CIENCIAS DEL DEPORTE | M34: Plataforma estratégica (misión, visión y Objetivos) | N34: Altos Logros | O34: Planeación Institucional | P34: Plan Estratégico Sectorial | Q34: GIT Centro de Ciencias del Deporte CCD | R34: 45292 | S34: 45657 | T34: Investigaciones publicadas en revistas indexadas y/o Especializadas | U34: Sumatoria de investigaciones publicadas en revistas indexadas y/o Especializadas | V34: Permite identificar el número de investigaciones publicadas en revistas indexadas y/o Especializadas | W34: Documentos de investigación y registro de publicación en revista indexada y/o Especializadas | X34: FLUJO | Y34: NÚMERO | Z34: 0 | AA34: 2 | AB34: 0 | AC34: 0 | AD34: 0 | AE34: 2
A35: 24 | B35: Democratización del acceso de la población al deporte, la recreación y la actividad física | C35: APOYO DE LA INFRAESTRUCTURA DEPORTIVA, RECREATIVA Y DE ALTA COMPETENCIA EN COLOMBIA. 202300000000203 | D35: SERVICIO DE APOYO FINANCIERO PARA EL FOMENTO DE LA INFRAESTRUCTURA DEPORTIVA | E35: Realizar convenios interadministrativos de infraestructura recreativa y de alta competencia. | F35: Cofinanciar y realizar el seguimiento a la ejecución de convenios solidarios para la construcción y/o mejoramiento de escenarios deportivos y recreativos (Democratizar el acceso al Deporte). | I35: CONVENIOS SOLIDARIOS | J35: 100 Convenios cofinanciados | K35: Suscripción de (100) cien convenios solidarios | L35: Coordinador (a) GIT- Infraestructura | M35: Funciones de la dependencia y GIT | N35: Apoyo a la Infraestructura Técnica y Científica | O35: Planeación Institucional | P35: Plan Estratégico Sectorial | Q35: GIT Infraestructura | R35: 45323 | S35: 45657 | T35: Proyectos de infraestructura deportiva cofinanciados | U35: N° de proyectos de infraestructura deportiva cofinanciados | V35: Medir el avance en el N° de proyectos de infraestructura deportiva cofinanciados con los entes ejecutores en cada periodo | W35: Informe de proyectos de infraestructura cofinanciados en el periodo | X35: ACUMULADO | Y35: NÚMERO | Z35: 74 | AA35: 100 | AB35: 5 | AC35: 15 | AD35: 40 | AE35: 40
A36: 25 | B36: Democratización del acceso de la población al deporte, la recreación y la actividad física | C36: APOYO DE LA INFRAESTRUCTURA DEPORTIVA, RECREATIVA Y DE ALTA COMPETENCIA EN COLOMBIA. 202300000000203 | D36: SERVICIO DE APOYO FINANCIERO PARA EL FOMENTO DE LA INFRAESTRUCTURA DEPORTIVA | E36: Realizar acciones y actividades encaminadas a la evaluación, desarrollo y cierre de convenios y proyectos de infraestructura deportiva | F36: Cofinanciación de proyectos para el desarrollo de infraestructura recreodeportiva en el marco de compromisos de enfoque diferencial. | I36: PROYECTOS COFINANCIADOS | J36: 8 Proyectos confinanciados | K36: Informe de ejecución presupuestal | L36: Coordinador (a) GIT- Infraestructura | M36: Funciones de la dependencia y GIT | N36: Apoyo a la Infraestructura Técnica y Científica | O36: Planeación Institucional | P36: Plan Estratégico Sectorial | Q36: GIT Infraestructura | R36: 45323 | S36: 45657 | T36: Proyectos de infraestructura deportiva cofinanciados | U36: N° de proyectos de infraestructura deportiva cofinanciados | V36: Medir el avance en el N° de proyectos de infraestructura deportiva cofinanciados con los entes ejecutores en cada periodo | W36: Informe de proyectos de infraestructura cofinanciados en el periodo | X36: ACUMULADO | Y36: NÚMERO | Z36: 2 | AA36: 8 | AB36: 1 | AC36: 2 | AD36: 3 | AE36: 2
A37: 26 | B37: Democratización del acceso de la población al deporte, la recreación y la actividad física | C37: APOYO DE LA INFRAESTRUCTURA DEPORTIVA, RECREATIVA Y DE ALTA COMPETENCIA EN COLOMBIA. 202300000000203 | D37: SERVICIO DE APOYO FINANCIERO PARA EL FOMENTO DE LA INFRAESTRUCTURA DEPORTIVA | E37: Realizar acciones y actividades encaminadas a la evaluación, desarrollo y cierre de convenios y proyectos de infraestructura deportiva | F37: Cofinanciación de proyectos para el desarrollo de infraestructura recreodeportiva en el marco de las subregiones PDET. | I37: PROYECTOS COFINANCIADOS | J37: 4 Proyectos cofinanciados | K37: Informe de ejecución presupuestal | L37: Coordinador (a) GIT- Infraestructura | M37: Funciones de la dependencia y GIT | N37: Apoyo a la Infraestructura Técnica y Científica | O37: Planeación Institucional | P37: Plan Estratégico Sectorial | Q37: GIT Infraestructura | R37: 45323 | S37: 45657 | T37: Proyectos de infraestructura deportiva cofinanciados | U37: N° de proyectos de infraestructura deportiva cofinanciados | V37: Medir el avance en el N° de proyectos de infraestructura deportiva cofinanciados con los entes ejecutores en cada periodo | W37: Informe de proyectos de infraestructura cofinanciados en el periodo | X37: ACUMULADO | Y37: NÚMERO | Z37: 2 | AA37: 4 | AB37: 1 | AC37: 1 | AD37: 1 | AE37: 1
A38: 27 | B38: Democratización del acceso de la población al deporte, la recreación y la actividad física | C38: APOYO DE LA INFRAESTRUCTURA DEPORTIVA, RECREATIVA Y DE ALTA COMPETENCIA EN COLOMBIA. 202300000000203 | D38: SERVICIO DE APOYO FINANCIERO PARA EL FOMENTO DE LA INFRAESTRUCTURA DEPORTIVA | E38: Realizar acciones y actividades encaminadas a la evaluación, desarrollo y cierre de convenios y proyectos de infraestructura deportiva | F38: Cofinanciar y realizar el seguimiento a la ejecución de convenios y/o contratos de infraestructura deportiva y recreativa y de alta competencia a nivel nacional. | I38: PROYECTOS COFINANCIADOS | J38: 18 proectos cofinanciados | K38: Informe de ejecución presupuestal | L38: Coordinador (a) GIT- Infraestructura | M38: Funciones de la dependencia y GIT | N38: Apoyo a la Infraestructura Técnica y Científica | O38: Planeación Institucional | P38: Plan Estratégico Sectorial | Q38: GIT Infraestructura | R38: 45323 | S38: 45657 | T38: Proyectos de infraestructura deportiva cofinanciados | U38: N° de proyectos de infraestructura deportiva cofinanciados | V38: Medir el avance en el N° de proyectos de infraestructura deportiva cofinanciados con los entes ejecutores en cada periodo | W38: Informe de proyectos de infraestructura cofinanciados en el periodo | X38: ACUMULADO | Y38: NÚMERO | Z38: 14 | AA38: 18 | AB38: 1 | AC38: 9 | AD38: 7 | AE38: 1
A39: 28 | B39: Democratización del acceso de la población al deporte, la recreación y la actividad física | C39: APOYO DE LA INFRAESTRUCTURA DEPORTIVA, RECREATIVA Y DE ALTA COMPETENCIA EN COLOMBIA. 202300000000203 | D39: SERVICIO DE APOYO FINANCIERO PARA EL FOMENTO DE LA INFRAESTRUCTURA DEPORTIVA | E39: Brindar asistencia técnica para la formulación y cumplimiento de requisitos de los proyectos de infraestructura en los entes territoriales | F39: Brindar Asistencia técnica a los entes territoriales y diferenciales en la formulación y estructuración de proyectos de infraestructura deportiva y recreativa en el marco de la resolución vigente y emisión de conceptos técnicos para proyectos de infraestructura recreativa y deportiva radicados por los entes territoriales | I39: ASISTENCIA TECNICA | J39: 100% de asistencias realizadas | K39: Asistencias técnicas realizadas | L39: Coordinador (a) GIT- Infraestructura | M39: Funciones de la dependencia y GIT | N39: Apoyo a la Infraestructura Técnica y Científica | O39: Planeación Institucional | P39: Plan Estratégico Sectorial | Q39: GIT Infraestructura | R39: 45323 | S39: 45657 | T39: PORCENTAJE de Mesas de trabajo con entes territoriales y diferenciales realizadas. | U39: ( # Mesas de trabajo realizadas / # Mesas de trabajo programadas ) * 100 | V39: Medir el PORCENTAJE de mesas de trabajo realizadas por demanda. | W39: Informes Asistencia Técnica | X39: ACUMULADO | Y39: PORCENTAJE | Z39: 462 | AA39: 1 | AB39: 0.3 | AC39: 0.1 | AD39: 0.4 | AE39: 0.2
A40: 29 | B40: Democratización del acceso de la población al deporte, la recreación y la actividad física | C40: APOYO DE LA INFRAESTRUCTURA DEPORTIVA, RECREATIVA Y DE ALTA COMPETENCIA EN COLOMBIA. 202300000000203 | D40: SERVICIO DE APOYO FINANCIERO PARA EL FOMENTO DE LA INFRAESTRUCTURA DEPORTIVA | E40: Establecer lineamientos técnicos para garantizar la conservación y el buen uso de los escenarios deportivos | F40: Socialización y divulgación de lineamientos para la construcción, adecuación, mantenimiento y administración de los escenarios deportivos, recreativos y de actividad física | I40: ASISTENCIA TECNICA | J40: 90% de lineamientos socializados y divulgados | K40: Asistencias técnicas realizadas | L40: Coordinador (a) GIT- Infraestructura | M40: Funciones de la dependencia y GIT | N40: Apoyo a la Infraestructura Técnica y Científica | O40: Planeación Institucional | P40: Plan Estratégico Sectorial | Q40: GIT Infraestructura | R40: 45323 | S40: 45657 | T40: N° Actividades de socialización y divulgación realizadas | U40: N° de socializaciones realizadas | V40: Medir el PORCENTAJE de socializaciones realizadas por demanda. | W40: Informes Asistencia Técnica | X40: ACUMULADO | Y40: PORCENTAJE | Z40: 620 | AA40: 1 | AB40: 0.3 | AC40: 0.2 | AD40: 0.25 | AE40: 0.25
A41: 30 | B41: Democratización del acceso de la población al deporte, la recreación y la actividad física | C41: APOYO DE LA INFRAESTRUCTURA DEPORTIVA, RECREATIVA Y DE ALTA COMPETENCIA EN COLOMBIA. 202300000000203 | D41: SERVICIO DE APOYO FINANCIERO PARA EL FOMENTO DE LA INFRAESTRUCTURA DEPORTIVA | E41: Realizar acciones y actividades encaminadas al fortalecimiento del visor geográfico para el registro de proyectos, seguimiento de convenios, registro predial (banco inmobiliario) e inventario de infraestructura Costo | F41: Fortalecimiento de las herramientas desarrolladas (Visor Geografico, aplicativos de recoleción de información, sitio web de la DRH y tableros de mando) e implementación de nuevos aplicativos que permitan el manejo de la bases de datos de la DRH. | I41: MÓDULOS EN OPERACIÓN | J41: 100% de actualizaciones del visor geográfico | K41: TABLEROS DE MANDO, VISORES GEOGRÁFICOS, APLICATIVOS DE RECOLECCIÓN DE INFORMACIÓN, Y REPORTES | L41: Coordinador (a) GIT- Infraestructura | M41: Funciones de la dependencia y GIT | N41: Apoyo a la Infraestructura Técnica y Científica | O41: Planeación Institucional | P41: NA | Q41: GIT Infraestructura | R41: 45323 | S41: 45657 | T41: PORCENTAJE de implementación de la Herramienta geográfica implementada | U41: (No. funciones creadas o actualizadas en aplicativo/No. funciones propuestas) X 100 | V41: Medir el PORCENTAJE de cumplimiento de actualización del aplicativo | W41: Reporte | X41: ACUMULADO | Y41: PORCENTAJE | Z41: 0.9 | AA41: 1 | AB41: 0.25 | AC41: 0.25 | AD41: 0.25 | AE41: 0.25
A42: 31 | B42: Fortalecer la gestión y dirección de sector Deporte, Recreación y la Actividad física. | C42: FORTALECIMIENTO DEL LABORATORIO DE CONTROL AL DOPAJE DEPORTIVO 202300000000019 | D42: SERVICIO DE ANÁLISIS DE MUESTRAS | E42: Gestionar la dotación, procesamiento de muestras e implementacion del sistema integrado del Labortatorio Control al Dopaje a través de convenio interadministrativo | F42: Mantener, actualizar e implementar mejoras de los métodos analíticos y los procesos del laboratorio | I42: Ejecución presupuestal | J42: 0.9 | K42: Informe trimestral de ejecución presupuestal | L42: Coordinador (a) GIT-Laboratorio Control al Dopaje | M42: Funciones de la dependencia y GIT | N42: Apoyo a la Infraestructura Técnica y Científica | O42: Planeación Institucional | P42: Plan Anual de Adquisiciones | Q42: GIT Laboratorio Control al Dopaje | R42: 45323 | S42: 45657 | T42: PORCENTAJE del presupuesto efectivamente comprometido | U42: (Presupuesto comprometido / Presupuesto asignado) * 100 | V42: Se busca mediar el PORCENTAJE de asignación del presupuesto de la vigencia. | W42: Informe de ejecución presupuestal | X42: ACUMULADO | Y42: PORCENTAJE | Z42: 0 | AA42: 1 | AB42: 0.1 | AC42: 0.2 | AD42: 0.3 | AE42: 0.4
A43: 32 | B43: Fortalecer la gestión y dirección de sector Deporte, Recreación y la Actividad física. | C43: NA | D43: NA | E43: NA | F43: Promover y liderar el desarrollo de proyectos de investigación, relacionados con el deporte, la actividad física, la recreación y el aprovechamiento del tiempo libre | I43: Creación de Centro de Investigación del Deporte (CID) de acuerdo con las directrices del Ministerio de Ciencia, Tecnología e Innovación. | J43: Creación del Centro de Investigación del Deporte | K43: Acto administrativo de creación del Centro de Investigación del Deporte (CID) | L43: Coordinador (a) GIT-Laboratorio Control al Dopaje | M43: Funciones de la dependencia y GIT | N43: Apoyo a la Infraestructura Técnica y Científica | O43: Gestión del Conocimiento y la Innovación | P43: Plan Anual de Adquisiciones | Q43: GIT Laboratorio Control al Dopaje | R43: 45323 | S43: 45657 | T43: Avance en la conformación del Centro de Investigación del Deporte (CID) | U43: (Actividades realizadas conformación CID / Actividades requeridas conformacion CID ) * 100 | V43: Se busca mediar el PORCENTAJE de avance en la conformacion del Centro de Investigacion del Deporte | W43: Informe de avance de conformacion del Centro de Investigación del Deporte | X43: ACUMULADO | Y43: PORCENTAJE | Z43: 0 | AA43: 1 | AB43: 0.25 | AC43: 0.25 | AD43: 0.25 | AE43: 0.25
A44: 33 | B44: Fortalecer la gestión y dirección de sector Deporte, Recreación y la Actividad física. | C44: MEJORAMIENTO SEDES COLDEPORTES BOGOTÁ - 2018011000349 | D44: SEDES MANTENIDAS | E44: Garantizar la prestación de servicios para la administración y operación de la sedes | F44: Administrar la operación de los escenarios del CAR garantizando la adecuada prestación del servicio a deportistas de alto rendimiento. | I44: Prestación o uso de escenarios deportivos e instalaciones del CAR | J44: 100000 | K44: Prestación del servicio en el Centro de Alto Rendimiento | L44: Coordinador (a) GIT-CAR | M44: Funciones de la dependencia y GIT | N44: Apoyo a la Infraestructura Técnica y Científica | O44: Fortalecimiento Organizacional y Simplificación de Procesos | P44: Plan Anual de Adquisiciones | Q44: GIT Centro de Alto Rendimiento CAR | R44: 45293 | S44: 45657 | T44: Usuarios atendidos en el CAR | U44: NÚMERO de usuarios que ingresan al CAR mensualmente/anualmente | V44: CANTIDAD de PERSONAS (deportistas, acompañantes, funcionarios) que acceden al CAR mensualmente/anualmente | W44: Registros de ingreso suministrado por la empresa de vigilancia. Lista de deportistas autorizados para el prestamo o alquiler (si aplica)de escenarios deportivos de los diferentes organismos del sistema nacional del deporte. | X44: ACUMULADO | Y44: PERSONAS | Z44: 174181 | AA44: 100000 | AB44: 20000 | AC44: 25000 | AD44: 30000 | AE44: 25000
A45: 34 | B45: Fortalecer la gestión y dirección de sector Deporte, Recreación y la Actividad física. | C45: MEJORAMIENTO SEDES COLDEPORTES BOGOTÁ - 2018011000349 | D45: SEDES MANTENIDAS | E45: Garantizar la prestación de servicios para la administración y operación de la sedes | Q45: GIT Centro de Alto Rendimiento CAR | R45: 45293 | S45: 45657 | T45: Deportistas de alto rendimiento atendidos en el CAR | U45: NÚMERO de deportistas que cuentan con aprobación de ingreso al CAR mensualmente/anualmente | V45: CANTIDAD de deportistas que acceden a los servicios que presta el CAR mensualmente/anualmente | W45: Lista de deportistas autorizados para el prestamo de escenarios deportivos de los diferentes organismos del sistema nacional del deporte. | X45: ACUMULADO | Y45: PERSONAS | Z45: 35649 | AA45: 2000 | AB45: 400 | AC45: 550 | AD45: 550 | AE45: 500
A46: 35 | B46: Fortalecer la gestión y dirección de sector Deporte, Recreación y la Actividad física. | C46: MEJORAMIENTO SEDES COLDEPORTES BOGOTÁ - 2018011000349 | D46: SEDES MANTENIDAS | E46: Adecuar, mantener y dotar la infraestructura física de las sedes, de acuerdo a las normas técnicas ambientales, de salud ocupacional, seguridad industrial y construcciones | F46: Adecuar, mantener y dotar la infraestructura física, implementación deportiva y tecnología del Mindeporte-Centro de Alto Rendimiento en Altura, de acuerdo a las normas: técnicas, ambientales, de salud ocupacional, de seguridad industrial y de construcción. | I46: Escenarios dotados y adecuados para su uso | J46: 90% de escenarios del CAR dotados y adcuados | K46: Un Centro de Alto Rendimiento en condiciones de uso, para los deportistas de alto rendimiento del país y extranjeros | L46: Coordinador (a) GIT-CAR | M46: Funciones de la dependencia y GIT | N46: Apoyo a la Infraestructura Técnica y Científica | O46: Gestión Presupuestal y Eficiencia del Gasto Público | P46: Plan Anual de Adquisiciones | Q46: GIT Centro de Alto Rendimiento CAR | R46: 45293 | S46: 45657 | T46: Cumplimiento adecuaciones, mantenimientos y/o dotaciones planeadas. | U46: Adecuaciones, mantenimientos y/o dotaciones ejecutadas / adecuaciones, mantenimientos y/o dotaciones planeadas | V46: Adecuaciones, mantenimientos y dotaciones realizadas en la vigencia / las actividades contratadas. | W46: NÚMERO de contratos. Informes mensuales de los supervisores | X46: ACUMULADO | Y46: PORCENTAJE | Z46: 0 | AA46: 1 | AB46: 0.15 | AC46: 0.25 | AD46: 0.3 | AE46: 0.3
A47: 36 | B47: Fortalecer la gestión y dirección de sector Deporte, Recreación y la Actividad física. | C47: FORTALECIMIENTO DE LA GESTIÓN Y SEGUIMIENTO INSTITUCIONAL DEL MINISTERIO DEL DEPORTE 202300000000037 | D47: Documentos de planeación | E47: Apoyar la gestión de planeación, programación y ejecución de los planes, programas y proyectos de la entidad | F47: Formular y presentar de ante proyecto de presupuesto. | I47: Servicio proyección presupuestal 2024 | J47: 1 | K47: Documento de Anteproyecto | L47: Oficina Asesora de Planeación | M47: Funciones de la dependencia y GITS | N47: Direccionamiento Estratégico y Aprendizaje Organizacional | O47: Gestión Presupuestal y Eficiencia del Gasto Público | P47: Plan Estratégico Sectorial | Q47: GIT Planeación y Gestión | R47: 10 de enero de 2023 | S47: 45291 | T47: Anteproyecto 2024 | U47: (Actividad programada/ actividad ejecutada )x 100 | V47: Documento en donde se consolida tota la programación de necesidades presupuestales de la entidad para la vigencia 2024. | W47: Documento y correo de remisión a Ministerio de Hacienda | X47: ACUMULADO | Y47: PORCENTAJE | Z47: 0 | AA47: 1 | AB47: 1 | AC47: 0 | AD47: 0 | AE47: 0
A48: 37 | B48: Fortalecer la gestión y dirección de sector Deporte, Recreación y la Actividad física. | C48: FORTALECIMIENTO DE LA GESTIÓN Y SEGUIMIENTO INSTITUCIONAL DEL MINISTERIO DEL DEPORTE 202300000000037 | D48: Documentos de planeación | E48: Apoyar la gestión de planeación, programación y ejecución de los planes, programas y proyectos de la entidad | F48: Formular y presentar del marco de gasto de mediano plazo. | I48: Servicio proyección presupuestal del cuatrienio | J48: 1 | K48: Presentación Marco de Gasto de Mediano Plazo | L48: Oficina Asesora de Planeación | M48: Funciones de la dependencia y GITS | N48: Direccionamiento Estratégico y Aprendizaje Organizacional | O48: Gestión Presupuestal y Eficiencia del Gasto Público | P48: Plan Estratégico Sectorial | Q48: GIT Planeación y Gestión | R48: 10 de enero de 2023 | S48: 45291 | T48: Marco de Gasto de Mediano Plazo | U48: (Actividad programada/ actividad ejecutada )x 100 | V48: Presentación del documento en donde se consolidan las proyecciones de recursos para el cuatrienio y las principales metas de la entidad. | W48: Presentación y correo de remisión a Ministerio de Hacienda | X48: ACUMULADO | Y48: PORCENTAJE | Z48: 0 | AA48: 1 | AB48: 1 | AC48: 0 | AD48: 0 | AE48: 0
A49: 38 | B49: Fortalecer la gestión y dirección de sector Deporte, Recreación y la Actividad física. | C49: FORTALECIMIENTO DE LA GESTIÓN Y SEGUIMIENTO INSTITUCIONAL DEL MINISTERIO DEL DEPORTE 202300000000037 | D49: Documentos de planeación | E49: Apoyar la gestión de planeación, programación y ejecución de los planes, programas y proyectos de la entidad | F49: Actualizar las fichas de proyectos de inversión a decreto de liquidación de presupuesto. | I49: Procedimiento de trámites presupuestales actualizado | J49: 12 | K49: Fichas EBI Actualizada de los Proyectos | L49: Oficina Asesora de Planeación | M49: Funciones de la dependencia y GITS | N49: Direccionamiento Estratégico y Aprendizaje Organizacional | O49: Gestión Presupuestal y Eficiencia del Gasto Público | P49: Plan Estratégico Sectorial | Q49: GIT Planeación y Gestión | R49: 10 de enero de 2023 | S49: 45291 | T49: PORCENTAJE de Proyectos de inversión actualizados a Decreto de liquidación | U49: (NÚMERO de fichas EBI actualizadas / Total de fichas EBI del proyecto (14))x100 | V49: Mide la actualización de los componentes de los proyectos de inversión través del sistema del DNP. | W49: Fichas EBI actualizadas | X49: ACUMULADO | Y49: NÚMERO | Z49: 0 | AA49: 12 | AB49: 0 | AC49: 12 | AD49: 0 | AE49: 0
A50: 39 | B50: Fortalecer la gestión y dirección de sector Deporte, Recreación y la Actividad física. | C50: FORTALECIMIENTO DE LA GESTIÓN Y SEGUIMIENTO INSTITUCIONAL DEL MINISTERIO DEL DEPORTE 202300000000037 | D50: Documentos de planeación | E50: Apoyar la gestión de planeación, programación y ejecución de los planes, programas y proyectos de la entidad | F50: Formular y ejecutar el plan de trabajo para el mejoramiento de las políticas de MIPG priorizadas conforme a la evaluación del Índice de Gestión y Desempeño Institucional 2023 | I50: Plan de trabajo de las políticas priorizadas ejecutado | J50: 0.9 | K50: Informe de resultados del Plan de trabajo | L50: Oficina Asesora de Planeación | M50: Resultados FURAG 2022 | N50: Direccionamiento Estratégico y Aprendizaje Organizacional | O50: Planeación Institucional | P50: Plan Estratégico Sectorial | Q50: GIT Planeación y Gestión | R50: 10 de enero de 2023 | S50: 45291 | T50: Avance del plan de trabajo para los procesos y políticas priorizadas | U50: (Total de acciones ejecutadas dentro del periodo /Total de acciones del plan de trabajo del periodo)*100 | V50: Mide el PORCENTAJE de avance de las acciones definidas en el plan de trabajo | W50: Informe de ejecución de acciones de las políticas priorizadas | X50: ACUMULADO | Y50: PORCENTAJE | Z50: 0 | AA50: 0.9 | AB50: 0 | AC50: 0.2 | AD50: 0.5 | AE50: 0.2
A51: 40 | B51: Fortalecer la gestión y dirección de sector Deporte, Recreación y la Actividad física. | C51: FORTALECIMIENTO DE LA GESTIÓN Y SEGUIMIENTO INSTITUCIONAL DEL MINISTERIO DEL DEPORTE 202300000000037 | D51: Documentos de planeación | E51: Apoyar la gestión de planeación, programación y ejecución de los planes, programas y proyectos de la entidad | F51: Actualizar los procedimientos, políticas y documentación en general para la mejora del MIPG | I51: Sistema de calidad actualizado | J51: 0.8 | K51: Aplicativo de Gestión de Calidad actualizado | L51: Oficina Asesora de Planeación | M51: Funciones de la dependencia y GIT | N51: Direccionamiento Estratégico y Aprendizaje Organizacional | O51: Fortalecimiento Organizacional y Simplificación de Procesos | P51: Plan Estratégico Sectorial | Q51: GIT Planeación y Gestión | R51: 10 de enero de 2023 | S51: 45291 | T51: Avance de la actualización de sistema de gestión de calidad | U51: (Total de procedimientos actualizados/Total de procedimientos)*100 | V51: Mide el PORCENTAJE de avance de las actualizaciones de los procedimientos del ministerio | W51: Reporte del aplicativo de gestión de calidad | X51: ACUMULADO | Y51: PORCENTAJE | Z51: 0 | AA51: 0.8 | AB51: 0.1 | AC51: 0.3 | AD51: 0.2 | AE51: 0.2
A52: 41 | B52: Fortalecer la gestión y dirección de sector Deporte, Recreación y la Actividad física. | C52: FORTALECIMIENTO DE LA GESTIÓN Y SEGUIMIENTO INSTITUCIONAL DEL MINISTERIO DEL DEPORTE 202300000000037 | D52: Documentos de planeación | E52: Apoyar la gestión de planeación, programación y ejecución de los planes, programas y proyectos de la entidad | F52: Apoyar el proceso de reestructuración del Ministerio del Deporte, en lo relacionado con el análisis metodológico de los procesos | I52: Asistencia Técnica | J52: 1 | K52: Estudio Técnico | L52: Oficina Asesora de Planeación | M52: Funciones de la dependencia y GIT | N52: Direccionamiento Estratégico y Aprendizaje Organizacional | O52: Fortalecimiento Organizacional y Simplificación de Procesos | P52: Plan Estratégico Sectorial | Q52: GIT Planeación y Gestión | R52: 10 de enero de 2023 | S52: 45291 | T52: Asistencia técnica en la propuesta de mapa de procesos y formulación de los procedimientos asociados | U52: Porcentaje de estudio técnico elaborado | V52: Mide el avance del estudio técnico de reestructuración en lo competente de la OAP | W52: Informe técnico de propuesta de mapa de procesos y formulación de los procedimientos asociados | X52: ACUMULADO | Y52: PORCENTAJE | Z52: 0 | AA52: 1 | AB52: 0 | AC52: 0.2 | AD52: 0.3 | AE52: 0.5
A53: 42 | B53: Fortalecer la gestión y dirección de sector Deporte, Recreación y la Actividad física. | C53: FORTALECIMIENTO DE LA GESTIÓN Y SEGUIMIENTO INSTITUCIONAL DEL MINISTERIO DEL DEPORTE 202300000000037 | D53: Documentos de planeación | E53: Apoyar la gestión de planeación, programación y ejecución de los planes, programas y proyectos de la entidad | F53: Articular con los entes territoriales el plan nacional de desarrollo (Plan Estratégico Sectorial) con los planes de desarrollo municipales y territoriales | I53: Encuentros | J53: 2 | K53: Listado de asistencia y memorias | L53: Oficina Asesora de Planeación | M53: Funciones de la dependencia y GIT | N53: Direccionamiento Estratégico y Aprendizaje Organizacional | O53: Planeación Institucional | P53: Plan Estratégico Sectorial | Q53: GIT Planeación y Gestión | R53: 15 de enero de 2023 | S53: 31 de diciembre de 2023 | T53: Encuentros de socialización y articulación | U53: Sumatoria cantidad de encuentros | V53: El indicador mide el número de encuentros para socializar el Plan Estratégico Sectorial y que se articulado por lo entes territoriales en sus planes | W53: Documentos soporte de actividades realizadas en el desarrollo de los encuentros | X53: ACUMULADO | Y53: NÚMERO | Z53: 0 | AA53: 2 | AB53: 1 | AC53: 0 | AD53: 1 | AE53: 0
A54: 43 | B54: Fortalecer la gestión y dirección de sector Deporte, Recreación y la Actividad física. | C54: APOYO AL FORTALECIMIENTO DEL SECTOR | D54: Servicio de assitencia técnica - Fortalecimiento de la gestión y seguimiento institucional del Ministerio del Deporte | E54: Implementar y mantener un politíca de gestión de la información, conocimiento e innovación institucional | F54: Realizar talleres de conocimiento en herramientas | I54: Talleres | J54: 4 | K54: Listado de asistencia | L54: Oficina Asesora de Planeación | M54: Funciones de la dependencia y GIT | N54: Direccionamiento Estratégico y Aprendizaje Organizacional | O54: Gestión del Conocimiento y la Innovación | P54: Plan Estratégico Sectorial | Q54: GIT Gestión del Conocimiento y la Innovación | R54: 10 de enero de 2023 | S54: 31 de diciembre de 2023 | T54: Talleres para el uso de herramientas | U54: Sumatoria de talleres realizados | V54: El indicador mide la realización de los talleres dirigidos a los colaboradores del Ministerio | W54: Documentos soporte de actividades realizadas en el desarrollo de los talleres | X54: ACUMULADO | Y54: NÚMERO | Z54: 0 | AA54: 4 | AB54: 0 | AC54: 0 | AD54: 1 | AE54: 1
...

Sheet Hoja2
B4: Proporción de atención por atleta

Sheet Hoja1

Sheet Objetivos PND
A1: OBJETIVO PND | D1: INDICADOR PND
A2: 1.1.Consolidar la rectoria e institucionalidad del Sistema Nacional del Deporte / OFICINA ASESORA JURIDICA | B2: Actualizar y ajustar procesos normativos o reglamentarios que se requieran para definir los roles, competencias y responsabilidades de todos los actores que hacen parte del SND | C2: =+[2]Organigrama!A32 -> Dirección de Inspección Vigilancia y Control | D2: Nuevas medallas y reconocimientos en competencias internacionales | G2: Deporte y recreación para el desarrollo integral de los individuos, para la convivencia y cohesión social.
A3: 1.2.Consolidar la rectoria e institucionalidad del Sistema Nacional del Deporte / DESPACHO VICEMINISTERIO | B3: Construir la Política Pública del Deporte, en conjunto con la ciudadania, entes territoriales, actores públicos y privados y miembros de la academia | C3: =+[2]Organigrama!A5 -> Despacho del Viceministerio | D3: Avance en la implementación del Observatorio del Sistema Nacional del Deporte | G3: Objetivo 1: Consolidar la rectoría e institucionalidad del Sistema Nacional del Deporte
A4: 1.3.Consolidar la rectoria e institucionalidad del Sistema Nacional del Deporte / DIR. POSICIONAMIENTO Y LIDERAZGO DEPORTIVO | B4: Estandarizar los procesos de promoción, formación y cualificación deportiva. | C4: =+[2]Organigrama!A20 -> Dirección de PosicIonamiento y Liderazgo Deportivo | D4: Personas que acceden a servicios deportivos, recreativos y de actividad física con enfoque diferencial | G4: Objetivo 2: Ampliar oportunidades para la recreación, el deporte social comunitario y el aprovechamiento del tiempo libre
A5: 1.4.Consolidar la rectoria e institucionalidad del Sistema Nacional del Deporte/DIRECCION IVC | B5: Actualizar y reglamentar los procesos de inspección, vigilancvia y control, para garantizar la integridad y transparaencia en las organizaciones deportivas. | C5: =+[2]Organigrama!A32 -> Dirección de Inspección Vigilancia y Control | D5: Municipios que implementan programas de recreación, actividad física, deporte social comunitario y aprovechamiento del tiempo libre | G5: Objetivo 3: Cualificar los talentos deportivos con potencial de alto rendimiento
A6: 1.5.Consolidar la rectoria e institucionalidad del Sistema Nacional del Deporte - OFICINA ASESORA DE PLANEACION / OFICINA ASESORA DE PLANEACION | B6: Implementar el observatorio del SND, para garantizar el accceso y la transparencia de la informacion en materia deportiva, de la recreación y de actividad fisica, para la toma de decisiones en matreria de politica pública | C6: =+[2]Organigrama!A7 -> Oficina Asesora de Planeación | D6: Niños, niñas, adolescentes y jóvenes beneficiarios del Programa SUPÉRATE + (T)
A7: 1.6.Consolidar la rectoria e institucionalidad del Sistema Nacional del Deporte / DIRECCION DE FOMENTO Y DESARROLLO | B7: Desarrollar una accion armonizada y coherente con los organismoque conforman el SND, en articulacion con otras entidades del Gobierno Nacional, Departamental y Municipal, como parte de un diseño institucional funcional para los objetivos y politicas de la primera infancia, adolecencia y juventud. Esta acción se vincula con las acciones propuestas en la Linea A "Primero las niñas y los niño" del presente PND. | C7: =+[2]Organigrama!A27 -> Dirección de Fomento y Desarrollo | D7: Escenarios deportivos y recreativos en condiciones de calidad para el desarrollo de programas
A8: 2.1. Ampliar oportunidades de Recreación, el deporte Social Comunitario y el Aprovechamiento del Tiempo Libre / DIRECCION DE FOMENTO Y DESARRROLLO | B8: Fortalecer el desarrollo social y personal de todo el cyurso de la vida de los colombianos , a través de estartegias de competidor integral que consoliden los programas de actividad fisica, deporrte formativo y deporte social comunitario, con el proposito de generar procesos de inclusión, convivencia y legalidad como aspectos fundamentales de la equidad. Para esto, se desarrollara una estrategia de formación que incluirá, entre otros contenidos virtuales. | C8: =+[2]Organigrama!A27 -> Dirección de Fomento y Desarrollo | D8: Niños, niñas, jóvenes y adolescentes que acceden a la reserva deportiva
