Workbook
Name Autoridad: [1]Listas!$BB$2:$BB$3
Name Como_se_realiza: [1]Listas!$BE$2:$BE$3
Name Dir_o_Ofic: [1]Mapa_de_Riesgos!$C$9
Name Evidencia: [1]Listas!$BG$2:$BG$4
Name Macro_Procesos: [1]Listas!$A$2:$A$5
Name Periodicidad: [1]Listas!$AZ$2:$AZ$11
Name Periodicidad_Control: [1]Listas!$BC$2:$BC$3
Name Propósito: [1]Listas!$BD$2:$BD$4
Name Que_pasa_Observaciones: [1]Listas!$BF$2:$BF$3
Name Responsable: [1]Listas!$BA$2:$BA$3
Name Tipología_de_Riesgos: [1]Listas!$AD$2:$AD$11

Sheet Opciones Tratamiento
B2: Aceptar | E2: Afectación Económica
B3: Evitar | E3: Afectación Reputacional
B4: Reducir (transferir) | E4: Afectación Económica y Reputacional
B5: Reducir (mitigar)
B8: Plan de accion (solo para la opción reducir)
B9: Finalizado
B10: En curso
B13: Daños Activos Fisicos | G13: Procesos
B14: Ejecucion y Administracion de procesos | G14: Talento humano
B15: Fallas Tecnologicas | G15: Tecnología
B16: Fraude Externo | G16: Infraestructura
B17: Fraude Interno | G17: Evento externo
B18: Relaciones Laborales
B19: Usuarios, productos y practicas , organizacionales
B20: Daños ambientales

Sheet Hoja1
A3: Preventivo | B3: PROCESO | D3: Columna1 | F3: MISIONAL | H3: APOYO | J3: EVALUACION | L3: Proceso | M3: Objetivo | P3: Direcc_Téc_u_Oficina | Q3: Despacho_del_Ministro | R3: Oficina_Asesora_de_Planeación | S3: Secretaría_General | T3: Dirección_de_Posicionamiento_y_Liderazgo_Deportivo | U3: Dirección_de_Inspección_Vigilancia_y_Control | V3: Dirección_de_Fomento_y_Desarrollo | W3: Dirección_de_Recursos_y_Herramientas_del_Sistema_Nacional_del_Deporte | X3: Despacho_Viceministro | Y3: Oficina_Asesora_Jurídica | Z3: Oficina_de_Control_Interno_Disciplinario | AA3: Oficina_de_Control_Interno
A4: Detectivo | B4: Estratégico | D4: Planeación Estratégica | L4: Planeación Estratégica | M4: Establecer el marco estratégico para orientar todas las políticas, planes, programas, proyectos y actuaciones del sector. | N4: Gestión | P4: Despacho_del_Ministro | Q4: GIT Comunicaciones | R4: GIT Planeación y Gestión | S4: GIT Contratación | T4: GIT Deporte de Rendimiento Convencional | U4: GIT Deporte Profesional | V4: GIT Recreación | W4: GIT Centro de Alto Rendimiento - CAR | X4: N/A | Y4: N/A | Z4: N/A | AA4: N/A
A5: Correctivo | B5: Misional | D5: Gestión Organizacional | L5: Gestión Organizacional | M5: Mantener y mejorar continuamente el sistema integrado de gestión (SIG), mediante el cumplimiento de los requisitos de las normas aplicables , con el fin de obtener resultados con eficiencia, eficacia y efectividad en el Sistema Integrado de Gestión. | N5: Corrupción | P5: Oficina_de_Control_Interno_Disciplinario | Q5: GIT Organización Nacional Antidopaje | R5: GIT de Seguimiento | S5: GIT Gestión Administrativa | T5: GIT Centro de Ciencias del Deporte - CCD | U5: GIT Deporte Aficionado | V5: GIT Deporte Escolar | W5: GIT Laboratorio Control al Dopaje
A6: Automático | B6: Apoyo | D6: Gestión de Comunicaciones | L6: Gestión de Comunicaciones | M6: Establecer lineamientos de comunicación interna y externa dirigido a los diferentes grupos de interés, con el fin de contribuir a la proyección de la imagen institucional y garantizar acceso a la información. | N6: Seguridad de la Información | P6: Oficina_de_Control_Interno | R6: GIT de Gestión del Conocimiento e Innovación | S6: GIT Gestión Financiera y Presupuestal | T6: GIT Programas y Proyectos Deportivos | U6: GIT Actuaciones Administrativas | V6: GIT Actividad Física | W6: GIT Infraestructura
A7: Manual | B7: Evaluación | D7: Formulación y Adopción de Políticas, Planes y Programas | L7: Formulación y Adopción de Políticas, Planes y Programas | M7: Formular y adoptar Políticas Públicas, Planes y Programas en materia de la Recreación, el Deporte, la Actividad física y el Aprovechamiento del tiempo libre en Colombia. | P7: Oficina_Asesora_de_Planeación | S7: GIT Tesorería | T7: GIT Deporte de Rendimiento Paralímpico | V7: GIT Deporte Social Comunitario
A8: Documentado | D8: Altos Logros | L8: Altos Logros | M8: Implementar políticas, planes y programas orientados a la consecución de altos logros para el posicionamiento y liderazgo deportivo del país | P8: Oficina_Asesora_Jurídica | S8: GIT Talento Humano | T8: GIT Desarrollo Psicosocial
A9: Sin Documentar | D9: Inspección, Vigilancia y Control | L9: Inspección, Vigilancia y Control | M9: Ejercer las funciones de inspección, vigilancia y control para formalizar los organismos deportivos y demás entidades que conforman el Sistema Nacional del Deporte. | P9: Secretaría_General | S9: GIT Servicio Integral al Ciudadano | T9: GIT Juegos y Eventos Deportivos
A10: Continua | D10: Fomento al Desarrollo Humano y Social | L10: Fomento al Desarrollo Humano y Social | M10: Contribuir al desarrollo humano, la salud, la convivencia y la paz mediante la recreación, la educación física, la actividad física y el deporte formativo y social comunitario en sus diversas modalidades y expresiones, asegurando el acceso de la población a sus bienes, servicios y oportunidades para su práctica y disfrute. | P10: Dirección_de_Posicionamiento_y_Liderazgo_Deportivo | S10: GIT TIC´s
A11: Aleatoria | D11: Apoyo a la Infraestructura Técnica y Científica | L11: Apoyo a la Infraestructura Técnica y Científica | M11: Contribuir al mejoramiento y desarrollo del Sistema Nacional del Deporte a través de la infraestructura tecnológica, locativa, científica y de información y de la innovación e investigación en el deporte colombiano. | P11: Dirección_de_Inspección_Vigilancia_y_Control
A12: Registro Sustancial | D12: Servicio Integral al Ciudadano | L12: Servicio Integral al Ciudadano | M12: Gestionar el desarrollo de programas, lineamientos y estrategias para facilitar el acceso de los ciudadanos propiciando las condiciones para el ejercicio efectivo de los derechos y deberes con enfoque diferencial, que influyan en la construcción de una gestión democrática con excelencia centrada en el Servicio Integral al Ciudadano. | P12: Dirección_de_Fomento_y_Desarrollo
A13: Registro Material | D13: Gestión de TIC´s | L13: Gestión de TIC´s | M13: Asegurar la implementación, administración y soporte de las tecnologías de la información y de las comunicaciones a través de la prestación de servicios de manera oportuna y eficaz coadyuvando a la optimización de la gestión de los procesos y la divulgación de la información de Coldeportes y del Sistema Nacional del Deporte (SND). | P13: Dirección_de_Recursos_y_Herramientas_del_Sistema_Nacional_del_Deporte
A14: Sin registro | D14: Gestión de Talento Humano | L14: Gestión de Talento Humano | M14: Administrar y desarrollar el talento humano de COLDEPORTES a través de la planeación, ejecución, verificación y mejoramiento de los planes y programas del área con la finalidad de mejorar la calidad de vida de los servidores públicos y tener una planta de personal calificada. | P14: Despacho_Viceministro
D15: Gestión Documental | L15: Gestión Documental | M15: Gestionar las actividades necesarias para la planificación, formulación de lineamientos, planes, programas, tendientes a la recepción, distribución, organización, conservación, acceso, consulta y disposición final de los documentos que reciba o genere la Entidad. Asegurando la disponibilidad, accesibilidad y la conservación de la memoria institucional, realizando seguimiento al cumplimiento de la normatividad vigente.
A16: Reducir | D16: Adquisiciones de Bienes y Servicios | L16: Adquisiciones de Bienes y Servicios | M16: Adelantar procesos contractuales en la adquisición de obras, bienes y servicios dando cumplimiento a los requisitos legales y políticas internas de la Entidad para dar respuesta eficaz a las necesidades de los procesos.
A17: Aceptar | D17: Gestión Financiera y Tesorería | L17: Gestión Financiera y Tesorería | M17: Planificar y desarrollar las actividades necesarias para la gestión, producción y generación de la información financiera, ejecución y control presupuestal de acuerdo con los principios, normas técnicas y procedimientos vigentes para garantizar que los recursos financieros sean optimizados de acuerdo a las necesidades y obligaciones de la Entidad
A18: Evitar | D18: Gestión Jurídica | L18: Gestión Jurídica | M18: Desarrollar las actividades asociadas a la gestión jurídica de la entidad, mediante el cumplimiento de la normatividad vigente aplicable con la finalidad de asegurar la defensa jurídica y prevención de daño antijurídico de la entidad
D19: Gestión de Recursos Físicos | L19: Gestión de Recursos Físicos | M19: Gestionar y optimizar obras, bienes y servicios mediante la administración, mantenimiento y control de los bienes muebles e inmuebles necesarios para responder a las necesidades de los procesos estratégicos, misionales y de soporte aplicables a COLDEPORTES.
A20: Finalizado | D20: Evaluación Independiente y Mejora Continua | L20: Seguimiento y Evaluación de la Gestión | M20: Evaluar el Sistema de Control Interno de la Entidad bajo un enfoque por procesos a través de un examen sistemático, objetivo e independiente de las actividades, operaciones y resultados de los procesos, con el propósito de aportar al mejoramiento continuo de la gestión.
A21: En curso | D21: Gestión Proceso Disciplinario
A22: No iniciada
A24: Si
A25: No
A28: Responsable
A29: Acción (Propósito-Verbo)
A30: Complemento (Como se ejecuta+que pasa con las desviaciones+evidencia)
A31: Tipo
A32: Implementación
A33: Documentación
A34: Frecuencia
A35: Evidencia
A38: Área de Impacto
... A52: Fecha Implementación

Sheet Mapa final
D1: Proceso | U1: Versión: 2
D2: DIRECCIONAMIENTO ESTRATÉGICO Y APRENDIZAJE ORGANIZACIONAL | U2: Código: DE- FR -002
D3: Formato Mapa de Riesgos | U3: Fecha: 15/04/2024
A5: IDENTIFICACIÓN DE LA ENTIDAD
A7: Sector: | D7: Deporte y Recreación
A8: Entidad: | D8: Ministerio del Deporte | G8: Ministerio del Deporte
A9: Ministro del Deporte: | D9: Luz Cristina Lopez Diaz | G9: Luz Cristina Lopez Diaz
A10: Vigencia: | D10: 2024 | G10: 2024
A12: Identificación de Riesgos | J12: Análisis del Riesgo Inherente | M12: Descripción de Controles | O12: Atributos del Control | R12: Evaluación del Riesgo -Nivel del Riesgo Residual | U12: Plan de Tratamiento
A13: N° Riesgo | B13: Proceso | C13: Tipología del Riesgo | D13: Riesgo | E13: Objetivo del Proceso | F13: Descripción del Riesgo | G13: Causa Inmediata | H13: Causa Raíz | I13: Consecuencias | J13: Probabilidad | K13: Impacto | L13: Zona de Riesgo | M13: No. Control | N13: Definición del Control | O13: Afectacion | P13: Tipo | Q13: Implementación | R13: Probabilidad Residual Final | S13: Impacto Residual Final | T13: Zona de Riesgo Final | U13: Tratamiento | V13: Acción | W13: Soporte o evidencia de la acción | X13: Responsable de la ejecución | Y13: Fecha implementación | Z13: Indicador Clave del Riesgo | AA13: Indicador del Desempeño del Control | WZO13: RF-Un bien público | WZP13: Daños Activos Fisicos
B14: Servicio Integral al Ciudadano | C14: Corrupción | D14: R1 | E14: Gestionar el desarrollo de programas, lineamientos y estrategias para facilitar el acceso de los ciudadanos propiciando las condiciones para el ejercicio efectivo de los derechos y deberes con enfoque diferencial, que influyan en la construcción de una gestión democrática con excelencia centrada en el Servicio Integral al Ciudadano. | F14: Posibilidad de recibir o solicitar cualquier dádiva o beneficio a nombre propio o de terceros por omitir el registro de PQRSD en los canales presenciales, telefónicos y chat | G14: *Alto volumen de rquerimientos para atención sumultanea | H14: Debilidad en el protocolo de atención | I14: * Imagen institucional * Insatisfacción de grupo de valor | J14: Alta | K14: Moderado | L14: Alto | M14: R1-Con-1 | N14: Cada vez que se requiera La coordinadora del grupo interno de trabajo de Servicio Integral al Ciudadano verifica que los responsables de la atención de canales realicen el registro en GESDOC de las atenciones a traves del un cierre diario de la gestión sobre los canales presencial, telefónico y chat . En caso de encontrar faltantes en los registos diarios se realiza el llamado de atención al responsable.. Evidencia: Reporte trimestral de gesdoc de atenciones por canal presencial, telefónico y chat e Informe trimestral de PQRSD | O14: Probabilidad | P14: Preventivo | Q14: Automático | R14: Baja | S14: Moderado | T14: Moderado | U14: Reducir(Mitigar) | V14: Documentar un formato de registro diario de las atenciones para los canales presencial, telefónico y chat | W14: Registro | X14: Profesional, técnico o asistencial asignado para la atención de canales | Y14: 01/07/2024 al 30/11/2024 | Z14: (Número de personas satisfechas / Número de personas que diligencian encuesta de satisfaccion )x100 Fuente: Encuesta semestral de satisfacción de canales" | AA14: (Número de incidencias / Número de cierres de registro de atenciones realizados)x100 | WZN14: Gestión | WZO14: RF-Un interés patrimonial de naturaleza pública | WZP14: Ejecución y administración de procesos
B15: Gestión de Comunicaciones | C15: Corrupción | D15: R2 | E15: Establecer lineamientos de comunicación interna y externa dirigidos a los grupos de valor, que garanticen el flujo y el acceso a la información, la promoción de la política pública y las decisiones y actuaciones del Ministerio del Deporte, a fin de contribuir a su posicionamiento en el sector. | F15: Posibilidad de recibir o solicitar cualquier dádiva o beneficio a nombre propio o de terceros por la falta de control sobre la asignacion y traslado de los bienes de propiedad del Ministerio del Deporte debido a la inexistencia de procedimientos asociados al proceso de recursos fisicos frente al tema de inventario. | G15: Insuficiencia de personal para la verificación de bienes en deposito y en servicio. Falta de control sobre el uso de los bienes de propiedad del Ministerio del Deporte. | H15: Inexistencia de procedimientos asociados al proceso de recursos fisicos frente el tema de inventarios. | I15: * Perdida o daño de elementos a cargo del Almacen * Perdida o daño de bienes asignados a Funcionarios * Procesos disciplinarios, fiscales y penales. | J15: Media | K15: Moderado | L15: Moderado | M15: R2-Con-1 | N15: Cada vez que se requiera, el profesional especializado con funciones de almacenista, registra en el Sistema de inventarios SOAWEB los ingresos, salidas y traslados de bienes de acuerdo con la asignación y retiro de lfuncionarios. De la ejecución del control el aplicativo genera el reporte actualizado | O15: Probabilidad | P15: Preventivo | Q15: Automático | R15: Baja | S15: Moderado | T15: Moderado | U15: Reducir(Mitigar) | V15: Generar un mapeo constante para anticiparnos a los riesgos de crisis de la comunicación. | W15: Actas consejo de redacción | X15: Coordinador GIT Comunicaciones | Y15: 30/04/2024 - 30/11/2024 | Z15: Número de casos de publicación de información sin verifcación / total de publicaciones | AA15: Indicador del Desempeño del Control = (# eventos / frecuencia con la cual se realiza la actividad)*100
V16: Realizar acciones pedagógicas a los colaboradores de la entidad, cuando se requiera sobre la aprobación de la información por PQRSD asociadas a las solicitudes de los medios de comunicación. | W16: Evidencia de la socialización | X16: Coordinador GIT Comunicaciones | Y16: 30/04/2024 - 30/11/2024
V17: Socializar mediante acciones pedagógicas los lineamientos de comunicación emanados de la Secretaría de Prensa y de la normativa del Gobierno Nacional. | W17: Evidencia de la socialización | X17: Profesional especializado 2028 grado 21 | Y17: 30/04/2024 - 30/11/2024
B18: Gestión Financiera | C18: Corrupción | D18: R3 | E18: Planificar y desarrollar las actividades necesarias para la gestión, producción y generación de la información financiera, ejecución y control presupuestal de acuerdo con los principios, normas técnicas y procedimientos vigentes para garantizar que los recursos financieros sean optimizados de acuerdo a las necesidades y obligaciones de la Entidad | F18: Posibilidad de Afectación Económica y Reputacional por posibles comportamientos no éticos de los empleados y fraude interno (corrupción, soborno) debido a la falta de verificación de cálculos para pagos internos y externos que conlleva a errores, pagos que no sean conformes con los lineamientos de la Entidad y/o la legislación vigente, que no refleje la realidad financiera de la Entidad e impida la optimización de los recursos, sin el cumplimiento de los requisitos establecidos por el proceso de Gestión Financiera. | G18: 1. Posibles comportamientos no éticos de los empleados 2. Fraude interno (corrupción, soborno) | H18: Incurrir en inconsistencias en el desarrollo de las actividades asociadas a las Conciliaciones Bancarias que no sean conformes con los lineamientos del proceso de Gestión Financiera y la legislación vigente. | I18: 1. Deterioro de la imagen institucional. 2. Desgaste administrativo por reprocesos. 3. Toma de decisiones con base en información financiera que no sea consistente con la realidad económica y financiera de la Entidad y la normatividad vigente aplicable. 4. Afectación de la información contenida en la Gestión Financiera de la Entidad. 5. Sanciones Disciplinarias. 6. Realizar extemporáneamente los pagos de las obligaciones adquiridas por la Entidad y/o los reportes de información financiera a entidades obligadas (DIAN-MHCP-CGR-CGN). 7. No fenecimiento de la Cuenta Fiscal de la Entidad por parte de la Contraloría General de la República - CGR. 8. Pago de sanciones e intereses de mora por registro inoportuno de las transacciones asociadas a la Gestión Financiera. 9. Incumplimiento de objetivos y metas institucionales 10. Sanciones de tipo fiscal, penal, disciplinaria y civil impuestas por parte de los entes de control. | J18: Muy Alta | K18: Catastrófico | L18: Extremo | M18: R3-Con-1 | N18: Cada vez que se requiera, el Coordinador (a) del GIT Tesorería y/o profesionales designados, debe conciliar la información financiera generada de las actividades desarrolladas teniendo en cuenta lo dispuesto en el procedimiento GF-PD-019 del proceso de Gestión Financiera, mediante el cruce de información de los registros efectuados . En caso de identificar desviaciones en la ejecución del control, se efectúan los ajustes requeridos mediante las transacciones dispuestas para tal fin. De la ejecución del control se generará la siguiente evidencia: Formato GF-FR–010 Conciliación Bancaria firmado o correo electrónico de devolución para ajuste. | O18: Probabilidad | P18: Detectivo | Q18: Manual | R18: Alta | S18: Catastrófico | T18: Extremo | U18: Reducir(Mitigar) | V18: 1. Elaborar el procedimiento de Gestión de Pagos, donde se evidencian las actividades del GIT Tesorería. | W18: 1. Procedimiento de Gestión de Pagos, donde se evidencian las actividades del GIT Tesorería, con los controles incluidos. | X18: Profesionales delegados como enlaces de MIPG del GIT Tesorería. | Y18: 1. 01/04/2024 al 31/08/2024 | Z18: Variación en cantidad de situaciones de favorecimiento materializadas = ((# de situaciones de riesgo materializadas en periodo de monitoreo actual - # de situaciones de riesgo materializadas en periodo de monitoreo anterior)/(# de situaciones de riesgo materializadas en periodo de monitoreo anterior))*100% | AA18: Cumplimiento del Plan de Tratamiento = (# de actividades finalizadas / # de actividades definidas en el plan de tratamiento) x 100%
M19: R3-Con-2 | N19: Cada vez que se requiera, El Coordinador (a) del GIT Tesorería y/o profesionales designados, debe verificar que la información financiera radicada por las dependencias ejecutoras de recursos cumplan con las directrices impartidas por la Entidad y la normatividad vigente aplicable, por medio de la validación de la documentación. Para el caso de cuentas se realiza contra el formato GF-FR-020, para los casos de expedición o modificación de CDP vía SISEG o formato según corresponda y Registros Presupuestales con la documentación soporte adjunta y para las Ordenes de Pago la verificación visual de la información. En caso de identificar desviaciones en la ejecución del control, se debe devolver la solicitud mediante el formato de Devolución de documentos GF-FR-016 o en SISEG según corresponda. De la ejecución del control se generará la siguiente evidencia: Devolución de documentos mediante el Formato GF-FR-016 o devolución en SISEG según corresponda | O19: Probabilidad | P19: Detectivo | Q19: Manual | R19: Media | S19: Catastrófico | W19: 2. Correo electrónico de socialización de la actualización del procedimiento a través de comunicaciones internas.
R20: Media | V20: 1. Realizar seguimiento a la ejecución mensual al Plan Anual Mensualizado de Caja – PAC. | W20: 1. Correos electrónicos o comunicados de seguimiento a la ejecución. | X20: 1. Coordinador y/o Profesionales delegado del GIT Tesorería. | Y20: 1. 02/01/2024 al 31/12/2024
B21: Gestión Jurídica | C21: Corrupción | D21: R4 | E21: Desarrollar las actividades asociadas a la gestión jurídica de la entidad, mediante el cumplimiento de la normatividad vigente aplicable con la finalidad de asegurar la defensa jurídica y prevención de daño antijurídico de la entidad | F21: Posibilidad de recibir cualquier dádiva o beneficio por ejercer una deficiente defensa técnica judicial. | G21: Intereses particulares que afecten la objetividad en el proceso de respuesta de las Acciones de Tutela | H21: Posibles respuestas a las acciones de Tutela desarticuladas con la línea Jurídica establecida de acuerdo con la normatividad vigente. | I21: Fallos (decisión del juez) en contra de la entidad por omisión de lineamientos jurídicos para responder acciones de tutela causados por la inseguridad jurídica a nivel interno. Que se generen situaciones con efectos perjudiciales para la Entidad por la emisión de una doble línea jurídica, situación que puede generar en algunos casos un detrimento patrimonial. | J21: Media | K21: Catastrófico | L21: Extremo | M21: R4-Con-1 | N21: Cada vez que se requiera ,el Jefe Oficina Asesora Jurídica, debe revisar y verificar que el contenido de las respuestas a los requerimientos legales remitidos a la Oficina, cumpla con la línea jurídica de la Entidad, a través de la validación del documento mediante la firma del mismo. En caso de identificar desviaciones en la ejecución del control, Solicitar los ajustes del documento al responsable asignado para dar respuesta al requerimiento. Evidencia: Base de datos detallada de contestaciones de acciones de tutela con su numero de radicado para validacion de firmas de aprobacion | O21: Probabilidad | P21: Preventivo | Q21: Manual | R21: Baja | S21: Catastrófico | T21: Extremo | U21: Reducir(Mitigar) | V21: Remitir al personal de la Oficina Asesora Jurídica el Procedimiento Contestación de acciones de Tutela, para su conocimiento e implementación. | W21: Correo electrónico establecido por la OAJ | X21: Jefe de la Oficina Asesora Juridica | Y21: 45400 | Z21: Número de acciones de tutela en el periodo (cuatrimestre) tramitados conforme a los lineamientos establecidos / Número de acciones de tutela en el periodo (cuatrimestre) recibidos) *100% | AA21: Indicador del Desempeño del Control = (# eventos / frecuencia con la cual se realiza la actividad)*100
V22: Realizar tres (3 )revisiones aleatorias de la aplicación el procedimiento de Acciones de Tutela con el personal de la Oficina Asesora Jurídica. | W22: Tres (3) Actas de las revisiones realizadas. | X22: Jefe de la Oficina Asesora Juridica y contratistas asignados para la ejecución de la acción | Y22: 18/04/2024 - 30/11/2024
V23: Incluir en la base de datos de la Oficina Asesora Jurídica, el fundamento de derecho empleado para la contestación de tutelas . | W23: Una (1) base datos actualizada | X23: Profesional contratista asignado para la ejecucion de la actividad. | Y23: 45431
V24: Elaborar un (1) informe mediante el cual se detalle la importancia de la socialización del procedimiento de Contestación de Acciones de Tutela al personal de la Oficina Asesora Jurídica. | W24: Un (1) informe revisado y aprobado por el Jefe de la Oficina Asesora Jurídica. | X24: Profesional contratista asignado para la ejecucion de la actividad. | Y24: 45627
B25: Gestión de los Recursos Físicos | C25: Corrupción | D25: R5 | E25: Gestionar y optimizar obras, bienes y servicios mediante la administración, mantenimiento y control de los bienes muebles e inmuebles necesarios para responder a las necesidades de los procesos estratégicos, misionales y de soporte aplicables a Mindeporte" | F25: Posibilidad de recibir o solicitar cualquier dádiva o beneficio a nombre propio o de terceros por la falta de control sobre la asignacion y traslado de los bienes de propiedad del Ministerio del Deporte debido a la inexistencia de procedimientos asociados al proceso de recursos fisicos frente al tema de inventario | G25: Insuficiencia de personal para la verificación de bienes en deposito y en servicio. Falta de control sobre el uso de los bienes de propiedad del Ministerio del Deporte. | H25: Inexistencia de procedimientos asociados al proceso de recursos fisicos frente el tema de inventarios. | I25: Perdida o daño de elementos a cargo del Almacen - Perdida o daño de bienes asignados a Funcionarios - Procesos disciplinarios, fiscales y penales. | J25: Media | K25: Moderado | L25: Moderado | M25: R5-Con-1 | N25: Cada vez que se requiera, el profesional, accede a software de inventarios SOAWEB mediante usuario personalizado e ingresa la informacion correspondiente a entradas, salidas y traslados de elementos. . En caso de encontrar desviacion se impleemtara el tratamiento de acuerdo con lo establecio en el manual de almacen MN-RF-001 De la ejecución del control se generará la siguiente evidencia: registro de la asignación de equipos y elementos y registro consolidado de elementos en servicio a cargo del funcionario. | O25: =IF(OR(P25="Preventivo",P25="Detectivo"),"Probabilidad",IF(P25="Correctivo","Impacto","")) -> Probabilidad | P25: Preventivo | Q25: Automático | R25: Baja | S25: Moderado | T25: Moderado | U25: Reducir(Mitigar) | V25: Crear el procedimiento para el seguimiento y control de los inventarios. | W25: Procedimineto aprobado en ISOLUCION. | X25: Líder del proceso y/o Enlace. | Y25: 01/05/2024 a 15/08/2024. | Z25: (# de elementos asignados/# de elementos en servicio)*100 | AA25: Indicador del Desempeño del Control = ( # de actualizaciones realizadas / frecuencia con la cual se realiza la actividad)*100
B27: Apoyo a la Infraestructura Técnica y Científica | C27: Corrupción | D27: R6 | E27: Contribuir al mejoramiento y desarrollo del Sistema Nacional del Deporte a través de la infraestructura tecnológica, locativa, científica y de información y de la innovación e investigación en el deporte colombiano. | F27: Posibilidad de recibir o solicitar cualquier dádiva o beneficio a nombre propio o de terceros para ejercer deficiente el ejercicio de la supervision. | G27: Desconocimiento por parte de los supervisores, de los requisitos exigidos para los desembolsos. Se realizan los pagos a los contratos sin el cumplimiento de las actividades contractuales | H27: Omision de actividades en el ejercicio de la supervision. Conflicto de intereses que benficien un interes particular | I27: Sanciones administraticas y disciplinarias por Omision de actividades en el ejercicio de la supervision. Mala imagen institucional Sanciones administrativas y disciplinarias por desviacion de recursos. Detrimento patrimonial. Perdida de la credibilidad en la entidad | J27: Media | K27: Catastrófico | L27: Extremo | M27: R6-Con-1 | N27: Cada vez que se requiera, el profesional de apoyo financiero del GIT de infraestructura -Profesional financiero GIT Financiera, debe verificar, validar y revisar los requisitos establecidos en el convenio y/o contrato para el desembolso o pago, se verifica que el ente ejecutor aporte todos los documentos. En caso de identificar desviaciones en la ejecucion del control , se envia requerimiento y/o memorando al supervisor informativo informando los documentos o soportes que se deben ajustar o agregar para los desembolsos, con el fin de que el supervisor informe al ente ejecutor para que aporte los documentos completos. De la ejecucion de los controles se generara la siguiente evidencia: La matriz de seguimiento a estado de obras generada a traves de la plataforma ARGIS | O27: =IF(OR(P27="Preventivo",P27="Detectivo"),"Probabilidad",IF(P27="Correctivo","Impacto","")) -> Probabilidad | P27: Preventivo | Q27: Manual | R27: Baja | S27: Catastrófico | T27: Extremo | U27: Reducir(Mitigar) | V27: Consolidar los soportes que respaldan el desembolso | W27: Soportes que respaldan el desembolso | X27: Profesional asignado GIT de Infraestructura | Y27: 29/04/2024 al 20/12/2024 | AA27: Indicador del Desempeño del Control = (# eventos / frecuencia con la cual se realiza la actividad)*100
M28: R6-Con-2 | N28: Cada vez que se requiera, el supervisor asignado del GIT de Infraestructura, debe revisar y cotejar el avance del contrato o convenio, mesas de trabajo con el ente ejecutor, la interventoria y el supervisor para realizar el seguimiento al convenio o contrato. En caso de indetificar desviaciones en la ejecucion del control, se realizan visitas tecnicas in situ y se realizan acciones para mitigar el incumplimiento. De la ejecucion de los controles se generara la siguiente eviodencia: Matriz de seguimiento a estado de obras generada a traves de la plataforma ARGIS | O28: =IF(OR(P28="Preventivo",P28="Detectivo"),"Probabilidad",IF(P28="Correctivo","Impacto","")) -> Probabilidad | P28: Detectivo | Q28: Manual | R28: Baja | S28: Catastrófico | V28: Actualizar el instructivo del proceso que se debe surtir para el desembolso y demas temas financieros atribuiboles al convenio y compartirlo con los entes ejecutores | W28: Instructivo financiero | X28: Profesional asignado GIT de Infraestructura | Y28: 29/04/2024 al 20/12/2024
B29: Apoyo a la Infraestructura Técnica y Científica | C29: Corrupción | D29: R7 | E29: Contribuir al mejoramiento y desarrollo del Sistema Nacional del Deporte a través de la infraestructura tecnológica, locativa, científica y de información y de la innovación e investigación en el deporte colombiano. | F29: Posibilidad de recibir o solicitar cualquier dádiva o beneficio a nombre propio o de terceros por la financiacion y cofinanciacion de proyectos que no cumplen con los requisitos establecidos | G29: No cumplir con el procedimiento de revision de proyectos | H29: Generar desviaciones en el procedimiento de revision de proyectos en benficio propio | I29: Imagen reputacion de la entidad. Viabilizacion de proyectos que no cumplen con la resolucion de revision de proyectos | J29: Media | K29: Mayor | L29: Alta | M29: R7-Con-1 | N29: Semestralmente se designa un profesional del GIT Infraestuctura para verioficar de manera aleatoria las fichas de revision de proyectos con concepto favorable con el fin de identificar que se este cumpliendo con los requisitos de revision de proyectos y de procedimientos establecidos. De la ejecucion del control se emitira un informe cuatrimestral | O29: =IF(OR(P29="Preventivo",P29="Detectivo"),"Probabilidad",IF(P29="Correctivo","Impacto","")) -> Probabilidad | P29: Detectivo | Q29: Manual | R29: Mayor | S29: Alta | T29: Alta | U29: Reducir(Mitigar) | V29: Actualizar procedimiento de revision de proyetos acorde a la resolucion | W29: Disponibilidad el procedimiento en la plataforma ISOLUCION | X29: Coordinador del GIT Inraestructura | Y29: 29/04/2024 al 20/12/2024
B30: Inspección Vigilancia y Control | C30: Corrupción | D30: R8 | E30: Ejercer las funciones de inspección, vigilancia y control para formalizar los organismos deportivos y demás entidades que conforman el Sistema Nacional del Deporte. | F30: Posibilidad de recibir o solicitar cualquier dadiva o beneficio a nombre propio o de terceros para desviar los informes de inspección, vigilancia y control para favorecer algún organismo deportivo o entidad del SND (Sistema Nacional del Deporte) | G30: Falta de ética laboral y inadecuado conocimieto de la normatividad deportiva | H30: Inadecuado seguimiento y cumplimiento con las etapas y actividades relacionadas en el IVC-PD-004, relacionado con los trámites de la Dirección de Inspección Vigilancia y Control | I30: Gestión inadecuada de la información. Sanciones administrativas y disciplinarias. Pérdida de la oportunidad procesal. Revocatorias, modificaciones o demandas frente actos administrativos irregulares. Reprocesos. Duplicidad de actividades. Inoportuna gestión preventiva. Supervisión inoportuna. Afectación de Imagen Institucional. Afectación para los organismos deportivos. | J30: Alta | K30: Media | L30: Mayor | M30: R8-Con-1 | N30: Cuando se adelante un trámite de Registro formato Otorgamiento, Negación, Renovación o Actualización Reconocimiento Deportivo Ligas y Asociaciones Deportivas IVC-FR-003, Otorgamiento o Negación de Personería Jurídica Federación Deportiva Nacional y Club Profesional IVC-FR-004, o Inscripción de Miembros Federación Deportiva Nacional y Club Profesional, el Profesional asignado del GIT Deporte profesional o Deporte Aficionado., debe Verificar el cumplimiento de los requisitos legales y estatutarios, del organismo deportivo para el respectivo estudio y validez de la documentación necesaria para el trámite. Se diligencia el formato Otorgamiento, Negación, Renovación o Actualización Reconocimiento Deportivo Ligas y Asociaciones Deportivas IVC-FR-003, Otorgamiento o Negación de Personería Jurídica Federación Deportiva Nacional y Club Profesional IVC-FR-004, o Inscripción de Miembros Federación Deportiva Nacional y Club Profesional (según sea el caso); en el cual se verifican los requerimientos necesarios para la resolución de los trámites. En caso de identificar desviaciones en la ejecución del control o presentarse incumplimiento o uso inadecuado del formato de verificación, los coordinadores de cada G.I.T deberán devolver el tramite y solicitar la adecuada verificación del mismo. De la ejecución de los controles se generará la siguiente evidencia: Registro formato Otorgamiento, Negación, Renovación o Actualización Reconocimiento Deportivo Ligas y Asociaciones Deportivas IVC-FR-003, Otorgamiento o Negación de Personería Jurídica Federación Deportiva Nacional y Club Profesional IVC-FR-004, o Inscripción de Miembros Federación Deportiva Nacional y Club Profesional. Evidencia: Base de datos | O30: Probabilidad | P30: Preventivo | Q30: Automático | R30: Baja | S30: Mayor | T30: Alta | U30: Reducir(Mitigar) | V30: 1. Socializar a los profesionales de la Dirección de Inspección, Vigilancia y Control el procedimiento y los formatos actualizados. | W30: 1. Acta de socialización del Procedimiento a los profesionales de IVC | X30: Profesional designado de la Dirección de IVC. | Y30: 1. 30/04/2024 | Z30: Número de comunicaciones presentadas de incumplimiento al procedimiento. | AA30: Indicador del Desempeño del Control = (# eventos / frecuencia con la cual se realiza la actividad)*100
V31: 2. Socializar a través de entérate el procedimiento de trámites de otorgamiento, negación , actualización y renovación del reconocimiento deportivo, otorgamiento de personería jurídica, inscripción de miembros de los organismos deportivos del SND, al interior del Ministerio. | W31: 2. Una (1) pieza de comunicación entérate | X31: Profesional designado de la Dirección de IVC. | Y31: 2. 31/06/2024
V32: 3. Realizar revisión aleatoria de diez (10) resoluciones expedidas por cuatrimestre en los expedientes a los que se les haya tramitado: Otorgamiento, Negación, Renovación o Actualización Reconocimiento Deportivo Ligas y Asociaciones Deportivas , Otorgamiento o Negación de Personería Jurídica Federación Deportiva Nacional y Club Profesional, Inscripción de Miembros Federación Deportiva Nacional y Club Profesional. | W32: 3. Registro mediante ficha técnica por cuatrimestre | X32: Profesional designado de la Dirección de IVC. | Y32: 3. 31/07/20
B33: Gestión del Talento Humano | C33: Corrupción | D33: R9 | E33: Administrar y desarrollar el talento humano de Mindeporte, a través de la planeación, ejecución, verificación y mejoramiento de los planes y programas del área con la finalidad de mejorar la calidad de vida de los servidores públicos y tener una planta de personal calificada. | F33: Posibilidad de recibir cualquier dádiva o beneficio a nombre propio o de terceros para expedir un certificado laboral. | G33: Expedición erronea de certificaciones por duplicidad en la numeración (Código de Barras) asignada a la certificación laboral Que se reciban dadivas o se beneficie a nombre propio o de terceros en la expedición de certificaciones laborales. | H33: Posibles fallas en la implementación del procedimiento Solicitud y expedición de Certificados Laborales | I33: Afectación en la continuidad de la prestación del servicio al ciudadano. Afectación a la imagen institucional. Pérdida de credibilidad del equipo de trabajo y la imagen institucional. Posibles acciones judiciales en contra de la Entidad. Investigaciones y procesos disciplinarios a la entidad y/o funcionario responsable. | J33: Alta | K33: Mayor | L33: Alta | M33: R9-Con-1 | N33: Diariamente ,el Personal a cargo de la actividad GIT Talento Humano., debe Verificar la historia laboral para el diligenciamiento de las funciones y cargos del solicitante,garantizando que las certificaciones laborales generadas por el GIT sea veraz., Generando un codigo de barras unico a cada certificación.. En caso de identificar desviaciones en la ejecución del control, Anular la certificación y generar una nueva con un nuevo codigo de barras.. De la ejecución de los controles se generará la siguiente evidencia: 1. Registro Control de Codificación de Certificados Laborales GH-FR-052. 2 .Registro de entrega de los certificados. | O33: Probabilidad | P33: Preventivo | Q33: Manual | R33: Media | S33: Mayor | T33: Alta | U33: Reducir(Mitigar) | V33: 1. Realizar verificaciones 3 aleatorias de la implementación del procedimiento de Solicitud y expedición de Certificado laborales. 2. Emitir piezas de comunicación para dar a conocer a los funcionarios como solicitar las certificaciones laborales. | W33: 1. Acta de reunión / Correo electrónico. 2. Dos (2) piezas de comunicación Entérate | X33: 1. Coordinador GIT de Talento Humano. 2.Persona asignada de Talento Humano responsable de la expedición de certificados | Y33: 1. 25/05/2024 30/08/2024 30/12/2024 2. 25/05/2024 30/08/2024
B35: Gestión de TICS | C35: Corrupción | D35: R10 | E35: Asegurar la implementación, administración y soporte de las tecnologías de la información y de las comunicaciones a través de la prestación de servicios de manera oportuna y eficaz coadyuvando a la optimización de la gestión de los procesos y la divulgación de la información de Mindeporte y del Sistema Nacional del Deporte (SND) | F35: Posibilidad de afectación económica o reputacional por acceder, facilitar el acceso o alterar los datos de los sistemas de información de la entidad con el fin de beneficiarse a nombre propio o de terceros | G35: * Falta de gobernabilidad del proceso Gestión TIC's dentro de la estructura de la organización * Las dependencias no comunican oportunamente al proceso Gestión TIC's sobre ingresos, salidas y cambios de contratistas a fin de conceder o revocar sus permisos de acceso * El proceso Gestión TIC's presenta fallas en el seguimiento oportuno a la asignación o eliminación de permisos de acceso a los sistemas de información del Ministerio * Demoras en la asignación de recursos de inversión y funcionamiento para el GIT TIC's * Falta de especialistas en seguridad de la información y desarrollo de software para el tratamiento de vulnerabilidades de acceso a los sistemas de información | H35: Se presentan fallas en las estrategias de control de acceso a los sistemas de información de la entidad | I35: * Deterioro de la imagen institucional * Procesos legales * Fugas o pérdidas de información * Faltas de disponibilidad de los servicios tecnológicos | J35: Alta | K35: Mayor | L35: Alta | M35: R10-Con-1 | N35: Cada vez que se requiera, el Coordinador del GIT TIC's verificará que los niveles de acceso concedidos a los usuarios correspondan a los solicitados a través de la Mesa de Servicio. En caso de identificar desviaciones en la ejecución del control, notificará a la Mesa de Servicio para que revoque los permisos no solicitados. De la ejecución de los controles se generará la siguiente evidencia: reporte de usuarios y permisos por aplicación. | O35: Probabilidad | P35: Preventivo | Q35: Manual | R35: Media | S35: Mayor | T35: Alta | U35: Reducir(Mitigar) | V35: Realizar un plan de trabajo para la revisión y actualización de la documentación asociada al proceso de Gestión TIC's en el Sistema de Gestión de Calidad. | W35: Acta de Reunión equipo GIT TIC's Plan de Trabajo | X35: Coordinador GIT TIC's | Y35: 18/04/2024 30/11/2024 | Z35: Acceso indebido a los sistemas de información | AA35: Porcentaje de incidentes de corrupción demostrados = (# eventos demostrados / #incidencias)*100
M36: R10-Con-2 | N36: Semestralmente, el Coordinador del GIT TIC's socializará la politica de seguridad de informacion y régimen sancionatorio ante acceso informático indebido vigentes mediante piezas de comunicación y charlas en las que se incluyan tips de seguridad de la información. En caso de identificar desviaciones en la ejecución del control, se remitirá a la visualización de las charlas publicadas en la sección Seguridad de la Información en la Intranet institucional. De la ejecución de los controles se generará la siguiente evidencia: Listados de asistencia a las socializaciones y cuando aplique a las grabaciones. | O36: Probabilidad | P36: Preventivo | Q36: Manual | R36: Baja | S36: Mayor | V36: Documentación actualizada y aprobada en el Sistema de Gestión de Calidad | W36: Documentos aprobados en el Sistema de Gestión de Calidad según el plan de trabajo propuesto | X36: Coordinador GIT TIC's | Y36: 45626
B37: Adquisición de Bienes y Servicios | C37: Corrupción | D37: R12 | E37: Adelantar procesos contractuales en la adquisición de obras, bienes y servicios dando cumplimiento a los requisitos legales y políticas internas de la Entidad para dar respuesta eficaz a las necesidades de los procesos. | F37: Posibilidad de Afectación Reputacional por recibir cualquier dádiva o beneficio a nombre propio o de terceros por el direccionamiento indebido de procesos de contratación | G37: Investigaciones penales y disciplinarias contra los servidores públicos o contratistas que desempeñan funciones públicas | H37: Direccionamiento de procesos de contratación en favor propio o de un tercero | I37: Configuración de un acto de corrupción | J37: Alto | K37: Catastrófico | L37: Extremo | M37: R11-Con-1 | N37: Cada vez que se requiera ,el Coordinador GIT Contratación, debe realizar el reparto de los procesos a los estructuradores, ademas con el apoyo del profesional designado garantizar el seguimiento a los procesos asignados a cada estructurador en aras que los contratos se suscriban en un tiempo adecuado. En caso de identificar desviaciones en la ejecución del control, propender por la reasignación oportuna a nuevo personal que garantize la continuidad del servicio. De la ejecución de los controles se generará la siguiente evidencia: Muestra de correos asignando los procesos a los estructuradores y/o base de datos con los procesos asignados a cada estructurador | O37: =IF(OR(P37="Preventivo",P37="Detectivo"),"Probabilidad",IF(P37="Correctivo","Impacto","")) -> Probabilidad | P37: Preventivo | Q37: Manual | R37: Media | S37: Catastrófico | T37: Extremo | U37: Reducir(Mitigar) | V37: Realizar la actuliazación de la base de contratación cada vez que se realice una nueva solicitud, es decir incluir aquellas que estan en trámite, para garantizar un seguimiento | W37: Base de datos de procesos que estan en trámite y no han sido suscritos | X37: Coordinador de contratcaión y/o profesional asignado | Y37: 45626 | AA37: Indicador del Desempeño del Control = (# eventos / frecuencia con la cual se realiza la actividad)*100
M38: R11-Con-2 | N38: Cada vez que se requiera, el Coordinador GIT Contratación, debe citar al Comite de Contratación para que se revisen los procesos que tengan un valor superior a la miníma cuantia, y se hagan las recomendaciones necesarias para adelantar la gestión contractual de la mejor manera posible. En caso de identificar desviaciones en la ejecución del control, se revisará la normativa para garantizar la legalidad de los procesos que se adelanten. De la ejecución de los controles se generará la siguiente evidencia: Actas y/o grabaciones del Comité de Contratación | O38: =IF(OR(P38="Preventivo",P38="Detectivo"),"Probabilidad",IF(P38="Correctivo","Impacto","")) -> Probabilidad | P38: Preventivo | Q38: Manual | R38: Baja | S38: Catastrófico
B39: Gestión Documental | C39: Corrupción | D39: R13 | E39: Gestionar las actividades necesarias para la planificación, formulación de lineamientos, planes, programas, tendientes a la recepción, distribución, organización, conservación, acceso, consulta y disposición final de los documentos que reciba o genere la Entidad. Asegurando la disponibilidad, accesibilidad y la conservación de la memoria institucional, realizando seguimiento al cumplimiento de la normatividad vigente. | F39: Posibilidad de recibir o solicitar cualquier dádiva o beneficio a nombre propio o de terceros por la falta de control sobre la asignacion y traslado de los bienes de propiedad del Ministerio del Deporte debido a la inexistencia de procedimientos asociados al proceso de recursos fisicos frente al tema de inventario. | G39: Insuficiencia de personal para la verificación de bienes en deposito y en servicio. Falta de control sobre el uso de los bienes de propiedad del Ministerio del Deporte | H39: . Inexistencia de procedimientos asociados al proceso de recursos fisicos frente el tema de inventarios. | I39: Perdida o daño de elementos a cargo del Almacen Perdida o daño de bienes asignados a Funcionarios Procesos disciplinarios, fiscales y penales | J39: Media | K39: Moderado | L39: Moderado | M39: R12-Con-1 | N39: Cada vez que se requiera, el profesional especializado con funciones de almacenista, registra en el Sistema de inventarios SOAWEB los ingresos, salidas y traslados de bienes de acuerdo con la asignación y retiro de lfuncionarios. De la ejecución del control el aplicativo genera el reporte actualizado | O39: =IF(OR(P39="Preventivo",P39="Detectivo"),"Probabilidad",IF(P39="Correctivo","Impacto","")) -> Probabilidad | P39: Preventivo | Q39: Automático | R39: Media | S39: Moderado | T39: Moderado | U39: Reducir(Mitigar) | V39: Generar un mapeo constante para anticiparnos a los riesgos de crisis de la comunicación. | W39: Actas consejo de redacción | X39: Coordinador GIT Comunicaciones | Y39: 30/04/2024 - 30/11/2024 | Z39: Número de casos de publicación de información sin verifcación / total de publicaciones | AA39: Indicador del Desempeño del Control = (# eventos / frecuencia con la cual se realiza la actividad)*100
V40: Realizar acciones pedagógicas a los colaboradores de la entidad, cuando se requiera sobre la aprobación de la información por PQRSD asociadas a las solicitudes de los medios de comunicación. | W40: Evidencia de la socialización | X40: Coordinador GIT Comunicaciones | Y40: 30/04/2024 - 30/11/2024
V41: Socializar mediante acciones pedagógicas los lineamientos de comunicación emanados de la Secretaría de Prensa y de la normativa del Gobierno Nacional. | W41: Evidencia de la socialización | X41: Profesional especializado 2028 grado 21 | Y41: 30/04/2024 - 30/11/2024
B42: Altos Logros | C42: Corrupción | D42: R13 | E42: Implementar políticas, planes y programas orientados a la consecución de altos logros para el posicionamiento y liderazgo deportivo del país. | F42: Posibilidad de recibir o solicitar cualquiér dadiva o beneficio a nombre propio o de terceros beneficiando a atletas o paraatletas del programa de atleta excelencia, programa de glorias del deporte, escuela de talentos o beneficiar a federaciones deportivas nacionales que no cumplan con requisitos legales o normativos. | G42: Por falta de apropiación y aplicación de los lineamientos y procedimientos Ausencia de Estandarización en los Procesos de Evaluación y Selección Errores en la elaboracion del acta o base de datos (Nomina) en la categoria del deportista generando un posible pago mayor o menor | H42: Dificultades en el proceso de verificación de los requisitos para el acceso y/o permanencia como beneficiario de los programas de atleta excelencia, glorias del deporte, escuela de talentos, o de apoyo a federaciones deportivas nacionales. Posible manipulacion de soportes y requisitos por parte de los aspirantes para aplicar el incentivo economico | I42: Detrimento patrimonial por la inversión de recursos públicos en personas que no hacen parte del grupo de valor del ministerio. Afectación a la imagen institucional. Prestación inadecuada de los servicios. Insatisfacción de los beneficiarios de los servicios y programas de Altos Logros. Sanciones por parte de entes de control. Posibilidad de recibir o solicitar dádivas o beneficios, tanto a nombre propio como en representación de terceros, a través de los programas del proceso de altos logros que se ofrecen como incentivos económicos en el ámbito de la medallería deportiva y los estímulos económicos en los programas "Atleta Excelencia" y "Glorias del Deporte" | J42: Media | K42: Moderado | L42: Moderado | M42: R13-Con-1 | N42: El profesional del GIT de Rendimiento Olimpico designado para implementar el apoyo a la Federaciones deportivas nacionales.. Verificar el cumplimiento de los requisitos de acceso y permanencia para el Apoyo a Federaciones deportivas nacionales (deporte olimpico). A través del documento que de fè del cumplimiento de los requisitos de acceso y permanencia. En caso de identificar desviaciones en la ejecución del control, enviar un oficio indicando la situación evidenciada de falta de requisitos que permita subasanar la información requerida y abstenerse de beneficiar a quien no cumpla con los requisitos establecidos. De la ejecución de los controles se generará la siguiente evidencia: Apoyo a Federaciones deportivas nacionales (deporte olimpico) 1. Verificar en cumplimiento de la Hoja de Ruta para la contratación Formato del proceso de Bienes y Servicios 2. Supervisión de los contratos de apoyo a federaciones nacionales 3. Apoyo a la supervisión | O42: =IF(OR(P42="Preventivo",P42="Detectivo"),"Probabilidad",IF(P42="Correctivo","Impacto","")) -> Probabilidad | P42: Preventivo | Q42: Manual | R42: Media | S42: Moderado | T42: Moderado | U42: Reducir(Mitigar) | V42: "Implementar un mecanismo de seguimiento a las acciones planificadas por medio de: 1. Determinación de un mecanismo en SharePoint para el seguimiento, reporte y consolidación de evidencias de aplicación de controles del proceso de Altos Logros". | W42: Expediente en SharePoint con seguimientos y soportes cargados. | X42: Responsable asignado por el Director de PYLD. | Y42: 30/04/2024 - 30/12/2024 | AA42: Indicador del Desempeño del Control = (# eventos / frecuencia con la cual se realiza la actividad)*100
M43: R13-Con-2 | N43: El profesional del GIT de Rendimiento Paralimpico designado para implementar el apoyo a la Federaciones deportivas nacionales.. Verificar el cumplimiento de los requisitos de acceso y permanencia para el Apoyo a Federaciones deportivas nacionales (deporte paralimpico). A través del documento que de fè del cumplimiento de los requisitos de acceso y permanencia. En caso de identificar desviaciones en la ejecución del control, enviar un oficio indicando la situación evidenciada de falta de requisitos que permita subasanar la información requerida y abstenerse de beneficiar a quien no cumpla con los requisitos establecidos. De la ejecución de los controles se generará la siguiente evidencia: Apoyo a Federaciones deportivas nacionales (deporte paralimpico) 1. Verificar en cumplimiento de la Hoja de Ruta para la contratación Formato del proceso de Bienes y Servicios 2. Supervisión de los contratos de apoyo a federaciones nacionales 3. Apoyo a la supervisión | O43: =IF(OR(P43="Preventivo",P43="Detectivo"),"Probabilidad",IF(P43="Correctivo","Impacto","")) -> Probabilidad | P43: Preventivo | Q43: Manual | R43: Media | S43: Moderado | T43: Moderado
M44: R13-Con-3 | N44: El profesional de la Dirección de Posicionamiento y Liderazgo Deportivo (GIT Desarrollo Psicosocial) designado para implementar el programa Atleta Excelencia.. Verificar el cumplimiento de los requisitos de acceso y permanencia para el programa Atleta Excelencia.. De la ejecución de los controles se generará lo siguiente: Programa Atleta Excelencia 1. Realizar reuniones de la Comisión Evaluadora para el Programa Atleta Excelencia 2. Validar que los nuevos deportistas incluidos en el Programa Atleta Excelencia cumplan con los requisitos establecitos para pertenecer al programa, paa ello se verifica aleatoriamente de tamaño de muestra de 85 (700) de pago de seguridad social a traves del operador de pago de planilla. De la ejecución de los controles se generará la siguiente evidencia: - Actas de reuniòn Comisión Evaluadora para el Programa Atleta Excelencia - Verificacion aleatoria segun tamaño de muestra 85 (700) pago de seguridad social a traves del operador de pago de planilla. | O44: =IF(OR(P44="Preventivo",P44="Detectivo"),"Probabilidad",IF(P44="Correctivo","Impacto","")) -> Probabilidad | P44: Preventivo | Q44: Manual | R44: Muy Bajo | S44: Moderado | T44: Moderado
M45: R13-Con-4 | N45: El profesional de la Dirección de Posicionamiento y Liderazgo Deportivo (GIT Desarrollo Psicosocial) designado para implementar el programa Glorias del Deporte.. Verificar el cumplimiento de los requisitos de acceso y permanencia al programa Glorias del Deporte. De la ejecución de los controles se generará la siguiente evidencia: Programa Glorias del Deporte: 1.Se deberá verificar el certificado de vigencia de la cédula de ciudadanía; y, en caso de residentes en el exterior, el beneficiario deberá adjuntar al Ministerio del Deporte acreditación de la fe de vida (supervivencia) ante el Consulado de la circunscripción donde se encuentra el connacional; para evitar el pago a beneficiarios fallecidos. 2. En el marco del estudio socioeconómico, se requiere la presentación de documentos que respalden los requisitos de ingreso, permanencia o las causales de exclusión. Posteriormente, se llevará a cabo una verificación de dichos soportes, y se recabará el concepto correspondiente como insumo para la evaluación por parte de la mesa tecnica evaluadora 3. En la proyeccion de la resolucion anual, se debe verificar los registros de calidad , permitiendo subsanar la información en la proyección de la resolución. De la ejecución de los controles se generará la siguiente evidencia: - Certificado de vigencia de la cédula de ciudadaní/Supervivencia - Concepto estudio socioeconómico -Registros de calidad proyeccion resolucion anual | O45: =IF(OR(P45="Preventivo",P45="Detectivo"),"Probabilidad",IF(P45="Correctivo","Impacto","")) -> Probabilidad | P45: Preventivo | Q45: Manual | R45: Muy Bajo | S45: Moderado | T45: Moderado
...

Sheet Tabla Impacto
C1: DETERMINAR EL IMPACTO
A3: El impacto, entendido como las consecuencias que pueden generarse en la Entidad a partir de la materialización de un riesgo, se establecerá de acuerdo con los criterios relacionados en las siguientes tablas para los riesgos, seguridad de la información y corrupción. Por favor de clic en el título nivel de impacto según tipo de riesgo y analice de acuerdo a las descripciones de los impactos o consecuencias de cada uno de los niveles, cual aplica al riesgo que esta valorando.
A6: Niveles de Impacto para Riesgos de Corrupción
A7: Niveles de Impacto para Riesgos de Gestión y de Seguridad de la Información
A8: Niveles de Impacto para Riesgos Fiscales
A9: Niveles de Impacto para Riesgos en general y de la Seguridad de la Información
A10: Las variables para determinar el impacto son: Afectación económica y la reputacionales. Nota: Cuando se presenten ambos impactos para un riesgo, tanto económico como reputacional, con diferente niveles se debe tomar el nivel más alto.
B11: Tabla Criterios para definir el nivel de impacto
B13: Nivel | C13: Afectación Económica (o presupuestal) | D13: Pérdida Reputacional | G13: Corrupción
A14: Insignificante | B14: Leve 20% | C14: Afectación menor a 10 SMLMV | D14: El riesgo afecta la imagen de alguna área de la organización
A15: Menor | B15: Menor-40% | C15: Entre 10 y 50 SMLMV | D15: El riesgo afecta la imagen de la entidad internamente, de conocimiento general, nivel interno, de Alta Dirección y/o miembros del SND
A16: Moderado | B16: Moderado 60% | C16: Entre 50 y 100 SMLMV | D16: El riesgo afecta la imagen de la entidad con algunos usuarios de relevancia frente al logro de los objetivos | G16: Repuestas Corrupción en Moderado
A17: Mayor | B17: Mayor 80% | C17: Entre 100 y 500 SMLMV | D17: El riesgo afecta la imagen de de la entidad con efecto publicitario sostenido a nivel de sector administrativo, nivel departamental o municipal | G17: Repuestas Corrupción en Mayor
A18: Catastrófico | B18: Catastrófico 100% | C18: Mayor a 500 SMLMV | D18: El riesgo afecta la imagen de la entidad a nivel nacional, con efecto publicitarios sostenible a nivel país | G18: Repuestas Corrupción en Catastrófico
B21: Afectación_Económica_o_presupuestal | C21: Afectación menor a 10 SMLMV . | D21: El riesgo afecta la imagen de alguna área de la organización
A22: X | B22: Pérdida_Reputacional | C22: Entre 10 y 50 SMLMV | D22: El riesgo afecta la imagen de la entidad internamente, de conocimiento general, nivel interno, de Alta Dirección y/o miembros del SND
B23: Corrupción | C23: Entre 50 y 100 SMLMV | D23: El riesgo afecta la imagen de la entidad con algunos usuarios de relevancia frente al logro de los objetivos | E23: Repuestas Corrupción en Moderado
C24: Entre 100 y 500 SMLMV | D24: El riesgo afecta la imagen de de la entidad con efecto publicitario sostenido a nivel de sector administrativo, nivel departamental o municipal | E24: Repuestas Corrupción en Mayor
C25: Mayor a 500 SMLMV | D25: El riesgo afecta la imagen de la entidad a nivel nacional, con efecto publicitarios sostenible a nivel país | E25: Repuestas Corrupción en Catastrófico
A27: Niveles de Impacto para Riesgos de Corrupción
A28: Para la calificación del impacto de los riesgos clasificados con tipología de corrupción, se deberá responder las siguientes preguntas, con el fin de determinar el nivel de impacto del riesgo en caso de llegarse a materializar. Una vez responda las diecinueve (19) preguntas para cada uno de los riesgos de corrupción, automáticamente la presente hoja se establecerá el nivel de impacto del riesgo que se encuentra valorando, segun los rangos descritos a continuación: Rangos: Impacto Moderado --> Si al responder las diecinueve (19) preguntas, se obtienen entre una (1) a cinco (5) preguntas afirmativas, es decir, genera medianas consecuencias sobre la Entidad . Impacto Mayor --> Si al responder las diecinueve (19) preguntas se obtienen entre seis (6) a once (11) preguntas afirmativas, es decir, genera altas consecuencias sobre la Entidad. Impacto Catastrófico --> Si al responder las diecinueve (19) preguntas se obtienen entre doce (12) a diecinueve (19) preguntas afirmativas, es decir, genera consecuencias desastrosas para la Entidad
