Workbook
Name a: #REF!
Name a: #REF!
Name a: #REF!
Name a: #REF!
Name A_Obj1: OFFSET(#REF!,0,0,COUNTA(#REF!)-1,1)
Name A_Obj1: OFFSET(#REF!,0,0,COUNTA(#REF!)-1,1)
Name A_Obj1: OFFSET(#REF!,0,0,COUNTA(#REF!)-1,1)
Name A_Obj1: OFFSET(#REF!,0,0,COUNTA(#REF!)-1,1)
Name A_Obj1: OFFSET(#REF!,0,0,COUNTA(#REF!)-1,1)
Name A_Obj1: OFFSET(#REF!,0,0,COUNTA(#REF!)-1,1)
Name A_Obj1: OFFSET(#REF!,0,0,COUNTA(#REF!)-1,1)
Name A_Obj2: OFFSET(#REF!,0,0,COUNTA(#REF!)-1,1)
Name A_Obj2: OFFSET(#REF!,0,0,COUNTA(#REF!)-1,1)
Name A_Obj2: OFFSET(#REF!,0,0,COUNTA(#REF!)-1,1)
Name A_Obj2: OFFSET(#REF!,0,0,COUNTA(#REF!)-1,1)
Name A_Obj2: OFFSET(#REF!,0,0,COUNTA(#REF!)-1,1)
Name A_Obj2: OFFSET(#REF!,0,0,COUNTA(#REF!)-1,1)
Name A_Obj2: OFFSET(#REF!,0,0,COUNTA(#REF!)-1,1)
Name A_Obj3: OFFSET(#REF!,0,0,COUNTA(#REF!)-1,1)
Name A_Obj3: OFFSET(#REF!,0,0,COUNTA(#REF!)-1,1)
Name A_Obj3: OFFSET(#REF!,0,0,COUNTA(#REF!)-1,1)
Name A_Obj3: OFFSET(#REF!,0,0,COUNTA(#REF!)-1,1)
Name A_Obj3: OFFSET(#REF!,0,0,COUNTA(#REF!)-1,1)
Name A_Obj3: OFFSET(#REF!,0,0,COUNTA(#REF!)-1,1)
Name A_Obj3: OFFSET(#REF!,0,0,COUNTA(#REF!)-1,1)
Name A_Obj4: OFFSET(#REF!,0,0,COUNTA(#REF!)-1,1)
Name A_Obj4: OFFSET(#REF!,0,0,COUNTA(#REF!)-1,1)
Name A_Obj4: OFFSET(#REF!,0,0,COUNTA(#REF!)-1,1)
Name A_Obj4: OFFSET(#REF!,0,0,COUNTA(#REF!)-1,1)
Name A_Obj4: OFFSET(#REF!,0,0,COUNTA(#REF!)-1,1)
Name A_Obj4: OFFSET(#REF!,0,0,COUNTA(#REF!)-1,1)
Name A_Obj4: OFFSET(#REF!,0,0,COUNTA(#REF!)-1,1)
Name Acc_1: #REF!
Name Acc_1: #REF!
Name Acc_1: #REF!
Name Acc_1: #REF!
Name Acc_1: #REF!
Name Acc_1: #REF!
Name Acc_1234: #REF!
Name Acc_1234: #REF!
Name Acc_2: #REF!
Name Acc_2: #REF!
Name Acc_2: #REF!
Name Acc_2: #REF!
Name Acc_2: #REF!
Name Acc_2: #REF!
Name Acc_3: #REF!
Name Acc_3: #REF!
Name Acc_3: #REF!
Name Acc_3: #REF!
Name Acc_3: #REF!
Name Acc_3: #REF!
Name Acc_4: #REF!
Name Acc_4: #REF!
Name Acc_4: #REF!
Name Acc_4: #REF!
Name Acc_4: #REF!
Name Acc_4: #REF!
Name Acc_5: #REF!
Name Acc_5: #REF!

Sheet Consolidado
B8: Resultados Seguimiento Plan Anticorrupción y de Atención al Ciudadano 2020
B11: Selecciona el componente que desea consultar:
B13: Componente 1: Mapa de riesgos de corrupción y medidas para mitigar los riesgos
B15: Componente 2: Racionalización (Estrategia antitrámites)
B17: Componente 3. Rendición de cuentas
B19: Componente 4. Atención al Ciudadano
B21: Componente 5. Transparencia y Acceso a la Información
B23: Componente 6: Iniciativas adicionales
B25: TOTAL

Sheet Antecedentes
A2: PLAN ANTICORRUPCIÓN Y DE ATENCIÓN AL CIUDADANO 2021
A4: OBJETIVO GENERAL Fomentar la gestión de transparencia y lucha contra la corrupción en el Ministerio del Deporte, a través de la formulación de la estrategia y el desarrollo de actividades orientadas al cumplimiento del Plan Anticorrupción y de Atención al Ciudadano 2021.
A5: OBJETIVOS ESPECÍFICOS • Definir actividades para prevenir la materialización de riesgos de corrupción. • Formular acciones orientadas a identificar las necesidades de los ciudadanos y los grupos de valor. • Formular acciones de rendición de cuentas de la entidad como instrumento de fortalecimiento en la gestión. • Generar acciones para la identificación, priorización y racionalización de trámites del Ministerio del Deporte. • • Formular acciones pedagógicas adicionales para fomentar la Transparencia e integridad de los funcionarios y contratistas.

Sheet Programación Metas
B5: Plan Anticorrupción y de Atención al Ciudadano 2021
B6: Componente | C6: 1er bimestre ene-feb | D6: 2do bimestre mar-abr | E6: 3ro bimestre may-jun | F6: 4to bimestre jul-ago | G6: 5to bimestre sep-oct | H6: 6to bimestre nov-dic
B8: Componente 1: Mapa de riesgos de corrupción y medidas para mitigar los riesgos | C8: =+#REF! -> #REF! | D8: =+#REF! -> #REF! | E8: =+#REF! -> #REF! | F8: =+#REF! -> #REF! | G8: =+#REF! -> #REF! | H8: =+#REF! -> #REF!
B9: Componente 2: Racionalización (Estrategia antitrámites) | C9: =+'2.Racionalización'!T10 -> 0 | D9: =+'2.Racionalización'!U10 -> 0.5 | E9: =+'2.Racionalización'!V10 -> 0.5 | F9: =+'2.Racionalización'!W10 -> 0.5 | G9: =+'2.Racionalización'!X10 -> 0.5 | H9: =+'2.Racionalización'!Y10 -> 1
B10: Componente 3. Rendición de cuentas | C10: =+'3.Rendición de Cuentas'!T25 -> 0 | D10: =+'3.Rendición de Cuentas'!U25 -> 0.10526316 | E10: =+'3.Rendición de Cuentas'!V25 -> 0.18421053 | F10: =+'3.Rendición de Cuentas'!W25 -> 0.28947368 | G10: =+'3.Rendición de Cuentas'!X25 -> 0.42105263 | H10: =+'3.Rendición de Cuentas'!Y25 -> 1
B11: Componente 4. Atención al Ciudadano | C11: =+#REF! -> #REF! | D11: =+#REF! -> #REF! | E11: =+#REF! -> #REF! | F11: =+#REF! -> #REF! | G11: =+#REF! -> #REF! | H11: =+#REF! -> #REF!
B12: Componente 5. Transparencia y Acceso a la Información | C12: =+#REF! -> #REF! | D12: =+#REF! -> #REF! | E12: =+#REF! -> #REF! | F12: =+#REF! -> #REF! | G12: =+#REF! -> #REF! | H12: =+#REF! -> #REF!
B13: Componente 6: Iniciativas adicionales | C13: =+#REF! -> #REF! | D13: =+#REF! -> #REF! | E13: =+#REF! -> #REF! | F13: =+#REF! -> #REF! | G13: =+#REF! -> #REF! | H13: =+#REF! -> #REF!
B14: TOTAL | C14: =AVERAGE(C8:C13) -> #REF! | D14: =AVERAGE(D8:D13) -> #REF! | E14: =AVERAGE(E8:E13) -> #REF! | F14: =AVERAGE(F8:F13) -> #REF! | G14: =AVERAGE(G8:G13) -> #REF! | H14: =AVERAGE(H8:H13) -> #REF!

Sheet 4.1RC
A1: N° | B1: Proceso | C1: Informe de monitoreo MRC
C2: corte 30-abr (33%) | D2: corte 31-ago (33%) | E2: corte 31-dic (33%) | F2: % avance
A3: 1 | B3: Planeación Estratégica | C3: 0.33333333 | D3: 0.33 | F3: =SUM(C3:E3) -> 0.66333333
A4: 3 | B4: Gestión de Comunicaciones | C4: 0.33333333 | D4: 0 | F4: =SUM(C4:E4) -> 0.33333333
A5: 5 | B5: Inspección, Vigilancia y Control | C5: 0.33333333 | D5: 0.33 | F5: =SUM(C5:E5) -> 0.66333333
A6: 6 | B6: Fomento al Desarrollo Humano y Social | F6: =SUM(C6:E6) -> 0
B7: Recreación | C7: 0.33333333 | D7: 0.33333333
B8: Deporte Escolar | C8: 0.33333333 | D8: 0.33333333
B9: Social Comunitario | C9: 0.33333333 | D9: 0.33333333
B10: Actividad Fisica | C10: 0.33333333 | D10: 0.33333333
B11: Fomento al Desarrollo Humano y Social - Programa Superate | C11: 0 | D11: 0.33 | F11: =SUM(C11:E11) -> 0.33
A12: 7 | B12: Altos Logros
B13: Deporte Convencional | C13: 0.33333333 | D13: 0.33 | F13: =SUM(C13:E13) -> 0.66333333
B14: CCD | C14: 0 | D14: 0.33 | F14: =SUM(C14:E14) -> 0.33
B15: Programas y proyectos Deportivos | C15: 0.33333333 | D15: 0.33 | F15: =SUM(C15:E15) -> 0.66333333
B16: Deporte Paralimpico | C16: 0.33333333 | D16: 0.33 | F16: =SUM(C16:E16) -> 0.66333333
B17: Nacional Antidopaje | C17: 0.33333333 | D17: 0.33 | F17: =SUM(C17:E17) -> 0.66333333
B18: Juegos y eventos | C18: 0.33333333 | D18: 0.33 | F18: =SUM(C18:E18) -> 0.66333333
B19: Psicosocial | C19: 0.33333333 | D19: 0.33 | F19: =SUM(C19:E19) -> 0.66333333
A20: 8 | B20: Apoyo en Infraestructura Técnica y Científica
B21: CAR | C21: 0.33333333 | D21: 0 | F21: =SUM(C21:E21) -> 0.33333333
B22: Laboratorio al Dopaje | C22: 0.33333333 | D22: 0 | F22: =SUM(C22:E22) -> 0.33333333
B23: Infraestructura | C23: 0.33333333 | D23: 0 | F23: =SUM(C23:E23) -> 0.33333333
B24: Informacion y Estudios | C24: 0.33333333 | D24: 0 | F24: =SUM(C24:E24) -> 0.33333333
A25: 9 | B25: Servicio Integral al Ciudadano | C25: 0.33333333 | D25: 0.33333333 | F25: =SUM(C25:E25) -> 0.66666667
A26: 10 | B26: Gestión de Tecnologías de la Información y las Comunicaciones | C26: 0.33333333 | D26: 0.33333333 | F26: =SUM(C26:E26) -> 0.66666667
A27: 11 | B27: Gestión del Talento Humano | C27: 0.33333333 | D27: 0.33333333 | F27: =SUM(C27:E27) -> 0.66666667
A28: 12 | B28: Gestión Documental | C28: 0.33333333 | D28: 0.33333333 | F28: =SUM(C28:E28) -> 0.66666667
A29: 13 | B29: Adquisición de Bienes y Servicios | C29: 0.33333333 | D29: 0.33333333 | F29: =SUM(C29:E29) -> 0.66666667
A30: 14 | B30: Gestión Financiera y Tesorería | C30: 0.33333333 | D30: 0.33333333 | F30: =SUM(C30:E30) -> 0.66666667
A31: 15 | B31: Gestión Jurídica | C31: 0.33333333 | D31: 0.33333333 | F31: =SUM(C31:E31) -> 0.66666667
A32: 16 | B32: Gestión de los Recursos Físicos | C32: 0.33333333 | D32: 0.33333333 | F32: =SUM(C32:E32) -> 0.66666667
A33: 17 | B33: Seguimiento y Evaluación de la Gestión | C33: 0.33333333 | D33: 0.33333333 | F33: =SUM(C33:E33) -> 0.66666667
B34: Cumplimiento | C34: =AVERAGE(C3:C33) -> 0.30952381 | D34: =AVERAGE(D3:D33) -> 0.27261905 | F34: =SUM(C34:E34) -> 0.58214286

Sheet Hoja1
B2: COMPONENTE | C2: Avance reportado por el responsable | D2: Avance Verificado por la OCI | E2: Nivel de Cumplimiento OCI | F2: Observaciones OCI
B3: 1: Mapa de Riesgo de Corrupcion y medidas para mitigar los riesgos | C3: 0.45 | D3: 0.45 | E3: ZONA BAJA | F3: observación De 7 actividades programadas en el Primer Cuatrimestre 2021, dos no alcanzaron el 100%, quedando así: una (1) no se cumplió (0%), y la segunda (2) con el cumplimiento del 60%.
B4: 2: Racionalización ( Estrategia antitrámites) | C4: 0.67 | D4: 0.67 | E4: ZONA MEDIA | F4: Sin Novedad
B5: 3: Rendición de Cuentas | C5: 0.27 | D5: 0.27 | E5: ZONA BAJA | F5: Sin Novedad
B6: 4: Atención al Ciudadano | C6: 0.19 | D6: 0.19 | E6: ZONA BAJA | F6: Sin Novedad
B7: 5: Transparencia y Acceso a la información | C7: 0.27 | D7: 0.24 | E7: ZONA BAJA | F7: Sin Novedad
B8: 6: Iniciativas adicionales | C8: 0.15 | D8: 0.15 | E8: ZONA BAJA | F8: No se tiene actividades programadas para el primer cuatrimestre 2021

Sheet 1.Riesgos corrupción 
A2: PLAN ANTICORRUPCIÓN Y DE ATENCIÓN AL CIUDADANO 2021
G3: Seguimiento Primer Cuatrimestre | K3: Seguimiento Segundo Cuatrimestre | O3: Seguimiento Tercer Cuatrimestre
A4: Componente 1: Mapa de riesgos de corrupción y medidas para mitigar los riesgos | G4: Seguimiento Primera Línea de Defensa Primer Cuatrimestre | I4: Seguimiento Tercera Línea de Defensa Primer Cuatrimestre | K4: Seguimiento Primera Línea de Defensa Segundo Cuatrimestre | M4: Seguimiento Tercera Línea de Defensa Segundo Cuatrimestre | O4: Seguimiento Primera Línea de Defensa Tercer Cuatrimestre | Q4: Seguimiento Tercera Línea de Defensa Tercer Cuatrimestre
A5: Subcomponente | B5: Acción | C5: Meta o Producto | D5: Indicador | E5: Responsable | F5: Fecha programada | G5: Avance Cuantitativo | H5: Avance Cualitativo | I5: Avance Cuantitativo OCI | J5: Observaciones OCI | K5: Avance Cuantitativo | L5: Avance Cualitativo | M5: Avance Cuantitativo OCI | N5: Observaciones OCI | O5: Avance Cuantitativo | P5: Avance Cualitativo | Q5: Avance Cuantitativo OCI | R5: Observaciones OCI
A6: Subcomponente - Proceso 1: Política de Administración de Riesgos | B6: Recibir la asesoría y acompañamiento del Departamento Administrativo de la Función Pública para la implementación de la Guía de Administración de Riesgos emitida en diciembre de 2020. | C6: Capacitación realizada, actas de reunión y/o correos electrónicos | D6: Número de actividades ejecutadas/Número de actividades planeadas | E6: Oficina Asesora de Planeación. | F6: 44316 | G6: =+(0.6) -> 0.6 | H6: Mediante radicado 20215000080581 del 8-ma-21 (soporte a) fue aprobado por parte del DAFP la asesoría y acompañamiento en el temade riesgos para el Ministerio del Deporte, la cual esta conformada por cautro (4) hitos de los cuales se ha ejecutado: - El 14-abr-21 fue realizada una capacitación directamente por el DAFP a los Líderes y Enlaces de los Procesos del Ministerio en la nueva Guía de Administración de Riesgos (soporte b). - El 30-mar-21 fueron enviados para la ejecución del hito 2 y 3 el proyecto de actualización de la política de riesgos y la caracterización del proceso PE, del cual estamos a la espera de recibir los resultados. (soporte c) - El 16-abr-21 fue enviado el Mapa de Riesgos vigente del Proceso priorizado PE. (soporte c) - El 29-abr-21 se realizó mesa de trabajo donde se recibió retroalimentacion del DAFP y el 30-abr-21 se recibieron el resultado de la revisión de la politica de riesgos y caracterización del proceso priorizado (soporte c). Teniendo en cuenta lo anterior el avance de la actividad esta dado por (3 actividad ejecutada / 5 planeadas)=60% | I6: 0.6 | J6: Se esta adelantando las respectivas asesorias con el DAFP, Se verificaron los soportes de avance | K6: 1 | L6: Durante el segundo cuatrimestre de 2021, se dio continuidad a las actividades en materia de administración del riesgo asi: - 19 de mayo de 2021, se realizo sesión con la asesora del DAFP en materia de administración del riesgo, en donde se reviso aplicación de la metodología aplicada en el proceso priorizado por Mindeporte-Planeación Estratégica. -El 21 de mayo, la asesora del Dafp remitió observaciones del Mapa de riesgos, acta de la sesión y archivo con ejemplos de redacción de riesgos. Una vez realizados los ajustes y aplicada la metodología la Oficina Asesora de Planeación remitió matriz del proceso PE, con la aplicación de la Guia V5 de 2021.El 25 de mayo de 2021, el Dafp remitió revisión de a la matriz del mapa de riesgos del proceso priorizado enviado,en donde se evidencian los ajustes correspondientes a las observaciones, quedando así definido el mapa de riesgos de Planeación Estratégica para la entidad. Teniendo en cuenta lo anterior el cumplimiento de la actividad esta dado por (5 actividades ejecutadas / 5 planeadas)=100% | M6: 1 | N6: En validacion a los soportes que respalda cada una de las actividades de avance se verificó lo siguiente : 1. Se evidencia soportes de reunion "Revisión aplicación metodología en el proceso de Planeación Estratégica" el 19 de mayo con el DAFP 2. Evidencia de retroalimentacipon el 21 de mayo del mapa de riesgo por parte del DAFP 3. Se evidencia que el 25 de mayo 2021 el DAFP envio comunicado que el mapa de riesgo de PE se ajustaba a la guia Construccion de riesgo v5 quedando definitivo. Se cumplen las actcividades y evidencias estan correcta.
B7: Presentar para aprobación del Comité Institucional de Coordinación de Control Interno la Política de Administración del Riesgo del Ministerio del Deporte actualizada. | C7: Un (1) Acta de reunión del Comité Institucional de Coordinación de Control Interno | D7: Número de actas de reunión emitidas/Número de actas de reunión programadas | E7: Oficina Asesora de Planeación. | F7: 44454 | G7: 0 | H7: Sin avance dado que no ha finalizado la asesoría del DAFP y la fecha programada para su finalización no ha vencido. | I7: 0 | J7: Se tiene programado cumplir el 31 mayo 2021 | K7: 0 | L7: Se solicito ampliación de fecha de cumplimiento de la actividad para reporte y cumplimiento de la misma en el mes de septiembre de 2021. Lo anterior dado que al surgir cambios al interior del Ministerio, a la fecha no se ha convocado a Comité Institucional de Control Interno. Como avance para el segundo cuatrimestre y gestión en el desarrollo de la actividad, se adjunta correo electrónico e información,en donde el día 24 de mayo de 2021, se solicito a la Oficina de Control Interno temas a incluir por parte de la Oficina Asesora de Planeación, que incluye: aprobación de Actualización de la Política de Administración del Riesgo bajo la Guía Administración del Riesgo v.5 del DAFP. | M7: 0 | N7: Se realizó cambio al cumplimiento de la activifdad la cual pasó del 31 de mayo de 2021 al 15 septiembre de 2021. con aprobacion del jefe de OAP y publicado en la pagaina web de MIndeporte de igual forma se evidencia la politica de gestión de riesgo en sus version 5 , la cual va ser incluida dentro de los temas del proximo comite de coordinacion de control interno. la OAP envió comunicado a la OCI para incluir dentro de los temas de la proxima sesion del CICI
B8: Actualizar la Política de Administración del Riesgo del Ministerio del Deporte de acuerdo con la versión vigente de la Guía de Administración del Riesgo emitida por el DAFP. | C8: Una (1) política actualizada en ISOLUCION | D8: Número de documentos actualizados en ISOLUCION / Número de documentos proyectados | E8: Oficina Asesora de Planeación. | F8: 44469 | G8: 0 | H8: Sin avance dado que no ha finalizado la asesoría del DAFP y no se ha presentado al CICCI y la fecha programada para su finalización no ha vencido. | I8: 0 | J8: Se tiene programado cumplir el 30 Junio 2021 | K8: 0 | L8: Se solicito ampliación de fecha de cumplimiento de la actividad para reporte y cumplimiento de la misma en el mes de septiembre de 2021. Lo anterior dado que al surgir cambios al interior del Ministerio, a la fecha no se ha convocado a Comité Institucional de Control Interno. Como avance para el segundo cuatrimestre y gestión en el desarrollo de la actividad, se adjunta correo electrónico e información,en donde el día 24 de mayo de 2021, se solicito a la Oficina de Control Interno temas a incluir por parte de la Oficina Asesora de Planeación, que incluye: aprobación de Actualización de la Política de Administración del Riesgo bajo la Guía Administración del Riesgo v.5 del DAFP. | M8: 0 | N8: Se evidencia aprobacion de ampliacion para el 30 de septiembre y publiccado en la pagina web, toda vez que no se ha convocado la seiguiente sesion de Comité de control interno.
B9: Actualizar el procedimiento de administración del riesgo de la entidad y el formato del mapa de riesgos de acuerdo con la versión vigente de la Guía de Administración del Riesgo emitida por el DAFP. | C9: Un (1) procedimiento y un (1) formato actualizados en ISOLUCION | D9: Número de documentos actualizados en ISOLUCION / Número de documentos proyectados | E9: Oficina Asesora de Planeación. | F9: 44469 | G9: 0.5 | H9: El 4-mar-21 fue aprobado en ISOLUCION la versión actualizada del procedimiento Administración de Riesgos GO-PD-011 versión 1 (soporte d) Esta pendiente la actualización en ISOLUCIÓN del formato del mapa de riesgos. Teniendo en cuenta lo anterior el avance de la actividad esta dado por (1 documento actualizado / 2 documentos proyectados)=50% | I9: 0.5 | J9: Se tiene programado cumplir el 30 Junio 2021 | K9: 0.5 | L9: Se solicito ampliación de fecha de cumplimiento de la actividad para reporte y cumplimiento de la misma en el mes de septiembre de 2021. Lo anterior dado que al surgir cambios al interior del Ministerio, a la fecha no se ha convocado a Comité Institucional de Control Interno. Como avance para el segundo cuatrimestre y gestión en el desarrollo de la actividad, se adjunta correo electrónico e información,en donde el día 24 de mayo de 2021, se solicito a la Oficina de Control Interno temas a incluir por parte de la Oficina Asesora de Planeación, que incluye: aprobación de Actualización de la Política de Administración del Riesgo bajo la Guía Administración del Riesgo v.5 del DAFP. Teniendo en cuenta lo anterior el avance de la actividad se da de acuerdo a lo reportado en el primer cuatrimestre (1 documento actualizado / 2 documentos proyectados)=50% Lo anterior teniendo en cuenta que el formato del mapa de riesgos se encuentra vinculado al documento política de admon de riesgo que se someterá a aprobación por parte del CICCI. | M9: 0.5 | N9: Se evidencia aprobacion de ampliacion para el 30 de septiembre y publiccado en la pagina web, toda vez que no se ha convocado la siguiente sesion de Comité de control interno.
B10: Socializar la Política, procedimiento y formato asociado con la Administración del Riesgo del Ministerio del Deporte. | C10: Emisión de una (1) pieza de comunicación Entérate cada trimestre, para un total de cuatro (4) en el año | D10: Número de piezas emitidas/Número de piezas proyectadas en el año | E10: Oficina Asesora de Planeación. | F10: 5-mar-21 8-jun-21 30-sep-21 15-dic-21 | G10: =+(0.25) -> 0.25 | H10: El 8-mar-21 fue publicada en la Intranet Institucional la pieza de Comunicación Enteráte sobre la Política de Administración de Riesgos vigente. (soporte e) Teniendo en cuenta lo anterior el avance de la actividad esta dado por (1 pieza emitida / 4 piezas proyectadas)=25% | I10: 0.25 | J10: Se evidencia publicacion en la Intranet de la politica de admnistracion del Riesgo | K10: 0.5 | L10: El 28 de mayo de 2021 fue publicado en la intranet institucional la pieza de comunicación Entérate sobre la socialización del procedimiento de admninistración del riesgo GO-PD-011. Teniendo en cuenta lo anterior el avance de la actividad esta dado por (2 piezas emitidas/4 piezas proyectadas)=50% | M10: 0.5 | N10: Se cumple con las segunda publicacion en la intenet de la politica de admnistracion del riesgo el 28 de Mayo de 2021
B11: Realizar mesas de trabajo con los responsables y/o enlaces de cada uno de los procesos de la Entidad, para socializar la aplicación de la política, procedimiento y formato de administración del riesgo actualizados.. | C11: Mesas de trabajo realizadas con cada proceso de la Entidad | D11: Número de procesos socializados/Número de total de procesos | E11: Oficina Asesora de Planeación | F11: 44484 | G11: 0 | H11: Sin avance dado que no ha finalizado la asesoría del DAFP y no se ha actualizado en ISOLUCION la política y formato de riesgos y la fecha programada para su finalización no ha vencido. | I11: 0 | J11: Se tiene programado cumplir el 30 Julio 2021 | K11: 0 | L11: Se solicito ampliación de fecha de cumplimiento de la actividad para reporte y cumplimiento de la misma en el mes de octubre de 2021. Lo anterior dado que al surgir cambios al interior del Ministerio, a la fecha no se ha convocado a Comité Institucional de Control Interno y no se a aprobado por parte de la alta dirección los documentos para iniciar con la socialización y ejecutar la actividad. Como avance para el segundo cuatrimestre y gestión en el desarrollo de la actividad, se adjunta correo electrónico e información,en donde el día 24 de mayo de 2021, se solicito a la Oficina de Control Interno temas a incluir por parte de la Oficina Asesora de Planeación, que incluye: aprobación de Actualización de la Política de Administración del Riesgo bajo la Guía Administración del Riesgo v.5 del DAFP. | M11: 0 | N11: Se evidencia solicitud de ampliacion de plazo para el 15 de octubre de 2021 , misma aprobada por la Jefe de OAP y publicada en la pagina Web de Mindeporte
A12: Subcomponente - Proceso 2: Construcción del Mapa de Riesgos de Corrupción | B12: Formular el mapa de riesgos institucional de corrupción de la vigencia 2021. | C12: Un (1) mapa de Riesgos de Corrupción Institucional 2021 | D12: Número de documentos formulados / Número de documentos proyectados | E12: Líderes de Proceso / Oficina Asesora de Planeación | F12: 44225 | G12: 1 | H12: Se formuló el mapa de riesgos institucional de corrupción de la vigencia 2021 el cual fue publicado en la página web de la Entidad el 29-ene-21 en el link: https://www.mindeporte.gov.co/index.php?idcategoria=99279 Teniendo en cuenta lo anterior el avance de la actividad es 100% | I12: 1 | J12: Se evidencia publicacion del mapa de riesgo en la Pag Web del 29 de enero 2021 | K12: 1 | L12: Actividad cumplida en el primer cuatrimestre de 2021. | M12: 1 | N12: Actividad Cumplida en el primer Cuatrimestre 2021
B13: Brindar apoyo y asesoría en la identificación y valoración de riesgos de corrupción a los procesos de la Entidad, de acuerdo con lo requerimientos recibidos. | C13: Mesas de tabajo realizadas de acuerdo a lo requerido por los procesos de la Entidad | D13: Número de mesas de trabajo realizadas / Número de requerimentos recibidos | E13: Oficina Asesora de Planeación | F13: 44545 | G13: 1 | H13: El GIT de Planeación y Gestión asesoró en la actualizacion de los mapas de riesgos 2021 a dieciocho (18) procesos de la Entidad a traves de las mesas de trabajo ejecutadas en el primer cuatrimestre 2021, tal como consta en correos electrónicos, teams o actas de reunion (soporte f). | I13: 1 | J13: Se realizó 18 mesas de trabajo en diferentes procesps de asesoria en los mapas de riesgos de la entidad | K13: 1 | L13: Para el segundo cuatrimestre, no se recibieron requerimientos de los procesos frente a mesas de trabajo para la identificación de nuevos riesgos de corrupción. Se anexan correos emitidos por los enlaces desde la Oficina Asesora de Planeación. | M13: 1 | N13: De acuerdo a los correos de seguimiento de la OAP no se evidenció requerimientos de los procesos
B14: Actualizar los riesgos de corrupción de los procesos de acuerdo con la politica y procedimiento actualizados, asi como los resultados de la implementación de los planes de tratamiento definidos para los riesgos en caso de requerirse. | C14: Un (1) mapa de Riesgos de Corrupción Institucional actualizado | D14: Número de documento publicado / Número de documento proyectado | E14: Líderes de Proceso / Oficina Asesora de Planeación | F14: 44484 | G14: 0 | H14: Sin avance dado que no ha finalizado la asesoría del DAFP y no se ha actualizado en ISOLUCION la política y formato de riesgos. | I14: 0 | J14: Se tiene programado cumplir el 15 Dic 2021 | K14: 0 | L14: Se solicito ampliación de fecha de cumplimiento de la actividad para reporte y cumplimiento de la misma . Lo anterior dado que al surgir cambios al interior del Ministerio, a la fecha no se ha convocado a Comité Institucional de Control Interno y no se a aprobado por parte de la alta dirección los documentos para iniciar con la socialización y ejecución de la actividad. | M14: 0 | N14: Se realizó modificación a la fecha de cumplimiento el cual quedo para el 15 de octubre de 2021 , aprobado por el Jefe de la OAP y publicado en la pagina web de Mindeporte
B15: Presentar al CICG Del Contexto estratégico instirtucional 2021, de acuerdo a las solicitudes realizadas a los líderes de proceso. | C15: Contexto Institucional Actualizado | D15: Número de documento actualizado / Número de documentos proyectados | E15: Líderes de Proceso / Oficina Asesora de Planeación | F15: 44316 | G15: 0 | H15: Esta en revisión los ajustes recibidos de parte de los Líderes de Proceso, una vez sean consolidados se presentaran al CIDG. | I15: 0 | J15: En acta Sesión Ordinaria N° 1 del 28 de Enero 2021, en el orden del dia se presento en el punto Sexto " Presentación Contexto Extrategico" y se dejo como compromiso que cada lider analizara, y remitiera a OPA algun ajuste de ser necesarios . ( Actividad no se cumplio de acuerdo a la fecha programada) | K15: 1 | L15: En el acta correspondiente a la sesión ordinaria No.3 del Comité Institucional de Gestión y Desempeño CIGD , en el orden del día se presento el numeral 9. Presentación actualización Contexto Estratégico - GIT Planeación y Gestión de la OAP; en donde dicha actualización fue sometida a aprobación por parte de los miembros del Comité. (Ver acta). | M15: 1 | N15: Se evidenció en el Acta Sesion Ordinaria N° 3 del 10 de junio 2021 en el numeral 9 del orden del dia " Presentacion actualización del contexto estrategico para aprobacion , el cual fue aprobado por el Comité de CIGD con 7 votos
A16: Subcomponente - Proceso 3: Consulta y Divulgación | B16: Someter a consulta pública interna y externa el Mapa de Riesgos institucional de Corrupción de la vigencia 2021. | C16: Una (1) Pieza de comunicaciones internas y Una (1) Pieza en la página web | D16: Número de piezas emitidas/Número de piezas proyectadas | E16: Oficina Asesora de Planeación | F16: 44218 | G16: 1 | H16: En el mes de enero de 2021 fue publicada una pieza comunicaciones internas la cual fue enviada a los correos electrónicos (soporte g) y una pieza en la página web (soporte h). Teniendo en cuenta lo anterior el avance de la actividad esta dado por (2 piezas emitidas / 2 piezas proyectadas)=100% | I16: 1 | J16: Se evidencia soporte de comunicación en la Intranet el 25 de enero 2021 de la publicacion Foro del PAYAC 2021 y se evidencia aportes de la ciudadania , adicional este fue publicado en la Web el 29 de enero de 2021 | K16: 1 | L16: Actividad cumplida en el primer cuatrimestre de 2021. | M16: 1 | N16: Actividad Cumplida en el primer Cuatrimestre 2021
B17: Publicar el Mapa de Riesgos institucional de Corrupción de la vigencia 2021. | C17: Publicación en pagina web institucional | D17: Número de documento publicado / Número de documentos proyectados | E17: Oficina Asesora de Planeación | F17: 44225 | G17: 1 | H17: El 29-ene-21 fue publicado en la página web de la Entidad los riesgos de corrupción en el link: https://www.mindeporte.gov.co/index.php?idcategoria=99279 Teniendo en cuenta lo anterior el avance de la actividad es 100% | I17: 1 | J17: El maoa de riesgo se publico el 29 de enero de 2021 cumpliendo con las fechas estipuladas por ley | K17: 1 | L17: Actividad cumplida en el primer cuatrimestre de 2021. | M17: 1 | N17: Actividad Cumplida en el primer Cuatrimestre 2021
B18: Realizar la(s) actualización(es) de la publicación del mapa de riesgos institucional de corrupción cuando sea requerido de acuerdo con la politica y procedimiento actualizados, asi como los resultados de la implementación de los planes de tratamiento definidos para los riesgos en caso de requerirse. | C18: Publicación en pagina web | D18: Número de documento publicado / Número de documentos que requieren actualizacion | E18: Oficina Asesora de Planeación | F18: 44545 | G18: 1 | H18: Teniendo en cuenta la actualización de los Planes de Tratamiento de Riesgos 2021, se realizó la actualización del mapa de riesgos de corrupción publicado en la pagina web de la Entidad en la ruta: https://www.mindeporte.gov.co/index.php?idcategoria=99279 | I18: 1 | J18: Se evidencia actualizacion del MRC el 27 de abril 2021 en la pagina WEB de Mindeporte, de acuerdo a la actualizacion de los planes de tratamientos | K18: 1 | L18: Teniendo en cuenta la actualización de controles en los riesgos de algunos procesos con corte 31 de agosto de 2021, se realizó la actualización del mapa de riesgos de corrupción publicado en la pagina web de la Entidad en la ruta: https://www.mindeporte.gov.co/index.php?idcategoria=99279 | M18: 1 | N18: Se evidencia que el mapa de riesgos presentó modificacion y publicacion de la nueva versión en la pagina web de Mindeporte el 31 de agosto 2021
A19: Subcomponente - Proceso 4: Monitoreo o revisión | B19: Realizar el monitoreo y el reporte de avances en la administración de los riesgos por proceso de la Entidad. | C19: Mapa de riesgos de cada proceso con el reporte de monitoreo cuatrimestral | D19: (Número de procesos*monitoreos realizados) / (Número de procesos *Número de monitoreos proyectados) | E19: Líderes de Proceso | F19: 23-abr-21 20-ago-21 20-dic-21 | G19: 0.33 | H19: Los diecinueve (19) procesos del Ministerio del Deporte realizaron el monitoreo de riesgos y reportaron los resultados del primer cuatrimestre de 2021. | I19: 0.33 | J19: Se encuentra actualizado y publicado en ISOLUCION de los 19 MRC de los procesos existente en Mindeporte | K19: 0.6666 | L19: Los diecinueve (19) procesos del Ministerio del Deporte realizaron el monitoreo de riesgos y reportaron los resultados del segundo cuatrimestre de 2021. Evidencia: Ruta Sharepoint https://coldeportes.sharepoint.com/:f:/r/sites/oficinaasesoraplaneacion/Documentos%20compartidos/OAP/2.%20GIT%20Planeaci%C3%B3n%20y%20Gesti%C3%B3n/RIESGOS/Mapa%20de%20Riesgos%202021/Monitoreos%202021/2do%20cuatrimestre%202021/3.%20Monitoreo%202Cuatrimestre_Publicar?csf=1&web=1&e=9ZErtG | M19: 0.6666 | N19: Se evidencia el cargue de los mapas de riesgo de diecinueve (19) procesos en ISOLUCION con el seguimiento del 2do cuatrimestre 2021
B20: Realizar el seguimiento al monitoreo reportado por los líderes de los procesos. | C20: Consolidado de monitoreo cuatrimestral realizado por los procesos | D20: Número de Reportes consolidado / Número de reportes proyectados | E20: Oficina Asesora de Planeación | F20: 7-may-21 3-sep-21 31-dic-21 | G20: 0 | H20: El resultado del seguimiento reportado por los Líderes de Procesos será remitido a la Oficina de Control Interno en los primeros días hábiles del mes de mayo de 2021, de acuerdo con lo solicitado por dicha dependencia. | I20: 0 | J20: Se tiene programado cumplir el 7 mayo 2021 | K20: 0.6667 | L20: Se dio respuesta a la Oficina de Control Interno, mediante Radicado 2021IE0002403_ frente al Monitoreo correspondiente al primer Cuatrimestre de 2021 del Plan Anticorrupción y de Atención al Ciudadano y Mapas de Riesgos. Teniendo en cuenta lo anterior, el avance de la actividad se da de acuerdo a lo reportado en el primer y segundo cuatrimestre asi:(2 reportes consolidados / 3 reportes proyectados)=66,67% | M20: 0.6666 | N20: Se evidencian soportes de seguimiento y reporte a la OCI
A21: Subcomponente -Proceso 5: Seguimiento | B21: En forma cuatrimestral realizar seguimiento al Mapa de Riesgos de Corrupción de la vigencia 2021 para lo cual se emitirara informes y su publicacion. | C21: Dos (2) Informes | D21: Número de Informes realizados/Número de Informes proyectados | E21: Oficina de Control Interno | F21: 15-05-2021 14-09-2021 | G21: 0 | I21: 0 | J21: Se tiene programada la actividad para mayo y septiembre de 2021 | K21: 0.5 | L21: De acuerdo con lo establecido en el Plan Anual de Auditoria Interna -PAAI de la vigencia 2021 aprobado por el Comité Institucional de Coordinación de Control Interno el 06 de abril de 2021, se dio cumpllimiento al primer informe relacionado con el seguimiento al Mapa de Riesgos de Corrupción, memorando radicado a través del aplicativo de gestión documental Gesdoc N° 2021IE0002910 del 14-may-2021. | M21: 0.5 | N21: Con memorando 2021IE0002910 del 14 de amyo de 2021 la OCI proyecto informe final al seguimiento al Plan Anticorrupcion y de Atención al Ciudadano ( PAYAC) y MRC del 1 de enero al 31 de abril de 2021
G22: =SUM(G6:G21) -> 6.68
G23: 15 | I23: 15
G24: =+G22/G23 -> 0.44533333 | I24: =+I22/I23 -> 0

Sheet 2.Racionalización
A1: PLAN ANTICORRUPCIÓN Y DE ATENCIÓN AL CIUDADANO 2021
G3: Seguimiento Primer Cuatrimestre | K3: Seguimiento Segundo Cuatrimestre | O3: Seguimiento Tercer Cuatrimestre
A4: 2. Racionalización de Trámites | G4: Seguimiento Primera Línea de Defensa Primer Cuatrimestre | I4: Seguimiento Tercera Línea de Defensa Primer Cuatrimestre | K4: Seguimiento Primera Línea de Defensa Segundo Cuatrimestre | M4: Seguimiento Tercera Línea de Defensa Segundo Cuatrimestre | O4: Seguimiento Primera Línea de Defensa Tercer Cuatrimestre | Q4: Seguimiento Tercera Línea de Defensa Tercer Cuatrimestre | T4: Programación Meta Acumulativa
A5: Subcomponente | B5: Actividades | C5: Meta o producto | D5: Indicador | E5: Responsable | F5: Fecha | G5: Avance Cuantitativo | H5: Avance Cualitativo | I5: Avance Cuantitativo OCI | J5: Observaciones OCI | K5: Avance Cuantitativo | L5: Avance Cualitativo | M5: Avance Cuantitativo OCI | N5: Observaciones OCI | O5: Avance Cuantitativo | P5: Avance Cualitativo | Q5: Avance Cuantitativo OCI | R5: Observaciones OCI | S5: Fecha reprogramada | T5: 1er bimestre ene-feb | U5: 2do bimestre mar-abr | V5: 3ro bimestre may-jun | W5: 4to bimestre jul-ago | X5: 5to bimestre sep-oct | Y5: 6to bimestre nov-dic
A6: Subcomponente 1: Identificación de Trámites | B6: Realizar Diagnóstico de los trámites y servicios en línea ofrecidos por el Ministerio del Deporte. | C6: Un (1)Documento de Diagnóstico Realizado | D6: Número de diagnósticos realizados/Número de diagnósticos planeados | E6: Oficina Asesora de Planeación y Líderes de Proceso | F6: 44286 | G6: 1 | H6: Se realizó informe diagnóstico para la construcción de la estrategia de racionalización de trámites del Ministerio del Deporte Vigencia 2021. Fecha del informe: 24 de marzo de 2021. Para la elaboración del Diagnóstico se realizaron sesiones virtuales con los responsables de los trámites Dirección de Inspección Vigilancia y Control, Dirección de Posicionamiento y Liderazgo Deportivo, GIT Centro de Alto rendimiento y GIT TICs. | I6: 1 | J6: Se realizó Diagnostico de los tramites y servicios en linea ofrecidos por ministerio, se priorizaron 6 Tramites y 2 OPAS | K6: 1 | L6: Actividad cumplida durante el primer cuatrimestre de 2021. | M6: 1 | N6: Se evidencia que la actividad se cumplió en el 1er. Cuatrimestre de la vigencia 2021 | S6: N/A | T6: 0 | U6: 1 | V6: 1 | W6: 1 | X6: 1 | Y6: 1
A7: Subcomponente 2: Priorización de Trámites | B7: Formular la Estrategia de trámites de Acuerdo con los resultados obtenidos en el diagnóstico y realizar su registro en el aplicativo SUIT. | C7: Un (1) documento de Estrategia de trámites formulada | D7: Número de documentos de estrategias realizadas/Número de estrategias planeadas | E7: Oficina Asesora de Planeación y Líderes de Proceso | F7: 44316 | G7: 1 | H7: Se formulo la estrategia de racionalización de trámites para la vigencia 2021 y se registró en el aplicativo SUIT (Sistema Único de Información de Trámites). La estrategia fue cargada el día 29 de marzo de 2021 con el acompañamiento del DAFP. Se anexan evidencias y la estrategia registrada puede ser consultada en SUIT. | I7: 1 | J7: Se Evidencia cargue de la estrategia en el aplicativo SUIT, el 29 de marzo , sin embargo esta debio cargarse por tardar el 31 de Enero 2021 como lo indica la guia estrategia de corrupcion - plan anticorrupcion y atencion al ciudadano | K7: 1 | L7: Actividad cumplida durante el primer cuatrimestre de 2021. | M7: 1 | N7: Se evidencia que la actividad se cumplió en el 1er. Cuatrimestre de la vigencia 2021 | S7: N/A | T7: 0 | U7: 1 | V7: 1 | W7: 1 | X7: 1 | Y7: 1
A8: Subcomponente 3: Racionalización de Trámites | B8: Ejecutar las actividades definidas en la Estrategia de Racionalización de Trámites registrada en el aplicativo SUIT. | C8: 100% de la ejecución de acciones de racionalización de la Estrategia Antitrámites | D8: Número de acciones de racionalización realizadas de la estrategia de trámites /Número de acciones de racionalización programadas de la estrategia de trámites | E8: Oficina Asesora de Planeación y Líderes de Proceso | F8: 44530 | G8: 0 | H8: La actividad tiene por fecha de reporte el 30 de noviembre de 2021. Se realizo seguimiento cuatrimestral en el Sistema Unico de Información de Trámites SUIT con corte 30 de abril de 2021. Los Planes de Trabajo y actas de las reuniones realizadas, se anexan como evidencia del cumplimiento de dicho seguimiento registrado en el aplicativo. | I8: 0 | J8: El reporte de cierre esta para el 30 de noviembre 2021 , Por parte de la OCI se realizó seguimiento y evaluacion a las avances de las actividades que se tienen establecidas de acuerdo al plan de trabajo deseñado para 6 Tramites y 2 OPAS | K8: 0.59 | L8: * La actividad tiene por fecha de reporte el 30 de noviembre de 2021. * Durante el segundo cuatrimestre se incluyo en la estrategia antitrámites una nueva OPA para racionalizar, la OPA que se incluyo fue "Análisis de muestras nacionales e internacionales" y su racionalización se cumplió en este periodo. * Durante el periodo evaluado se han venido desarrollando las actividades establecidas en la estrategia antitrámites y los planes de trabajo asociados a cada trámite. * El avance de la estrategia antitrámites se puede consultar en el aplicativo SUIT * Las evidencias del avance de la estrategia antitrámites se pueden consultar en el share point de la OAP en la ruta https://coldeportes.sharepoint.com/sites/oficinaasesoraplaneacion/Documentos%20compartidos/Forms/AllItems.aspx?viewid=4730f7e4%2Df92c%2D4902%2D9b0e%2Da4b5eb0bd3fe&id=%2Fsites%2Foficinaasesoraplaneacion%2FDocumentos%20compartidos%2FOAP%2F2%2E%20GIT%20Planeaci%C3%B3n%20y%20Gesti%C3%B3n%2FPAAC%2F2021%2FReporte%5Fseguimiento%5FPAYAC%5F2021%2F2do%20Cuatrimestre%5F%20PAAC2021%2F2%2EComp2%5FRacionalizaci%C3%B3n%5FTr%C3%A1mites%2FSubcomp%5F3%2FAct%5F1 | M8: 0.5944 | N8: Se evidencia que la actividad tiene como fecha de cumplimiento el 30 de noviembre. Así mismo es importante señalar que la Oficina de Control Interno, como tercera línea de defensa realizó el seguimiento a los avances registrados en el SUIT, para el 2do cuatrimestre de 2021 | S8: N/A | T8: 0 | U8: 0 | V8: 0 | W8: 0 | X8: 0 | Y8: 2
G9: =SUM(G6:G8) -> 2 | S9: N° Actividades | T9: =SUM(T6:T8) -> 0 | U9: =SUM(U6:U8) -> 2 | V9: =SUM(V6:V8) -> 2 | W9: =SUM(W6:W8) -> 2 | X9: =SUM(X6:X8) -> 2 | Y9: =SUM(Y6:Y8) -> 4
G10: 3 | S10: Meta Avance | T10: =+T9/$Y$9 -> 0 | U10: =+U9/$Y$9 -> 0.5 | V10: =+V9/$Y$9 -> 0.5 | W10: =+W9/$Y$9 -> 0.5 | X10: =+X9/$Y$9 -> 0.5 | Y10: =+Y9/$Y$9 -> 1
G11: =+G9/G10 -> 0.66666667 | I11: =+I9/I10 -> #DIV/0!

Sheet 3.Rendición de Cuentas
A2: PLAN ANTICORRUPCIÓN Y DE ATENCIÓN AL CIUDADANO 2021
G3: Seguimiento Primer Cuatrimestre | K3: Seguimiento Segundo Cuatrimestre | O3: Seguimiento Tercer Cuatrimestre
A4: Componente 3: Rendición de cuentas | G4: Seguimiento Primera Línea de Defensa Primer Cuatrimestre | I4: Seguimiento Tercera Línea de Defensa Primer Cuatrimestre | K4: Seguimiento Primera Línea de Defensa Segundo Cuatrimestre | M4: Seguimiento Tercera Línea de Defensa Segundo Cuatrimestre | O4: Seguimiento Primera Línea de Defensa Tercer Cuatrimestre | Q4: Seguimiento Tercera Línea de Defensa Tercer Cuatrimestre | T4: Programación Meta Acumulativa
A5: Subcomponente | B5: Acción | C5: Meta o producto | D5: Indicador | E5: Responsable | F5: Fecha programada | G5: Avance Cuantitativo | H5: Avance Cualitativo | I5: Avance Cuantitativo OCI | J5: Observaciones OCI | K5: Avance Cuantitativo | L5: Avance Cualitativo | M5: Avance Cuantitativo OCI | N5: Observaciones OCI | O5: Avance Cuantitativo | P5: Avance Cualitativo | Q5: Avance Cuantitativo OCI | R5: Observaciones OCI | T5: 1er bimestre ene-feb | U5: 2do bimestre mar-abr | V5: 3ro bimestre may-jun | W5: 4to bimestre jul-ago | X5: 5to bimestre sep-oct | Y5: 6to bimestre nov-dic
A6: Subcomponente 1 Información de calidad y en lenguaje comprensible | B6: Realizar el ejercicio de caracterización de los ciudadanos, usuarios y grupos de interés, de la vigencia 2020 | C6: 29 documentos de caracterización actualizados | D6: Número de caracterizaciones de ciudadanos actualizadas/Número de caracterizaciones de ciudadanos programadas | E6: Todas las dependencias y/o GIT MinDeporte, bajo la articulación de G.I.T Servicio Integral al Ciudadano. | F6: 44438 | G6: 0 | H6: En el periodo reportado no se ha iniciado la ejecución de la actividad Aunque se adelantaron algunas acciones para poder iniciar con el levantamiento de las caracterizaciones: 1. Se enviaron diez (10) memorandos a las Direcciones Técnicas y Secretaria General comunicando el inicio de los ejercicios de caracterización con cronograma de cumplimiento. 2. Reunión con la Oficina Asesora de Planeación para el establecimiento conjunto del objetivo de la caracterización para la vigencia 2020 y brindar insumos para la Estrategia de Rendición de Cuentas 2021. Reportando la ficha de caracterización para la identificación de los grupos de valor. Se adjunta acta de reunión. 3. Se informó cronograma de fechas de cumplimiento del ejercicio de caracterización a las dependencias. Se adjuntan memorandos. 4. El día 13 de abril de 2020, se iniciaron las sesiones de acompañamiento. Se adjuntan dos (2) actas. 5. Se envío pieza de comunicación por la intranet para sensibilizar a las dependencias de la importancia de incluir en los instrumentos de recolección de información, variables que permitan identificar las características de los ciudadanos, usuarios y/o grupos de interés. | I6: 0 | J6: se tiene programada el cumplimiento de la actividad para el 30 de agosto, sin embargo se evidencia avances de actividades. | K6: 1 | L6: Se actualizaron los documentos de caracterización de ciudadanos, usuarios y grupos de interes por las dependencias respnsables, y el GIT Servicio integral al Ciudadano realizó el acompañamiento. Los 29 documentos de caracterización actualizados se encuentran publicados en la página web de la entidad. link: https://www.mindeporte.gov.co/index.php?idcategoria=100430 | M6: 1 | N6: Se evidencia la actualizacion de 29 grupos de valor y cargados en la pagina web del Mindeporte. ( https://www.mindeporte.gov.co/index.php?idcategoria=100430&pag=2) 1. Actividad Fisica 2. Contratación 3. Deporte Escolar 4. Deporte Social Comunitario 5. Infraestructura 6. Laboratorio Control al dopaje 7. Centro Ciencias del deporte 8. Control Interno Disciplinario 9. Deporte Profesional 10. Deporte Rendimiento Convencional 11. Juegos Intercolegiados 12. Oficina Asesora de Planeacion 13. Centro de Alto Rendimiento 14. Deporte aficionado 15. Deporte de Rendimiento Paralimpico 16. Desarrollo Psicosocial 17. Gestión Financiera y Presupuestal 18. Juegos y Eventos deportivos 19. Oficina Asesora Juridica 20. Oficina de Comunicaciones 21. Organizacional antidopaje 22. Talento Humano 23. Servicios Administrativos 24. Recreación 25. Tesoreria 26. Programas y proyectos Deportivos 27. Servicio Integral al Ciudadano 28. TICS 29. Actuaciones Administrativas | T6: 0 | U6: 0 | V6: 0 | W6: 1 | X6: 1 | Y6: 1
B7: Consolidar información de avance de la estrategia de Rendición de Cuentas y publicar en la pagína web periodicamente mediante Boletines de Gestión. | C7: Tres (3) boletines de gestíón | D7: Número de boletines realizados publicados en la pagina web/Número de boletines programados para publicar en la pagina web | E7: Ofcina Asesora de Planeación - GTI Comunicaciones | F7: 44499 | G7: 0 | H7: En el periodo reportado no se ha iniciado la ejecución de la actividad | I7: 0 | J7: Se tiene programada el cumplimiento de la actividad para el 30 de octubre de 2021 | K7: 0 | L7: En el periodo reportado no se ha iniciado la ejecución de la actividad | M7: 0 | N7: No ha iniciado la actividad, aun esta en tiempo, ( programada para el 30 de octubre 2021) | T7: 0 | U7: 0 | V7: 0 | W7: 0 | X7: 1 | Y7: 1
B8: Informar a la ciudadanía sobre los proyectos y las actividades misionales del Ministerio del Deporte de acuerdo con las funciones otorgadas por Ley, para la vigencia 2021. | C8: Campañas de comunicación para informar a la ciudadanía sobre las acciones realizadas por las áreas misionales durante la vigencia 2021. | D8: Número de campañas realizadas/Número de campañas solicitadas | E8: GIT Comunicaciones | F8: 44530 | G8: 1 | H8: Se han difundido 23 campañas, con 674 productos sobre las acciones de las áreas misionales, despacho del ministro, y viceministerio. https://coldeportes.sharepoint.com/:f:/s/gitcomunicaciones/EgrDjUBjcvlHuBHuF9d4scQBnXGxTImiBZR_v8wUpZHSuA?e=13CsK9 El avance se mide con base en las campañas solicitadas que para los efectos de la medición de el indicador son las campañas programadas, en ese sentido todas las solicitudes fueron atendidas o realizadas y por lo anterior se solicitara el cambio del indicador para dejar claridad sobre las campañas programadas vs solicitadas | I8: 1 | J8: 23 campañas difundidas Evidencia " Proyectos y actividades misionales " | K8: 1 | L8: Se han difundido 48 campañas, con 1.900 productos sobre las acciones de las áreas misionales, despacho del ministro, y viceministerio. El avance se mide con base en las campañas solicitadas que para los efectos de la medición de el indicador son las campañas programadas. Con memorando 2021IE000323, del 27 de mayo, se solicitó el ajuste del indicador de la actividad para que quedará: número de campañas realizadas/número de campañas solicitadas. https://coldeportes.sharepoint.com/:f:/s/gitcomunicaciones/EpzH4VUC5RRIkveT9vV8r2oBe7tmvpNDUK5dOar0juIs0Q?e=SA74ou | M8: 1 | N8: Se evidencia soporte de las 48 campañas en el siguiente link https://coldeportes.sharepoint.com/:f:/s/gitcomunicaciones/EpzH4VUC5RRIkveT9vV8r2oBe7tmvpNDUK5dOar0juIs0Q?e=SA74ou | T8: 0 | U8: 0 | V8: 0 | W8: 0 | X8: 0 | Y8: 1
A9: Subcomponente 2. Dialogo de doble vía con la ciudadania y sus organizaciones. | B9: Realizar la consulta a los grupos de valor para la definición de los temas sobre los cuales abordar la rendición de cuentas. | C9: Un (1) foro con los grupos de valor | D9: Número de foros realizados / Número de foros programados | E9: GIT Servicio Integral al Ciudadano . GIT Comunicaciones con el apoyo de todos los GIT de MinDeporte. | F9: 44316 | G9: 1 | H9: Foro planeado, formulado y publicado el día 23 de abril de 2021 a partir del trabajo conjunto entre el GIT Servicio al Ciudadano, GIT Comunicaciones y la Oficina Asesora de Planeación. Evidencias: Foro publicado en: https://www.mindeporte.gov.co/index.php?idcategoria=99945 Documento soporte de trabajo donde se recopilo la información a tener en cuenta para priorizar los temas del foro | I9: 1 | J9: Se evidencia foro Publicado en : https://www.mindeporte.gov.co/index.php?idcategoria=99945 | K9: 1 | L9: Actividad cumplida durante el primer cuatrimestre de 2021. | M9: 1 | N9: Actividad Cumplida en el primer Cuatrimestre 2021 | T9: 0 | U9: 1 | V9: 1 | W9: 1 | X9: 1 | Y9: 1
B10: Realizar la Audiencia Pública de Rendición de Cuentas de la Vigencia 2020 | C10: Una (1)Audiencia Pública | D10: Número de audiencias públicas realizadas / Número de audiencias públicas programadas | E10: Todas las Areas del Ministerios / Lidera Oficina Asesora de Planeación y G.I.T Comunicaciones | F10: 44438 | G10: 0 | H10: En el periodo reportado no se ha iniciado la ejecución de la actividad | I10: 0 | J10: Se tiene programado cuplir para el 30 de agosto 2021 | K10: 1 | L10: El 30 de junio se llevó a cabo la Audiencia Pública de Rendición de Cuentas a través de Canal Trece y Facebook Live de Mindeporte https://www.facebook.com/watch/live/?v=507708580455493&ref=watch_permalink https://www.youtube.com/watch?v=BZ4NkdUkZs8 En la intranet institucional se creo un espacio para difundir los videos y piezas gráficas. Intranet: https://coldeportes.sharepoint.com/sites/IntranetInstitucional/SitePages/Rendici%C3%B3n-de-cuentas-2021.aspx?CT=1627576776281&OR=OWA-NT&CID=23472d97-2d5e-2ff5-b033-befcdd5ac81e | M10: 1 | N10: Se evidencia que para el 30 de junio 2021 se realizó audiencia publica atra ves de facelive en el siguiente link https://www.facebook.com/watch/live/?v=507708580455493&ref=watch_permalink https://www.youtube.com/watch?v=BZ4NkdUkZs8 De igual se comprueba que de acuerdo al siguiente link se creo el espacio para difundir videos y piezas publicitarias en la intranet https://coldeportes.sharepoint.com/sites/IntranetInstitucional/SitePages/Rendici%C3%B3n-de-cuentas-2021.aspx?CT=1627576776281&OR=OWA-NT&CID=23472d97-2d5e-2ff5-b033-befcdd5ac81e | T10: 0 | U10: 0 | V10: 0 | W10: 1 | X10: 1 | Y10: 1
B11: Implementar mecanismos de información para la participación de los grupos de valor caracterizados y la ciudadanía | C11: Diseñar e implementar un (1) plan de comunicaciones para la Estrategia de Rendición de Cuentas de la vigencia. | D11: Número de planes de comunicacion implementados/ Número de planes de comunicaciones programados | E11: GIT Comunicaciones/ Oficina Asesora de Planeacion | F11: 44545 | G11: 0.4 | H11: Se elaboró el Plan de Comunicaciones que se implementará para la vigencia 2021 y el 22 de febrero se envió por parte de Comunicaciones al enlace designado en la OAP. https://coldeportes.sharepoint.com/:f:/s/gitcomunicaciones/EhlanifTHMNMhJLwbUHl0Q0BBtvkdjZtzZY2GpeJJX9orw?e=IVjnfd | I11: 0.4 | J11: Se Evidencia Avances de Comunicación de rendicion de cuentas | K11: 0.7 | L11: Se avanza en el cumplimimiento del Plan de Comunicaciones de la vigencia, que hace parte de la rendición de cuentas. https://coldeportes.sharepoint.com/:f:/s/gitcomunicaciones/Er0J5NmWHE5CvarPaSAUVRsBUlnPsgKuPhlmy7z21HnbVg?e=CQ5eAh | M11: 0.7 | N11: Se continua el avance de la comunicación de rendicion de cuentas la cual se eevidencia en el siguiente link https://coldeportes.sharepoint.com/:f:/s/gitcomunicaciones/Er0J5NmWHE5CvarPaSAUVRsBUlnPsgKuPhlmy7z21HnbVg?e=CQ5eAh | T11: 0 | U11: 0 | V11: 1 | W11: 1 | X11: 1 | Y11: 1
B12: Generar espacios de rendición de cuentas con grupos de valor | C12: Difusión de las convocatorias sobre ejercicios de rendición de cuentas | D12: Número de convocatorias difundidas/Número de ejercicios de rendición de cuentas programadas en la estrategia | E12: GIT Comunicaciones con los reportes de todos los GIT de MinDeporte. | F12: 44530 | G12: 0 | H12: A la fecha esta actividad no ha iniciado su ejecución ya que la Estrategia de la Rendición de Cuentas se encuentra en construcción por parte de la OAP. | I12: 0 | J12: Se tiene programado cuplir para el 30 de Nov 2021 | K12: 0.3 | L12: Se hizo la difusión de las convocatorias sobre ejercicios de rendición de cuentas del Viceministerio (Nueva Ley del Deporte), Fomento, Secretaría General (Foro permanente) y la Audiencia Pública de Rendición de Cuentas. https://coldeportes.sharepoint.com/:f:/s/gitcomunicaciones/EmImNQQqu3JFq-bXMwMSIb0Ble4jUXxDzE6UBsHr43FMHg?e=eMA2cz | M12: 0.3 | N12: Se evidencia foros virtules de rendiciones de cuenta , for regionales de socializacion de la nueva ley del deporte Evidencia siguiente link https://coldeportes.sharepoint.com/:f:/s/gitcomunicaciones/EmImNQQqu3JFq-bXMwMSIb0Ble4jUXxDzE6UBsHr43FMHg?e=eMA2cz | T12: 0 | U12: 0 | V12: 0 | W12: 0 | X12: 0 | Y12: 1
C13: Publicación de los informes sobre las conclusiones generadas en cada encuentro de diálogo con los grupos de valor. | D13: Número de informes publicados /Número de informes generados de ejercicios de rendición de cuentas | E13: GIT Comunicaciones con los reportes de todos los GIT de MinDeporte. | F13: 44530 | G13: 0 | H13: A la fecha esta actividad no ha iniciado su ejecución ya que la Estrategia de la Rendición de Cuentas se encuentra en construcción por parte de la OAP. | I13: 0 | J13: Se tiene programado cuplir para el 30 de Nov 2021 | K13: 0.3 | L13: Se publicarón los informes sobre las conclusiones generadas en cada encuentro de diálogo con los grupos de valor, a través de notas de prensa del Viceministerio, Fomento, Secretaría General y la Audiencia Pública de Rendición de Cuentas. https://coldeportes.sharepoint.com/:f:/s/gitcomunicaciones/EuUXnlVoJaVIvi_mP0yY2C0BQeC0lW-o4L-sfXcxc7lSdg?e=KRWQcC | M13: 0.3 | N13: Se evidencia publicacion sobre las conclusiones de cada encuentro | T13: 0 | U13: 0 | V13: 0 | W13: 0 | X13: 0 | Y13: 1
C14: Espacios de socialización e interacción con la ciudadanía dispuestos desde las plataformas y canales electrónicos del Ministerio | D14: : Número de espacios de socialización dispuestos en plataforma / número de espacios de socialización e interacción solicitados. | E14: GIT Comunicaciones/Servicio Integral al Ciudadano | F14: 44530 | G14: 1 | H14: Se han difundido 4 foros en la página Web. Se llevaron a cabo 16 Facebook Live https://coldeportes.sharepoint.com/:f:/s/gitcomunicaciones/Eu_dOAdFO6VOse2DnPq-bMAB51W3Xbv7ngq8GakVR4ecdA?e=mtbZFQ El avance se mide con base en los espacios solicitados que para los efectos de la medición de el indicador son los espacios programados en la plataforma, en ese sentido todas las solicitudes de espacios fueron dispuestos en la plataforma y por lo anterior se solicitara el cambio del indicador para dejar claridad sobre los espacios programados vs solicitados | I14: 1 | J14: Se presenta espacios de socializacion a travez de foros en la pagina del Mindeporte ( 1. Foro proyecto del PAYAC 2021 el 25 de enero 2021, 2) Foro de la Nueva Ley del Deporte 2021 ) el 5 de febrero 3) Consulta Publica del Proyecto de Decreto reglamentatario de la Ley 1946 de 2019) el 12 de febrero 4) Consulta Publica Decreto Becas por Imptos 16 de febrero 5) Foro de priorizacion de temas audiencia publica de rendicion de cuentas el 23 abril hasta el 14 de amyo 6. Encuentas de Percepcion de Calidad, siobre tema de transparencia el 20 de abril | K14: 1 | L14: Se presenta espacios de socialización a través de foros en la página web de Mindeporte. 12 en total en lo corrido del año. Entre mayo y agosto 6 foros: (1. Foro de Audiencia Pública de Rendición de Cuentas, el 23 de abril. Foro Informe Rendición de Cuentas 2020-2021, el 17 de junio. Foro Decreto reglamentario para la ley 2084. el 23 de junio. Proyectos de acto administrativo, el 2 de agosto. Foro de rendición de cuentas Secretaría General 2021, el 4 de agosto y Foro de consulta y aportes al proyecto de la política institucional de Servicio al Ciudadano, el 5 de agosto. Se llevaron a cabo 56 Facebook Live, donde participa la ciudadanía. El avance se mide con relación a las solicitudes realizadas por las áreas, que en su totalidad fueron atendidas. Con memorando 2021IE000323, del 27 de mayo, se solicitó el ajuste del indicador de la actividad para que quedará: Número de espacios de socialización dispuestos en plataforma / número de espacios de socialización e interacción solicitados. https://coldeportes.sharepoint.com/:f:/s/gitcomunicaciones/Er0nyYwwCH9MsBISB0m0C3EBexUldgxtfGWqoQuNqacY8Q?e=UEfFQa | M14: 0.3 | N14: Se evidencia 5 foros realizados de mayo a agosto 1. Foro Informe Rendición de Cuentas 2020-2021 2. Foro Decreto reglamentario para la ley 2084, el cual se publicó el 23 de junio 3. Proyectos de acto administrativo, se pe publicó el 02 de agosto 4. Foro de rendición de cuentas Secretaría General 2021Se publicó el 04 de agosto 5. Foro de consulta y aportes al proyecto de la política institucional de Servicio al Ciudadano Ver evidencia siguiente link https://coldeportes.sharepoint.com/:f:/s/gitcomunicaciones/Er0nyYwwCH9MsBISB0m0C3EBexUldgxtfGWqoQuNqacY8Q?e=UEfFQa | T14: 0 | U14: 0 | V14: 0 | W14: 0 | X14: 0 | Y14: 1
A15: Subcomponente 3 Incentivos para motivar la cultura de la rendición y petición de cuentas | B15: Realizar campañas de comunicación interna sobre la importancia de la Rendición de Cuentas | C15: Dos (2) campañas realizadas | D15: Número de campañas realizadas/Número de campañas programadas | E15: Oficina Asesora de Planeación / GIT Comunicaciones | F15: 44530 | G15: 0.5 | H15: Se llevó a cabo la primera fase, de la primera campaña de Rendición de Cuentas, con 9 piezas gráficas publicadas y socializadas a través de la intranet. https://coldeportes.sharepoint.com/:f:/s/gitcomunicaciones/EnAACt_387FEsmUBHSL6FdwBBnyyPD1zHe5rEt0OH9q1OQ?e=oqfU3h | I15: 0.5 | J15: Se evidencio campañas publicitaria en la intranet sobre rendicion de cuentas | K15: 1 | L15: Se llevarom a cabo dos campañas de comunicación interna sobre la importancia de la Rendición de Cuentas, durante el año. Una en el segundo cuatrimestre. Se publicaron y socializaron 15 piezas gráficas en la intranet. https://coldeportes.sharepoint.com/:f:/s/gitcomunicaciones/EvBhRmwJTMNBnq_HZsK8-MABQwQq8siSYAuT5OuYMzOQmA?e=n8J8oS | M15: 1 | N15: Se evidencia la publicacion y socializacion de 15 piezas graficas en la Inteanet para el segundo cuatrimestre 2021. Ver evidencia en siguiente link https://coldeportes.sharepoint.com/:f:/s/gitcomunicaciones/EvBhRmwJTMNBnq_HZsK8-MABQwQq8siSYAuT5OuYMzOQmA?e=n8J8oS | T15: 0 | U15: 0 | V15: 0 | W15: 0 | X15: 0 | Y15: 1
A16: Subcomponente 4 Evaluación y retroalimentación a la gestión institucional | B16: Consolidar y publicar el informe de acciones de la audiencia pública | C16: Un (1 )informe publicado y socializado de la audiencia pública | D16: Número de informes publicados/Número de informes consolidados | E16: Oficina Asesora de Planeación / GIT Comunicaciones | F16: 44530 | G16: 0 | H16: En el periodo reportado no se ha iniciado la ejecución de la actividad | I16: 0 | J16: Se tiene programado cuplir para el 30 de Nov 2021 | K16: 1 | L16: El informe publicado contiene la relación del total de acciones en comunicación realizadas en las etapas de convocatoria, ejecución y evaluación de la audiencia pública de rendición de cuentas, se incluye los resultados del foro de consulta a la ciudadanía, convocatoria grupos de valor, resultados de encuesta de percepción y respuestas a la ciudadanía de las preguntas consignadas durante el foro y la transmisión. https://coldeportes.sharepoint.com/:f:/s/gitcomunicaciones/EgM9fYZUEZRAvJ7h25sGUecBfc3rwINNounospN2ihLElQ?e=yc5AXS El informe fue publicado y socializado en la página web del Ministerio en la siguiente ruta https://www.mindeporte.gov.co/recursos_user/2021/Comunicaciones/Agosto/Informe_de_acciones_Audiencia_P%C3%BAblica_de_Rendici%C3%B3n_de_Cuentas_2020-2021.pdf | M16: 1 | N16: Se evidencia la publicacion del informe de acciones de comunicación " Audiencia Pública de Rendición de cuentas 2020- 2021 Evidencia siguiente link https://www.mindeporte.gov.co/recursos_user/2021/Comunicaciones/Agosto/Informe_de_acciones_Audiencia_P%C3%BAblica_de_Rendici%C3%B3n_de_Cuentas_2020-2021.pdf | T16: 0 | U16: 0 | V16: 0 | W16: 0 | X16: 0 | Y16: 1
