Workbook
Name a: #REF!
Name a: #REF!
Name a: #REF!
Name a: #REF!
Name A_Obj1: OFFSET(#REF!,0,0,COUNTA(#REF!)-1,1)
Name A_Obj1: OFFSET(#REF!,0,0,COUNTA(#REF!)-1,1)
Name A_Obj1: OFFSET(#REF!,0,0,COUNTA(#REF!)-1,1)
Name A_Obj1: OFFSET(#REF!,0,0,COUNTA(#REF!)-1,1)
Name A_Obj1: OFFSET(#REF!,0,0,COUNTA(#REF!)-1,1)
Name A_Obj1: OFFSET(#REF!,0,0,COUNTA(#REF!)-1,1)
Name A_Obj1: OFFSET(#REF!,0,0,COUNTA(#REF!)-1,1)
Name A_Obj2: OFFSET(#REF!,0,0,COUNTA(#REF!)-1,1)
Name A_Obj2: OFFSET(#REF!,0,0,COUNTA(#REF!)-1,1)
Name A_Obj2: OFFSET(#REF!,0,0,COUNTA(#REF!)-1,1)
Name A_Obj2: OFFSET(#REF!,0,0,COUNTA(#REF!)-1,1)
Name A_Obj2: OFFSET(#REF!,0,0,COUNTA(#REF!)-1,1)
Name A_Obj2: OFFSET(#REF!,0,0,COUNTA(#REF!)-1,1)
Name A_Obj2: OFFSET(#REF!,0,0,COUNTA(#REF!)-1,1)
Name A_Obj3: OFFSET(#REF!,0,0,COUNTA(#REF!)-1,1)
Name A_Obj3: OFFSET(#REF!,0,0,COUNTA(#REF!)-1,1)
Name A_Obj3: OFFSET(#REF!,0,0,COUNTA(#REF!)-1,1)
Name A_Obj3: OFFSET(#REF!,0,0,COUNTA(#REF!)-1,1)
Name A_Obj3: OFFSET(#REF!,0,0,COUNTA(#REF!)-1,1)
Name A_Obj3: OFFSET(#REF!,0,0,COUNTA(#REF!)-1,1)
Name A_Obj3: OFFSET(#REF!,0,0,COUNTA(#REF!)-1,1)
Name A_Obj4: OFFSET(#REF!,0,0,COUNTA(#REF!)-1,1)
Name A_Obj4: OFFSET(#REF!,0,0,COUNTA(#REF!)-1,1)
Name A_Obj4: OFFSET(#REF!,0,0,COUNTA(#REF!)-1,1)
Name A_Obj4: OFFSET(#REF!,0,0,COUNTA(#REF!)-1,1)
Name A_Obj4: OFFSET(#REF!,0,0,COUNTA(#REF!)-1,1)
Name A_Obj4: OFFSET(#REF!,0,0,COUNTA(#REF!)-1,1)
Name A_Obj4: OFFSET(#REF!,0,0,COUNTA(#REF!)-1,1)
Name Acc_1: #REF!
Name Acc_1: #REF!
Name Acc_1: #REF!
Name Acc_1: #REF!
Name Acc_1: #REF!
Name Acc_1: #REF!
Name Acc_1234: #REF!
Name Acc_1234: #REF!
Name Acc_2: #REF!
Name Acc_2: #REF!
Name Acc_2: #REF!
Name Acc_2: #REF!
Name Acc_2: #REF!
Name Acc_2: #REF!
Name Acc_3: #REF!
Name Acc_3: #REF!
Name Acc_3: #REF!
Name Acc_3: #REF!
Name Acc_3: #REF!
Name Acc_3: #REF!
Name Acc_4: #REF!
Name Acc_4: #REF!
Name Acc_4: #REF!
Name Acc_4: #REF!
Name Acc_4: #REF!
Name Acc_4: #REF!
Name Acc_5: #REF!
Name Acc_5: #REF!

Sheet Consolidado
B8: Resultados Seguimiento Plan Anticorrupción y de Atención al Ciudadano 2020
B11: Selecciona el componente que desea consultar:
B13: Componente 1: Mapa de riesgos de corrupción y medidas para mitigar los riesgos
B15: Componente 2: Racionalización (Estrategia antitrámites)
B17: Componente 3. Rendición de cuentas
B19: Componente 4. Atención al Ciudadano
B21: Componente 5. Transparencia y Acceso a la Información
B23: Componente 6: Iniciativas adicionales
B25: TOTAL

Sheet Antecedentes
A2: PLAN ANTICORRUPCIÓN Y DE ATENCIÓN AL CIUDADANO 2021
A4: OBJETIVO GENERAL Fomentar la gestión de transparencia y lucha contra la corrupción en el Ministerio del Deporte, a través de la formulación de la estrategia y el desarrollo de actividades orientadas al cumplimiento del Plan Anticorrupción y de Atención al Ciudadano 2021.
A5: OBJETIVOS ESPECÍFICOS • Definir actividades para prevenir la materialización de riesgos de corrupción. • Formular acciones orientadas a identificar las necesidades de los ciudadanos y los grupos de valor. • Formular acciones de rendición de cuentas de la entidad como instrumento de fortalecimiento en la gestión. • Generar acciones para la identificación, priorización y racionalización de trámites del Ministerio del Deporte. • • Formular acciones pedagógicas adicionales para fomentar la Transparencia e integridad de los funcionarios y contratistas.

Sheet Programación Metas
B5: Plan Anticorrupción y de Atención al Ciudadano 2021
B6: Componente | C6: 1er bimestre ene-feb | D6: 2do bimestre mar-abr | E6: 3ro bimestre may-jun | F6: 4to bimestre jul-ago | G6: 5to bimestre sep-oct | H6: 6to bimestre nov-dic
B8: Componente 1: Mapa de riesgos de corrupción y medidas para mitigar los riesgos | C8: =+#REF! -> #REF! | D8: =+#REF! -> #REF! | E8: =+#REF! -> #REF! | F8: =+#REF! -> #REF! | G8: =+#REF! -> #REF! | H8: =+#REF! -> #REF!
B9: Componente 2: Racionalización (Estrategia antitrámites) | C9: =+'2.Racionalización'!T10 -> 0 | D9: =+'2.Racionalización'!U10 -> 0.5 | E9: =+'2.Racionalización'!V10 -> 0.5 | F9: =+'2.Racionalización'!W10 -> 0.5 | G9: =+'2.Racionalización'!X10 -> 0.5 | H9: =+'2.Racionalización'!Y10 -> 1
B10: Componente 3. Rendición de cuentas | C10: =+'3.Rendición de Cuentas'!T25 -> 0 | D10: =+'3.Rendición de Cuentas'!U25 -> 0.10526316 | E10: =+'3.Rendición de Cuentas'!V25 -> 0.18421053 | F10: =+'3.Rendición de Cuentas'!W25 -> 0.28947368 | G10: =+'3.Rendición de Cuentas'!X25 -> 0.42105263 | H10: =+'3.Rendición de Cuentas'!Y25 -> 1
B11: Componente 4. Atención al Ciudadano | C11: =+#REF! -> #REF! | D11: =+#REF! -> #REF! | E11: =+#REF! -> #REF! | F11: =+#REF! -> #REF! | G11: =+#REF! -> #REF! | H11: =+#REF! -> #REF!
B12: Componente 5. Transparencia y Acceso a la Información | C12: =+#REF! -> #REF! | D12: =+#REF! -> #REF! | E12: =+#REF! -> #REF! | F12: =+#REF! -> #REF! | G12: =+#REF! -> #REF! | H12: =+#REF! -> #REF!
B13: Componente 6: Iniciativas adicionales | C13: =+#REF! -> #REF! | D13: =+#REF! -> #REF! | E13: =+#REF! -> #REF! | F13: =+#REF! -> #REF! | G13: =+#REF! -> #REF! | H13: =+#REF! -> #REF!
B14: TOTAL | C14: =AVERAGE(C8:C13) -> #REF! | D14: =AVERAGE(D8:D13) -> #REF! | E14: =AVERAGE(E8:E13) -> #REF! | F14: =AVERAGE(F8:F13) -> #REF! | G14: =AVERAGE(G8:G13) -> #REF! | H14: =AVERAGE(H8:H13) -> #REF!

Sheet 4.1RC
A1: N° | B1: Proceso | C1: Informe de monitoreo MRC
C2: corte 30-abr (33%) | D2: corte 31-ago (33%) | E2: corte 31-dic (33%) | F2: % avance
A3: 1 | B3: Planeación Estratégica | C3: 0.33333333 | D3: 0.33 | F3: =SUM(C3:E3) -> 0.66333333
A4: 3 | B4: Gestión de Comunicaciones | C4: 0.33333333 | D4: 0 | F4: =SUM(C4:E4) -> 0.33333333
A5: 5 | B5: Inspección, Vigilancia y Control | C5: 0.33333333 | D5: 0.33 | F5: =SUM(C5:E5) -> 0.66333333
A6: 6 | B6: Fomento al Desarrollo Humano y Social | F6: =SUM(C6:E6) -> 0
B7: Recreación | C7: 0.33333333 | D7: 0.33333333
B8: Deporte Escolar | C8: 0.33333333 | D8: 0.33333333
B9: Social Comunitario | C9: 0.33333333 | D9: 0.33333333
B10: Actividad Fisica | C10: 0.33333333 | D10: 0.33333333
B11: Fomento al Desarrollo Humano y Social - Programa Superate | C11: 0 | D11: 0.33 | F11: =SUM(C11:E11) -> 0.33
A12: 7 | B12: Altos Logros
B13: Deporte Convencional | C13: 0.33333333 | D13: 0.33 | F13: =SUM(C13:E13) -> 0.66333333
B14: CCD | C14: 0 | D14: 0.33 | F14: =SUM(C14:E14) -> 0.33
B15: Programas y proyectos Deportivos | C15: 0.33333333 | D15: 0.33 | F15: =SUM(C15:E15) -> 0.66333333
B16: Deporte Paralimpico | C16: 0.33333333 | D16: 0.33 | F16: =SUM(C16:E16) -> 0.66333333
B17: Nacional Antidopaje | C17: 0.33333333 | D17: 0.33 | F17: =SUM(C17:E17) -> 0.66333333
B18: Juegos y eventos | C18: 0.33333333 | D18: 0.33 | F18: =SUM(C18:E18) -> 0.66333333
B19: Psicosocial | C19: 0.33333333 | D19: 0.33 | F19: =SUM(C19:E19) -> 0.66333333
A20: 8 | B20: Apoyo en Infraestructura Técnica y Científica
B21: CAR | C21: 0.33333333 | D21: 0 | F21: =SUM(C21:E21) -> 0.33333333
B22: Laboratorio al Dopaje | C22: 0.33333333 | D22: 0 | F22: =SUM(C22:E22) -> 0.33333333
B23: Infraestructura | C23: 0.33333333 | D23: 0 | F23: =SUM(C23:E23) -> 0.33333333
B24: Informacion y Estudios | C24: 0.33333333 | D24: 0 | F24: =SUM(C24:E24) -> 0.33333333
A25: 9 | B25: Servicio Integral al Ciudadano | C25: 0.33333333 | D25: 0.33333333 | F25: =SUM(C25:E25) -> 0.66666667
A26: 10 | B26: Gestión de Tecnologías de la Información y las Comunicaciones | C26: 0.33333333 | D26: 0.33333333 | F26: =SUM(C26:E26) -> 0.66666667
A27: 11 | B27: Gestión del Talento Humano | C27: 0.33333333 | D27: 0.33333333 | F27: =SUM(C27:E27) -> 0.66666667
A28: 12 | B28: Gestión Documental | C28: 0.33333333 | D28: 0.33333333 | F28: =SUM(C28:E28) -> 0.66666667
A29: 13 | B29: Adquisición de Bienes y Servicios | C29: 0.33333333 | D29: 0.33333333 | F29: =SUM(C29:E29) -> 0.66666667
A30: 14 | B30: Gestión Financiera y Tesorería | C30: 0.33333333 | D30: 0.33333333 | F30: =SUM(C30:E30) -> 0.66666667
A31: 15 | B31: Gestión Jurídica | C31: 0.33333333 | D31: 0.33333333 | F31: =SUM(C31:E31) -> 0.66666667
A32: 16 | B32: Gestión de los Recursos Físicos | C32: 0.33333333 | D32: 0.33333333 | F32: =SUM(C32:E32) -> 0.66666667
A33: 17 | B33: Seguimiento y Evaluación de la Gestión | C33: 0.33333333 | D33: 0.33333333 | F33: =SUM(C33:E33) -> 0.66666667
B34: Cumplimiento | C34: =AVERAGE(C3:C33) -> 0.30952381 | D34: =AVERAGE(D3:D33) -> 0.27261905 | F34: =SUM(C34:E34) -> 0.58214286

Sheet Hoja1
B2: COMPONENTE | C2: Avance reportado por el responsable | D2: Avance Verificado por la OCI | E2: Nivel de Cumplimiento OCI | F2: Observaciones OCI
B3: 1: Mapa de Riesgo de Corrupcion y medidas para mitigar los riesgos | C3: 0.45 | D3: 0.45 | E3: ZONA BAJA | F3: observación De 7 actividades programadas en el Primer Cuatrimestre 2021, dos no alcanzaron el 100%, quedando así: una (1) no se cumplió (0%), y la segunda (2) con el cumplimiento del 60%.
B4: 2: Racionalización ( Estrategia antitrámites) | C4: 0.67 | D4: 0.67 | E4: ZONA MEDIA | F4: Sin Novedad
B5: 3: Rendición de Cuentas | C5: 0.27 | D5: 0.27 | E5: ZONA BAJA | F5: Sin Novedad
B6: 4: Atención al Ciudadano | C6: 0.19 | D6: 0.19 | E6: ZONA BAJA | F6: Sin Novedad
B7: 5: Transparencia y Acceso a la información | C7: 0.27 | D7: 0.24 | E7: ZONA BAJA | F7: Sin Novedad
B8: 6: Iniciativas adicionales | C8: 0.15 | D8: 0.15 | E8: ZONA BAJA | F8: No se tiene actividades programadas para el primer cuatrimestre 2021

Sheet 1.Riesgos corrupción 
A2: PLAN ANTICORRUPCIÓN Y DE ATENCIÓN AL CIUDADANO 2021
G3: Seguimiento Primer Cuatrimestre
A4: Componente 1: Mapa de riesgos de corrupción y medidas para mitigar los riesgos | G4: Seguimiento Primera Línea de Defensa Primer Cuatrimestre | I4: Seguimiento Tercera Línea de Defensa Primer Cuatrimestre
A5: Subcomponente | B5: Acción | C5: Meta o Producto | D5: Indicador | E5: Responsable | F5: Fecha programada | G5: Avance Cuantitativo | H5: Avance Cualitativo | I5: Avance Cuantitativo OCI | J5: Observaciones OCI
A6: Subcomponente - Proceso 1: Política de Administración de Riesgos | B6: Recibir la asesoría y acompañamiento del Departamento Administrativo de la Función Pública para la implementación de la Guía de Administración de Riesgos emitida en diciembre de 2020. | C6: Capacitación realizada, actas de reunión y/o correos electrónicos | D6: Número de actividades ejecutadas/Número de actividades planeadas | E6: Oficina Asesora de Planeación. | F6: 44316 | G6: =+(0.6) -> 0.6 | H6: Mediante radicado 20215000080581 del 8-ma-21 (soporte a) fue aprobado por parte del DAFP la asesoría y acompañamiento en el temade riesgos para el Ministerio del Deporte, la cual esta conformada por cautro (4) hitos de los cuales se ha ejecutado: - El 14-abr-21 fue realizada una capacitación directamente por el DAFP a los Líderes y Enlaces de los Procesos del Ministerio en la nueva Guía de Administración de Riesgos (soporte b). - El 30-mar-21 fueron enviados para la ejecución del hito 2 y 3 el proyecto de actualización de la política de riesgos y la caracterización del proceso PE, del cual estamos a la espera de recibir los resultados. (soporte c) - El 16-abr-21 fue enviado el Mapa de Riesgos vigente del Proceso priorizado PE. (soporte c) - El 29-abr-21 se realizó mesa de trabajo donde se recibió retroalimentacion del DAFP y el 30-abr-21 se recibieron el resultado de la revisión de la politica de riesgos y caracterización del proceso priorizado (soporte c). Teniendo en cuenta lo anterior el avance de la actividad esta dado por (3 actividad ejecutada / 5 planeadas)=60% | I6: 0.6 | J6: Se esta adelantando las respectivas asesorias con el DAFP, Se verificaron los soportes de avance
B7: Presentar para aprobación del Comité Institucional de Coordinación de Control Interno la Política de Administración del Riesgo del Ministerio del Deporte actualizada. | C7: Un (1) Acta de reunión del Comité Institucional de Coordinación de Control Interno | D7: Número de actas de reunión emitidas/Número de actas de reunión programadas | E7: Oficina Asesora de Planeación. | F7: 44347 | G7: 0 | H7: Sin avance dado que no ha finalizado la asesoría del DAFP y la fecha programada para su finalización no ha vencido. | I7: 0 | J7: Se tiene programado cumplir el 31 mayo 2021
B8: Actualizar la Política de Administración del Riesgo del Ministerio del Deporte de acuerdo con la versión vigente de la Guía de Administración del Riesgo emitida por el DAFP. | C8: Una (1) política actualizada en ISOLUCION | D8: Número de documentos actualizados en ISOLUCION / Número de documentos proyectados | E8: Oficina Asesora de Planeación. | F8: 44377 | G8: 0 | H8: Sin avance dado que no ha finalizado la asesoría del DAFP y no se ha presentado al CICCI y la fecha programada para su finalización no ha vencido. | I8: 0 | J8: Se tiene programado cumplir el 30 Junio 2021
B9: Actualizar el procedimiento de administración del riesgo de la entidad y el formato del mapa de riesgos de acuerdo con la versión vigente de la Guía de Administración del Riesgo emitida por el DAFP. | C9: Un (1) procedimiento y un (1) formato actualizados en ISOLUCION | D9: Número de documentos actualizados en ISOLUCION / Número de documentos proyectados | E9: Oficina Asesora de Planeación. | F9: 44377 | G9: 0.5 | H9: El 4-mar-21 fue aprobado en ISOLUCION la versión actualizada del procedimiento Administración de Riesgos GO-PD-011 versión 1 (soporte d) Esta pendiente la actualización en ISOLUCIÓN del formato del mapa de riesgos. Teniendo en cuenta lo anterior el avance de la actividad esta dado por (1 documento actualizado / 2 documentos proyectados)=50% | I9: 0.5 | J9: Se tiene programado cumplir el 30 Junio 2021
B10: Socializar la Política, procedimiento y formato asociado con la Administración del Riesgo del Ministerio del Deporte. | C10: Emisión de una (1) pieza de comunicación Entérate cada trimestre, para un total de cuatro (4) en el año | D10: Número de piezas emitidas/Número de piezas proyectadas en el año | E10: Oficina Asesora de Planeación. | F10: 5-mar-21 8-jun-21 7-sep-21 15-dic-21 | G10: =+(0.25) -> 0.25 | H10: El 8-mar-21 fue publicada en la Intranet Institucional la pieza de Comunicación Enteráte sobre la Política de Administración de Riesgos vigente. (soporte e) Teniendo en cuenta lo anterior el avance de la actividad esta dado por (1 pieza emitida / 4 piezas proyectadas)=25% | I10: 0.25 | J10: Se evidencia publicacion en la Intranet de la politica de admnistracion del Riesgo
B11: Realizar mesas de trabajo con los responsables y/o enlaces de cada uno de los procesos de la Entidad, para socializar la aplicación de la política, procedimiento y formato de administración del riesgo actualizados.. | C11: Mesas de trabajo realizadas con cada proceso de la Entidad | D11: Número de procesos socializados/Número de total de procesos | E11: Oficina Asesora de Planeación | F11: 44407 | G11: 0 | H11: Sin avance dado que no ha finalizado la asesoría del DAFP y no se ha actualizado en ISOLUCION la política y formato de riesgos y la fecha programada para su finalización no ha vencido. | I11: 0 | J11: Se tiene programado cumplir el 30 Julio 2021
A12: Subcomponente - Proceso 2: Construcción del Mapa de Riesgos de Corrupción | B12: Formular el mapa de riesgos institucional de corrupción de la vigencia 2021. | C12: Un (1) mapa de Riesgos de Corrupción Institucional 2021 | D12: Número de documentos formulados / Número de documentos proyectados | E12: Líderes de Proceso / Oficina Asesora de Planeación | F12: 44225 | G12: 1 | H12: Se formuló el mapa de riesgos institucional de corrupción de la vigencia 2021 el cual fue publicado en la página web de la Entidad el 29-ene-21 en el link: https://www.mindeporte.gov.co/index.php?idcategoria=99279 Teniendo en cuenta lo anterior el avance de la actividad es 100% | I12: 1 | J12: Se evidencia publicacion del mapa de riesgo en la Pag Web del 29 de enero 2021
B13: Brindar apoyo y asesoría en la identificación y valoración de riesgos de corrupción a los procesos de la Entidad, de acuerdo con lo requerimientos recibidos. | C13: Mesas de tabajo realizadas de acuerdo a lo requerido por los procesos de la Entidad | D13: Número de mesas de trabajo realizadas / Número de requerimentos recibidos | E13: Oficina Asesora de Planeación | F13: 44545 | G13: 1 | H13: El GIT de Planeación y Gestión asesoró en la actualizacion de los mapas de riesgos 2021 a dieciocho (18) procesos de la Entidad a traves de las mesas de trabajo ejecutadas en el primer cuatrimestre 2021, tal como consta en correos electrónicos, teams o actas de reunion (soporte f). | I13: 1 | J13: Se realizó 18 mesas de trabajo en diferentes procesps de asesoria en los mapas de riesgos de la entidad
B14: Actualizar los riesgos de corrupción de los procesos de acuerdo con la politica y procedimiento actualizados, asi como los resultados de la implementación de los planes de tratamiento definidos para los riesgos en caso de requerirse. | C14: Un (1) mapa de Riesgos de Corrupción Institucional actualizado | D14: Número de documento publicado / Número de documento proyectado | E14: Líderes de Proceso / Oficina Asesora de Planeación | F14: 44545 | G14: 0 | H14: Sin avance dado que no ha finalizado la asesoría del DAFP y no se ha actualizado en ISOLUCION la política y formato de riesgos. | I14: 0 | J14: Se tiene programado cumplir el 15 Dci 2021
B15: Presentar al CICG Del Contexto estratégico instirtucional 2021, de acuerdo a las solicitudes realizadas a los líderes de proceso. | C15: Contexto Institucional Actualizado | D15: Número de documento actualizado / Número de documentos proyectados | E15: Líderes de Proceso / Oficina Asesora de Planeación | F15: 44316 | G15: 0 | H15: Esta en revisión los ajustes recibidos de parte de los Líderes de Proceso, una vez sean consolidados se presentaran al CIDG. | I15: 0 | J15: En acta Sesión Ordinaria N° 1 del 28 de Enero 2021, en el orden del dia se presento en el punto Sexto " Presentación Contexto Extrategico" y se dejo como compromiso que cada lider analizara, y remitiera a OPA algun ajuste de ser necesarios . ( Actividad no se cumplio de acuerdo a la fecha programada)
A16: Subcomponente - Proceso 3: Consulta y Divulgación | B16: Someter a consulta pública interna y externa el Mapa de Riesgos institucional de Corrupción de la vigencia 2021. | C16: Una (1) Pieza de comunicaciones internas y Una (1) Pieza en la página web | D16: Número de piezas emitidas/Número de piezas proyectadas | E16: Oficina Asesora de Planeación | F16: 44218 | G16: 1 | H16: En el mes de enero de 2021 fue publicada una pieza comunicaciones internas la cual fue enviada a los correos electrónicos (soporte g) y una pieza en la página web (soporte h). Teniendo en cuenta lo anterior el avance de la actividad esta dado por (2 piezas emitidas / 2 piezas proyectadas)=100% | I16: 1 | J16: Se evidencia soporte de comunicación en la Intranet el 25 de enero 2021 de la publicacion Foro del PAYAC 2021 y se evidencia aportes de la ciudadania , adicional este fue publicado en la Web el 29 de enero de 2021
B17: Publicar el Mapa de Riesgos institucional de Corrupción de la vigencia 2021. | C17: Publicación en pagina web institucional | D17: Número de documento publicado / Número de documentos proyectados | E17: Oficina Asesora de Planeación | F17: 44225 | G17: 1 | H17: El 29-ene-21 fue publicado en la página web de la Entidad los riesgos de corrupción en el link: https://www.mindeporte.gov.co/index.php?idcategoria=99279 Teniendo en cuenta lo anterior el avance de la actividad es 100% | I17: 1 | J17: El maoa de riesgo se publico el 29 de enero de 2021 cumpliendo con las fechas estipuladas por ley
B18: Realizar la(s) actualización(es) de la publicación del mapa de riesgos institucional de corrupción cuando sea requerido de acuerdo con la politica y procedimiento actualizados, asi como los resultados de la implementación de los planes de tratamiento definidos para los riesgos en caso de requerirse. | C18: Publicación en pagina web | D18: Número de documento publicado / Número de documentos que requieren actualizacion | E18: Oficina Asesora de Planeación | F18: 44545 | G18: 1 | H18: Teniendo en cuenta la actualización de los Planes de Tratamiento de Riesgos 2021, se realizó la actualización del mapa de riesgos de corrupción publicado en la pagina web de la Entidad en la ruta: https://www.mindeporte.gov.co/index.php?idcategoria=99279 | I18: 1 | J18: Se evidencia actualizacion del MRC el 27 de abril 2021 en la pagina WEB de Mindeporte, de acuerdo a la actualizacion de los planes de tratamientos
A19: Subcomponente - Proceso 4: Monitoreo o revisión | B19: Realizar el monitoreo y el reporte de avances en la administración de los riesgos por proceso de la Entidad. | C19: Mapa de riesgos de cada proceso con el reporte de monitoreo cuatrimestral | D19: (Número de procesos*monitoreos realizados) / (Número de procesos *Número de monitoreos proyectados) | E19: Líderes de Proceso | F19: 23-abr-21 20-ago-21 20-dic-21 | G19: 0.33 | H19: Los diecinueve (19) procesos del Ministerio del Deporte realizaron el monitoreo de riesgos y reportaron los resultados del primer cuatrimestre de 2021. | I19: 0.33 | J19: Se encuentra actualizado y publicado en ISOLUCION de los 19 MRC de los procesos existente en Mindeporte
B20: Realizar el seguimiento al monitoreo reportado por los líderes de los procesos. | C20: Consolidado de monitoreo cuatrimestral realizado por los procesos | D20: Número de Reportes consolidado / Número de reportes proyectados | E20: Oficina Asesora de Planeación | F20: 7-may-21 3-sep-21 31-dic-21 | G20: 0 | H20: El resultado del seguimiento reportado por los Líderes de Procesos será remitido a la Oficina de Control Interno en los primeros días hábiles del mes de mayo de 2021, de acuerdo con lo solicitado por dicha dependencia. | I20: 0 | J20: Se tiene programado cumplir el 7 mayo 2021
A21: Subcomponente -Proceso 5: Seguimiento | B21: En forma cuatrimestral realizar seguimiento al Mapa de Riesgos de Corrupción de la vigencia 2021 para lo cual se emitirara informes y su publicacion. | C21: Dos (2) Informes | D21: Número de Informes realizados/Número de Informes proyectados | E21: Oficina de Control Interno | F21: 15-05-2021 14-09-2021 | G21: 0
G22: =SUM(G6:G21) -> 6.68
G23: 15 | I23: 15
G24: =+G22/G23 -> 0.44533333 | I24: =+I22/I23 -> 0

Sheet 2.Racionalización
A1: PLAN ANTICORRUPCIÓN Y DE ATENCIÓN AL CIUDADANO 2021
G3: Seguimiento Primer Cuatrimestre | K3: Seguimiento Segundo Cuatrimestre | O3: Seguimiento Tercer Cuatrimestre
A4: 2. Racionalización de Trámites | G4: Seguimiento Primera Línea de Defensa Primer Cuatrimestre | I4: Seguimiento Tercera Línea de Defensa Primer Cuatrimestre | K4: Seguimiento Primera Línea de Defensa Segundo Cuatrimestre | M4: Seguimiento Tercera Línea de Defensa Segundo Cuatrimestre | O4: Seguimiento Primera Línea de Defensa Tercer Cuatrimestre | Q4: Seguimiento Tercera Línea de Defensa Tercer Cuatrimestre | T4: Programación Meta Acumulativa
A5: Subcomponente | B5: Actividades | C5: Meta o producto | D5: Indicador | E5: Responsable | F5: Fecha | G5: Avance Cuantitativo | H5: Avance Cualitativo | I5: Avance Cuantitativo OCI | J5: Observaciones OCI | K5: Avance Cuantitativo | L5: Avance Cualitativo | M5: Avance Cuantitativo OCI | N5: Observaciones OCI | O5: Avance Cuantitativo | P5: Avance Cualitativo | Q5: Avance Cuantitativo OCI | R5: Observaciones OCI | S5: Fecha reprogramada | T5: 1er bimestre ene-feb | U5: 2do bimestre mar-abr | V5: 3ro bimestre may-jun | W5: 4to bimestre jul-ago | X5: 5to bimestre sep-oct | Y5: 6to bimestre nov-dic
A6: Subcomponente 1: Identificación de Trámites | B6: Realizar Diagnóstico de los trámites y servicios en línea ofrecidos por el Ministerio del Deporte. | C6: Un (1)Documento de Diagnóstico Realizado | D6: Número de diagnósticos realizados/Número de diagnósticos planeados | E6: Oficina Asesora de Planeación y Líderes de Proceso | F6: 44286 | G6: 1 | H6: Se realizó informe diagnóstico para la construcción de la estrategia de racionalización de trámites del Ministerio del Deporte Vigencia 2021. Fecha del informe: 24 de marzo de 2021. Para la elaboración del Diagnóstico se realizaron sesiones virtuales con los responsables de los trámites Dirección de Inspección Vigilancia y Control, Dirección de Posicionamiento y Liderazgo Deportivo, GIT Centro de Alto rendimiento y GIT TICs. | I6: 1 | J6: Se realizó Diagnostico de los tramites y servicios en linea ofrecidos por ministerio, se priorizaron 6 Tramites y 2 OPAS | S6: N/A | T6: 0 | U6: 1 | V6: 1 | W6: 1 | X6: 1 | Y6: 1
A7: Subcomponente 2: Priorización de Trámites | B7: Formular la Estrategia de trámites de Acuerdo con los resultados obtenidos en el diagnóstico y realizar su registro en el aplicativo SUIT. | C7: Un (1) documento de Estrategia de trámites formulada | D7: Número de documentos de estrategias realizadas/Número de estrategias planeadas | E7: Oficina Asesora de Planeación y Líderes de Proceso | F7: 44316 | G7: 1 | H7: Se formulo la estrategia de racionalización de trámites para la vigencia 2021 y se registró en el aplicativo SUIT (Sistema Único de Información de Trámites). La estrategia fue cargada el día 29 de marzo de 2021 con el acompañamiento del DAFP. Se anexan evidencias y la estrategia registrada puede ser consultada en SUIT. | I7: 1 | J7: Se Evidencia cargue de la estrategia en el aplicativo SUIT, el 29 de marzo , sin embargo esta debio cargarse por tardar el 31 de Enero 2021 como lo indica la guia estrategia de corrupcion - plan anticorrupcion y atencion al ciudadano | S7: N/A | T7: 0 | U7: 1 | V7: 1 | W7: 1 | X7: 1 | Y7: 1
A8: Subcomponente 3: Racionalización de Trámites | B8: Ejecutar las actividades definidas en la Estrategia de Racionalización de Trámites registrada en el aplicativo SUIT. | C8: 100% de la ejecución de acciones de racionalización de la Estrategia Antitrámites | D8: Número de acciones de racionalización realizadas de la estrategia de trámites /Número de acciones de racionalización programadas de la estrategia de trámites | E8: Oficina Asesora de Planeación y Líderes de Proceso | F8: 44530 | G8: 0 | H8: La actividad tiene por fecha de reporte el 30 de noviembre de 2021. Se realizo seguimiento cuatrimestral en el Sistema Unico de Información de Trámites SUIT con corte 30 de abril de 2021. Los Planes de Trabajo y actas de las reuniones realizadas, se anexan como evidencia del cumplimiento de dicho seguimiento registrado en el aplicativo. | I8: 0 | J8: El reporte de cierre esta para el 30 de noviembre 2021 , Por parte de la OCI se realizó seguimiento y evaluacion a las avances de las actividades que se tienen establecidas de acuerdo al plan de trabajo deseñado para 6 Tramites y 2 OPAS | S8: N/A | T8: 0 | U8: 0 | V8: 0 | W8: 0 | X8: 0 | Y8: 2
G9: =SUM(G6:G8) -> 2 | S9: N° Actividades | T9: =SUM(T6:T8) -> 0 | U9: =SUM(U6:U8) -> 2 | V9: =SUM(V6:V8) -> 2 | W9: =SUM(W6:W8) -> 2 | X9: =SUM(X6:X8) -> 2 | Y9: =SUM(Y6:Y8) -> 4
G10: 3 | S10: Meta Avance | T10: =+T9/$Y$9 -> 0 | U10: =+U9/$Y$9 -> 0.5 | V10: =+V9/$Y$9 -> 0.5 | W10: =+W9/$Y$9 -> 0.5 | X10: =+X9/$Y$9 -> 0.5 | Y10: =+Y9/$Y$9 -> 1
G11: =+G9/G10 -> 0.66666667 | I11: =+I9/I10 -> #DIV/0!

Sheet 3.Rendición de Cuentas
A2: PLAN ANTICORRUPCIÓN Y DE ATENCIÓN AL CIUDADANO 2021
G3: Seguimiento Primer Cuatrimestre | K3: Seguimiento Segundo Cuatrimestre | O3: Seguimiento Tercer Cuatrimestre
A4: Componente 3: Rendición de cuentas | G4: Seguimiento Primera Línea de Defensa Primer Cuatrimestre | I4: Seguimiento Tercera Línea de Defensa Primer Cuatrimestre | K4: Seguimiento Primera Línea de Defensa Segundo Cuatrimestre | M4: Seguimiento Tercera Línea de Defensa Segundo Cuatrimestre | O4: Seguimiento Primera Línea de Defensa Tercer Cuatrimestre | Q4: Seguimiento Tercera Línea de Defensa Tercer Cuatrimestre | T4: Programación Meta Acumulativa
A5: Subcomponente | B5: Acción | C5: Meta o producto | D5: Indicador | E5: Responsable | F5: Fecha programada | G5: Avance Cuantitativo | H5: Avance Cualitativo | I5: Avance Cuantitativo OCI | J5: Observaciones OCI | K5: Avance Cuantitativo | L5: Avance Cualitativo | M5: Avance Cuantitativo OCI | N5: Observaciones OCI | O5: Avance Cuantitativo | P5: Avance Cualitativo | Q5: Avance Cuantitativo OCI | R5: Observaciones OCI | T5: 1er bimestre ene-feb | U5: 2do bimestre mar-abr | V5: 3ro bimestre may-jun | W5: 4to bimestre jul-ago | X5: 5to bimestre sep-oct | Y5: 6to bimestre nov-dic
A6: Subcomponente 1 Información de calidad y en lenguaje comprensible | B6: Realizar el ejercicio de caracterización de los ciudadanos, usuarios y grupos de interés, de la vigencia 2020 | C6: 29 documentos de caracterización actualizados | D6: Número de caracterizaciones de ciudadanos actualizadas/Número de caracterizaciones de ciudadanos programadas | E6: Todas las dependencias y/o GIT MinDeporte, bajo la articulación de G.I.T Servicio Integral al Ciudadano. | F6: 44438 | G6: 0 | H6: En el periodo reportado no se ha iniciado la ejecución de la actividad Aunque se adelantaron algunas acciones para poder iniciar con el levantamiento de las caracterizaciones: 1. Se enviaron diez (10) memorandos a las Direcciones Técnicas y Secretaria General comunicando el inicio de los ejercicios de caracterización con cronograma de cumplimiento. 2. Reunión con la Oficina Asesora de Planeación para el establecimiento conjunto del objetivo de la caracterización para la vigencia 2020 y brindar insumos para la Estrategia de Rendición de Cuentas 2021. Reportando la ficha de caracterización para la identificación de los grupos de valor. Se adjunta acta de reunión. 3. Se informó cronograma de fechas de cumplimiento del ejercicio de caracterización a las dependencias. Se adjuntan memorandos. 4. El día 13 de abril de 2020, se iniciaron las sesiones de acompañamiento. Se adjuntan dos (2) actas. 5. Se envío pieza de comunicación por la intranet para sensibilizar a las dependencias de la importancia de incluir en los instrumentos de recolección de información, variables que permitan identificar las características de los ciudadanos, usuarios y/o grupos de interés. | I6: 0 | J6: se tiene programada el cumplimiento de la actividad para el 30 de agosto, sin embargo se evidencia avances de actividades. | T6: 0 | U6: 0 | V6: 0 | W6: 1 | X6: 1 | Y6: 1
B7: Consolidar información de avance de la estrategia de Rendición de Cuentas y publicar en la pagína web periodicamente mediante Boletines de Gestión. | C7: Tres (3) boletines de gestíón | D7: Número de boletines realizados publicados en la pagina web/Número de boletines programados para publicar en la pagina web | E7: Ofcina Asesora de Planeación - GTI Comunicaciones | F7: 44499 | G7: 0 | H7: En el periodo reportado no se ha iniciado la ejecución de la actividad | I7: 0 | J7: Se tiene programada el cumplimiento de la actividad para el 30 de octubre de 2021 | T7: 0 | U7: 0 | V7: 0 | W7: 0 | X7: 1 | Y7: 1
B8: Informar a la ciudadanía sobre los proyectos y las actividades misionales del Ministerio del Deporte de acuerdo con las funciones otorgadas por Ley, para la vigencia 2021. | C8: Campañas de comunicación para informar a la ciudadanía sobre las acciones realizadas por las áreas misionales durante la vigencia 2021. | D8: Número de Campañas realizadas / Número de campañas programadas | E8: GIT Comunicaciones | F8: 44530 | G8: 1 | H8: Se han difundido 23 campañas, con 674 productos sobre las acciones de las áreas misionales, despacho del ministro, y viceministerio. https://coldeportes.sharepoint.com/:f:/s/gitcomunicaciones/EgrDjUBjcvlHuBHuF9d4scQBnXGxTImiBZR_v8wUpZHSuA?e=13CsK9 El avance se mide con base en las campañas solicitadas que para los efectos de la medición de el indicador son las campañas programadas, en ese sentido todas las solicitudes fueron atendidas o realizadas y por lo anterior se solicitara el cambio del indicador para dejar claridad sobre las campañas programadas vs solicitadas | I8: 1 | J8: 23 campañas difundidas Evidencia " Proyectos y actividades misionales " | T8: 0 | U8: 0 | V8: 0 | W8: 0 | X8: 0 | Y8: 1
A9: Subcomponente 2. Dialogo de doble vía con la ciudadania y sus organizaciones. | B9: Realizar la consulta a los grupos de valor para la definición de los temas sobre los cuales abordar la rendición de cuentas. | C9: Un (1) foro con los grupos de valor | D9: Número de foros realizados / Número de foros programados | E9: GIT Servicio Integral al Ciudadano . GIT Comunicaciones con el apoyo de todos los GIT de MinDeporte. | F9: 44316 | G9: 1 | H9: Foro planeado, formulado y publicado el día 23 de abril de 2021 a partir del trabajo conjunto entre el GIT Servicio al Ciudadano, GIT Comunicaciones y la Oficina Asesora de Planeación. Evidencias: Foro publicado en: https://www.mindeporte.gov.co/index.php?idcategoria=99945 Documento soporte de trabajo donde se recopilo la información a tener en cuenta para priorizar los temas del foro | I9: 1 | J9: Se evidencia foro Publicado en : https://www.mindeporte.gov.co/index.php?idcategoria=99945 | T9: 0 | U9: 1 | V9: 1 | W9: 1 | X9: 1 | Y9: 1
B10: Realizar la Audiencia Pública de Rendición de Cuentas de la Vigencia 2020 | C10: Una (1)Audiencia Pública | D10: Número de audiencias públicas realizadas / Número de audiencias públicas programadas | E10: Todas las Areas del Ministerios / Lidera Oficina Asesora de Planeación y G.I.T Comunicaciones | F10: 44438 | G10: 0 | H10: En el periodo reportado no se ha iniciado la ejecución de la actividad | I10: 0 | J10: Se tiene programado cuplir para el 30 de agosto 2021 | T10: 0 | U10: 0 | V10: 0 | W10: 1 | X10: 1 | Y10: 1
B11: Implementar mecanismos de información para la participación de los grupos de valor caracterizados y la ciudadanía | C11: Diseñar e implementar un (1) plan de comunicaciones para la Estrategia de Rendición de Cuentas de la vigencia. | D11: Número de planes de comunicacion implementados/ Número de planes de comunicaciones programados | E11: GIT Comunicaciones/ Oficina Asesora de Planeacion | F11: 44346 | G11: 0.4 | H11: Se elaboró el Plan de Comunicaciones que se implementará para la vigencia 2021 y el 22 de febrero se envió por parte de Comunicaciones al enlace designado en la OAP. https://coldeportes.sharepoint.com/:f:/s/gitcomunicaciones/EhlanifTHMNMhJLwbUHl0Q0BBtvkdjZtzZY2GpeJJX9orw?e=IVjnfd | I11: 0.4 | J11: Se Evidencia Avances de Comunicación de rendicion de cuentas | T11: 0 | U11: 0 | V11: 1 | W11: 1 | X11: 1 | Y11: 1
B12: Generar espacios de rendición de cuentas con grupos de valor | C12: Difusión de las convocatorias sobre ejercicios de rendición de cuentas | D12: Número de convocatorias difundidas/Número de ejercicios de rendición de cuentas programadas en la estrategia | E12: GIT Comunicaciones con los reportes de todos los GIT de MinDeporte. | F12: 44530 | G12: 0 | H12: A la fecha esta actividad no ha iniciado su ejecución ya que la Estrategia de la Rendición de Cuentas se encuentra en construcción por parte de la OAP. | I12: 0 | J12: Se tiene programado cuplir para el 30 de Nov 2021 | T12: 0 | U12: 0 | V12: 0 | W12: 0 | X12: 0 | Y12: 1
C13: Publicación de los informes sobre las conclusiones generadas en cada encuentro de diálogo con los grupos de valor. | D13: Número de informes publicados /Número de informes generados de ejercicios de rendición de cuentas | E13: GIT Comunicaciones con los reportes de todos los GIT de MinDeporte. | F13: 44530 | G13: 0 | H13: A la fecha esta actividad no ha iniciado su ejecución ya que la Estrategia de la Rendición de Cuentas se encuentra en construcción por parte de la OAP. | I13: 0 | J13: Se tiene programado cuplir para el 30 de Nov 2021 | T13: 0 | U13: 0 | V13: 0 | W13: 0 | X13: 0 | Y13: 1
C14: Espacios de socialización e interacción con la ciudadanía dispuestos desde las plataformas y canales electrónicos del Ministerio | D14: Número de espacios de socialización dispuestos en plataforma/Número de espacios de socialización e interacción programados en plataforma | E14: GIT Comunicaciones/Servicio Integral al Ciudadano | F14: 44530 | G14: 1 | H14: Se han difundido 4 foros en la página Web. Se llevaron a cabo 16 Facebook Live https://coldeportes.sharepoint.com/:f:/s/gitcomunicaciones/Eu_dOAdFO6VOse2DnPq-bMAB51W3Xbv7ngq8GakVR4ecdA?e=mtbZFQ El avance se mide con base en los espacios solicitados que para los efectos de la medición de el indicador son los espacios programados en la plataforma, en ese sentido todas las solicitudes de espacios fueron dispuestos en la plataforma y por lo anterior se solicitara el cambio del indicador para dejar claridad sobre los espacios programados vs solicitados | I14: 1 | J14: Se presenta espacios de socializacion a travez de foros en la pagina del Mindeporte ( 1. Foro proyecto del PAYAC 2021 el 25 de enero 2021, 2) Foro de la Nueva Ley del Deporte 2021 ) el 5 de febrero 3) Consulta Publica del Proyecto de Decreto reglamentatario de la Ley 1946 de 2019) el 12 de febrero 4) Consulta Publica Decreto Becas por Imptos 16 de febrero 5) Foro de priorizacion de temas audiencia publica de rendicion de cuentas el 23 abril hasta el 14 de amyo 6. Encuentas de Percepcion de Calidad, siobre tema de transparencia el 20 de abril | T14: 0 | U14: 0 | V14: 0 | W14: 0 | X14: 0 | Y14: 1
A15: Subcomponente 3 Incentivos para motivar la cultura de la rendición y petición de cuentas | B15: Realizar campañas de comunicación interna sobre la importancia de la Rendición de Cuentas | C15: Dos (2) campañas realizadas | D15: Número de campañas realizadas/Número de campañas programadas | E15: Oficina Asesora de Planeación / GIT Comunicaciones | F15: 44530 | G15: 0.5 | H15: Se llevó a cabo la primera fase, de la primera campaña de Rendición de Cuentas, con 9 piezas gráficas publicadas y socializadas a través de la intranet. https://coldeportes.sharepoint.com/:f:/s/gitcomunicaciones/EnAACt_387FEsmUBHSL6FdwBBnyyPD1zHe5rEt0OH9q1OQ?e=oqfU3h | I15: 0.5 | J15: Se evidencio campañas publicitaria en la intranet sobre rendicion de cuentas | T15: 0 | U15: 0 | V15: 0 | W15: 0 | X15: 0 | Y15: 1
A16: Subcomponente 4 Evaluación y retroalimentación a la gestión institucional | B16: Consolidar y publicar el informe de acciones de la audiencia pública | C16: Un (1 )informe publicado y socializado de la audiencia pública | D16: Número de informes publicados/Número de informes consolidados | E16: Oficina Asesora de Planeación / GIT Comunicaciones | F16: 44530 | G16: 0 | H16: En el periodo reportado no se ha iniciado la ejecución de la actividad | I16: 0 | J16: Se tiene programado cuplir para el 30 de Nov 2021 | T16: 0 | U16: 0 | V16: 0 | W16: 0 | X16: 0 | Y16: 1
B17: Realizar seguimiento y evaluación de la Estrategia de rendición de cuentas | C17: Un (1 )informe de seguimiento a las actividades de la Estrategia de Rendición de Cuentas publicados en la página web | D17: Número de informes de seguimiento elaborados/Número de informes de seguimiento programados | E17: Oficina Asesora de Planeación | F17: 44545 | G17: 0 | H17: En el periodo reportado no se ha iniciado la ejecución de la actividad | I17: 0 | J17: Se tiene programado cuplir para el 15 de dic 2021 | T17: 0 | U17: 0 | V17: 0 | W17: 0 | X17: 0 | Y17: 1
B18: Realizar un ejercicio de rendición de cuentas sobre la gestión contractual, financiera, de trámite y gestión de peticiones del Ministerio. | C18: Un (1) foro con los grupos de valor | D18: Número de foros realizados con los grupos de valor/ Número de foros programados con los grupos de valor | E18: Secretaría General- GIT Financiera, GIT Contratación y GIT Servicio al Ciduadano | F18: 44530 | G18: 0 | H18: Se tiene programado un foro para cumplir la estrategia de rendición de cuentas y se espera desarrollarlo en el segundo semestre. En el periodo reportado no se ha iniciado la ejecución de la actividad | I18: 0 | J18: Se tiene programado cuplir para el 30 de Nov 2021 | T18: 0 | U18: 0 | V18: 0 | W18: 0 | X18: 0 | Y18: 1
B19: Identificar las oportunidades de mejora, resultado de la evaluación de ejercicios de Rendicion de cuentas y documentar los planes de accion que sean adecuados | C19: Un (1) documento con oportunidades de mejora y recomendaciones. | D19: Número de documentos de oportunidades de mejora realizados/ Número de documentos de oportunidades de mejora programados | E19: Oficina Asesora de Planeación. GIT Servicio Integral al ciudadano | F19: 44530 | G19: 0 | H19: En el periodo reportado no se ha iniciado la ejecución de la actividad | I19: 0 | J19: Se tiene programado cuplir para el 30 de Nov 2021 | T19: 0 | U19: 0 | V19: 0 | W19: 0 | X19: 0 | Y19: 1
B20: Elaborar y publicar el informe de rendición de cuentas de la vigencia 2020 con relación a los compromisos adquiridos y acciones realizadas en el marco del Acuerdo de Paz. | C20: Un (1)Informe de seguimiento a los Acuerdos de Paz | D20: Número de Informes de seguimiento a los Acuerdos de Paz realizados y publicados/ Número de Informes de seguimiento a los Acuerdos de Paz programados | E20: Oficina Asesora de Planeación- GIT Comunicaciones | F20: 44316 | G20: 1 | H20: Se publicó informe de seguimiento a los Acuerdos de Paz 2020 el día 29 de abril de 2021 en la pagina web del Ministerio. https://www.mindeporte.gov.co/index.php?idcategoria=98234 | I20: 1 | J20: Se evidencio informe de acuerdo de paz publicado en la pagina web de mindeporte del periodo de enero a diciembre 2020 | T20: 0 | U20: 1 | V20: 1 | W20: 1 | X20: 1 | Y20: 1
B21: Consolidar y publicar el informe de acciones de la audiencia pública, y documentar las debilidades y fortalezas de la entidad en ejercicio de rendición de cuentas del año 2021. | C21: Un (1) Informe publicado y socializado | D21: Número de informes realizados consolidados y publicados/Número de informes programados | E21: Oficina Asesora de Planeación- GITComunicaciones | F21: 44530 | G21: 0 | H21: En el periodo reportado no se ha iniciado la ejecución de la actividad | I21: 0 | J21: Se tiene programado cuplir para el 30 de Nov 2021 | T21: 0 | U21: 0 | V21: 0 | W21: 0 | X21: 0 | Y21: 1
B22: Realizar seguimiento a los avances de las acciones realizadas durante el año 2021 relacionados con la implementación del Acuerdo de Paz asignados al Ministerio del Deporte. | C22: Un (1)Informe de Seguimiento a los avances del Acuerdos de Paz | D22: Número de informes de seguimiento a los avances de acuerdos de paz realizados /Número de informes de seguimiento a los avances de acuerdos de paz programados | E22: Oficina Asesora de Planeación | F22: 44561 | G22: 0 | H22: En el periodo reportado no se ha iniciado la ejecución de la actividad | I22: 0 | J22: Se tiene programado cuplir para el 31 de dic 2021 | T22: 0 | U22: 0 | V22: 0 | W22: 0 | X22: 0 | Y22: 1
B23: Realizar la evaluacion de las actividades suscritas en el componente de rendición de cuentas en el marco del seguimiento al Plan Anticorrupción y de Atención al Ciudadano. | C23: Dos (2) Informes | D23: Número de Informes realizados/Número de Informes proyectados | E23: Oficina de Control Interno | F23: 15/05/2021 14/09/2021 | G23: 0 | H23: De acuerdo con lo establecido en el Plan Anual de Auditoria Interna de la vigencia 2021 aprobado por el Comité Institucional de Coordinación de Control Interno y lo indicado en el documento Estrategias para la Construcción del Plan Anticorrupción y de Atención al Ciudadano de la Presidencia de la República, la OCI dará cumplimiento al primer informe en la fecha establecida. Teniendo en cuenta lo anterior, el avance se reporta en 0%. | I23: 0 | J23: Se tiene programado cuplir para el 15 de mayo y 14 de septiembre 2021 | T23: 0 | U23: 0 | V23: 0.5 | W23: 0.5 | X23: 2 | Y23: 2
G24: =SUM(G6:G23) -> 4.9 | S24: N° Actividades | T24: =SUM(T6:T23) -> 0 | U24: =SUM(U6:U23) -> 2 | V24: =SUM(V6:V23) -> 3.5 | W24: =SUM(W6:W23) -> 5.5 | X24: =SUM(X6:X23) -> 8 | Y24: =SUM(Y6:Y23) -> 19
G25: 18 | S25: Meta Avance | T25: =+T24/$Y$24 -> 0 | U25: =+U24/$Y$24 -> 0.10526316 | V25: =+V24/$Y$24 -> 0.18421053 | W25: =+W24/$Y$24 -> 0.28947368 | X25: =+X24/$Y$24 -> 0.42105263 | Y25: =+Y24/$Y$24 -> 1
G26: =+G24/G25 -> 0.27222222 | I26: =+I24/I25 -> #DIV/0!

Sheet 4.Atencion al Ciudadano
A2: PLAN ANTICORRUPCIÓN Y DE ATENCIÓN AL CIUDADANO 2021
G3: Seguimiento Primer Cuatrimestre | K3: Seguimiento Segundo Cuatrimestre | O3: Seguimiento Tercer Cuatrimestre
A4: Componente 4: Atención al ciudadano | G4: Seguimiento Primera Línea de Defensa Primer Cuatrimestre | I4: Seguimiento Tercera Línea de Defensa Primer Cuatrimestre | K4: Seguimiento Primera Línea de Defensa Segundo Cuatrimestre | M4: Seguimiento Tercera Línea de Defensa Segundo Cuatrimestre | O4: Seguimiento Primera Línea de Defensa Tercer Cuatrimestre | Q4: Seguimiento Tercera Línea de Defensa Tercer Cuatrimestre | V4: Programación Meta Acumulativa
A5: Subcomponente | B5: Acción | C5: Meta o producto | D5: Indicador | E5: Responsable | F5: Fecha programada | G5: Avance Cuantitativo | H5: Avance Cualitativo | I5: Avance Cuantitativo OCI | J5: Observaciones OCI | K5: Avance Cuantitativo | L5: Avance Cualitativo | M5: Avance Cuantitativo OCI | N5: Observaciones OCI | O5: Avance Cuantitativo | P5: Avance Cualitativo | Q5: Avance Cuantitativo OCI | R5: Observaciones OCI | V5: 1er bimestre ene-feb | W5: 2do bimestre mar-abr | X5: 3ro bimestre may-jun | Y5: 4to bimestre jul-ago | Z5: 5to bimestre sep-oct | AA5: 6to bimestre nov-dic
A6: Subcomponente 1 Estructura administrativa y Direccionamiento estratégico | B6: Diseñar el modelo para el desarrollo de la Cultura de Servicio en el Ministerio del Deporte | C6: Un (1) Documento del diseño del modelo | D6: Documento de diseño elaborado/Documento de diseño programado | E6: GIT Servicio Integral al Ciudadano | F6: 44408 | G6: 0.05 | H6: La propuesta de Modelo de Servicio se encuentra en revisión. Se remite adjunto el documento como evidencia | I6: =+G6 -> 0.05 | J6: La acción presenta avance del 5% y se encuentra con fecha de corte a 31 de Julio de 2021 | V6: 0 | W6: 0 | X6: 0 | Y6: 1 | Z6: 1 | AA6: 1
B7: Formular y adoptar la Política de Servicio al Ciudadano y de Participación Ciudadana del sector deporte, recreación, actividad física y aprovechamiento del tiempo libre con horizonte a 2024, con base en el Plan Estratégico Institucional - PEI. | C7: Un (1) documento de la politica formulada | D7: Documento de Política elaborada/ Documento de Política programada | E7: GIT Servicio Integral al Ciudadano | F7: 44530 | G7: 0 | H7: La política se encuentra en elaboración | I7: 0 | J7: La acción se encuentra con fecha de corte a 30 de Noviembre de 2021 | V7: 0 | W7: 0 | X7: 0 | Y7: 0 | Z7: 0 | AA7: 1
B8: Solicitar concepto al Departamento Administrativo de la Función Pública , frente a la creación de la Oficina de Relación con el Ciudadano de conformidad con el artículo 17 de la Ley 2052 de 2020 vs la estuctura actual del GIT de Servicio al Ciudadano. | C8: Un (1) concepto solicitado al DAFP | D8: Concepto solicitado/Concepto programado | E8: Oficina Asesora de Planeación | F8: 44285 | G8: 1 | H8: El día 25 de marzo de 2021, se solicito concepto al Departamento Administrativo de la Función Pública vía correo electrónico institucional frente a la creación de la Oficina de Relación con el Ciudadano de conformidad con el artículo 17 de la Ley 2052 de 2020 vs la estuctura actual del GIT de Servicio al Ciudadano. Se anexa correo de la solicitud realizada. | I8: =+G8 -> 1 | J8: Esta actividad se cumplió en la fecha programada. | V8: 0 | W8: 1 | X8: 1 | Y8: 1 | Z8: 1 | AA8: 1
A9: Subcomponente 2 Fortalecimiento de los canales de atención | B9: Implementar mejoras a los sistemas de información; que permitan el seguimiento a peticiones incompletas y a negaciones de acceso a la información.. | C9: Dos (2)mejoras implementadas en GESDOC | D9: Número de mejoras en GESDOC implementadas/Número de mejoras en GESDOC programadas | E9: GIT Servicio Integral al Ciudadano / GIT Gestión Administrativa | F9: 44377 | G9: 0.5 | H9: * Envío de la comunicación EE directamente desde GESDOC al correo del peticionario, en la que se incluyen más de dos direcciones de correo. * Notificaciones al correo del ciudadano para todos los casos de radicación (radicación física, correo electrónico y pagina web) * En el módulo de reportes se implementó el de “almacenamiento”, desde el cual se hace seguimiento al uso del espacio en el servidor. | I9: =+G9 -> 0.5 | J9: La acción presenta avance del 50% y se encuentra con fecha de corte a 30 de Junio de 2021 | V9: 0 | W9: 0 | X9: 1 | Y9: 1 | Z9: 1 | AA9: 1
B10: Realizar capacitación en el curso de lenguaje claro brindado por el Departamento Nacional de Planeación | C10: Una (1) capacitación realizada en curso de lenguaje claro incluido | D10: Número de capacitaciones realizadas en el curso de lenguaje claro/Número de capacitaciones programadas en el curso de lenguaje claro | E10: GIT Talento Humano | F10: 44377 | G10: 0 | H10: No se reporta avance dado que la fecha de corte de la actividad esta definida para el segundo cuatrimestre de 2021. | I10: 0 | J10: La acción se encuentra con fecha de corte a 30 de Junio de 2021 | V10: 0 | W10: 0 | X10: 1 | Y10: 1 | Z10: 1 | AA10: 1
B11: Realizar la actualización y publicación de la carta del trato digno. | C11: Un (1) documento actualizado y publicado en la página web | D11: Número de documentos actualizados y publicados en la página web/Número de documentos programados | E11: GIT Servicio Integral al Ciudadano | F11: 44346 | G11: 1 | H11: Actualización y pubicación de la carta del trato digno 2021: https://www.mindeporte.gov.co/recursos_user/2021/Servicio_Integral_al_Ciudadano/Marzo/CARTA_DEL_TRATO_DIGNO_AL_CIUDADANO_-_MINDEPORTE-_2021.pdf | I11: =+G11 -> 1 | J11: Esta actividad se cumplió en el 1er. Cuatrimestre de la vigencia 2.021 | V11: 0 | W11: 0 | X11: 1 | Y11: 1 | Z11: 1 | AA11: 1
B12: Diseñar y aplicar una encuesta de percepción de calidad, sobre Transparencia y acceso a la información en su sitio Web oficial | C12: Un (1) informe de los resultados de la aplicación de la encuesta | D12: Número de Informes realizados/Número de Informes programados | E12: GIT Servicio Integral al Ciudadano | F12: 44438 | G12: 0.5 | H12: Encuesta diseñada y publicada en pagina web: https://www.mindeporte.gov.co/index.php?idcategoria=95933 | I12: =+G12 -> 0.5 | J12: La acción presenta avance del 50% y se encuentra con fecha de corte a 30 de Agosto de 2021 | V12: 0 | W12: 0 | X12: 0 | Y12: 1 | Z12: 1 | AA12: 1
B13: Divulgar los protocolos de atención de servicio al ciudadano del Ministerio con el personal de vigilancia de la entidad. | C13: Una (1) capacitación realizada | D13: Número de capacitaciones realizadas/Número de capacitaciones programadas | E13: GIT Servicio Integral al Ciudadano | F13: 44377 | G13: 0 | H13: En el periodo reportado no se ha realizado la actividad. | I13: 0 | J13: La acción se encuentra con fecha de corte a 30 de Junio de 2021 | V13: 0 | W13: 0 | X13: 1 | Y13: 1 | Z13: 1 | AA13: 1
B14: Promocionar los mecanismos con los que cuenta el ciudadano para la presentación de denuncias por actos de corrupción. | C14: Una (1) campaña de promoción de información por la página web | D14: Campañas realizadas/Campañas programadas | E14: GIT Servicio Integral al Ciudadano | F14: 44377 | G14: 0 | H14: Para el inicio de campaña de promoción, se encuentra en elaboración la pieza comunicativa, por lo que la campaña se ejecutará en el segundo cuatrimestre. | I14: 0 | J14: La acción se encuentra con fecha de corte a 30 de Junio de 2021 | V14: 0 | W14: 0 | X14: 1 | Y14: 1 | Z14: 1 | AA14: 1
A15: Subcomponente 3 Talento Humano y Atención al ciudadano | B15: Elaborar, de manera coordinada con las distintas dependencias, los calendarios de eventos del Ministerio en la vigencia 2021, para efectos de su publicación en página web. | C15: Dos (2) Calendarios de eventos publicado en la pagina web según reporte de las direcciones técnicas | D15: Número de Calendarios de eventos publicados en la pagina web /Número de Calendarios programados | E15: GIT Servicio Integral al Ciudadano/ GIT Comunicaciones | F15: 44530 | G15: 1 | H15: Se elaboró el calendario de eventos de MINDEPORTES 2021, con base en la información enviada por las diferentes direcciones y fue publicado, se encuentra sujeto a cambios. Así mismo se publicaron los calendarios de la Direcciones de Posicionamiento y Fomento y Desarrollo https://www.mindeporte.gov.co/index.php?idcategoria=96363 | I15: =+G15 -> 1 | J15: Esta actividad se cumplió en el 1er. Cuatrimestre de la vigencia 2.021 | V15: 0 | W15: 0 | X15: 0 | Y15: 0 | Z15: 0 | AA15: 1
B16: Formular y publicar el Plan de Participación Ciudadana de la vigencia del Ministerio del Deporte | C16: Un plan de participación publicado en la página web | D16: Número de Planes publicados/Número de planes programados | E16: GIT Servicio Integral al Ciudadano | F16: 44346 | G16: 0 | H16: Ya se conformó el equipo de trabajo lider de participación ciudadana 2021 designado por cada jefe de dependencia y se realizaron mesas de trabajo para la estructuración del plan de participación de manera coordinada y conjunta. Se encuentra pendiente someter a la ciudadania y al comité de gestión de desempeño para su aprobación y publicación. Por lo que la publicación se realizará en el segundo cuatrimestre. | I16: 0 | J16: La acción se encuentra con fecha de corte a 30 de Mayo de 2021 | V16: 0 | W16: 0 | X16: 1 | Y16: 1 | Z16: 1 | AA16: 1
B17: Desarrollar los ejercicios de participación ciudadana establecidos en el Plan de Participación Ciudadana de la entidad. | C17: 100% de reportes de ejecución de EPC publicados en la página web oficial | D17: Número de Reportes de ejecución de EPC publicados en la página web oficial/Número de Reportes de ejecución de EPC generados | E17: GIT responsables de ejecución de los ejercicios de participación en el Plan de Participación Ciudadana bajo la articulación de G.I.T Servicio Integral al Ciudadano. | F17: 44545 | G17: 0 | H17: Dado que el plan de la vigencia no se encuentra publicado, no es posible contar con el reporte formal de los ejercicios de participación. | I17: 0 | J17: La acción se encuentra con fecha de corte a 15 de Diciembre de 2021 | V17: 0 | W17: 0 | X17: 0 | Y17: 0 | Z17: 0 | AA17: 1
B18: Implementar espacios de participación para la construcción del Plan de Acción 2022 de la entidad, en conjunto con los GIT Servicio Integral al ciudadano y Comunicaciones | C18: Un (1) foro realizado | D18: Número de foros realizados/Número de foros programados | E18: Oficina Asesora de Planeación | F18: 44545 | G18: 0 | H18: En el periodo reportado no se ha iniciado la ejecución de la actividad. | I18: 0 | J18: La acción se encuentra con fecha de corte a 15 de Diciembre de 2021 | V18: 0 | W18: 0 | X18: 0 | Y18: 0 | Z18: 0 | AA18: 1
B19: Gestionar asesoria con las entidades correspondientes, en alguno de los siguientes temas: *Discapacidad física *Discapacidad psicosocial (mental) o intelectual (cognitiva) *Grupos étnicos | C19: un (1) acta de reunión con el registro de la asesoría brindada por las entidades. | D19: Número de actas de asesorias brindadas por las entidades/Número de actas de asesorias programadas por las entidades | E19: GIT - Servicio Integral al Ciudadano | F19: 44469 | G19: 0 | H19: En el periodo reportado no se ha iniciado la ejecución de la actividad. | I19: 0 | J19: La acción se encuentra con fecha de corte a 30 de Septiembre de 2021 | V19: 0 | W19: 0 | X19: 0 | Y19: 0 | Z19: 1 | AA19: 1
B20: Realizar una adecuación física a la sede de la entidad de acuerdo con la NTC 6047, de acuerdo al diagnóstico existente. | C20: una (1) adecuación física realizada | D20: Número de adecuaciones realizadas/Número de adecuaciones programadas | E20: GIT Gestión Administrativa | F20: 44545 | G20: 0.35 | H20: Se realizó señalización en el acceso de la emtidad asi como tambien a las zonas de parqueo para personal con movilidad reducida (Silla de ruedas) | I20: =+G20 -> 0.35 | J20: La acción presenta avance del 35% y se encuentra con fecha de corte a 15 de Diciembre de 2021 | V20: 0 | W20: 0 | X20: 0 | Y20: 0 | Z20: 0 | AA20: 1
B21: Realizar una adecuación tecnológica que permita y facilite la comunicación de personas con discapacidad visual o auditiva conforme a la NTC 5854. | C21: una (1) adecuación tecnólogica realizada | D21: Número de adecuaciones realizadas/Número de adecuaciones programadas | E21: GIT TICs y GIT Comunicaciones | F21: 44545 | G21: 0.05 | H21: Ya se realizarón estudios previos con los requerimientos de las áreas para la vigencia 2021 en la pagina web.( soporte ver estudio previo Micrositio) | I21: =+G21 -> 0.05 | J21: La acción presenta avance del 5% y se encuentra con fecha de corte a 15 de Diciembre de 2021 | V21: 0 | W21: 0 | X21: 0 | Y21: 0 | Z21: 0 | AA21: 1
B22: Formar a los funcionarios en Lengua de Señas Colombiana, con el propósito de desarrollar destrezas y habilidades para comunicarse con la población sorda, contribuir a una atención inclusiva, divulgar la información y ofrecer los servicios prestados por la entidad. | C22: Un (1) curso realizado | D22: Número de cursos realizados/número de cursos programados | E22: GIT Talento Humano | F22: 44545 | G22: 0 | H22: No se reporta avance dado que la fecha de corte de la actividad esta definida para el tercer cuatrimestre de 2021. | I22: 0 | J22: La acción se encuentra con fecha de corte a 15 de Diciembre de 2021 | V22: 0 | W22: 0 | X22: 0 | Y22: 0 | Z22: 0 | AA22: 1
B23: Incluir incentivos especiales para el personal de servicio al ciudadano, de acuerdo con lo previsto en el marco normativo vigente en el plan de incentivos. | C23: Plan Institucional de Estímulos e Incentivos de la vigencia con incentivos especiales para el personal de servicio al ciudadano | D23: Número de Planes con la inclusión de los incentivos /Número de planes programados a incluir incentivos | E23: GIT Talento Humano | F23: 44545 | G23: 0 | H23: No se reporta avance dado que la fecha de corte de la actividad esta definida para el tercer cuatrimestre de 2021. | I23: 0 | J23: La acción se encuentra con fecha de corte a 15 de Diciembre de 2021 | V23: 0 | W23: 0 | X23: 0 | Y23: 0 | Z23: 0 | AA23: 1
A24: Subcomponente 4 Normativo y Procedimental | B24: Realizar la actualización del procedimiento de Recepción, Trámite y seguimiento de peticiones. | C24: un (1) Procedimiento actualizado en ISOLUCION | D24: Número de Procedimiento actualizados/Número de Procedimiento programados | E24: GIT - Servicio Integral al Ciudadano | F24: 44469 | G24: 0 | H24: A la fecha de reporte no se ha ejecutado la actividad | I24: 0 | J24: La acción se encuentra con fecha de corte a 30 de Septiembre de 2021 | V24: 0 | W24: 0 | X24: 0 | Y24: 0 | Z24: 1 | AA24: 1
B25: Realizar la actualización de la resolución No. 1996 de 2019 mediante la cual se "Reglamenta el trámite y respuesta de las peticiones en el Ministerio del Deporte". | C25: una (1) resolución expedida | D25: Resolución expedida/ Resolución programada | E25: GIT - Servicio Integral al Ciudadano | F25: 44377 | G25: 0 | H25: A la fecha de reporte no se ha ejecutado la actividad | I25: 0 | J25: La acción se encuentra con fecha de corte a 30 de Junio de 2021 | V25: 0 | W25: 0 | X25: 1 | Y25: 1 | Z25: 1 | AA25: 1
B26: Publicar en la página web del Ministerio del Deporte ,la agenda regulatoria de la entidad. | C26: Dos (2) Publicaciones realizadas en la página web | D26: Número de publicaciones realizadas en la página web/Número de publicaciones programadas | E26: Oficina Asesora Jurídica | F26: 31/10/2021 15/12/2021 | G26: 0 | H26: Las actividades están programadas para el 31 de octubre y 15 de diciembre de 2021, por lo que no son objeto de reporte para el primer cuatrimestre | I26: 0 | J26: La acción se encuentra con fecha de corte a 15 de Diciembre de 2021 | V26: 0 | W26: 0 | X26: 0 | Y26: 0 | Z26: 0.5 | AA26: 2
B27: Actualizar la reglamentación de la consulta pública de proyectos normativos. | C27: Una (1) resolución expedida | D27: Resolución expedida/ Resolución programada | E27: Oficina Asesora Jurídica | F27: 44407 | G27: 0 | H27: La actividad está programada para el 30 de julio de 2021, por lo que no es objeto de reporte para el primer cuatrimestre. | I27: 0 | J27: La acción se encuentra con fecha de corte a 30 de Julio de 2021 | V27: 0 | W27: 0 | X27: 0 | Y27: 1 | Z27: 1 | AA27: 1
