Workbook
Name a: #REF!
Name A_Obj1: OFFSET(#REF!,0,0,COUNTA(#REF!)-1,1)
Name A_Obj1: OFFSET(#REF!,0,0,COUNTA(#REF!)-1,1)
Name A_Obj1: OFFSET(#REF!,0,0,COUNTA(#REF!)-1,1)
Name A_Obj1: OFFSET(#REF!,0,0,COUNTA(#REF!)-1,1)
Name A_Obj1: OFFSET(#REF!,0,0,COUNTA(#REF!)-1,1)
Name A_Obj1: OFFSET(#REF!,0,0,COUNTA(#REF!)-1,1)
Name A_Obj1: OFFSET(#REF!,0,0,COUNTA(#REF!)-1,1)
Name A_Obj2: OFFSET(#REF!,0,0,COUNTA(#REF!)-1,1)
Name A_Obj2: OFFSET(#REF!,0,0,COUNTA(#REF!)-1,1)
Name A_Obj2: OFFSET(#REF!,0,0,COUNTA(#REF!)-1,1)
Name A_Obj2: OFFSET(#REF!,0,0,COUNTA(#REF!)-1,1)
Name A_Obj2: OFFSET(#REF!,0,0,COUNTA(#REF!)-1,1)
Name A_Obj2: OFFSET(#REF!,0,0,COUNTA(#REF!)-1,1)
Name A_Obj2: OFFSET(#REF!,0,0,COUNTA(#REF!)-1,1)
Name A_Obj3: OFFSET(#REF!,0,0,COUNTA(#REF!)-1,1)
Name A_Obj3: OFFSET(#REF!,0,0,COUNTA(#REF!)-1,1)
Name A_Obj3: OFFSET(#REF!,0,0,COUNTA(#REF!)-1,1)
Name A_Obj3: OFFSET(#REF!,0,0,COUNTA(#REF!)-1,1)
Name A_Obj3: OFFSET(#REF!,0,0,COUNTA(#REF!)-1,1)
Name A_Obj3: OFFSET(#REF!,0,0,COUNTA(#REF!)-1,1)
Name A_Obj3: OFFSET(#REF!,0,0,COUNTA(#REF!)-1,1)
Name A_Obj4: OFFSET(#REF!,0,0,COUNTA(#REF!)-1,1)
Name A_Obj4: OFFSET(#REF!,0,0,COUNTA(#REF!)-1,1)
Name A_Obj4: OFFSET(#REF!,0,0,COUNTA(#REF!)-1,1)
Name A_Obj4: OFFSET(#REF!,0,0,COUNTA(#REF!)-1,1)
Name A_Obj4: OFFSET(#REF!,0,0,COUNTA(#REF!)-1,1)
Name A_Obj4: OFFSET(#REF!,0,0,COUNTA(#REF!)-1,1)
Name A_Obj4: OFFSET(#REF!,0,0,COUNTA(#REF!)-1,1)
Name Acc_1: #REF!
Name Acc_1: #REF!
Name Acc_1: #REF!
Name Acc_1: #REF!
Name Acc_1: #REF!
Name Acc_1: #REF!
Name Acc_1: #REF!
Name Acc_1234: #REF!
Name Acc_1234: #REF!
Name Acc_1234: #REF!
Name Acc_2: #REF!
Name Acc_2: #REF!
Name Acc_2: #REF!
Name Acc_2: #REF!
Name Acc_2: #REF!
Name Acc_2: #REF!
Name Acc_2: #REF!
Name Acc_3: #REF!
Name Acc_3: #REF!
Name Acc_3: #REF!
Name Acc_3: #REF!
Name Acc_3: #REF!
Name Acc_3: #REF!
Name Acc_3: #REF!
Name Acc_4: #REF!
Name Acc_4: #REF!
Name Acc_4: #REF!
Name Acc_4: #REF!
Name Acc_4: #REF!
Name Acc_4: #REF!
Name Acc_4: #REF!

Sheet Consolidado
B5: Resultados Seguimiento Plan Anticorrupción y de Atención al Ciudadano 2020 corte 30-abril-2020
B6: Selecciona el componente que desea consultar: | C6: % Avance reportado por el responsable | D6: % Avance verificado por la OCI | E6: Nivel de Cumplimiento verificado por la OCI
B8: Componente 1: Mapa de riesgos de corrupción y medidas para mitigar los riesgos | C8: =+'1.Riesgos corrupción'!F16 -> 0.79818182 | D8: =+'1.Riesgos corrupción'!H16 -> 0.79727273 | E8: =+IF(AND(D8>=0,D8<=0.59),"ZONA BAJA",IF(AND(D8>=0.6,D8<=0.79),"ZONA MEDIA","ZONA ALTA")) -> ZONA ALTA
B10: Componente 2: Racionalización (Estrategia antitrámites) | C10: =+'2.Racionalización'!F8 -> 0.83333333 | D10: =+'2.Racionalización'!H8 -> 0.66666667 | E10: =+IF(AND(D10>=0,D10<=0.59),"ZONA BAJA",IF(AND(D10>=0.6,D10<=0.79),"ZONA MEDIA","ZONA ALTA")) -> ZONA MEDIA
B12: Componente 3. Rendición de cuentas | C12: =+'3.Rendición de Cuentas'!F22 -> 0.59176471 | D12: =+'3.Rendición de Cuentas'!H22 -> 0.52058824 | E12: =+IF(AND(D12>=0,D12<=0.59),"ZONA BAJA",IF(AND(D12>=0.6,D12<=0.79),"ZONA MEDIA","ZONA ALTA")) -> ZONA BAJA
B14: Componente 4. Atención al Ciudadano | C14: =+'4.Atencion al Ciudadano'!F19 -> 0.60285714 | D14: =+'4.Atencion al Ciudadano'!H19 -> 0.56714286 | E14: =+IF(AND(D14>=0,D14<=0.59),"ZONA BAJA",IF(AND(D14>=0.6,D14<=0.79),"ZONA MEDIA","ZONA ALTA")) -> ZONA BAJA
B16: Componente 5. Transparencia y Acceso a la Información | C16: =+'5.Transparencia '!F15 -> 0.482 | D16: =+'5.Transparencia '!H15 -> 0.432 | E16: =+IF(AND(D16>=0,D16<=0.59),"ZONA BAJA",IF(AND(D16>=0.6,D16<=0.79),"ZONA MEDIA","ZONA ALTA")) -> ZONA BAJA
B18: Componente 6: Iniciativas adicionales | C18: =+'6. Iniciativas adicionales.'!F6 -> 0.572 | D18: =+'6. Iniciativas adicionales.'!H6 -> 0.57142857 | E18: =+IF(AND(D18>=0,D18<=0.59),"ZONA BAJA",IF(AND(D18>=0.6,D18<=0.79),"ZONA MEDIA","ZONA ALTA")) -> ZONA BAJA
B20: TOTAL | C20: =AVERAGE(C8:C18) -> 0.6466895 | D20: =AVERAGE(D8:D18) -> 0.59251651 | E20: =+IF(AND(D20>=0,D20<=59.9%),"ZONA BAJA",IF(AND(D20>=60%,D20<=79.9%),"ZONA MEDIA","ZONA ALTA")) -> ZONA BAJA
D22: 0 a 59% | E22: ZONA BAJA
D23: De 60 a 79% | E23: ZONA MEDIA
D24: de 80 a 100% | E24: ZONA ALTA

Sheet 1.Riesgos corrupción
A2: PLAN ANTICORRUPCIÓN Y DE ATENCIÓN AL CIUDADANO 2020
A3: Componente 1: Mapa de riesgos de corrupción y medidas para mitigar los riesgos | F3: Seguimiento Primera Línea de Defensa Segundo Cuatrimestre 2020 | H3: Seguimiento Tercera Línea de Defensa Segundo Cuatrimestre 2020
A4: Subcomponente | B4: Acción | C4: Meta o producto | D4: Responsable | E4: Fecha programada | F4: Avance Cuantitativo | G4: Avance Cualitativo | H4: Avance Cuantitativo OCI | I4: Observaciones OCI
A5: Subcomponente - Proceso 1: Política de Administración de Riesgos | B5: Socializar y promover la aplicación de la política de administración del riesgo del Ministerio del Deporte y los documentos relacionados. | C5: Siete (7) socializaciones mediante piezas comunicativas enviadas por correo electrónico institucional | D5: Oficina Asesora de Planeación/ GIT Comunicaciones | E5: 43951 | F5: 1 | G5: Actividad cumplida en el primer cuatrimestre de 2020 | H5: =+F5 -> 1 | I5: Cumplimiento reportado en el informe anterior (memorando 2020IE0001849 del 14-may-20) correspondiente al primer cuatrimestre de 2020.
B6: Realizar mesas de trabajo con los responsables y/o personal asignado de cada uno de los procesos de la Entidad, para socializar la aplicación de la política de administración del riesgo y el formato de mapa de riesgos. | C6: Mesas de trabajo realizadas con cada proceso de la Entidad | D6: Oficina Asesora de Planeación | E6: 43861 | F6: 1 | G6: Actividad cumplida en el primer cuatrimestre de 2020, periodo en el cual fueron reportadas las evidencias en los plazos establecidos. No obstante, en atención a la observación presentada por la OCI en el periodo anterior, se reenvian los archivos digitiales de las actas de mesas de trabajo de socialización de la política de administración del riesgo y del diligenciamiento del formato de mapa de riesgos. | H6: =+F6 -> 1 | I6: Cumplimiento reportado en el informe anterior (memorando 2020IE0001849 del 14-may-20) correspondiente al primer cuatrimestre de 2020.
A7: Subcomponente - Proceso 2: Construcción del Mapa de Riesgos de Corrupción | B7: Formular el mapa de riesgos institucional de corrupción, atendiendo los lineamientos de la política de administración del riesgo vigente en la Entidad. | C7: Un (1) mapa de Riesgos de Corrupción Institucional. | D7: Líderes de Proceso / Oficina Asesora de Planeación | E7: 43861 | F7: 1 | G7: Actividad cumplida en el primer cuatrimestre de 2020 | H7: =+F7 -> 1 | I7: Cumplimiento reportado en el informe anterior (memorando 2020IE0001849 del 14-may-20) correspondiente al primer cuatrimestre de 2020.
B8: Brindar apoyo y asesoría en la identificación y valoración de riesgos de corrupción a los procesos de la Entidad. | C8: Mesas de tabajo realizadas de acuerdo a lo requerido por los procesos de la Entidad | D8: Oficina Asesora de Planeación | E8: 44180 | F8: 1 | G8: Actividad cumplida en el primer cuatrimestre de 2020. Sin embargo, se continuo dando la asesoría y acompañamiento a los procesos para efectuar los ajustes necesarios a los riesgos de corrupción y gestión, de acuerdo con las observaciones presentadas por la OCI en el seguimiento a mapas de riesgo del primer cuatrimestre de 2020. Mejoras que se ven reflejadas en los respectivos mapas de riesgo de los procesos y en el mapa de riesgos de corrupción publicado en la página web de la Entidad, en la ruta: https://www.mindeporte.gov.co/index.php?idcategoria=97304 | H8: =+F8 -> 1 | I8: Sin observación
B9: Actualizar los riesgos de corrupción de los procesos de acuerdo a los resultados de la implementación de los planes de tratamiento definidos para los riesgos | C9: Un (1) mapa de Riesgos de Corrupción Institucional actualizado | D9: Líderes de Proceso / Oficina Asesora de Planeación | E9: 44180 | F9: 0.67 | G9: Se efectuó la actualización de los riesgos de corrupción identificados por los procesos, considerando las mejoras de los controles producto de las observaciones de la OCI en el marco del seguimiento efectuado en el primer cuatrimestre, asi como los ajustes en los controles a partir de la implementación de las actividades de control de los planes de tratamiento establecidas para los respectivos riesgos de corrupción. Los mapas de riesgo se encuentran publicados en el listado temático de Administración del Riesgo MinDeporte, en la categoría "Mapa de Riesgos por Proceso 2020" del módulo "Documentación" de isolución y en el mapa de riesgos institucional de corrupción publicado en la ruta: https://www.mindeporte.gov.co/index.php?idcategoria=97304 | H9: =+F9 -> 0.67 | I9: El porcentaje de avance acumulado que corresponde a la actualización de los riesgos de corrupción al corte del segundo cuatrimestre (corte 31-ago-2020).
B10: Desarrollar un ejercicio participativo a nivel interno, para la definición y establecimiento del contexto institucional como insumo para fortalecer el proceso de identificación y actualización de los riesgos de corrupción a gestionar en la vigencia 2021. | C10: Contexto Institucional Actualizado | D10: Líderes de Proceso / Oficina Asesora de Planeación | E10: 44180 | F10: 0.6 | G10: En el marco del comité institucional de coordinación de control interno realizado el 4 de agosto de 2020, la Oficina Asesora de Planeación presentó el contexto institucional, elaborado de manera participativa con los diferentes procesos del Ministerio del Deporte, en el cual se incluyeron factores externos asociados con el Covid 19. De esta manera se propuso, un ejercicio orientado para los Directvos con el fin de validar el contexto institucional presentado, para lo cual se les remitio por correo electrónico el documento, sobre el cual se han recibido los aportes de los Directores Técnicos de Fomento al Desarrollo Humano y Social, Recursos y Herramientas del Sistema y Posicionamiento y Liderazgo Deportivo; información que esta en proceso de revisión por parte de la Oficina Asesora de Planeación y una vez se reciba de los demas directivos se establecerá la versión final del contexto institucional. | H10: =+F10 -> 0.6 | I10: Sin observación
A11: Subcomponente - Proceso 3: Consulta y Divulgación | B11: Publicar el Mapa de Riesgos institucional de Corrupción de la vigencia 2020. | C11: Publicación en pagina web | D11: Oficina Asesora de Planeación | E11: 43861 | F11: 1 | G11: Actividad cumplida en el primer cuatrimestre de 2020 | H11: =+F11 -> 1 | I11: Cumplimiento reportado en el informe anterior (memorando 2020IE0001849 del 14-may-20) correspondiente al primer cuatrimestre de 2020.
B12: Realizar la (las) actualizaciones de la publicación del mapa de riesgos institucional de corrupción cuando sea requerido a partir de los resultados de la aplicación del plan de tratamiento de riesgos. | C12: Publicación en pagina web | D12: Oficina Asesora de Planeación | E12: 44180 | F12: 0.67 | G12: Se publicó la actualización del mapa de riesgos institucional de corrupción, en el link de transparencia de la página web del Ministerio del Deporte: https://www.mindeporte.gov.co/index.php?idcategoria=97304, atendiendo a las observaciones presentadas por la OCI en el marco del seguimiento efectuado en el primer cuatrimestre de 2020, asi como los ajustes en los controles según aplicó a los riesgos, a partir de la implementación de las actividades de control de los planes de tratamiento establecidas para los respectivos riesgos de corrupción. | H12: =+F12 -> 0.67 | I12: El porcentaje de avance acumulado que corresponde a la actualización de los riesgos de corrupción al corte del segundo cuatrimestre (corte 31-ago-2020).
A13: Subcomponente - Proceso 4: Monitoreo o revisión | B13: Realizar el monitoreo y el reporte de avances en la administración de los riesgos por proceso de la Entidad. | C13: Mapa de riesgos con el reporte de monitoreo cuatrimestral | D13: Líderes de Proceso | E13: 24-04-2020 21-08-2020 11-12-2020 | F13: 0.67 | G13: Los reportes de monitoreo de los riesgos de corrupción, gestión y seguridad digital de los procesos de la Entidad, correspondiente al segundo cuatrimestre de 2020, se encuentran descritos en los respectivos mapas de riesgo, cargados en el listado temático de Administración del Riesgo, ubicado en el Módulo Documentación - Listado Temático. | H13: =+'4.1RC'!F17 -> 0.66 | I13: El porcentaje de avance acumulado que corresponde al monitoreo de los riesgos al corte del segundo cuatrimestre (corte 31-ago-2020).
B14: Realizar el seguimiento al monitoreo reportado por las líderes de los procesos. | C14: Consolidado de monitoreo cuatrimestral realizado por los procesos | D14: Oficina Asesora de Planeación | E14: 06-05-2020 03-09-2020 16-12-2020 | F14: 0.67 | G14: La Oficina Asesora de Planeación en calidad de segunda línea de defensa, efectuó el seguimiento y retroalimentación a los líderes de proceso en cuanto al monitoreo de los riesgos de corrupción, gestión y seguridad digital de los procesos para el segundo cuatrimestre de 2020, lo anterior, propendiendo por generar un reporte y analisis con calidad y completitud de las actividades de control y la gestión de los riesgos identificados. El mencionado seguimiento inicio a partir de la solicitud del reporte de monitoreo de PAYAC y mapas de riesgo, a través del memorando 2020IE0003402 enviado a los líderes de proceso y sus enlaces el día 11 de agosto de 2020, solicitud que fue reiterada por correo electrónico el día 20 de agosto de 2020. Los monitoreos de riesgos fueron revisados por la OAP y se les generó la respectiva retroalimentación para que los líderes de proceso efectuaran los ajustes correspondientes. | H14: =+F14 -> 0.67 | I14: El porcentaje de avance acumulado que corresponde al monitoreo de los riesgos al corte del segundo cuatrimestre (corte 31-ago-2020).
A15: Subcomponente -Proceso 5: Seguimiento | B15: Realizar seguimiento al Mapa de Riesgos de Corrupción de la vigencia 2020 cada cuatrimestre del año, emitir y publicar informes. | C15: Dos (2) Informes | D15: Oficina de Control Interno | E15: 15-05-2020 14-09-2020 | F15: 0.5 | G15: De acuerdo con lo establecido en el Plan Anual de Auditoria Interna de la vigencia 2020 aprobado por el Comité Institucional de Coordinación de Control Interno y lo indicado en el documento Estrategias para la Construcción del Plan Anticorrupción y de Atención al Ciudadano de la Presidencia de la República, la OCI realizó el primer seguimiento al Mapa de Riesgos de Corrupción correspondiente al primer cuatrimestre 2020, cuyos resultados se emitieron mediante memorando 2020IE0001849 del 14 de mayo de 2020. Teniendo en cuenta lo anterior, la meta establecida y las fechas programadas, el avance corresponde a un 50%. | H15: =+F15 -> 0.5 | I15: Sin observación
F16: =AVERAGE(F5:F15) -> 0.79818182 | H16: =AVERAGE(H5:H15) -> 0.79727273

Sheet 4.1RC
A1: N° | B1: Proceso | C1: Informe de monitoreo MRC 2020
C2: corte 30-abr (33%) | D2: corte 31-ago (33%) | E2: corte 31-dic (33%) | F2: % avance
A3: 1 | B3: Gestión de Comunicaciones | C3: 0.33 | D3: 0.33 | F3: =SUM(C3:E3) -> 0.66
A4: 2 | B4: Inspección, Vigilancia y Control | C4: 0.33 | D4: 0.33 | F4: =SUM(C4:E4) -> 0.66
A5: 3 | B5: Fomento al Desarrollo Humano y Social | C5: 0.33 | D5: 0.33 | F5: =SUM(C5:E5) -> 0.66
A6: 4 | B6: Altos Logros | C6: 0.33 | D6: 0.33 | F6: =SUM(C6:E6) -> 0.66
A7: 5 | B7: Apoyo en Infraestructura Técnica y Científica | C7: 0.33 | D7: 0.33 | F7: =SUM(C7:E7) -> 0.66
A8: 6 | B8: Servicio Integral al Ciudadano | C8: 0.33 | D8: 0.33 | F8: =SUM(C8:E8) -> 0.66
A9: 7 | B9: Gestión de Tecnologías de la Información y las Comunicaciones | C9: 0.33 | D9: 0.33 | F9: =SUM(C9:E9) -> 0.66
A10: 8 | B10: Gestión del Talento Humano | C10: 0.33 | D10: 0.33 | F10: =SUM(C10:E10) -> 0.66
A11: 9 | B11: Gestión Documental | C11: 0.33 | D11: 0.33 | F11: =SUM(C11:E11) -> 0.66
A12: 10 | B12: Adquisición de Bienes y Servicios | C12: 0.33 | D12: 0.33 | F12: =SUM(C12:E12) -> 0.66
A13: 11 | B13: Gestión Financiera y Tesorería | C13: 0.33 | D13: 0.33 | F13: =SUM(C13:E13) -> 0.66
A14: 12 | B14: Gestión Jurídica | C14: 0.33 | D14: 0.33 | F14: =SUM(C14:E14) -> 0.66
... A16: 14 | B16: Seguimiento y Evaluación de la Gestión | C16: 0.33 | D16: 0.33 | F16: =SUM(C16:E16) -> 0.66
B17: Cumplimiento | C17: =AVERAGE(C3:C16) -> 0.33 | D17: =AVERAGE(D3:D16) -> 0.33 | F17: =SUM(C17:E17) -> 0.66

Sheet 2.Racionalización
A2: PLAN ANTICORRUPCIÓN Y DE ATENCIÓN AL CIUDADANO 2020
A3: 2. Racionalización de Trámites | F3: Seguimiento Primera Línea de Defensa Segundo Cuatrimestre 2020 | H3: Seguimiento Tercera Línea de Defensa Segundo Cuatrimestre 2020 | J3: Seguimiento Primera Línea de Defensa Segundo Cuatrimestre | L3: Seguimiento Tercera Línea de Defensa Segundo Cuatrimestre | N3: Seguimiento Primera Línea de Defensa Tercer Cuatrimestre | P3: Seguimiento Tercera Línea de Defensa Tercer Cuatrimestre
A4: Subcomponente | B4: Acción | C4: Meta o producto | D4: Responsable | E4: Fecha programada | F4: Avance Cuantitativo | G4: Avance Cualitativo | H4: Avance Cuantitativo OCI | I4: Observaciones OCI | J4: Avance Cuantitativo | K4: Avance Cualitativo | L4: Avance Cuantitativo OCI | M4: Observaciones OCI | N4: Avance Cuantitativo | O4: Avance Cualitativo | P4: Avance Cuantitativo OCI | Q4: Observaciones OCI
A5: Subcomponente 1: Identificación de Trámites | B5: Realizar el Diagnóstico de los trámites y servicios en línea ofrecidos por el Ministerio del Deporte | C5: Un Documento de Diagnostico Realizado | D5: Oficina Asesora de Planeación y Líderes de Proceso | E5: 43966 | F5: 1 | G5: Se realiza conjuntamente con servicio integral al ciudadano un diagnostico de la sincronizacion de las fichas cargadas en el SUIT frente a las redireccionadas al portal gov.co Acto seguido se notifican las inconruencias encontradas al Ministerio de las Tic´s mediante el contacto de soporte soporteccc@mintic.gov.co (soporte actas de reunion, correo solitiando soporte amintic) | H5: =+F5 -> 1 | I5: Cumplimiento reportado en el informe anterior (memorando 2020IE0001849 del 14-may-20) correspondiente al primer cuatrimestre de 2020.
A6: Subcomponente 2: Priorización de Trámites | B6: Formular la Estratégia Antitrámites de Acuerdo con los resultados obtenidos en el diagnostico | C6: Una Estrategía Antitrámites Formulada | D6: Oficina Asesora de Planeación y Líderes de Proceso | E6: 43980 | F6: 1 | G6: Actividad cumplida en el primer cuatrimestre de 2020 | H6: 1 | I6: De acuerdo con la réplica realizada por la Oficina Asesora de Planeación (memorando 2020IE0003960) y los soportes aportados, se ajusta el avance cualitativo de la presente actividad.
A7: Subcomponente 3: Racionalización de Trámites | B7: Ejecutar las actividades definidas en la Estrategia de Racionalización de Trámites. | C7: Actividades de la Estrategía Antitrámites Ejecutadas | D7: Oficina Asesora de Planeación y Líderes de Proceso | E7: 44180 | F7: 0.5 | G7: Se solicita respuesta del grupo Tic´s en referencia a las acciones de Racionalización Tecnológicas. "Formularios Diligenciados en Línea", el cual el Ministerio se comprometió con fecha final de Racionalización, el pasado viernes, 14 de agosto de 2020 (correo Seguimiento Acciones de la Estrategia de Racionalización, correo respuesta nueva fecha de racionalizacion) | H7: 0 | I7: La gestión reportada no permite inferir cumplimiento de la acción y de la meta establecida. De acuerdo con la réplica realizada por la Oficina Asesora de Planeación (memorando 2020IE0003960), se mantiene el avance asignado por la OCI y observación debido a que no se cuenta con evidencia de cuantas actividades se han ejecutado del total de programadas en la Estrategia, para asi poder asignar un porcentaje de avance objetivo.
F8: =AVERAGE(F5:F7) -> 0.83333333 | H8: =AVERAGE(H5:H7) -> 0.66666667

Sheet 3.Rendición de Cuentas
A2: PLAN ANTICORRUPCIÓN Y DE ATENCIÓN AL CIUDADANO 2020
A3: Componente 3: Rendición de cuentas | F3: Seguimiento Primera Línea de Defensa Segundo Cuatrimestre 2020 | H3: Seguimiento Tercera Línea de Defensa Segundo Cuatrimestre 2020 | J3: Seguimiento Primera Línea de Defensa Segundo Cuatrimestre | L3: Seguimiento Tercera Línea de Defensa Segundo Cuatrimestre | N3: Seguimiento Primera Línea de Defensa Tercer Cuatrimestre | P3: Seguimiento Tercera Línea de Defensa Tercer Cuatrimestre
A4: Subcomponente | B4: Acción | C4: Meta o producto | D4: Responsable | E4: Fecha programada | F4: Avance Cuantitativo | G4: Avance Cualitativo | H4: Avance Cuantitativo OCI | I4: Observaciones OCI | J4: Avance Cuantitativo | K4: Avance Cualitativo | L4: Avance Cuantitativo OCI | M4: Observaciones OCI | N4: Avance Cuantitativo | O4: Avance Cualitativo | P4: Avance Cuantitativo OCI | Q4: Observaciones OCI
A5: Subcomponente 1 Información de calidad y en lenguaje comprensible | B5: Realizar la actualización del procedimiento de caracterización de ciudadanos, con el fin de incluir aspectos del MURC y aspectos relevantes para el desarrollo de ejercicios de participación. | C5: Un (1) Procedimiento para la identificación de los Grupo de Valor del Ministerio del Deporte | D5: G.I.T Servicio Integral al Ciudadano. | E5: 43951 | F5: 1 | G5: El procedimiento de caracterización de ciudadanos, usuarios y/o grupos de interés se encuentra aprobado. La versión final se puede consultar en Isolucion con el código SI-PD-009. | H5: =+F5 -> 1 | I5: Sin observación.
B6: Realizar el ejercicio de caracterización de los ciudadanos, usuarios y grupos de interés, de la vigencia 2019. | C6: Un (1)documento de Caracterización actualizadas de los Grupos de valor del ministerio. | D6: Todos los GIT MinDeporte, bajo la articulación de G.I.T Servicio Integral al Ciudadano. | E6: 44012 | F6: 0.71 | G6: Del total de 29 dependencias se han acompañado 21 dependencias y/o GIT del Ministerio del Deporte. En algunas ocasiones, las dependencias han solicitado revisión de los ejercicios reiteramentemente, por tanto, se han realizado 25 reuniones de acompañamiento para la elaboración de los ejercicios de caracterización, equivalente al 71,41%. • Elaboración de informes: 18 de agosto al 17 de septiembre de 2020. • Revisión de informes: 20 al 30 de septiembre de 2020. • Elaboración de infografías y publicación. Los informes se encuntran publicados en la pagina web de la entidad en https://www.mindeporte.gov.co/index.php?idcategoria=94157&pag=1. Se requiere ampliación de la fecha de cumplimiento de esta actividad, dado que varias dependencias han requerido de más de una reunión de acompañamiento por dificultades en la realización de los ejercicios. Los soportes de los acompañamientos se anexan en informe adjunto. | H6: 0 | I6: De acuerdo con la verificación realizada por la OCI, se le asigna un avance cualitativo de 0% a la presente actividad, teniendo en cuenta que el porcentaje asignado (reuniones de acompañamiento) no escongruente con la meta establecida de "Un (1)documento de Caracterización actualizadas de los Grupos de valor del ministerio." y que en la pagina web no se encontró evidencia de ninguna caracterizacion de los ciudadanos, usuarios y grupos de interés, de la vigencia 2019. De acuerdo con la réplica realizada por la Oficina Asesora de Planeación (memorando 2020IE0003960), se mantiene el avance asignado por la OCI y observación, dado no se recibió soporte ni respuesta que desvirtue el concepto de la OCI.
B7: Institucionalizar los mecanismos y medios de comunicación con la ciudadania y los grupos de valor del Ministerio. | C7: Una (1)Estrategia de Rendición de cuentas | D7: Comité de Gestion y Desempeño | E7: 43951 | F7: 1 | G7: Esta actividad se cumplio en el primer cuatrimestre | H7: =+F7 -> 1 | I7: Cumplimiento reportado en el informe anterior (memorando 2020IE0001849 del 14-may-20) correspondiente al primer cuatrimestre de 2020.
B8: Informar a la ciudadanía sobre los proyectos y las actividades misionales del Ministerio del Deporte de acuerdo con las funciones otorgadas por Ley, para la vigencia 2020. | C8: Campaña a través de redes sociales para informar a la ciudadanía sobre los proyectos de las áreas misionales proyectados en la vigencia 2020. | D8: GIT Comunicaciones | E8: 44165 | F8: 0.73 | G8: Se han socializado 1.274 productos en redes sociales sobre los programas y proyectos de Mindeporte, de las diferentes campañas. https://coldeportes.sharepoint.com/:f:/s/gitcomunicaciones/Eg981WM964VEg9qLAH12mCcBFqdi1mQvDw4bvHM_TDSGvQ?e=qYTq0j | H8: =+F8 -> 0.73 | I8: La OCI asigna como avance cuantitativo lo reportado por el área responsable, debido a que no existe indicador objetivo que permita su medición.
A9: Subcomponente 2. Dialogo de doble vía con la ciudadania y sus organizaciones. | B9: Realizar la consulta a los grupos de valor para la definición de los temas sobre los cuales abordar la rendición de cuentas. | C9: Un foro con los grupos de valor | D9: GIT Servicio Integral al Ciudadano . GIT Comunicaciones con el apoyo de todos los GIT de MinDeporte. | E9: 43889 | F9: 1 | G9: Esta actividad se cumplio en el primer cuatrimestre | H9: =+F9 -> 1 | I9: Cumplimiento reportado en el informe anterior (memorando 2020IE0001849 del 14-may-20) correspondiente al primer cuatrimestre de 2020.
B10: Realizar la Audiencia Pública de Rendición de Cuentas de la Vigencia 2019 | C10: Una (1)Audiencia Pública | D10: Todas las Areas del Ministerios / Lidera Oficina Asesora de Planeación y G.I.T Comunicaciones | E10: 44012 | F10: 0 | G10: La emisión de la Audiencia Pública estaba programada para transmitirse por el Canal Institucional el 20 de agosto, se informó a los grupos de valor, se cumplió con ejercicio de consulta a la ciudadanía respecto al informe de rendición de cuentas publicado y se habilitó un foro. Fue aplazada por agenda del ministro. Entre las actividades de preparación de la audiencia pública se cumplió con: 1. Invitación a los grupos de valor 2. Difusión en redes sociales del foro de consulta del informe de rendición de cuentas públicado. 3. Difusión por los mismos canales a grupos de valor y a la ciudadanía del aplazamiento de la emisión de la audiencia pública. 4. En el nivel interno se envió invitación por correo masivo y se publicó en la Intranet. 5. Se estableció el contrato interadministrativo No. 872 de 2020 con RTVC para la emisión de la audiencia pública de rendición de cuentas. Se solicitó formalmente la modificación de la fecha de la realización de la audiencia pública mediante radicado No 2020IE0003598 de GESDOC. | H10: =+F10 -> 0 | I10: De acuerdo con la réplica realizada por la Oficina Asesora de Planeación (memorando 2020IE0003960), se mantiene el avance asignado por la OCI y observación, dado no se recibió soporte ni respuesta que desvirtue el concepto de la OCI.
B11: Implementar mecanismos de información para la participación de los grupos de valor caracterizados y la ciudadanía | C11: Diseñar e implementar el plan de comunicaciones para la Estrategia de Rendición de Cuentas de la vigencia. | D11: GIT Comunicaciones/ Oficina Asesora de Planeacion/ Oficina Asesora de Planeación | E11: 43951 | F11: 1 | G11: Esta actividad se cumplio en el primer cuatrimestre | H11: =+F11 -> 1 | I11: Cumplimiento reportado en el informe anterior (memorando 2020IE0001849 del 14-may-20) correspondiente al primer cuatrimestre de 2020.
B12: Generar espacios de Rendición de cuentas /masivos regionales y locales. | C12: Difusión y socialización de las convocatorias sobre ejercicios de rendición de cuentas | D12: GIT Comunicaciones | E12: 44180 | F12: 0.4 | G12: Se difundieron y socializaron 15 ejercicios de la ONAD y 2 de la Dirección de Fomento y Desarrollo y del Viceministerio. | H12: =+F12 -> 0.4 | I12: La OCI asigna como avance cuantitativo lo reportado por el área responsable, debido a que no existe indicador objetivo que permita su medición.
C13: Socialización y publicación de los informes sobre las conclusiones generadas en cada encuentro de diálogo con los grupos de valor. | D13: GIT Comunicaciones | E13: 44180 | F13: 0.4 | G13: Se socializaron y publicaron 14 boletines de prensa como conclusiones de los 15 ejercicios de la ONAD. 1 boletín de Mindeporte en las Regiones de Riohacha y 5 de la participación en Urabá, de los reportados por Fomento y Desarrollo. Y se socializó por redes y con una nota una mesa de trabajo del Viceministerio | H13: =+F13 -> 0.4 | I13: La OCI asigna como avance cuantitativo lo reportado por el área responsable, debido a que no existe indicador objetivo que permita su medición.
C14: Espacios de socialización e interacción con la ciudadanía dispuestos desde las plataformas y canales electrónicos del Ministerio | D14: GIT Comunicaciones | E14: 44180 | F14: 0.66 | G14: Se han publicado 7 foros y consultas con la ciudadanía en el portal web de Mindeporte. Se han llevado a cabo 81 Facebook Live que han alcanzado 1.073.470 reproducciones y 50 Instagram Live (#Reto50Preguntas) con 45.235 personas. | H14: =+F14 -> 0.66 | I14: La OCI asigna como avance cuantitativo lo reportado por el área responsable, debido a que no existe indicador objetivo que permita su medición.
A15: Subcomponente 3 Incentivos para motivar la cultura de la rendición y petición de cuentas | B15: Realizar campañas de comunicación interna sobre la interiorización e importancia de la Rendición de Cuentas | C15: Dos (2) campañas realizadas | D15: Oficina Asesora de Planeación / GIT Comunicaciones | E15: 44180 | F15: 0.66 | G15: Se socializaron 3 piezas gráficas de la primera campaña de Rendición de Cuentas. De la segunda campaña se publicaron 4 piezas. Además de la solicitud para ajustar la programación de actividades, la socialización del procedimiento e instructivo, la invitación a la audiencia pública y el aplazamiento de la misma. | H15: =+F15 -> 0.66 | I15: Sin observación
A16: Subcomponente 4 Evaluación y retroalimentación a la gestión institucional | B16: Consolidar y publicar el informe de acciones de la audiencia pública | C16: Un (1) Informe publicado y socializado | D16: GIT Comunicaciones | E16: 44012 | F16: 0 | G16: Se solicitó formalmente la modificación de la fecha de la realización de la audiencia pública mediante radicado No 2020IE0003598 de GESDOC. | H16: =+F16 -> 0 | I16: Sin observación
B17: Seguimiento y evaluación de la Estratégia de rendición de cuentas | C17: Un (1) informe de Seguimiento de la estratégia de Rendición de Cuentas | D17: Oficina Asesora de Planeación | E17: 44180 | F17: 0.5 | G17: Por medio de gesdoc N° 2020IE0002730 enviado a los responsables de las actividades de rendición de cuentas establecidas en la Estrategia, se solicitó el seguimiento de las actividades realizadas con corte al 30 de junio de la presente vigencia. El informe de las actividades realizadas se encuentra publicado en la página web: https://www.mindeporte.gov.co/index.php?idcategoria=97594 | H17: =+F17 -> 0.5 | I17: Sin observación
B18: Hacer seguimiento a las observaciones de los informes de Gestión presentados en la Audiencia publica. | C18: Un (1)Informe de Seguimiento despues de la audiencia publica | D18: Dependencias a quien corresponda las observaciones/ Oficina Asesora de Planeación | E18: 44180 | F18: 0 | G18: Una vez realizada la audiencia, se realizará el informe pertinente | H18: =+F18 -> 0 | I18: Sin observación
B19: Elaborar y publicar el informe de rendición de cuentas de la vigencia 2019 de los compromisos adquiridos y acciones realizadas en el marco del Acuerdo de Paz. | C19: Un (1)Informe de Seguimiento a los Acuerdos de Paz | D19: Oficina Asesora de Planeación | E19: 43920 | F19: 1 | G19: Esta actividad se cumplio en el primer cuatrimestre | H19: =+F19 -> 1 | I19: Cumplimiento reportado en el informe anterior (memorando 2020IE0001849 del 14-may-20) correspondiente al primer cuatrimestre de 2020.
B20: Seguimiento a los avances de las acciones realizadas durante el año 2020 relacionados con la implementación del Acuerdo de Paz asignados al Ministerio del Deporte. | C20: Un (1)Informe de Seguimiento a los avances del Acuerdos de Paz | D20: Oficina Asesora de Planeación | E20: 44196 | F20: 0.5 | G20: El Ministerio del Deporte se encuentra en la evaluación y revisión de proyectos para la cofinanciación de infraestructura recreo deportiva en municipios PDET. Una vez sea superada la emergencia de salud en la que nos encontramos se continuara con las actividades relacionadas al cumplimiento de indicadores PMI. Se anexa borrador del informe de los avances de los indicadores del PMI | H20: 0 | I20: De acuerdo con lo reportado por el área y que a la fecha del presente informe se cuenta con el informe en borrador, el avance cuantitativo asignado por la OCI a la presente actividad es de 0%.
B21: Evaluar las actividades suscritas en el componente de rendición de cuentas en el marco del seguimiento al Plan Anticorrupción y de Atención al Ciudadano. | C21: Dos (2) Informes | D21: Oficina de Control Interno | E21: 15/05/2020 14/09/2020 | F21: 0.5 | G21: De acuerdo con lo establecido en el Plan Anual de Auditoria Interna de la vigencia 2020 aprobado por el Comité Institucional de Coordinación de Control Interno y lo indicado en el documento Estrategias para la Construcción del Plan Anticorrupción y de Atención al Ciudadano de la Presidencia de la República, la OCI realizó el primer seguimiento al Plan Anticorrupción y de Atención al Ciudadano 2020 correspondiente al primer cuatrimestre 2020, cuyos resultados se emitieron mediante memorando 2020IE0001849 del 14 de mayo de 2020. Teniendo en cuenta lo anterior, la meta establecida y las fechas programadas, el avance corresponde a un 50%. | H21: =+F21 -> 0.5 | I21: Sin observación
F22: =AVERAGE(F5:F21) -> 0.59176471 | H22: =AVERAGE(H5:H21) -> 0.52058824

Sheet 4.Atencion al Ciudadano
A2: PLAN ANTICORRUPCIÓN Y DE ATENCIÓN AL CIUDADANO 2020
A3: Componente 4: Atención al ciudadano | F3: Seguimiento Primera Línea de Defensa Segundo Cuatrimestre 2020 | H3: Seguimiento Tercera Línea de Defensa Segundo Cuatrimestre 2020 | J3: Seguimiento Primera Línea de Defensa Segundo Cuatrimestre | L3: Seguimiento Tercera Línea de Defensa Segundo Cuatrimestre | N3: Seguimiento Primera Línea de Defensa Tercer Cuatrimestre | P3: Seguimiento Tercera Línea de Defensa Tercer Cuatrimestre
A4: Subcomponente | B4: Acción | C4: Meta o producto | D4: Responsable | E4: Fecha programada | F4: Avance Cuantitativo | G4: Avance Cualitativo | H4: Avance Cuantitativo OCI | I4: Observaciones OCI | J4: Avance Cuantitativo | K4: Avance Cualitativo | L4: Avance Cuantitativo OCI | M4: Observaciones OCI | N4: Avance Cuantitativo | O4: Avance Cualitativo | P4: Avance Cuantitativo OCI | Q4: Observaciones OCI
A5: Subcomponente 1 Estructura administrativa y Direccionamiento estratégico | B5: Diseñar el modelo para el desarrollo de la Cultura de Servicio en el Ministerio del Deporte 2019-2022 | C5: (1)Documento del diseño del modelo | D5: GIT Servicio Integral al Ciudadano | E5: 44073 | F5: 0.5 | G5: 50% de avance en la elaboración del modelo para el desarrollo de la cultura de servicio. Se requiere ampliación de fecha para la culminación de la Política de Cultura de Servicio, dado que se encuentra en construcción y debe someterese a aprobación. Se adjunta documento borrador diseñado | H5: =+F5 -> 0.5 | I5: Sin observación
A6: Subcomponente 2 Fortalecimiento de los canales de atención | B6: Generar acciones en busca de mejoras, a los sistemas de información; que permitan el seguimiento a peticiones incompletas y a negaciones de acceso a la información. | C6: Dos (2)mejoras implementadas en GESDOC | D6: GIT Servicio Integral al Ciudadano / GIT Gestión Administrativa | E6: 44011 | F6: 1 | G6: Esta actividad se cumplio en el primer cuatrimestre | H6: =+F6 -> 1 | I6: Cumplimiento reportado en el informe anterior (memorando 2020IE0001849 del 14-may-20) correspondiente al primer cuatrimestre de 2020.
B7: Realizar la actualización y publicación de la carta del trato digno. | C7: Un documento actualizado y publicado en la página web | D7: GIT Servicio Integral al Ciudadano | E7: 43981 | F7: 1 | G7: Esta actividad se cumplio en el primer cuatrimestre | H7: =+F7 -> 1
B8: Diseñar y aplicar una encuesta de percepción de calidad, sobre Transparencia y acceso a la información en su sitio Web oficial | C8: Un informe de los resultados de la aplicación de la encuesta | D8: GIT Servicio Integral al Ciudadano | E8: 44073 | F8: 1 | G8: Se diseñó y aplicó la Encuesta de percepción y acceso a la información pública, y el informe que consolida los resultados se puede consultar en la página web en el link: https://www.mindeporte.gov.co/index.php?idcategoria=98182 | H8: =+F8 -> 1 | I8: Sin observación
A9: Subcomponente 3 Talento Humano y Atención al ciudadano | B9: Presentar los informes trimestrales sobre la gestión de los de derechos de petición y el servicio al ciudadano de la Entidad a la oficina de control interno de acuerdo a lo definido en la ley 191 de 1995 | C9: Cuatro (4) informes de gestión presentados | D9: GIT Servicio Integral al Ciudadano | E9: 44180 | F9: 0.5 | G9: Los informes de los primeros dos trimestres de la vigencia se encuentran publicados en https://www.mindeporte.gov.co/index.php?idcategoria=98057 | H9: =+F9 -> 0.5 | I9: Sin observación
B10: Desarrollar acciones de capacitación y sensibilización sobre los principios, responsabilidades y objetivos de la ley de transparencia y acceso a la información pública, asi como en el componente de cultura de servicio integral al ciudadano. | C10: Dos (2) capacitaciones realizadas | D10: GIT Servicio Integral al Ciudadano | E10: 44135 | F10: 0.5 | G10: Mediante Circular Interna No. 007 del 10 julio del 2020 se promovió el Curso de Integridad, Transparencia y Lucha contra la Corrupción, para dar a conocer a los servidores públicos la transparencia en gestión, con el fin de que se convierta en una virtud en el servicio para acercar al ciudadano a los asuntos públicos, esto como parte del programa de Reinducción del Plan Institucional de Capacitación PIC -2020. | H10: 0 | I10: La gestión reportada no permite inferir cumplimiento de la acción y de la meta establecida, dado que no se han desarrollado capacitaciones.
B11: Elaborar, de manera coordinada con las distintas dependencias, el Calendario de eventos del Ministerio en la vigencia 2020, para efectos de su publicación en página web. | C11: Un calendario de eventos publicado en la pagina web | D11: GIT Servicio Integral al Ciudadano/ GIT Comunicaciones | E11: 44012 | F11: 1 | G11: El Ministerio del Deporte cuenta con tres calendarios de eventos publicados para la vigencia 2020. Dos de ellos estan orientados a las Direcciones de Posicionamientos y Liderazgo Deportivo, y Fomento y Desarrollo. El restate acopla los demás eventos que están proyectados a realizarse en el segundo semestre de 2020. | H11: =+F11 -> 1 | I11: Sin observación
B12: Realizar la actualización y publicación del Plan de Participación Ciudadana y sus estrategias, de acuerdo a los resultados de la caracterización y al Plan de Acción de la entidad para la vigencia | C12: Un plan de participación actualizado y publicado en la página web | D12: GIT Servicio Integral al Ciudadano | E12: 44012 | F12: 1 | G12: El Plan de participación ciudadana fue aprobado por el Comité de Gestión y Desempeño y se encuentra publicado en el link: https://www.mindeporte.gov.co/index.php?idcategoria=97822 | H12: =+F12 -> 1 | I12: Sin observación
B13: Desarrollar los ejercicios de participación ciudadana establecidos en el Plan de Participación Ciudadana de la entidad. | C13: Un (1) Informe de seguimiento y reporte de resultados ejercicios de Participación Ciudadana . | D13: GIT responsables de ejercicios de participación en el Plan de Participación Ciudadana bajo la articulación de G.I.T Servicio Integral al Ciudadano. | E13: 44180 | F13: 0.24 | G13: El informe se genera con periodicidad anual. No obstante, a la fecha de reporte del segundo cuatrimestre se han ejecutado 9 de los 37 ejercicios programados, correspondiendo esto al 24.32%. de avance. | H13: =+F13 -> 0.24 | I13: Sin observación
B14: Diseñar e implementar espacios de participación para la construcción del Plan de Acción 2021 de la entidad, en conjunto con los GIT Atención al ciudadano y Comunicaciones | C14: Un (1) foro realizado | D14: Oficina Asesora de Planeación | E14: 44165 | F14: 0 | G14: Está actividad se realizará en el tercer cuatrimestre de 2020 con el liderazgo de la OAP. | H14: =+F14 -> 0 | I14: Sin observación
A15: Subcomponente 4 Normativo y Procedimental | B15: Realizar la actualización del procedimiento de Recepción, Trámite y seguimiento de los derechos de petición. | C15: (1)Procedimiento actualizado en ISOLUCION | D15: GIT - Servicio Integral al Ciudadano | E15: 43981 | F15: 1 | G15: Esta actividad se cumplio en el primer cuatrimestre | H15: =+F15 -> 1 | I15: Cumplimiento reportado en el informe anterior (memorando 2020IE0001849 del 14-may-20) correspondiente al primer cuatrimestre de 2020.
A16: Subcomponente 5 Relacionamiento con el ciudadano | B16: Capacitar a los grupos de valor con el propósito de cualificar los procesos de participación ciudadana y fomentar el control social a la gestión pública. | C16: Una (1) capacitación realizada | D16: GIT Servicio Integral al Ciudadano | E16: 44104 | F16: 0 | G16: A la fecha del seguimiento no se han realizado capacitaciones al respecto | H16: =+F16 -> 0 | I16: Sin observación
B17: Divulgar la Política de Tratamiento de datos personales. | C17: un (1) banner de la Política de Tratamiento de Datos Personales publicado en pagina web. | D17: GIT Servicio Integral al Ciudadano/ GIT Comunicaciones | E17: 44104 | F17: 0 | G17: A la fecha del seguimiento no se ha realizado la divulgación de la politica de tratamiento de datos personales actualizada, dado que está pendiente la actualización por parte de la Oficina Juridica. La politica de protección de datos se encuentra en consideración de los ciudadanos mediante un foro virtual de la página web de la entidad que culmina el 26 de agosto, una vez se publique la versión de la politica final, se creará el banner en la pagina web para su divulgación. El documento borrador sometido al ciudadano se encuentra en https://www.mindeporte.gov.co/index.php?idcategoria=98126 | H17: =+F17 -> 0 | I17: Sin observación
B18: Medir la percepción de la calidad en el servicio en los diferentes procesos, proyectos, actividades y eventos institucionales, de acuerdo al calendario de eventos de la entidad | C18: Un (1) Informe de la percepción de la calidad en el servicio . | D18: Todos los GIT de MinDeporte bajo la articulación de G.I.T Servicio Integral al Ciudadano.. | E18: 44180 | F18: 0.7 | G18: A la fecha del seguimento, se han realizado cuatro mediciones de percepción de la calidad en el servicio así: *IPC evaluación al servicio TICS *IPC Capacitación de caracterización de ciudadanos usuarios y o grupos de interés *IPC Capacitación en respuesta oportuna a peticiones manejo de GESDOC y aspectos legales *IPC FORO VIRTUAL "la práctica de actividad física durante la pandemia por Civid 19, una alternativa para el bienestar, la calidad de vida y la salud pública" Consulta en: https://www.mindeporte.gov.co/index.php?idcategoria=97522 | H18: =+F18 -> 0.7 | I18: La OCI asigna como avance cuantitativo lo reportado por el área responsable, dado que no se cuenta con información de la cantidad de eventos realizados.
F19: =AVERAGE(F5:F18) -> 0.60285714 | H19: =AVERAGE(H5:H18) -> 0.56714286

Sheet 5.Transparencia 
A2: PLAN ANTICORRUPCIÓN Y DE ATENCIÓN AL CIUDADANO 2020
A3: Componente 5: Transparencia y Acceso a la información | F3: Seguimiento Primera Línea de Defensa Segundo Cuatrimestre 2020 | H3: Seguimiento Tercera Línea de Defensa Segundo Cuatrimestre 2020 | J3: Seguimiento Primera Línea de Defensa Segundo Cuatrimestre | L3: Seguimiento Tercera Línea de Defensa Segundo Cuatrimestre | N3: Seguimiento Primera Línea de Defensa Tercer Cuatrimestre | P3: Seguimiento Tercera Línea de Defensa Tercer Cuatrimestre
A4: Subcomponente | B4: Acción | C4: Meta o producto | D4: Responsable | E4: Fecha programada | F4: Avance Cuantitativo | G4: Avance Cualitativo | H4: Avance Cuantitativo OCI | I4: Observaciones OCI | J4: Avance Cuantitativo | K4: Avance Cualitativo | L4: Avance Cuantitativo OCI | M4: Observaciones OCI | N4: Avance Cuantitativo | O4: Avance Cualitativo | P4: Avance Cuantitativo OCI | Q4: Observaciones OCI
A5: Subcomponente 1 Lineamientos de Transparencia Activa | B5: Establecer un plan de trabajo en cumplimiento a los lineamientos de Transparencia y Activa, incluyendo acciones encaminadas a la prevención de actos de corrupción en la entidad. | C5: (1) Plan de Trabajo. | D5: Oficina Asesora de Planeación | E5: 43981 | F5: 1 | G5: Esta actividad se cumplio en el primer cuatrimestre | H5: =+F5 -> 1 | I5: Cumplimiento reportado en el informe anterior (memorando 2020IE0001849 del 14-may-20) correspondiente al primer cuatrimestre de 2020. No obstante se aclara que verificado el contenido del Plan de Trabajo no se encontraron acciones encaminadas a la prevención de actos de corrupción en la entidad, tal como se estableció en la acción.
B6: Generar procedimiento para definir el alcance y directrices a seguir en cuanto a capacitación, actualización, definición de canales e instrumentos a utilizar de manera clara y accesible a los grupos de interés. | C6: (1)Procedimiento. | D6: Oficina Asesora de Planeación | E6: 43981 | F6: 0.5 | G6: Se ha realizado en el sistema de calidad la solicitud documental #278, para la creacion de una plantilla tipo procedimiento "transparencia y acceso a la información pública" el cual esta siendo trabajado en borrador y esta proyectada para enviar a flujo el 15 de octubre del 2020 (Evidencia, solicitud documental) | H6: 0 | I6: Teniendo en cuenta que a la fecha del presente reporte no se cuenta con el procedimiento, el avance reportado corresponde a 0%
B7: Actualizar la matriz de publicación de información (Esquema de Información) por dependencia y área responsable. | C7: Matriz actualizada | D7: Oficina Asesora de Planeación / GIT Comunicaciones | E7: 44012 | F7: 0.33 | G7: Se actualizó la matriz "Sistema de alerta Transparencia2020 " el cual contiene elesquema de publiacion modelo procuraduría 202, donde se establecen los cambios y actualizaciones que se deben hacer en el portal web de la entidad (Evidencia, matriz Sistema de alertas Transparencia) | H7: =+F7 -> 0.33 | I7: De acuerdo con la gestión reportada, no se identificó avance cualitativo de la actividad, con respecto al periodo anterior.
B8: Realizar seguimiento y monitoreo a la información mínima que debe estar publicada en la sección de transparencia y acceso a la información pública de acuerdo a lo definido en la ley 1712 de 2014 y sus decretos reglamentarios. | C8: Seguimiento realizado | D8: Oficina Asesora de Planeación / GIT Comunicaciones | E8: 44180 | F8: 0.33 | G8: Mediante la matriz de Sistema de alerta Transparencia2020 se ha logrado un seguimiento y monitoreo a la información mínima que debe estar publicada en la sección de transparencia en tiempo real y de manera eficiente a la fecha (Evidencia, matriz Sistema de alertas Transparencia, correos,actas de reunion ) | H8: =+F8 -> 0.33 | I8: De acuerdo con la gestión reportada, no se identificó avance cualitativo de la actividad, con respecto al periodo anterior.
A9: Subcomponente 2 Lineamientos de Transparencia Pasiva | B9: Presentar los informes trimestrales sobre la gestión de los de derechos de petición y el servicio al ciudadano de la Entidad a la oficina de control interno de acuerdo a lo definido en la ley 191 de 1995 | C9: Cuatro (4) informes de gestión presentados | D9: GIT Servicio Integral al Ciudadano | E9: 06-05-2020 03-09-2020 16-12-2020 | F9: 0.5 | G9: Los informes de los primeros dos trimestres de la vigencia se encuentran publicados en https://www.mindeporte.gov.co/index.php?idcategoria=98057 | H9: =+F9 -> 0.5 | I9: Se recomienda al responsable analizar la congruencia entre la meta establecida y las fechas programadas.
A10: Subcomponente 3 Elaboración los Instrumentos de Gestión de la Información | B10: Realizar la Actualización de la Politica de Seguridad de la Información | C10: Política Actualizada | D10: G.I.T TICS | E10: 44104 | F10: 0.33 | G10: A la fecha se tiene la politica de "Seguridad Digital_v4" GT-PO-002 para aprobacion del Secretario general | H10: =+F10 -> 0.33 | I10: No se encontró reporte de la gestión realizada en lo relacionado con la presentación de la politica en el Comité Institucional de Gestión y Desempeño para aprobación tal como fue informado en reporte anterior. Adicionalmente, el avance cuantitativo de esta actividad, reportado por el responsable, disminuyo con respecto al periodo anterior (80%).
B11: Elaboración y publicación matriz activos de información . | C11: Elaboración y publicación matriz activos de información | D11: GIT de Gestión Documental | E11: 44180 | F11: 1 | G11: De acuerdo con los requerimientos realizados por el GIT Tic´s se realizo la actualización de la matriz activos de información , la cual se encuentra publicada en la pagina web del ministerio. https://www.mindeporte.gov.co/index.php?idcategoria=66629 | H11: =+F11 -> 1 | I11: Sin observación
B12: Centralización de archivos de Gestión de acuerdo a las Tablas de Retención Documental. | C12: Formato Único de Inventario Documental. Informe . | D12: GIT de Gestión Documental | E12: 44180 | F12: 0 | G12: En el periodo objeto de seguimiento no se realizó esta actividad | H12: =+F12 -> 0 | I12: Sin observación
A13: Subcomponente 4. Criterio diferencial de accesibilidad. | B13: Mantener actualizado de manera permanente ,el portal del Ministerio del Deporte con los criterios de Accesibilidad definidos en la NTC 5854. | C13: Criterios de accesibilidad definidos y aplicados | D13: GIT Comunicaciones y GIT Tics | E13: 44180 | F13: 0.33 | G13: El portal del Ministerio del Deporte cumple con la norma NTC 5854 de Accesibilidad web en Colombia, es perceptible, es operable, es comprensible y es robusto. Herramientas que se han socializado con los colaboradores de la entidad. | H13: =+F13 -> 0.33 | I13: La OCI asigna como avance cuantitativo lo reportado por el área responsable, debido a que no existe indicador objetivo que permita su medición.
A14: Subcomponente 5 Monitoreo del Acceso a la Información Pública | B14: Informar a la Alta Dirección los resultados del seguimiento al cumplimiento de publicación de información mínima | C14: Dos informes (corte feb y ago) | D14: Oficina de Control Interno | E14: 31/03/2020 30/09/2020 | F14: 0.5 | G14: En virtud de lo establecido en el Plan Anual de Auditoria Interna de la vigencia 2020 aprobado por el Comité Institucional de Coordinación de Control Interno el 19-marzo y el 4-agosto de 2020, el primer informe fue remitido mediante memorando 2020IE0002141 del 27-may-2020. Teniendo en cuenta lo anterior, la meta establecida y las fechas programadas, el avance corresponde a un 50%. | H14: =+F14 -> 0.5 | I14: Sin observación
F15: =AVERAGE(F5:F14) -> 0.482 | H15: =AVERAGE(H5:H14) -> 0.432

Sheet 6. Iniciativas adicionales.
A2: PLAN ANTICORRUPCIÓN Y DE ATENCIÓN AL CIUDADANO 2020
A3: Componente 6: Iniciativas Adicionales | F3: Seguimiento Primera Línea de Defensa Segundo Cuatrimestre 2020 | H3: Seguimiento Tercera Línea de Defensa Segundo Cuatrimestre 2020 | J3: Seguimiento Primera Línea de Defensa Segundo Cuatrimestre | L3: Seguimiento Tercera Línea de Defensa Segundo Cuatrimestre | N3: Seguimiento Primera Línea de Defensa Tercer Cuatrimestre | P3: Seguimiento Tercera Línea de Defensa Tercer Cuatrimestre
A4: Subcomponente | B4: Acción | C4: Meta o producto | D4: Responsable | E4: Fecha programada | F4: Avance Cuantitativo | G4: Avance Cualitativo | H4: Avance Cuantitativo OCI | I4: Observaciones OCI | J4: Avance Cuantitativo | K4: Avance Cualitativo | L4: Avance Cuantitativo OCI | M4: Observaciones OCI | N4: Avance Cuantitativo | O4: Avance Cualitativo | P4: Avance Cuantitativo OCI | Q4: Observaciones OCI
A5: Iniciativas adicionales | B5: Implementar Estrategia Pedagógica para fomentar la Transparencia e integridad de los funcionarios y contratistas .En el desarrollo de la operación del ministerio del deporte, lo anterior a traves de la socialización de reflexiones ,recomendaciones y buenas practicas en la conducta de los servidores. | C5: (7) piezas comunicativas enviadas por correo electrónico institucional "Entérate". | D5: Oficina Asesora Jurídica | E5: 29/05/2020 30/06/2020 31/07/2020 28/08/2020 30/09/2020 30/10/2020 30/11/2020 | F5: 0.572 | G5: Se realizo divulgación de las piezas comunicativas: 1) 22 mayo 2020 - Tema PROBIDAD. 2) 8 junio 2020 - Tema RESPETO. 3) 29 julio 2020 - Tema INTEGRIDAD. 4) 21 agosto 2020: Tema RESPONSABILIDAD. Obteniendo un avance del 57,2% de las piezas de comunicación publicadas. | H5: =+(0.571428571428571) -> 0.57142857 | I5: Teniendo en cuenta que se han publicado cuatro (4) de las siete (7) piezas comunicativas, el avance cuantitaivo de esta actividad es de un 57,14%
F6: =+F5 -> 0.572 | H6: =+H5 -> 0.57142857
