Workbook
Name A_Obj1: OFFSET(#REF!,0,0,COUNTA(#REF!)-1,1)
Name A_Obj1: OFFSET(#REF!,0,0,COUNTA(#REF!)-1,1)
Name A_Obj1: OFFSET(#REF!,0,0,COUNTA(#REF!)-1,1)
Name A_Obj1: OFFSET(#REF!,0,0,COUNTA(#REF!)-1,1)
Name A_Obj1: OFFSET(#REF!,0,0,COUNTA(#REF!)-1,1)
Name A_Obj1: OFFSET(#REF!,0,0,COUNTA(#REF!)-1,1)
Name A_Obj2: OFFSET(#REF!,0,0,COUNTA(#REF!)-1,1)
Name A_Obj2: OFFSET(#REF!,0,0,COUNTA(#REF!)-1,1)
Name A_Obj2: OFFSET(#REF!,0,0,COUNTA(#REF!)-1,1)
Name A_Obj2: OFFSET(#REF!,0,0,COUNTA(#REF!)-1,1)
Name A_Obj2: OFFSET(#REF!,0,0,COUNTA(#REF!)-1,1)
Name A_Obj2: OFFSET(#REF!,0,0,COUNTA(#REF!)-1,1)
Name A_Obj3: OFFSET(#REF!,0,0,COUNTA(#REF!)-1,1)
Name A_Obj3: OFFSET(#REF!,0,0,COUNTA(#REF!)-1,1)
Name A_Obj3: OFFSET(#REF!,0,0,COUNTA(#REF!)-1,1)
Name A_Obj3: OFFSET(#REF!,0,0,COUNTA(#REF!)-1,1)
Name A_Obj3: OFFSET(#REF!,0,0,COUNTA(#REF!)-1,1)
Name A_Obj3: OFFSET(#REF!,0,0,COUNTA(#REF!)-1,1)
Name A_Obj4: OFFSET(#REF!,0,0,COUNTA(#REF!)-1,1)
Name A_Obj4: OFFSET(#REF!,0,0,COUNTA(#REF!)-1,1)
Name A_Obj4: OFFSET(#REF!,0,0,COUNTA(#REF!)-1,1)
Name A_Obj4: OFFSET(#REF!,0,0,COUNTA(#REF!)-1,1)
Name A_Obj4: OFFSET(#REF!,0,0,COUNTA(#REF!)-1,1)
Name A_Obj4: OFFSET(#REF!,0,0,COUNTA(#REF!)-1,1)
Name Acc_1: #REF!
Name Acc_1: #REF!
Name Acc_1: #REF!
Name Acc_1: #REF!
Name Acc_1: #REF!
Name Acc_1: #REF!
Name Acc_1234: #REF!
Name Acc_2: #REF!
Name Acc_2: #REF!
Name Acc_2: #REF!
Name Acc_2: #REF!
Name Acc_2: #REF!
Name Acc_2: #REF!
Name Acc_3: #REF!
Name Acc_3: #REF!
Name Acc_3: #REF!
Name Acc_3: #REF!
Name Acc_3: #REF!
Name Acc_3: #REF!
Name Acc_4: #REF!
Name Acc_4: #REF!
Name Acc_4: #REF!
Name Acc_4: #REF!
Name Acc_4: #REF!
Name Acc_4: #REF!
Name Acc_5: #REF!
Name Acc_5: #REF!
Name Acc_5: #REF!
Name Acc_5: #REF!
Name Acc_5: #REF!
Name Acc_5: #REF!
Name Acc_6: #REF!
Name Acc_6: #REF!
Name Acc_6: #REF!
Name Acc_6: #REF!
Name Acc_6: #REF!

Sheet Consolidado
B8: Resultados Seguimiento Plan Anticorrupción y de Atención al Ciudadano 2019 corte 31-dic-19
B11: Selecciona el componente que desea consultar: | C11: % Avance reportado por el responsable | D11: % Avance verificado por la OCI | E11: Nivel de Cumplimiento verificado por la OCI
B13: Componente 1: Mapa de riesgos de corrupción y medidas para mitigar los riesgos | C13: =+'1.Riesgos corrupción'!G15 -> 0.8625 | D13: =+'1.Riesgos corrupción'!I15 -> 0.77901786 | E13: =+IF(AND(D13>=0,D13<=0.59),"ZONA BAJA",IF(AND(D13>=0.6,D13<=0.79),"ZONA MEDIA","ZONA ALTA")) -> ZONA MEDIA
B15: Componente 2: Racionalización (Estrategia antitrámites) | C15: =+'2.Racionalización'!E9 -> 1 | D15: =+'2.Racionalización'!G9 -> 1 | E15: =+IF(AND(D15>=0,D15<=0.59),"ZONA BAJA",IF(AND(D15>=0.6,D15<=0.79),"ZONA MEDIA","ZONA ALTA")) -> ZONA ALTA
B17: Componente 3. Rendición de cuentas | C17: =+'3.Rendición de Cuentas'!G19 -> 0.87125 | D17: =+'3.Rendición de Cuentas'!I19 -> 0.80875 | E17: =+IF(AND(D17>=0,D17<=0.59),"ZONA BAJA",IF(AND(D17>=0.6,D17<=0.79),"ZONA MEDIA","ZONA ALTA")) -> ZONA ALTA
B19: Componente 4. Atención al Ciudadano | C19: =+'4.Atencion al Ciudadano'!G33 -> 0.85 | D19: =+'4.Atencion al Ciudadano'!I33 -> 0.61785714 | E19: =+IF(AND(D19>=0,D19<=0.59),"ZONA BAJA",IF(AND(D19>=0.6,D19<=0.79),"ZONA MEDIA","ZONA ALTA")) -> ZONA MEDIA
B21: Componente 5. Transparencia y Acceso a la Información | C21: =+'5.Transparencia '!H17 -> 0.99090909 | D21: =+'5.Transparencia '!J17 -> 0.77818182 | E21: =+IF(AND(D21>=0,D21<=0.59),"ZONA BAJA",IF(AND(D21>=0.6,D21<=0.79),"ZONA MEDIA","ZONA ALTA")) -> ZONA MEDIA
B23: Componente 6: Iniciativas adicionales | C23: =+'6.Iniciativas adicionales'!G7 -> 1 | D23: =+'6.Iniciativas adicionales'!I7 -> 1 | E23: =+IF(AND(D23>=0,D23<=0.59),"ZONA BAJA",IF(AND(D23>=0.6,D23<=0.79),"ZONA MEDIA","ZONA ALTA")) -> ZONA ALTA
B25: TOTAL | C25: =AVERAGE(C13:C23) -> 0.92910985 | D25: =AVERAGE(D13:D23) -> 0.83063447 | E25: =+IF(AND(D25>=0,D25<=0.59),"ZONA BAJA",IF(AND(D25>=0.6,D25<=0.79),"ZONA MEDIA","ZONA ALTA")) -> ZONA ALTA
D27: 0 a 59% | E27: ZONA BAJA
D28: De 60 a 79% | E28: ZONA MEDIA
D29: de 80 a 100% | E29: ZONA ALTA

Sheet 1.Riesgos corrupción
A2: PLAN ANTICORRUPCIÓN Y DE ATENCIÓN AL CIUDADANO
A3: Componente 1: Mapa de riesgos de corrupción y medidas para mitigar los riesgos | G3: Seguimiento Primera Línea de Defensa | I3: Seguimiento Tercera Línea de Defensa
A4: Subcomponente | B4: Actividades | D4: Meta o producto | E4: Responsable | F4: Fecha programada | G4: Avance Cuantitativo | H4: Avance Cualitativo | I4: Avance Cuantitativo OCI | J4: Observaciones OCI
A5: Subcomponente/ Proceso 1: Política de Administración de riesgos | B5: 1.1 | C5: Revisar la Política de Administración de Riesgos del Ministerio del Deporte y demás documentos relacionados, acorde con el nuevo modelo de planeación y gestión. | D5: Documentos actualizados | E5: Oficina Asesora de Planeación | F5: 43738 | G5: 1 | H5: El 7 de octubre de 2019 , se aprobó la política de administración del riesgo por parte del Comité Institucional de Coordinación de Control Interno. | I5: 0.66 | J5: No obstante la aprobación de la politica para la administración del riesgo GO-PO-002 y del formato GO-FR-005 de Mapa de Riesgos en ISOLUCION, a la fecha de corte del presente informe no se cuenta con evidencia de la actualización del procedimiento para la administración de riesgos. Por lo anterior el avance corresponde al 66% (meta 3 documentos actualizados).
B6: 1.2 | C6: Publicar y socializar los documentos actualizados en materia de Administración del Riesgo. | D6: Publicación y Socialización realizada | E6: Oficina Asesora de Planeación | F6: 43738 | G6: 0.9 | H6: Se realizó el cargue de la política de administración del riesgo en el aplicativo isolución. Se cuenta con una pieza de comunicación para la socialización de la política de administración del riesgo, la cual será enviada una vez finalicen las aprobaciones del documento de política en el aplicativo isolución. Asi mismo se cuenta con una versión preliminar del formato de mapa de riesgos para ser socializado a los respectivos líderes y enlaces de los procesos de la Entidad. Carpeta Evidencias Riesgos Act. 1.2 | I6: 0.66 | J6: Teniendo en cuenta que la presente actividad esta relacionada con la publicación y socializacion de los documentos asociados a la Administración de riesgos; que dichos documentos son la politica, formato y procedimiento; y que a la fecha se encontró evidencia de la publicación de la politica y el formato, asi como la socializacion de la politica el 30-dic-19 y del formato el 9-ene-2020 mediante correos electrónicos; el avance de la actividad corresponde a un 66%. Quedando pendiente la publicacion y socialización del procedimiento actualizado.
A7: Subcomponente/proceso 2: Construcción del modelo de gestión de riesgos de corrupción (Mapa de Riesgos de Corrupción) | B7: 2.1 | C7: Actualizar los riesgos de corrupción estableciendo sus causas y consecuencias. | D7: Matriz actualizada | E7: Líderes de Procesos | F7: 18/01/2019 25/01/2019 (metodologia antigua) 31/12/2019 (nueva metodologia) | G7: 0 | H7: Considerando factores varios con corte al 31 de diciembre no se logró la actualización de los mapas de riesgo de corrupción de los procesos de la Entidad, en este sentido la presente actividad será prioridad en la formulación del PAAC de la vigencia 2020 para darle cumplimiento al 31 de enero de dicha vigencia de acuerdo a lo establecido por la normatividad aplicable. | I7: =+G7 -> 0 | J7: Sin observación.
B8: 2.2 | C8: Hacer la valoración de los riesgos de Corrupción definiendo su probabilidad e impacto, y establecer acciones de control. | D8: Matriz actualizada | E8: Líderes de Procesos
B9: 2.3 | C9: Consolidar los mapas de riesgos de corrupción de cada Proceso/dependencia. | D9: Mapas de riesgo de corrupción consolidado vigencia 2019 | E9: Oficina Asesora de Planeación
A10: Subcomponente /proceso 3: Comunicación y Consulta | B10: 3.1 | C10: Publicar el borrador del mapa de riesgos de corrupción para generar espacios de participación y recibir observaciones o recomendaciones. Realizar los ajustes de acuerdo con la retroalimentación. | D10: Borrador de Mapa de riesgos de corrupción publicado | E10: Oficina Asesora de Planeación | F10: 25-29/01/2019 | G10: 1 | H10: En el mes de enero se dispuso un link para la participación ciudadana y de los servidores de la entidad. | I10: 1 | J10: Cumplimiento reportado en el informe anterior (memorando 2019IE0002748 del 13-may-19).
B11: 3.2 | C11: Publicar el Mapa de Riesgos de Corrupción consolidado para la vigencia 2019. | D11: Publicación en pagina web | E11: Oficina Asesora de Planeación/ GIT Comunicaciones | F11: 43496 | G11: 1 | H11: El mapa de Riesgos de Corrupción se encuentra publicado desde el 30 de enero. | I11: 1 | J11: Cumplimiento reportado en el informe anterior (memorando 2019IE0002748 del 13-may-19).
A12: Subcomponente /proceso 4: Monitoreo o revisión | B12: 4.1 | C12: Monitoreo a la efectividad de los controles establecidos en el mapa de riesgos de corrupción 2019, y realizar los ajustes pertinentes. | D12: Reporte de monitoreo al mapa de corrupción | E12: Líderes de Procesos | F12: 31/08/2019 31/12/2019 | G12: 1 | H12: Con corte al 31 de diciembre de 2019, la totalidad de los procesos del Ministerio del Deporte, efectuaron el reporte de monitoreo de la efectividad de los controles del tercer cuatrimestre y en áreas de subsanar la situación evidenciada en la verificación efectuada por la OCI para el segundo cuatrimestre y de garantizar la trazabilidad en la gestión de los riesgos de corrupción de los procesos de gestión de comunicaciones y apoyo en infraestructura técnica y científica, se actualizó el monitoreo de los respectivos riesgos. En cuanto al riesgo de corrupción asociado al proceso de planeación estratégica, se desarrolló el monitoreo en los tiempos establecidos, proporcionando las respectivas evidencias. Carpeta . Evidencias Riesgos Act. 4.1 | I12: =+'4.1RC'!F34 -> 0.91214286 | J12: Teniendo en cuenta lo dispuesto en el documento Estrategias para la Construcción del Plan Anticorrupción y de Atención al Ciudadano de la Presidencia de la Repúblicade se establecen tres (3) seguimientos cuatrimestrales por año (33% cada uno) y de acuerdo con la información suministrada por los responsables de cada proceso en cada uno de los seguimientos realizados en el 2019, el cumplimiento consolidado corresponde a un 91% sobre una meta del 100%, tal como se muestra a continuación: Cumplimiento 1er seguimiento: 31% Cumplimiento 2do seguimiento: 27,3% Cumplimiento 3er seguimiento: 33%
B13: 4.2 | C13: Realizar el seguimiento al monitoreo reportado por las responsables de los procesos. | D13: Consolidado de monitoreo realizado por los procesos | E13: Oficina Asesora de Planeación | F13: 31/08/2019 31/12/2019 | G13: 1 | H13: Desde la Oficina Asesora de Planeación se emitieron los lineamientos para el reporte del monitoreo de riesgos de gestión y corrupción de acuerdo a los plazos establecidos con la Oficina de Control Intertno, mediente oficio con radicado N° 2019IE0006252 del 6 de diciembre de 2019. Se desarrolló el seguimiento y retroalimentación al monitoreo de los riesgos de gestión y corrupción de la totalidad de los procesos, ejerciendo así el rol de segunda línea de defensa a cargo de la Oficina Asesora de Planeación y fortaleciendo así las acciones seguimiento institucional y fomentando la cultura del reporte con calidad en los responsables de los procesos de la Entidad. De igual manera, se consolidó el mapa de riesgos de corrupción con los reportes de monitoreos de los tres (3) cuatrimestres de la vigencia 2019. Se adjuntan los correos de seguimiento y retroalimentación a los procesos. Evidencias Riesgos .Carpeta Act. 4.2 | I13: =+G13 -> 1 | J13: Sin observación.
A14: Subcomponente/proceso 5: Seguimiento | B14: 5.1 | C14: Realizar seguimiento al Mapa de Riesgos de Corrupción mínimo tres veces al año, emitir y publicar informes | D14: Tres Informes | E14: Oficina de Control Interno | F14: 14/05/2019 12/09/2019 14/01/2020 | G14: 1 | H14: De acuerdo con lo establecido en el Plan Anual de Auditoria Interna de la vigencia 2019 aprobado por el Comité Institucional de Coordinación de Control Interno y lo indicado en el documento Estrategias para la Construcción del Plan Anticorrupción y de Atención al Ciudadano de la Presidencia de la República, la OCI realizó el primer y segundo seguimiento al Mapa de Riesgos de Corrupción correspondiente al primer y segundo cuatrimestre 2019, los cuales fueron remitidos a los integrantes del Comite Institucional de Coordinación de Control Interno mediante memorandos 2019IE0002748 del 13-may-19 y 2019IE0005077 del 12-sep-19 respectivamente, y se encuentran publicados en la pagina web de la Entidad. Adicionalmente la OCI está realizando el último seguimiento al Mapa de Riesgos de Corrupción correspondiente al tercer cuatrimestre 2019, cuyos resultados se emitiran y publicaran a mas tardar el decimo día hábil del mes de enero de 2020. | I14: =+G14 -> 1 | J14: Sin observación.
G15: =AVERAGE(G5:G14) -> 0.8625 | I15: =AVERAGE(I5:I14) -> 0.77901786

Sheet 4.1RC
A1: N° | B1: Proceso | C1: Informe de monitoreo MRC
C2: corte 30-abr (33%) | D2: corte 31-ago (33%) | E2: corte 31-dic (33%) | F2: % avance
A3: 1 | B3: Planeación Estratégica | C3: 0.33333333 | D3: 0.33 | E3: 0.33 | F3: =SUM(C3:E3) -> 0.99333333
A4: 3 | B4: Gestión de Comunicaciones | C4: 0.33333333 | D4: 0 | E4: 0.33 | F4: =SUM(C4:E4) -> 0.66333333
A5: 5 | B5: Inspección, Vigilancia y Control | C5: 0.33333333 | D5: 0.33 | E5: 0.33 | F5: =SUM(C5:E5) -> 0.99333333
A6: 6 | B6: Fomento al Desarrollo Humano y Social
B7: Recreación | C7: 0.33333333 | D7: 0.33333333 | E7: 0.33 | F7: =SUM(C7:E7) -> 0.99666667
B8: Deporte Escolar | C8: 0.33333333 | D8: 0.33333333 | E8: 0.33 | F8: =SUM(C8:E8) -> 0.99666667
B9: Social Comunitario | C9: 0.33333333 | D9: 0.33333333 | E9: 0.33 | F9: =SUM(C9:E9) -> 0.99666667
B10: Actividad Fisica | C10: 0.33333333 | D10: 0.33333333 | E10: 0.33 | F10: =SUM(C10:E10) -> 0.99666667
B11: Fomento al Desarrollo Humano y Social - Programa Superate | C11: 0 | D11: 0.33 | E11: 0.33 | F11: =SUM(C11:E11) -> 0.66
A12: 7 | B12: Altos Logros
B13: Deporte Convencional | C13: 0.33333333 | D13: 0.33 | E13: 0.33 | F13: =SUM(C13:E13) -> 0.99333333
B14: CCD | C14: 0 | D14: 0.33 | E14: 0.33 | F14: =SUM(C14:E14) -> 0.66
B15: Programas y proyectos Deportivos | C15: 0.33333333 | D15: 0.33 | E15: 0.33 | F15: =SUM(C15:E15) -> 0.99333333
B16: Deporte Paralimpico | C16: 0.33333333 | D16: 0.33 | E16: 0.33 | F16: =SUM(C16:E16) -> 0.99333333
B17: Nacional Antidopaje | C17: 0.33333333 | D17: 0.33 | E17: 0.33 | F17: =SUM(C17:E17) -> 0.99333333
B18: Juegos y eventos | C18: 0.33333333 | D18: 0.33 | E18: 0.33 | F18: =SUM(C18:E18) -> 0.99333333
B19: Psicosocial | C19: 0.33333333 | D19: 0.33 | E19: 0.33 | F19: =SUM(C19:E19) -> 0.99333333
A20: 8 | B20: Apoyo en Infraestructura Técnica y Científica
B21: CAR | C21: 0.33333333 | D21: 0 | E21: 0.33 | F21: =SUM(C21:E21) -> 0.66333333
B22: Laboratorio al Dopaje | C22: 0.33333333 | D22: 0 | E22: 0.33 | F22: =SUM(C22:E22) -> 0.66333333
B23: Infraestructura | C23: 0.33333333 | D23: 0 | E23: 0.33 | F23: =SUM(C23:E23) -> 0.66333333
B24: Informacion y Estudios | C24: 0.33333333 | D24: 0 | E24: 0.33 | F24: =SUM(C24:E24) -> 0.66333333
A25: 9 | B25: Servicio Integral al Ciudadano | C25: 0.33333333 | D25: 0.33333333 | E25: 0.33 | F25: =SUM(C25:E25) -> 0.99666667
A26: 10 | B26: Gestión de Tecnologías de la Información y las Comunicaciones | C26: 0.33333333 | D26: 0.33333333 | E26: 0.33 | F26: =SUM(C26:E26) -> 0.99666667
A27: 11 | B27: Gestión del Talento Humano | C27: 0.33333333 | D27: 0.33333333 | E27: 0.33 | F27: =SUM(C27:E27) -> 0.99666667
A28: 12 | B28: Gestión Documental | C28: 0.33333333 | D28: 0.33333333 | E28: 0.33 | F28: =SUM(C28:E28) -> 0.99666667
A29: 13 | B29: Adquisición de Bienes y Servicios | C29: 0.33333333 | D29: 0.33333333 | E29: 0.33 | F29: =SUM(C29:E29) -> 0.99666667
A30: 14 | B30: Gestión Financiera y Tesorería | C30: 0.33333333 | D30: 0.33333333 | E30: 0.33 | F30: =SUM(C30:E30) -> 0.99666667
A31: 15 | B31: Gestión Jurídica | C31: 0.33333333 | D31: 0.33333333 | E31: 0.33 | F31: =SUM(C31:E31) -> 0.99666667
A32: 16 | B32: Gestión de los Recursos Físicos | C32: 0.33333333 | D32: 0.33333333 | E32: 0.33 | F32: =SUM(C32:E32) -> 0.99666667
A33: 17 | B33: Seguimiento y Evaluación de la Gestión | C33: 0.33333333 | D33: 0.33333333 | E33: 0.33 | F33: =SUM(C33:E33) -> 0.99666667
B34: Cumplimiento | C34: =AVERAGE(C3:C33) -> 0.30952381 | D34: =AVERAGE(D3:D33) -> 0.27261905 | E34: =AVERAGE(E3:E33) -> 0.33 | F34: =SUM(C34:E34) -> 0.91214286

Sheet 2.Racionalización
A2: PLAN ANTICORRUPCIÓN Y DE ATENCIÓN AL CIUDADANO
A3: 2. Racionalización de Trámites | E3: Seguimiento Primera Línea de Defensa | G3: Seguimiento Tercera Línea de Defensa
A4: Actividades | B4: Meta o producto | C4: Responsable | D4: Fecha programada | E4: Avance Cuantitativo | F4: Avance Cualitativo | G4: Avance Cuantitativo OCI | H4: Observaciones OCI
A5: Creación de un usuario de consulta para el GIT de Atención al Ciudadano con el fin de realizar seguimiento de número de certificados generados por medio del sistema, con el fin de incluir en las estadísticas de este grupo | B5: Rol consulta | C5: GIT Tics | D5: 43524 | E5: 1 | F5: Se definió un usuario de consultas para la oficina de atención al ciudadano con el fin de que pueda consultar el reporte de certificados generados para Atleta Excelencia, Glorias del Deporte y Certificados de Existencia y Representación Legal. (se envió correo electrónico con usuario y contraseña el 8 de marzo de 2019 al área.) | G5: 1 | H5: Cumplimiento reportado en el informe anterior (memorando 2019IE0002748 del 13-may-19).
A6: Monitorear la efectividad de los controles implementados para los tramites/servicios en línea implementados por la Entidad. | B6: Evidencias de monitoreo | C6: Dirección de Posicionamiento e Inspección Vigilancia y Control - IVC | D6: Permanente | E6: 1 | F6: Dirección de Posicionamiento y Liderazgo: Se ha realizado monitoreo permanente a los trámites y servicios en línea, se adjunta correos con seguimientos realizados como evidencia. Adjunto acta de la revisión que realizamos sobre trámites. Direccion de IVC: por medio de sus colaboradores realizo una revision al tramite de "Certificado de existencia y representación legal" se concluyo lo siguiente "Ha sido valorado positivamente el acceso directo de los organismos deportivos y demás interesados, a los certificados de existencia y representación legal de las Federaciones Deportivas Nacionales y Clubes Profesionales constituidos como corporaciones o asociaciones. Sin embargo la queja generalizada últimamente ha sido la imposibilidad de acceder a la página de la entidad para bajarlos, presumiblemente por problemas técnicos, lo que ha ocasionado diferentes llamadas y envío de correos electrónicos quejándose o solicitándolos por este medio" se proceder a enviar el asunto al area responsable en este caso a TICS para reportar el problema, identificar la causa y darle la solucion Correspondiente. | G6: =+E6 -> 1 | H6: Sin observación.
A7: Revisión y análisis de los trámites y servicios del Ministerio del Deporte que se encuentra en el SUIT y en la página web de la entidad. | B7: Acuerdo de Servicios revisado | C7: Oficina Asesora de Planeación y Responsables de los Tramites | D7: 43830 | E7: 1 | F7: Oficina Asesora de Planeación: Dado que el 8 de octubre se expidió la Circular Externa N° 001 “Por medio de la cual se reglamenta los artículos 200 y 201 de la Ley 1819 de 2016, determinando la destinación, distribución y lineamientos para la ejecución de los recursos en materia deportiva”,la Oficina Asesora de Planeación realizará en el primer cuatrimestre de la próxima vigencia las gestiones con el DAFP, para inactivar éste tramite en el SUIT. Dirección de Posicionamiento y Liderazgo. Adjunto correo enviado por la Dirección de Posicionamiento viernes 23/08/2019 a Comunicaciones, luego de la revisión de los tramites. Adjunto acta de una nueva revisión sobre trámites del 17 diciembre 2019. Dirección de IVC: Se realizo una revision a los tramites de la entidad en la cual los cordinadores tanto de Deporte Aficionado como de Deporte Profesional, revisaron los tramites con los que cuenta hoy en dia la Dirección y estan subidos en la pagina WEB de la entidad. La revision arrojo diferntes conclusiones como: 1. Efectivamente los 12 tramites que estan subidos en la pagina web son los que se desarrollan en la Dirección. 2.La revision por parte de Deporte Profesional arrojo un cambio al Tramite de 4 para que quedara de la siguiente manera "Renovación y Actualización del reconocimiento deportivo de clubes profesionales" 3. Se hace necesaria de la creación de un tramite correspondiente a Deporte Profesional. | G7: =+E7 -> 1 | H7: Sin observación.
A8: Revisión interna de los requisitos exigidos asociados a los trámites de renovación de reconocimientos deportivos e inscripción de miembros, con el fin de identificar si son susceptibles de racionalización. | B8: Tramites revisados | C8: Inspección Vigilancia y Control | D8: 43830 | E8: 1 | F8: Dirección de IVC: El análisis de racionalización realizado por la Driección fue remitido a la Oficina de Planeación, en correo del viernes 12/07/2019. Oficina Asesora de Planeación: Envia comunicado al DAFP el 15 de julio Sin embargo, sobre lo remitido la entidad no recibió instrucciones o lineamientos por parte de dicha entidad, solo hasta el 28 de noviembre llego al Ministerio otro comunicado del DAFP (documento adjunto) donde se indica que la Función Pública como entidad líder de la política de Racionalización de trámites, iniciará en los mes de diciembre y hasta el 30 de enero de 2020 una serie de talleres para dar a conocerlos aspectos a tener en cuenta para construir la estrategia de racionalización para la siguiente vigencia. | G8: =+E8 -> 1 | H8: Sin observación.
E9: =AVERAGE(E5:E8) -> 1 | G9: =AVERAGE(G5:G8) -> 1

Sheet 3.Rendición de Cuentas
A2: PLAN ANTICORRUPCIÓN Y DE ATENCIÓN AL CIUDADANO
A3: Componente 3: Rendición de cuentas | G3: Seguimiento Primera Línea de Defensa | I3: Seguimiento Tercera Línea de Defensa
A4: Subcomponente | B4: Actividades | D4: Meta o producto | E4: Responsable | F4: Fecha programada | G4: Avance Cuantitativo | H4: Avance Cualitativo | I4: Avance Cuantitativo OCI | J4: Observaciones OCI
A5: Subcomponente 1 Información de calidad y en lenguaje comprensible | B5: 1.1 | C5: Analizar y retroalimentar a las áreas sobre la información solicitada por la Oficina Asesora de Planeación, para la elaboración de los informes de gestión por dependencia. | D5: Informe de gestión | E5: Oficina Asesora de Planeación | F5: Semestral | G5: 1 | H5: Desde la Oficina de Planeacion, se solicitó informe de avance de gestion correspondiente al primer semestre de la vigencia 2019, a las diferentes areas de la entidad, mediante comunicado, adjuntado formato para su diligenciamiento, el cual fue diligenciado y allegado en los tiempos requeridos a la oficina de planeacion, el cual fue consolidado, ajustado y spublicado en la pagina WEB del Ministerio. | I5: 1 | J5: Cumplimiento reportado en el informe anterior (memorando 2019IE0005077 del 12-sep-19).
B6: 1.2 | C6: Actualizar y socializar la guía para la rendición de cuentas del Ministerio del Deporte. | D6: Documento publicado y socializado | E6: GIT Comunicaciones | F6: Marzo de 2019 | G6: 100% | H6: Se actualizó la guía previo a la realización de la audiencia pública de rendición de cuentas, aprobada por la Jefe de la Oficina Asesora de Planeación y la Secretaria General de la entidad. Publicada en el módulo de rendición de cuentas de la página web. Socializada en el ámbito interno. Una vez publicado en nuevo Manual Único de Rendición de Cuentas por parte de Función Pública, se realizó una reunión para la definición de acciones y responsabilidades de las áreas involucradas, para la posterior actualización de la estrategia. | I6: 100% | J6: Cumplimiento reportado en el informe anterior (memorando 2019IE0002748 del 13-may-19).
H7: Durante la vigencia se trabajó bajo el liderazgo de la Oficina Asesora de Planeación, en el cumplimiento de las diferentes fases para la implementación de la nueva estrategia de rendición de cuentas, de acuerdo con el Mnual Único de Rendición de Cuentas, expedido por Función Pública. Entre las actividades se pueden mencionar: • 1- Solicitud Enlaces a las dependencias de la entidad: Una vez realizada la solicitud de enlaces por dependencia para la rendición de cuentas y estipulados estos, se procedió a realizar una reunión el día 31 de Julio de 2019 en la cual los enlaces solicitaron capacitación en este tema. • Se realizó capacitación (taller didáctico del MURC) por parte de la función pública el día 16 de agosto del año en curso. • Se diseñó la matriz de rendición de cuentas con las herramientas y etapas para el diseño de la estrategia de rendición de cuentas, con el link que lleva al instrumento o actividad en la página de la función pública MURC. • Se realizó una presentación a los enlaces con las funciones, lineamientos, los elementos de la rendición de cuentas y las etapas con la descripción de las etapas, los responsables, fechas programada y su estado. • Se realizó mesa de trabajo el día 20 se septiembre, para realizar el ejercicio del autodiagnóstico, revisión de preguntas entre otras, se definió en esta mesa que cada grupo interno de trabajo realizara el ejercicio al interior, para luego realizar el ejerció entre todas las dependencias, así mismo quedo el compromiso por parte del G.I.T. de comunicaciones hacer el ejercicio general con base en la información y experiencias anteriores para posteriormente socializarlo. • De acuerdo a los compromisos del G.I.T. de comunicaciones, el día 24 de septiembre este socializo las respuestas del autodiagnóstico a los enlaces de rendición de cuentas para su revisión consulta y apoyo en lo concerniente a las preguntas de sus competencias y realizaran al interior de sus áreas el ejercicio del autodiagnóstico de rendición de cuentas. • Se realizó revisión preguntas autodiagnóstico al interior de cada G.I.T. septiembre 27-2019.
B9: 1.3 | C9: Realizar seguimiento periodico de la información proporcionada por las dependencias y publicada en el link de Transparencia de la página web, de acuerdo con la normatividad vigente. | D9: Información actualizada en la página web | E9: Oficina Asesora de Planeación Todas las dependencias GIT Comunicaciones | F9: Trimestral | G9: 0.97 | H9: Se ha realizado monitoreo permanente a los trámites y servicios en línea, se adjunta correos con seguimientos realizados como evidencia. | I9: =+G9 -> 0.97 | J9: Sin observación.
H10: GIT de Comunicaciones: Después de la verificación y seguimiento del cumplimiento de los requisitos establecidos en la Ley de Transparencia, con la Oficina de Planeación, se realizó una reunión con todas las dependencias, el 23 de octubre, para crear un plan para concienciar a las diferentes áreas de la importancia de la cumplir con la normativa. Acciones: -Redacción de Memorando dirigido a los directores técnicos y coordinadores de las diferentes áreas para solicitar a los enlaces web de las direcciones, dar inicio al proceso de revisión de la sección que a cada uno le corresponde y, de ser pertinente, enviar la información para para garantizar el cumplimiento de la Ley. -Entrega del Memorando a los enlaces web de las diferentes áreas para que cada uno iniciara el proceso de revisión de la sección correspondiente a su respectiva dirección y, de ser necesario, enviar información de actualización para garantizar el cumplimiento de la ley. -Revisión de cada uno de los 179 links de la página Web correspondientes a los requerimientos establecidos en la Ley 1712 de 2014, Decreto reglamentario 103 de 2015 y Resolución 3564 de 2015, recogidos en la Matriz de Cumplimiento establecida por la Procuraduría General de la Nación. Cumplimiento: 97% Total de actualizaciones a 12 de diciembre de 2019: 321
A11: Subcomponente 2 Diálogo de doble vía con la ciudadanía y sus organizaciones | B11: 2.1 | C11: Generar espacios de diálogo presenciales (encuentros regionales/grupos de interés) o digitales (chats temáticos o foros virtuales) como acciones o ejercicios de rendición de cuentas permanente. | D11: Informes semestrales por área misional, con soportes, que contengan información sobre acciones de rendición de cuentas cumplidas como: mesas de trabajo, diálogos con grupos de interés, capacitaciones, encuentros regionales, reuniones para ejercicios de planeación. Informe semestral sobre las estrategias virtuales implementadas en cuanto a: Página web: foros, chats temáticos, convocatorias ferias de atención al ciudadano Boletines de prensa y producción periodística Campañas en redes sociales Carteleras electrónicas Boletines internos Especiales en formato audiovisual. | E11: Todas las dependencias Apoyo para publicación GIT Comunicaciones | F11: Semestral | G11: 0.5 | H11: GIT Comunicaciones: El informe de acciones de rendición de cuentas, que corresponde a la estrategia vigente, fue solicitado a los enlaces de cada área misional y de apoyo, para consolicdación a 30 de diciembre de 2019. Avance 50% Dirección de Posicionamiento y Liderazgo Deportivo: *Se han realizado reuniones con las Federaciones Deportivas Nacionales Convencionales, que es un grupo de interes de la dirección, con el fin de conocer las necesidades de las mismas para el año 2020. * EL 17 de noviembre de 2019, en el marco del encuentro anual del programa Glorias del Deporte, se desarrollaron mesas de trabajo con los beneficiarios del programa. Fueron informados sobre la gestión realizada y las novedades que se presentaron en la ejecución del programa durante la vigencia 2019. Así mismo, se recogieron las expectativas y sugerencias que los exdeportistas tienen respecto al programa . ( Se adjunta acta) * Se han realizado 10 mesas de trabajo del Proyecto Centros de Desarrollo Regional -CENDER. (Actas de Reunión) Avance 100% | I11: 0 | J11: No se recibió soporte documental que permita inferir cumplimiento de la meta establecida.
B12: 2.2 | C12: Realizar un ejercicio de rendición de cuentas sobre la vigencia 2018, con grupos de interés, a través de estrategias de participación con que cuente la entidad (presencial y/o virtual). | D12: Informes de gestión por áreas publicados 1 Audiencia pública de rendición de cuentas | E12: Dirección Oficina Asesora de Planeación Secretaría General GIT Comunicaciones | F12: Primer semeste de 2019 | G12: 1 | H12: Oficina Asesora de Pleaneación: El 3 de mayo se realizó la rendición de cuentas de la vigencia 2018. - Todas las evidencias se encuentran en el siguiente LINK: https://www.coldeportes.gov.co/acciones_rendicion_cuentas_2018 Avance: 100% GIT de Comunicaciones: La audiencia pública de rendición de cuentas se realizó el día 3 de mayo, en El Cubo de Colsubsidio, en Bogotá, desde las 8:00 a.m. y hasta 12:00 m., con la asistencia de 187 personas entre ciudadanía, grupos de interés según caracterización de usuarios. Informes audiencia pública: https://www.coldeportes.gov.co/acciones_rendicion_cuentas_2019/periodo_2019/audiencia_publica_rendicion_cuentas_94231 Avance: 100% | I12: 0.5 | J12: No se encontró evidencia de la publicación de informes de gestión de la vigencia 2018 por cada área, tal como esta establecida en la meta o producto de la actividad. Por lo anterior y teniendo en cuenta que el 3 de mayo de 2019 fue realizada la Audiencia de Rendición de Cuentas sobre la vigencia 2018, el avance para la OCI es de un 50%. Esta observación fue comunicada en los informes anteriores (memorandos 2019IE0002748 del 13-may-19 y 2019IE0005077 del 12 de septiembre de 2019).
A13: Subcomponente 3 Incentivos para motivar la cultura de la rendición y petición de cuentas | B13: 3.1 | C13: Socialización de los mecanismos de participación ciudadana con los servidores públicos de la entidad y demás partes interesadas. | D13: Informes con registros y evidencias de los ejercicios de socialización | E13: GIT Comunicaciones | F13: 43646 | G13: 1 | H13: El ejercicio de socialización de los mecanismos se cumplió previo a la realización de la Audiencia Pública de Rendición de Cuentas. Informe final Audiencia Pública: https://www.coldeportes.gov.co/recursos_user//2019/Comunicaciones/Junio/INFORME-FINAL-ACCIONES-AUDIENCIA-PUBLICA-VIGENCIA-2018.pdf | I13: =+G13 -> 1 | J13: Cumplimiento reportado en el informe anterior (memorando 2019IE0005077 del 12 de septiembre de 2019).
H14: Durante el segundo semestre se han realizado capacitaciones a los enlaces designados por el Comité Institucional de Gestión y Desarrollo para el liderazgo de la nueva estrtegia de rendición de cuentas que se implementará en 2020. Actividades: • 1- Solicitud Enlaces a las dependencias de la entidad: Una vez realizada la solicitud de enlaces por dependencia para la rendición de cuentas y estipulados estos, se procedió a realizar una reunión el día 31 de Julio de 2019 en la cual los enlaces solicitaron capacitación en este tema. • Se realizó capacitación (taller didáctico del MURC) por parte de la función pública el día 16 de agosto del año en curso. • Se diseñó la matriz de rendición de cuentas con las herramientas y etapas para el diseño de la estrategia de rendición de cuentas, con el link que lleva al instrumento o actividad en la página de la función pública MURC. • Se realizó una presentación a los enlaces con las defunciones, lineamientos, los elementos de la rendición de cuentas y las etapas con la descripción de las etapas, los responsables, fechas programada y su estado. • Se realizaron mesas de trabajo el día 20 se septiembre, para realizar el ejercicio del autodiagnóstico, revisión de preguntas entre otras, se definió en esta mesa que cada grupo interno de trabajo realizara el ejercicio al interior, para luego realizar el ejerció entre todas las dependencias, así mismo quedo el compromiso por parte del G.I.T. de comunicaciones hacer el ejercicio general con base en la información y experiencias anteriores para posteriormente socializarlo. • De acuerdo a los compromisos del G.I.T. de comunicaciones, el día 24 de septiembre este socializaron las respuestas del autodiagnóstico a los enlaces de rendición de cuentas para su revisión consulta y apoyo en lo concerniente a las preguntas de sus competencias y realizaran al interior de sus áreas el ejercicio del autodiagnóstico de rendición de cuentas. Desde la OAP se han socializado 3 piezas informativas sobre rendición de cuentas, dirigidas a todos los colaboradores.
B16: 3.2 | C16: Capacitación virtual a ciudadanos sobre rendición de cuentas y reconocimiento de participación a través de estrategia digital | D16: Campañas digitales | E16: Secretaria General - GIT Comunicaciones | F16: 43646 | G16: 1 | H16: Se realizó con el GIT Talento Humano un Entérate TV sobre rendición de cuentas. El ejercicio de capacitación virtual se cumplió previo a la realización de la Audiencia Pública de Rendición de Cuentas. | I16: =+G16 -> 1 | J16: Cumplimiento reportado en el informe anterior (memorando 2019IE0002748 del 13-may-19).
A17: Subcomponente 4 Evaluación y retroalimentación a la gestión institucional | B17: 4.1 | C17: Documentar las acciones hechas durante el año (digitales y presenciales), sobre ejercicios de participación ciudadana y rendición de cuentas. | D17: Presentación de resultados | E17: GIT Comunicaciones | F17: 43829 | G17: 0.5 | H17: Está documentado el primer semestre. Link: https://www.coldeportes.gov.co/recursos_user/2019/Rendici%C3%B3n%20de%20cuentas/INFORME%20SEMESTRAL%20ACCIONES%20DE%20RENDICION%20DE%20CUENTAS%20ENERO%20JULIO%202019.pdf Se encuentra en proceso de elaboración por parte de las áreas misionales y de apoyo. Durante el segundo semestre se realizó la identificación y documentación de las debilidades y fortalezas de la entidad para promover la participación en la implementación de los ejercicios de rendición de cuentas con base en fuentes externas, según los criterios establecidos en el FURAG. Se trabajó en el autodiagnóstico de la actual estrategia para evaluar y proyectar la construcicón de la que entrará en vigencia en 2020 (Consolidación de un plan de mejoramiento). Se consolidaron los mecanismos y medios de comunicación para incuir en la nueva estrtaegia y se trabaja en la elaboración del plan de comunicaciones para la estrategia de rendición de cuentas 2020. | I17: 1 | J17: Se evidenció la publicacion del informe de acciones de rendición de cuentas del segundo semestre 2019 consolidado con la información reportada por las áreas misionales, en el enlace: https://www.coldeportes.gov.co/recursos_user/2020/Comunicaciones/Enero/INFORME__ACCIONES_DE_RENDICION_DE_CUENTAS_AGOSTO_DICIEMBRE__2019.pdf
B18: 4.2 | C18: Evaluar las actividades suscritas en el componente de Rendición de Cuentas en el marco del Seguimiento al Plan Anticorrupción y Atención al ciudadano. | D18: Tres Informes | E18: Oficina de Control Interno | F18: 14/05/2019 12/09/2019 14/01/2020 | G18: 1 | H18: De acuerdo con lo establecido en el Plan Anual de Auditoria Interna de la vigencia 2019 aprobado por el Comité Institucional de Coordinación de Control Interno y lo indicado en el documento Estrategias para la Construcción del Plan Anticorrupción y de Atención al Ciudadano de la Presidencia de la República, la OCI realizó el primer y segundo seguimiento del Plan Anticorrupción y de Atención al Ciudadano 2019 correspondiente al primer y segundo cuatrimestre 2019, los cuales fueron remitidos a los inrtegrantes del Comite Institucional de Coordinación de Control Interno mediante memorandos 2019IE0002748 del 13-may-19 y 2019IE0005077 del 12-sep-19 respectivamente, y se encuentran publicados en la pagina web de la Entidad. Adicionalmente la OCI está realizando el último seguimiento del Plan Anticorrupción y de Atención al Ciudadano 2019 correspondiente al tercer cuatrimestre 2019, cuyos resultados se emitiran y publicaran a mas tardar el decimo día hábil del mes de enero de 2020. | I18: =+G18 -> 1 | J18: Sin observación.
G19: =AVERAGE(G5:G18) -> 0.87125 | I19: =AVERAGE(I5:I18) -> 0.80875

Sheet 4.Atencion al Ciudadano
A2: PLAN ANTICORRUPCIÓN Y DE ATENCIÓN AL CIUDADANO
A3: Componente 4: Atención al ciudadano | G3: Seguimiento Primera Línea de Defensa | I3: Seguimiento Tercera Línea de Defensa
A4: Subcomponente | B4: Actividades | D4: Meta o producto | E4: Responsable | F4: Fecha programada | G4: Avance Cuantitativo | H4: Avance Cualitativo | I4: Avance Cuantitativo OCI | J4: Observaciones OCI
A5: Subcomponente 1 Estructura administrativa y Direccionamiento estratégico | B5: 1.1 | C5: Realizar el diagnóstico y documentar las debilidades y fortalezas de la participación en la implementación de la Política de Participación Ciudadana en cada uno de ciclos de la gestión democrática. | D5: Diagnóstico incluido en el Plan de Participación Ciudadana | E5: Secretaría General/Atención al Ciudadano | F5: 43692 | G5: 1 | H5: Se aplicó la herramienta de autodiagnóstico del componente de participación del MIPG y se plasmó en el documento del plan de Participación Ciudadana. | I5: =+G5 -> 1 | J5: No obstante lo reportado por el responsable, al corte de 31 de diciembre de 2019, el documento del plan de Participación Ciudadana se encuentra en borrador. Por lo cual se recomienda priorizar su aprobacion a comienzos de la vigencia 2020.
B6: 1.2 | C6: Realizar la actualización y publicación del Plan de Participación Ciudadana y sus estrategias de acuerdo a los resultados del diagnóstico realizado sobre el tema, en el que se definan: a. los canales y las metodologías que se emplearán para desarrollar los ejercicios de participación ciudadana para ser incluidas en el plan de participación ciudadana y en el procedimiento de participación ciudadana; b. recursos, alianzas, convenios y presupuesto asociado a las actividades que se implementarán en la entidad para promover la participación ciudadana | D6: Plan de Participación actualizado y publicado | E6: Secretaría General/Atención al Ciudadano | F6: 43723 | G6: 1 | H6: Se elaboró Plan de participación ciudadana que incluye estrategias y acciones a realizar | I6: 0.5 | J6: Teniendo en cuenta la meta establecida y que al corte de 31 de diciembre de 2019 el documento del plan de Participación Ciudadana se encuentra en borrador, el avance de la actividad corresponde a un 50%.
B7: 1.3 | C7: Conformar y capacitar un equipo de trabajo (que cuente con personal de áreas misionales y de apoyo a la gestión) que lidere el proceso de planeación de la participación. | D7: Acta de reunión de conformación / Capacitación realizada | E7: Secretaría General/Atención al Ciudadano / Oficina Asesora de Planeación | F7: 43814 | G7: 0 | H7: Esta acción se modificó con el propósito de ejecutarla en 2020. La modificacion fue aprobada por el comité directivo. | I7: 0 | J7: No se recibió soporte documental de la aprobación de la modificacion reportada.
B8: 1.4 | C8: Definir una estrategia para capacitar a los grupos de valor con el propósito de cualificar los procesos de participación ciudadana. | D8: Estrategia diseñada | E8: Secretaría General/Atención al Ciudadano | F8: 43723 | G8: 1 | H8: La estrategia se definió en el plan de participación diseñado. | I8: 1 | J8: No obstante lo reportado por el responsable, al corte de 31 de diciembre de 2019, el documento del plan de Participación Ciudadana se encuentra en borrador. Por lo cual se recomienda priorizar su aprobacion a comienzos de la vigencia 2020.
B9: 1.5 | C9: Definir la estrategia para la promoción y conformación de veedurias ciudadanas en la siguiente vigencia. | D9: Estrategia diseñada | E9: Secretaría General/Atención al Ciudadano | F9: 43723 | G9: 1 | H9: La estrategia se definió en el plan de participación diseñado. | I9: 1
B10: 1.6 | C10: Realizar acciones para la inclusión de las políticas de Transparencia, Participación y Servicio al Ciudadano en los planes estratégicos de corto, mediano y largo plazo que se definirán en 2019. | D10: Plan de Acción 2020 con componentes de Transparencia, Participación y Servicio al Ciudadano | E10: Oficina Asesora de Planeación Secretaria General - GIT. Atención al Ciudadano | F10: 43829 | G10: 0 | H10: Esta acción se modificó con el propósito de ejecutarla en 2020. La modificacion fue aprobada por el comité directivo. | I10: 0 | J10: No se recibió soporte documental de la aprobación de la modificacion reportada.
B11: 1.7 | C11: Realizar acciones para la inclusión de los temas de las políticas de Transparencia, Participación y Servicio al Ciudadano en los comités de Gestión y Desempeño que se desarrollen en la entidad en el 2019. | D11: Acciones aprobadas presentadas en Comité de Gestión y Desempeño | E11: Oficina Asesora de Planeación Secretaria General - GIT. Atención al Ciudadano | F11: 43830 | G11: 0 | H11: Esta acción se modificó con el propósito de ejecutarla en 2020. La modificacion fue aprobada por el comité directivo. | I11: 0 | J11: No se recibió soporte documental de la aprobación de la modificacion reportada.
A12: Subcomponente 2 Fortalecimiento de los canales de atención | B12: 2.1 | C12: Proponer mejoras al sistema de gestión de peticiones en especial las dirigidas a la adopción de herramientas que permitan la clasificación de los principales temas y motivos de las solicitudes que ingresan a la entidad. | D12: Mejoras propuestas a las dependencias responsables | E12: Secretaría General/Atención al Ciudadano / GIT Tic's | F12: 43830 | G12: 1 | H12: A 13 de diciembre y a partir de la solicitud realizada y la propuesta realizada conjuntamente por los GITs, el operador de GESDOC diseñó un formulario de gestión de peticiones que no requiere tránsito por el SGP, con miras a mejorar la eficiencia en el seguimiento. Se encuentra en fase de pruebas. Se puede consultar en el siguiente link http://192.168.0.17:8888/SGD_WEB/www/pqr.coldeportes.jsp Este nuevo Formulario sale el 27 de diciembre de 2019 a producción. | I12: =+G12 -> 1 | J12: Sin observación.
B13: 2.2 | C13: Proponer mejoras al sistema de gestión de peticiones en especial las dirigidas a la adopción de herramientas que permitan la centralización de todas las comunicaciones con carácter de derecho de petición que ingresan por los diversos medios o canales (Centralización de la recepción de peticiones verbales ARTÍCULO 2.2.3.12.2. Decreto 1166 de 2016 y no utilización de otros formularios digitales para la recepción de solicitudes en el programa supérate Intercolegiados, certificado deportista apoyado, certificado existencia y representación legal) | D13: Mejoras propuestas a las dependencias responsables | E13: Secretaría General/Atención al Ciudadano / GIT Tic's / Programa SUPÉRATE | F13: 43830 | G13: 1 | H13: Se propuso por parte del GIT Servicio Integral al Ciudadano mejora en herramientas tecnológicas (2019IE0004175), con base en la cual el GIT TICs realizó contrato interadministrativo con la ETB, con el fin de cumplir los requerimientos legales en materia de registro de peticiones telefónicas. En inicio de operación será en enero 2020 | I13: =+G13 -> 1 | J13: Sin observación.
B14: 2.3 | C14: Realizar el ejercicio de caracterización sobre la utilización de los canales de atención que permita determinar el estado de los canales y las acciones de mejoramiento a desarrollar. | D14: Ejercicio de caracterización realizado | E14: Secretaría General/Atención al Ciudadano / GIT Tic's | F14: 43769 | G14: 1 | H14: Secretaria General (GIT de Atención al Ciudadano y GIT de Tic's): caracterización de canales publicada. https://www.coldeportes.gov.co/servicio_ciudadano/caracterizacion_usuarios/caracterizacion_2018/ejercicio_caracterizacion_git_95688 | I14: =+G14 -> 1 | J14: Cumplimiento reportado en el informe anterior (memorando 2019IE0005077 del 12 de septiembre de 2019).
B15: 2.4 | C15: Realizar la actualización de los protocolos de atención al ciudadano con la incorporación de los cambios realizados a los sistemas de información y los nuevos canales de atención. | D15: Protocolos actualizados | E15: Secretaría General/GIT Atención al Ciudadano | F15: 43646 | G15: 1 | H15: Se realizó la actualización de los protocolos de atención al ciudadano y se remiten a la Oficina Asesora de Planeación para su publicación en Isolucion Protocolos actualizados. https://www.coldeportes.gov.co/servicio_ciudadano/programa_servicio_integral_62499/protocolos_servicio_ciudadano | I15: 1 | J15: La fecha del documento "Protocolo de servicio al ciudadano con inclusión" SI-DI-014 publicado en la pagina web corresponde al 14 de mayo de 2018 y en ISOLUCION tiene fecha del 26-jun-2019. Esta observación fue comunicada en el informe anterior (memorando 2019IE0005077 del 12 de septiembre de 2019).
B16: 2.5 | C16: Realizar la actualización y publicación de la carta del trato digno. | D16: Carta de trato digno 2019 publicada | E16: Secretaría General/GIT Atención al Ciudadano | F16: 43647 | G16: 1 | H16: Carta de trato digno publicada https://www.coldeportes.gov.co/servicio_ciudadano/programa_servicio_integral_62499/carta_trato_digno_ciudadano | I16: 1 | J16: Cumplimiento reportado en el informe anterior (memorando 2019IE0005077 del 12 de septiembre de 2019).
A17: Subcomponente 3 Talento Humano | B17: 3.1 | C17: Desarrollar acciones de formación del componente de la cultura de servicio integral al ciudadano, dirigidas a la implementación de la gestión democrática con enfoque diferencial que garantice en especial las acciones afirmativas de los grupos poblaciones de especial atención. | D17: Capacitaciones realizadas | E17: Secretaría General/GIT Atención al Ciudadano / Talento Humano | F17: 43799 | G17: 1 | H17: Se realizaron mesas de trabajo con el Instituto Nacional para sordos-INSOR y el Instituto Nacional para Ciegos INCI, para definir acciones dirigidas a la implementacion de estrategias con enfoque diferencial | I17: 0 | J17: No se recibió soporte documental que permita inferir cumplimiento de la meta establecida.
B18: 3.2 | C18: Proponer acciones de formación y capacitación que se llevarán durante el 2019, para que sean incluidas en el plan institucional de capacitación del vigencia. | D18: Propuesta de inclusión de acciones en el Plan Institucional de Capacitación 2019 | E18: Secretaría General / GIT Atención al Ciudadano / Talento Humano | F18: 43586 | G18: 1 | H18: Secretaria General (GIT de Atención al Ciudadano y GIT de Talento Humano): Se hizo propuesta para que fuera incluida en el PIC, correo electrónico 28/03/2019 John Jairo Romero -Talento Humano. | I18: =+G18 -> 1 | J18: Cumplimiento reportado en el informe anterior (memorando 2019IE0005077 del 12 de septiembre de 2019). El soporte documental de la presente actividad, suministrada por la Oficina Asesora de Planeación (memorando 2019IE0005044), es de fecha 1 de abril de 2019.
A19: Subcomponente 4 Normativo y procedimental | B19: 4.1 | C19: Proponer y/o realizar acciones para la adopción de los lineamientos de transparencia activa definidos en el MIPG | D19: Estrategia diseñada | E19: Oficina Asesora de Planeacion / Oficina Jurídica / GIT Comunicaciones / Secretaría General - GIT Atención al Ciudadano | F19: 43738 | G19: 1 | H19: Se realizó seguimiento a la información minima que debe estar publicada y el resultado se consignó en el diagnóstico de participación que hace parte del documento del plan de participación que se somete a conocimiento del comité administrativo. Así mismo, En el mes de agosto se dio respuesta mediante correo electrónico enviado por Daniel Fonseca a la Oficina Asesora de Planeación con evidencias de los avances de la Secretaría General en materia de transparencia y acceso a la información pública, conforme lo establecido en el instrumento de seguimiento establecido por la procuraduria. Se adjunta matriz diligenciada | I19: 0 | J19: No se recibió soporte documental que permita inferir cumplimiento de la meta establecida en lo relacionado con el diseño de una estrategia para la adopcion de lineamientos de transparencia.
B20: 4.2 | C20: Realizar la actualización del procedimiento de Recepción, Trámite y seguimiento de los derechos de petición y la documentación de cada una de las actividades vinculadas, garantizando la adopción de herramientas técnicas de la reingeniería de procesos, que permitan los cambios enfocados en la eficiencia y eficacia del procedimiento. | D20: Procedimiento actualizado en ISOLUCION | E20: Secretaría General / GIT Atención al Ciudadano | F20: 43738 | G20: 1 | H20: Se realizó la actualización de del procedimiento de Recepción, Trámite y seguimiento de los derechos de petición y se remiten a la Oficina Asesora de Planeación para su publicación en Isolution | I20: 0 | J20: Teniendo en cuenta la meta establecida y que al corte de 31 de diciembre de 2019 el procedimiento en mención se encuentra en borrador, el avance de la actividad corresponde a un 0%.
B21: 4.3 | C21: Realizar la definición y expedición del acto administrativo sobre el reglamento manejo institucional de los derechos de petición. | D21: Acto administrativo expedido | E21: Secretaría General/GIT Atención al Ciudadano | F21: 43723 | G21: 1 | H21: Se expidió la Resolución N° 1996 del 25 de octubre de 2019 mediante la cual se reglamenta el trámite y respuesta de las peticiones en la entidad. | I21: =+G21 -> 1 | J21: Sin observación.
B22: 4.4 | C22: Realizar el seguimiento a la implementación de la divulgación de la política de tratamiento de datos personales mediante aviso de privacidad, en su página web y personalmente al titular en el momento de la recolección de los datos. | D22: Política de tratamiento de datos personales divulgada en los canales definidos | E22: Secretaría General/GIT Atención al Ciudadano / Oficina Jurídica / GIT TICs | F22: 43708 | G22: 1 | H22: La Politica de protección de datos personales se encuentra publicada en la pagina web del Ministerio. https://www.coldeportes.gov.co/recursos_user//2019/Juridica/Politica-pdd-25.pdf En el marco del seguimiento se estableció que la PPDP fue publicada en página web, en el Sistema de Gestión de Peticiones y en físico en la entidad mediante pendón de Atención al Ciudadano. Queda pendiente por implementar dicha divulgación en canal telefónico, para lo cual se depende de la entrada en operación de la nueva solución telefónica. se anexa soporte de pagina , verificar en URL http://192.168.0.17:8888/SGD_WEB/www/pqr.coldeportes.jsp | I22: =+G22 -> 1 | J22: Sin observación.
B23: 4.5 | C23: Definir el protocolo para garantizar que al titular de la información, conozca en cualquier momento la información que exista sobre él en los bancos de datos del Ministerio del Deporte. | D23: Protocolo adoptado | E23: Oficina Jurídica / GIT TICs / Secretaría General/GIT Atención al Ciudadano | F23: 43738 | G23: =+(80%+100%)/2 -> 0.9 | H23: Secretaría General: Mediante Memorando 2019IE0003377 se solicitó a la Oficina Jurídica la inclusión de dicho protocolo en el documento de Política expedido. Se establecieron los componentes de dicho protocolo, pero no existe suficiente claridad jurídica y técnica sobre el procedimiento para la supresión de datos personales, razón por la cual esta meta deberá cumplirse a plenitud en 2020. Avance: 80% Oficina Asesora Juridica: Respecto del protocolo para la supresión de datos, se describe ampliamente en el numeral 12 de la Política de Protección de Datos Personales publicada en la página Web de la Entidad, el procedimiento y términos para que el titular de derecho pueda efectuar consultas reclamos y actualización y rectificación de datos. Avance: 100% | I23: =+G23 -> 0.9 | J23: Teniendo en cuenta los avances cuantitativos y cualitativos reportados por los responsables de la actividad (Oficina Jurídica y Secretaría General) , el avance reportado por la OCI corresponde a un promedio de las mismas. No obstante se sugiere analizar la reestructuración de la actividad y de la meta esperada para ejecutarla en el 2020, cumpliendo asi el objetivo que se espera con su ejecución.
B24: 4.6 | C24: Definir y publicar el protocolo para la supresión de los datos personales una vez cumplida la finalidad del tratamiento de los mismos. | D24: Protocolo adoptado | E24: Oficina Jurídica / GIT TICs / Secretaría General/GIT Atención al Ciudadano | F24: 43738 | G24: =+(80%+100%)/2 -> 0.9 | I24: =+G24 -> 0.9 | J24: Teniendo en cuenta los avances cuantitativos y cualitativos reportados por los responsables de la actividad (Oficina Jurídica y Secretaría General) , el avance reportado por la OCI corresponde a un promedio de las mismas. No obstante se sugiere analizar la reestructuración de la actividad y de la meta esperada para ejecutarla en el 2020, cumpliendo asi el objetivo que se espera con su ejecución.
B25: 4.7 | C25: Sistema de gestión de peticiones. Realizar la actualización del reglamento del manejo de derechos de petición en especial incluyendo los lineamientos para la atención y gestión de peticiones interpuestas en lenguas nativas o dialectos oficiales de Colombia, diferentes al español, de acuerdo con el decreto 1166 de 2016. | D25: Acto administrativo expedido | E25: Secretaría General/GIT Atención al Ciudadano | F25: 43723 | G25: 1 | H25: Se expidió la Resolución N° 1996 del 25 de octubre de 2019 mediante la cual se reglamenta el trámite y respuesta de las peticiones en la entidad y en donde se incluyen los lineamientos para la atención y gestión de peticiones interpuestas en lenguas nativas o dialectos oficiales de Colombia, diferentes al español, de acuerdo con el decreto 1166 de 2016. | I25: =+G25 -> 1 | J25: Sin observación.
A26: Subcomponente 5 Relacionamiento con el ciudadano | B26: 5.1 | C26: Realizar un diagnóstico sobre las necesidades de la Entidad frente a la traducción de los documentos de interés público a lenguas de comunidades indígenas presentes en el país. | D26: Documento de diagnóstico elaborado | E26: Secretaria General / GIT Atención al Ciudadano | F26: 43738 | G26: 1 | H26: Se estableció de manera coordinada con el grupo interno de trabajo Deporte Social Comunitario, que con corte a la fecha de su respuesta 2019EE0024020, no se ha establecido la necesidad de traducción de documentos a las lenguas de comunidades indígenas, con base en dos consideraciones: 1. con base en la experiencia de acciones con este grupo poblacional, no se ha requerido la traducción a lenguas nativas, por lo general se maneja adecuadamente la lengua oficial (español). Solo se han realizado ajustes razonables con 2 personas, pero miembros del mismo grupo indígena facilita la traducción y por ende garantiza la participación de las personas. 2. Se encuentran registradas 67 lenguas nativas, sin que se tengan argumentos téncnicos en la entidad para priorizar una u otra lengua para efectos de traduccuión de los documentos, allende de que no se ha establecido la pertinencia de dicha acción. | I26: =+G26 -> 1 | J26: Sin observación.
B27: 5.2 | C27: Definir el modelo para el desarrollo de la Cultura de Servicio en el Ministerio del Deporte 2019-2022 | D27: Modelo definido | E27: Secretaria General / GIT Atención al Ciudadano | F27: 43799 | G27: 0 | H27: Esta acción se modificó con el propósito de ejecutarla en 2020. La modificacion fue aprobada por el comité directivo. | I27: 0 | J27: No se recibió soporte documental de la aprobación de la modificacion reportada.
B28: 5.3 | C28: Caracterización de ciudadanos, usuarios y grupos de interes: Desarrollar / actualizar ejercicios de caracterización de ciudadanos, usuarios y/o grupos de interes. | D28: Ejercicio de caracterización publicado | E28: Todas las dependencias con apoyo de GIT. Atención al Ciudadano | F28: 43738 | G28: 1 | H28: Se realizaron los acompañamientos a los ejercicios de caracterización en las dependencias que lo solicitaron. Los resultados se publican en la pagina web https://www.coldeportes.gov.co/servicio_ciudadano/caracterizacion_usuarios_64778 | I28: =+G28 -> 1 | J28: Teniendo en cuenta que la actividad y la meta no especifica cuantos ejercicios de caracterizacion debieron de publicarse, el avance a reportar es de un 100%, teniendo en cuenta que verificado el comntenido de la pagina web se encontró la publicacion en la vigencia 2019 de la caracterizacion de usuarios y grupos de interés del GIT Psicosocial.
B29: 5.4 | C29: Realizar la medición de percepción de calidad en el servicio de las diferentes actividades del Ministerio del Deporte de acuerdo al tipo de población y el canal de comunicación definida para cada actividad | D29: Informes de medición de la percepción en la calidad presentados | E29: Secretaria General / GIT Atención al Ciudadano | F29: 43830 | G29: 1 | H29: Se han realizado las siguientes mediciones: a. 37 eventos y actividades con medición de percepción. +42% con respecto a 2018 b. 5843 participantes en los ejercicios de medición Corresponden al total de las solicitudes de medición realizados en la entidad. | I29: =+G29 -> 1 | J29: Teniendo em cuenta lo reportado por el responsable y que la meta no especifica cuantos informes debieron presentarse, el avance otorgado es de un 100%, no obstante en la pagina web se encuentran publicados dieciocho (18) informes de percepción de la calidad en el servicio 2019.
