Workbook
Name _Hlk170218928: 'T4'!$B$1

Sheet Sg-MRG
A1: MATRIZ SEGUIMIENTO MAPA DE RIESGOS DE GESTIÓN
B2: Entidad: Ministerio del Deporte | K2: ¿Se adelantó seguimiento al Mapa de Riesgos de Gestión?
B3: Responsable: Tercera línea de defensa
B4: Seguimiento: Primer Cuatrimestre 2025 | K4: Si | L4: Primer y segunda línea de defensa
A6: SEGUIMIENTO Y EVALUACIÓN POR PARTE DE LA TERCERA LÍNEA DE DEFENSA
A8: FORMULACIÓN DE RIESGOS Y EVALUACIÓN | J8: VALORACIÓN DE LOS CONTROLES | S8: PLAN DE TRATAMIENTO | W8: MONITOREO, SEGUIMIENTO Y EVALUACIÓN
A9: Nombre del Proceso | B9: Siglas | C9: Descripción Riesgo | D9: ¿Cumple con la redacción del Riesgo Seguridad de la Información? | E9: Fecha de Aprobacion | F9: Fecha de Monitoreo 1a Línea de Defensa | G9: Fecha de Monitoreo 2da Línea de Defensa | H9: Tipo Proceso | I9: Zona de Riesgo Inherente | J9: ¿Presenta descripción de la valoración de controles? | K9: Descripción del Control | L9: Atributo del Control | M9: ¿El diseño de los controles es efectivo? | N9: ¿Los controles cuentan con responsables de su ejecución? | O9: ¿La periodicidad de los controles es oportuna para mitigar el riesgo? | P9: Tratamiento | Q9: Zona de Riesgo Residual Final | R9: ¿Se cuenta con evidencias de la ejecución del control? | S9: ¿Formuló Plan de Tratamiento (acciones)? | T9: Descripción del Plan de Tratamiento | U9: ¿Cumple con la ejecución del Plan de Tratamiento de manera eficaz? | V9: ¿Se cuenta con evidencias de la ejecución del Plan de Tratamiento? | W9: ¿El proceso reportó Materialización del Riesgo? | X9: ¿Se enunciaron acciones de mejora por materialización? | Y9: ¿Se activaron alertas tempranas para evitar la materialización? | Z9: ¿Se implementaron correctivos por la materialización? | AA9: ¿Se reportaron indicadores? | AB9: Observaciones y recomendaciones por parte de la Tercera Línea de Defensa - Oficina de Control Interno (OCI)
A10: Direccionamiento Estratégico y Aprendizaje Organizacional | B10: =VLOOKUP(A10,'Listas deplegables'!$A$2:$B$19,2,0) -> DE | C10: Posibilidad de afectación reputacional, por modificación o alteración de información, debido a fallas de controles para la asignación de roles que permitan el acceso y la manipulación de documentos que se encuentran en ISOLUCION | D10: No | E10: 45762 | F10: 45807 | G10: 45783 | H10: Estratégico | I10: Extremo | J10: Si | K10: Cada vez que se requiera, el profesional designado del GIT Planeación y Gestión realiza verificación de cumplimiento de los requisitos normativos metodológicos y procedimentales de la formulación de los proyectos de inversión para registrar ajuste en plataforma del DNP "Metodología General Ajustada - MGA WEB " de los proyectos de inversión sobre los cuales se solicita formulación de un nuevo proyectos o requiere ajustes al mismo de acuerdo con las necesidades institucionales. En caso de que el proyecto no cumpla con los requisitos, este será devuelto a la dependencia que lo formuló para su ajuste y que nuevamente se presente a la OAP para su verificación. De la ejecución de los controles se generará la siguiente evidencia: En el formato DE-FR-033 Formulación de Proyectos de Inversión se envia observaciones por parte de la OAP y se deja la trazabilidad por medio de correo electrónico y/o mesas de trabajo por TEAMS | L10: Preventivo | M10: Si | N10: Si | O10: Si | P10: Reducir (Mitigar) | Q10: Extremo | R10: Si | S10: Si | T10: Realizar la verificación de las solicitudes de modificación a los PAI en la vigencia, frente a lo defindo en los programas y proyectos del área funcional solicitante. | U10: Si | V10: Si | W10: No | X10: No aplica | Y10: No aplica | Z10: No aplica | AA10: Si | AB10: Se evidencia seguimiento de primer y segunda línea de defensa, cuenta con evidencias de la ejecución de Controles y del Plan de Tratamiento. La fecha de monitoreo de la segunda línea es anterior a la de la primera línea de defensa, lo cual no es posible, ya que el monitoreo se realiza sobre el reporte de esta última.
A11: Direccionamiento Estratégico y Aprendizaje Organizacional | B11: =VLOOKUP(A11,'Listas deplegables'!$A$2:$B$19,2,0) -> DE | C11: Posibilidad de afectación reputacional por falta de seguimiento de los planes, programas y proyectos formulados, debido a la entrega inoportuna de la información por parte de las dependencias | D11: Si | E11: 45762 | F11: No diligencia | G11: 45782 | H11: Estratégico | I11: Moderado | J11: Si | K11: De acuerdo con la programación del seguimiento a indicadores, el Profesional encargado perteneciente al GIT de seguimiento o quien designe el Coordinador, verifica que la información reportada por las dependencias en los sistemas de información y/o archivos designados sea congruente con lo programado para el cumplimiento de las actividades del GIT de seguimiento en los tiempos establecidos y entregará el reporte de manera cuatrimestral. verifica que la información reportada por las dependencias en los sistemas de información y/o archivos designados sea congruente con lo programado para el cumplimiento de las actividades de los proyectos de inversión en los tiempos establecidos y entregará el reporte de manera cuatrimestral. | L11: Preventivo | M11: Si | N11: Si | O11: Si | P11: Reducir (Mitigar) | Q11: Moderado | R11: Si | S11: Si | T11: 1. Realizar alertas para el reporte oportuno de la información de los planes, programas y proyectos. | U11: Si | V11: Si | W11: No | X11: No aplica | Y11: No aplica | Z11: No aplica | AA11: Si | AB11: Se evidencia seguimiento de primer y segunda línea de defensa, cuenta con evidencias de la ejecución de Controles y del Plan de Tratamiento, excepto la acción 2 que tiene ejecución en segundo y tercer cuatrimestre. No registra fecha de monitoreo de la primera línea de defensa.
A12: Direccionamiento Estratégico y Aprendizaje Organizacional | B12: =VLOOKUP(A12,'Listas deplegables'!$A$2:$B$19,2,0) -> DE | S12: Si | T12: 2. Revisión y actualización de documentos asociados al GIT de Seguimiento | U12: No aplica | V12: No aplica
A13: Direccionamiento Estratégico y Aprendizaje Organizacional | B13: =VLOOKUP(A13,'Listas deplegables'!$A$2:$B$19,2,0) -> DE | C13: Posibilidad de afectación Reputacional por la falta de apropiación del MIPG, debido a desarticulación entre las políticas y las acciones definidas en los planes institucionales, que incidan en la medición del índice de desempeño | D13: Si | E13: 45762 | F13: No diligencia | G13: 45782 | H13: Estratégico | I13: Moderado | J13: Si | K13: Cada vez que se requiera, el Profesional designado del GIT de Planeación y Gestión, verifica las actividades programadas en el Plan de Trabajo establecido para el mantenimiento del Modelo Integrado de Planeación y Gestión, a través de reuniones con los enlaces y/o líderes de políticas constatando el avance de las actividades programadas. En caso de identificar desviaciones en la ejecución del control, se notifica al responsable de la actividad el incumplimiento para ejecute las actividades y entregué la evidencia correspondiente. De la ejecución de los controles se generará la siguiente evidencia: Actas de reunión y comunicaciones de seguimiento. | L13: Preventivo | M13: Si | N13: Si | O13: Si | P13: Reducir (Mitigar) | Q13: Moderado | R13: Si | S13: Si | T13: 1. Generar acompañamiento a los enlaces de políticas del MIPG que presenten desempeño bajo | U13: No aplica | V13: No aplica | W13: No | X13: No aplica | Y13: No aplica | Z13: No aplica | AA13: Si | AB13: Se evidencia seguimiento de primer y segunda línea de defensa, cuenta con evidencias de la ejecución de Controles. Del Plan de Tratamiento, aunque anexa evidencias de inicio de algunas acciones, no se ha iniciado ninguna y se encuentran previstas para segundo y tercer cuatrimestre. No registra fecha de monitoreo de la primera línea de defensa.
A14: Direccionamiento Estratégico y Aprendizaje Organizacional | B14: =VLOOKUP(A14,'Listas deplegables'!$A$2:$B$19,2,0) -> DE | J14: Si | K14: Anualmente, el Coordinador del GIT de Planeación y Gestión y/o profesional asignado del GIT , verifica y emite lineamientos para el reporte anual del Formulario Único de Reporte de Avances a la Gestión - FURAG, a través del aplicativo Gesdoc y aplicativo FURAG. En caso de identificar desviaciones en la ejecución del control, se notificará a los líderes de política de la entrega de evidencias para el reporte oportuno de la información. De la ejecución de los controles se generará la siguiente evidencia: Lineamientos emitidos a través del sistema de gestión documental del Ministerio y/o certificado de diligenciamiento del FURAG emitido por el DAFP | L14: Preventivo | M14: Si | N14: Si | O14: Si | P14: Reducir (Mitigar) | Q14: Moderado | R14: Si | S14: Si | T14: Generar informe de los resultados de medición de desempeño Institucional vigencia 2024. | U14: No aplica | V14: No aplica
A15: Direccionamiento Estratégico y Aprendizaje Organizacional | B15: =VLOOKUP(A15,'Listas deplegables'!$A$2:$B$19,2,0) -> DE | J15: Si | K15: Cada vez que se requiera, el Jefe de la Oficina Asesora de Planeación, convoca al Comité Institucional de Gestión y Desempeño para presentar el avance de las actividades ejecutadas para el mantenimiento de las políticas de MIPG, a través de solicitud a los líderes de política (cuando aplique) para la consolidación de la información por parte del profesional designado. En caso de identificar desviaciones en la ejecución del control, se solicitará a los líderes de política el cumplimiento de las recomendaciones dadas por los miembros del comité. De la ejecución de los controles se generará la siguiente evidencia: Correo de solicitud de insumo a los lideres de políticas y actas del CIGD | L15: Preventivo | M15: Si | N15: Si | O15: Si | P15: Reducir (Mitigar) | Q15: Moderado | R15: Si
A16: Direccionamiento Estratégico y Aprendizaje Organizacional | B16: =VLOOKUP(A16,'Listas deplegables'!$A$2:$B$19,2,0) -> DE | C16: Posibilidad de afectación Reputacional por falta de claridad en los objetivos para la implementación de la Política de Gestión del Conocimiento y la innovación, limitación de recursos humano en el GIT Gestión del Conocimiento, debido a fallas en la planeación estratégica para la ejecución de actividades enfocadas en el desarrollo de los cuatro ejes de Gestión del conocimiento y la innovación. | D16: Si | E16: 45762 | F16: No diligencia | G16: 45772 | H16: Estratégico | I16: Moderado | J16: Si | K16: De manera cuatrimestral el profesional designado del GIT Gestión del Conocimiento, realizar seguimiento a las actividades establecidas en el Plan de trabajo, para asegurar estrategias que permitan la implementación articulada de los cuatro ejes de la Política de Gestión del Conocimiento, a través del monitoreo de la ejecución de cada una de las actividades propuestas en el Plan de trabajo; capacitaciones, ejercicios prácticos de herramientas de conceptos, piezas de comunicaciones, mesas de trabajo con la DAFP. En caso de identificar desviaciones en la ejecución del control, se reprograman o se reformulan las actividades. Evidencias de la ejecución del control: Plan de trabajo, convocatorias, pieza grafica, listado de asistencias. | L16: Preventivo | M16: No | N16: Si | O16: Si | P16: Reducir (Mitigar) | Q16: Moderado | R16: Si | S16: Si | T16: Documentos en el sistema de Gestión. Elaborar Plan de implementación de la Política de Gestión del Conocimiento y la innovación. | U16: No | V16: No | W16: No | X16: No aplica | Y16: No aplica | Z16: No aplica | AA16: No | AB16: Se reporta que "De acuerdo con mesa de trabajos del 15 y 23 de abril. El riesgo queda suspendido", no obstante, considerando las causas inmediata y raíz identificadas, el proceso debe evaluar la materialización del riesgo, puesto que, estas posiblemente están materializandose con la falta de planeación y puesta en marcha del GIT Gestión del Conocimiento, sumado a que este es un eje del MIPG. En adición, la política ni el procedimiento de Riesgos establecen la posibilidad de suspender un riesgo. No registra fecha de monitoreo de la primera línea de defensa, ni medición de indicadores.
A17: Gestión de las Comunicaciones | B17: =VLOOKUP(A17,'Listas deplegables'!$A$2:$B$19,2,0) -> GC | C17: Posibilidad de la afectación reputacional por inoportunidad en la difusión de las notas de prensa debido a inconsistencias evidenciadas en la notas de prensa. | D17: Si | E17: 45649 | F17: 45777 | G17: 45782 | H17: Estratégico | I17: Moderado | J17: Si | K17: El profesional asignado corroborá que la información que se publica en las notas de prensa estén alineadas con las directrices del GIT Comunicaciones, a través de la verificación del contenido registrado de las notas de prensa en el formato GC-FR-008. En caso de desviación del control se devolverá la nota de prensa al profesional para su ajuste inmediato. De la ejecución del control se generará la siguiente evidencia: Control Notas de Prensa, registradas en el periodo. Frecuencia: Cuatrimestral | L17: Preventivo | M17: Si | N17: Si | O17: No | P17: Reducir (Mitigar) | Q17: Moderado | R17: Si | S17: Si | T17: Socializar la Política Editorial, los Procedimientos y los formatos asociados con los integrantes del GIT Comunicaciones, dos veces al año. | U17: No aplica | V17: No aplica | W17: No | X17: No aplica | Y17: No aplica | Z17: No aplica | AA17: Si | AB17: El control no tiene una periodicidad definida. Se requiere actualizar líder del proceso ya que refiere un exfuncionario de la entidad. Se evidencia seguimiento y comentarios que derivan en actualización del mapa de riesgos, no obstante el reporte a la OCI no se adjuntó la versión actualizada, por lo que es importante que en futuros reportes se anexe a fin de validar los riesgos, sus controles y plan de tratamiento en su última versión, evitando realizar observaciones que ya hayan sido subsanadas. Se evidencia seguimiento de primer y segunda línea de defensa, cuenta con evidencias de la ejecución de Controles. El plan de tratamiento está previsto para el segundo y tercer cuatrimestre
A18: Formulación y Adopción de Políticas, Planes y Programas | B18: =VLOOKUP(A18,'Listas deplegables'!$A$2:$B$19,2,0) -> FP | C18: Posibilidad de afectación Reputacional por fallas en la articulación entra e intersectorial, que generen discontinuidad en los procesos de política pública, específicamente en su implementación , seguimiento y evaluación. | D18: No | E18: 45051 | F18: 45287 | G18: 45786 | H18: Misional | I18: Extremo | J18: Si | K18: Trimestralmente ,la Viceministra del Deporte, debe verificar que los planes, programas y proyectos estén articulados con los modelos de planeación al largo, mediano y corto plazo, por medio del manual de formulación, adopción, implementación y evaluación de políticas públicas. En caso de identificar desviaciones en la ejecución del control, solicita una mesa trabajo con los encargados de la formulación de planes, programas y proyectos, con el fin de acompañar y hacer los ajustes que se requieran. De la ejecución de los controles se generará la siguiente evidencia: Manual de formulación, adopción, implementación y evaluación de política pública, así como actas y/o videos de las mesas de trabajo. | L18: Preventivo | M18: Si | N18: Si | O18: Si | P18: Reducir (Mitigar) | Q18: Extremo | R18: Si | S18: Si | T18: 1. Documentar como control, el Manual de formulación, adopción, implementación y evaluación de políticas públicas y documentos requeridos. 2. Socializar el Manual de formulación, adopción, implementación y evaluación de políticas públicas y documentos requeridos para identificar y fortalecer los controles al interior del proceso. | U18: No | V18: No | W18: No | X18: No aplica | Y18: No aplica | Z18: No aplica | AA18: No | AB18: La redacción del riesgo no guarda la estructura definida (Qué (impacto) + Cómo (causa inmediata) + Porque (causa raiz)) Se evidencia seguimiento y comentarios que derivan en actualización del mapa de riesgos, no obstante el reporte a la OCI no se adjuntó la versión actualizada, por lo que es importante que en futuros reportes se anexe a fin de validar los riesgos, sus controles y plan de tratamiento en su última versión, evitando realizar observaciones que ya hayan sido subsanadas. Se observa seguimiento de primer y segunda línea de defensa, no obstante la evidencia del R1-Control 2 y Control 3 no guarda relación con la planteada, los controles 4 y 5 no presentan evidencias. Solo se cuenta con evidencia de la acción 2, numeral 2, del R1, actas de comité directivo. En las demás acciones no se cuenta con evidencia o la evidencia no guarda relación con lo planteado. No se diligenció el formato de seguimiento Indicadores, Claves del Riesgo y Desempeño del Control, aunque diligenció la casilla en la matriz de seguimiento no es posible establecer como se realizó la medición ni la fuente de información de la medición.
A19: Formulación y Adopción de Políticas, Planes y Programas | B19: =VLOOKUP(A19,'Listas deplegables'!$A$2:$B$19,2,0) -> FP | J19: Si | K19: Anualmente ,la Viceministra del Deporte, debe validar que existen los recursos para el seguimiento y fortalecimiento de los procesos en política pública de la Entidad, por medio de su proyecto de inversión donde se establezcan los recursos necesarios para garantizar el seguimiento y el direccionamiento estratégico a los proyectos de la Entidad. En caso de identificar desviaciones en la ejecución del control, el Viceministerio con el apoyo de la Oficina Asesora de Planeación definirán las estrategias más eficientes en política pública partiendo del recurso disponible . De la ejecución de los controles se generará la siguiente evidencia: Actas de reunión, modificaciones al plan de acción y modificaciones al plan de adquisiciones | L19: Preventivo | M19: Si | N19: Si | O19: Si | P19: Reducir (Mitigar) | Q19: Extremo | R19: No | S19: Si | T19: 1. Asignar recursos de acuerdo a las necesidades para el tema de políticas públicas, para la siguiente vigencia. 2. Realizar reuniones de presupuesto y planeación estratégica, al final y al inicio de cada vigencia. 3. Realizar mesas de trabajo con actores de la Política Pública, para recopilar las necesidades en materia de formulación de Políticas Públicas. | U19: No | V19: No
A20: Formulación y Adopción de Políticas, Planes y Programas | B20: =VLOOKUP(A20,'Listas deplegables'!$A$2:$B$19,2,0) -> FP | J20: Si | K20: Cada vez que se requiera (de acuerdo a las solicitudes allegadas al Viceministerio), la Viceministra del Deporte, debe verificar el cumplimiento de los requerimientos de formulación, ejecución y evaluación de las políticas públicas, a través de la aprobación de la apertura de los procesos de formulación de alguna política pública . En caso de identificar desviaciones en la ejecución del control, el área encargada debe realizar las modificaciones que se soliciten para que se apruebe su proceso de política pública. De la ejecución de los controles se generará la siguiente evidencia: Actas de reunión, evidencia virtual y documentos de GESDOC | L20: Preventivo | M20: Si | N20: Si | O20: Si | P20: Reducir (Mitigar) | Q20: Extremo | R20: No | S20: Si | T20: 1. Documentar como control, el Manual de formulación, adopción, implementación y evaluación de políticas públicas y documentos requeridos. 2. Socializar el Manual de formulación, adopción, implementación y evaluación de políticas públicas y documentos requeridos para identificar y fortalecer los controles al interior del proceso. | U20: No | V20: No
A21: Formulación y Adopción de Políticas, Planes y Programas | B21: =VLOOKUP(A21,'Listas deplegables'!$A$2:$B$19,2,0) -> FP | J21: Si | K21: Permanentemente, la Viceministra del Deporte y la Coordinadora del GIT de comunicaciones, debe revisar el cumplimiento de la estrategia de comunicación con la ciudadanía en asuntos referentes a las políticas públicas de la entidad y el SND, a través de la realización de mesas de trabajo para verificar la implementación de las acciones y el cumplimiento del esquema de comunicaciones . En caso de identificar desviaciones en la ejecución del control, se formula un plan de choque. De la ejecución de los controles se generará la siguiente evidencia: Actas de reunión, evidencia virtual, piezas comunicativas emitidas, estrategia de comunicaciones, eventos, registro fotográfico, registro en redes sociales, boletines de prensa. | L21: Preventivo | M21: Si | N21: Si | O21: Si | P21: Reducir (Mitigar) | Q21: Extremo | R21: No | S21: Si | T21: 1. Realizar estrategias de difusión, de las iniciativas de política pública del sector del deporte y la recreación. | U21: No | V21: No
A22: Formulación y Adopción de Políticas, Planes y Programas | B22: =VLOOKUP(A22,'Listas deplegables'!$A$2:$B$19,2,0) -> FP | J22: Si | K22: Cada vez que se requiera (de acuerdo a las solicitudes allegadas al Viceministerio) ,la Viceministra del Deporte y Directores Técnicos, debe verificar que existen estrategias y acciones de articulación entre los Entes Territoriales y el Ministerio del Deporte para la ejecución conjunta de la política pública, a través de mesas de trabajo focalizadas y revisión documental. En caso de identificar desviaciones en la ejecución del control, se realizarán mesas de trabajo que permitan estructurar una estrategia de articulación. De la ejecución de los controles se generará la siguiente evidencia: Actas de reunión, evidencia virtual y documentos de GESDOC. | L22: Preventivo | M22: Si | N22: Si | O22: Si | P22: Reducir (Mitigar) | Q22: Extremo | R22: No | S22: Si | T22: 1. Realizar mesas de trabajo y seguimiento a los procesos de articulación territorial. | U22: No | V22: No
A23: Formulación y Adopción de Políticas, Planes y Programas | B23: =VLOOKUP(A23,'Listas deplegables'!$A$2:$B$19,2,0) -> FP | C23: Posibilidad de afectación Reputacional por fallas en articulación sectorial y al interior de la entidad que genere incumplimiento a la normatividad, por la no aplicación de modelos de políticas públicas. | D23: No | E23: 45051 | F23: 45287 | G23: 45786 | H23: Misional | I23: Sin Medición | J23: Si | K23: Cada vez que se requiera (de acuerdo a las solicitudes allegadas al Viceministerio),la Viceministra del Deporte y Directores Técnicos, debe validar el cumplimiento de los lineamientos de circulación y gestión de información y conocimiento para el SND, a través de un esquema de seguimiento a metas e indicadores de la política. En caso de identificar desviaciones en la ejecución del control, solicita a la Oficina Asesora de Planeación la elaboración de un plan de choque para el cumplimiento de los lineamientos. De la ejecución de los controles se generará la siguiente evidencia: Actas de reunión, evidencia virtual y documentos relacionados. | L23: Preventivo | M23: Si | N23: Si | O23: Si | P23: Reducir (Mitigar) | Q23: Bajo | R23: No | S23: Si | T23: 1. Documentar como control, el Manual de formulación, adopción, implementación y evaluación de políticas públicas y documentos requeridos. 2. Socializar el Manual de formulación, adopción, implementación y evaluación de políticas públicas y documentos requeridos para identificar y fortalecer los controles al interior del proceso. | U23: No | V23: No | W23: No | X23: No aplica | Y23: No aplica | Z23: No aplica | AA23: No | AB23: La redacción del riesgo no guarda la estructura definida (Qué (impacto) + Cómo (causa inmediata) + Porque (causa raiz)) Se evidencia seguimiento y comentarios que derivan en actualización del mapa de riesgos, no obstante el reporte a la OCI no se adjuntó la versión actualizada, por lo que es importante que en futuros reportes se anexe a fin de validar los riesgos, sus controles y plan de tratamiento en su última versión, evitando realizar observaciones que ya hayan sido subsanadas. Se observa seguimiento de primer y segunda línea de defensa, no obstante la evidencia del R2, los controles 1 y 2 no presentan evidencias, y la evidencia del control 3 no tiene relación con la planteada. En las demás acciones no se cuenta con evidencia o la evidencia no guarda relación con lo planteado. No se diligenció el formato de seguimiento Indicadores, Claves del Riesgo y Desempeño del Control, aunque diligenció la casilla en la matriz de seguimiento no es posible establecer como se realizó la medición ni la fuente de información de la medición.
A24: Formulación y Adopción de Políticas, Planes y Programas | B24: =VLOOKUP(A24,'Listas deplegables'!$A$2:$B$19,2,0) -> FP | J24: Si | K24: Semestralmente, ,la Viceministra del Deporte y Directores Técnicos, debe evaluar los procesos, planes y políticas de sus areas misionales para identificar cumplimiento de los compromisos en el marco de los acuerdos de gestion En caso de identificar desviaciones en la ejecución del control, realiza requerimiento a la Oficina de Control Interno y Directores Técnicos para que se realice un seguimiento especializado. De la ejecución de los controles se generará la siguiente evidencia: Actas de reunión, evidencia virtual y documentos relacionados | L24: Preventivo | M24: Si | N24: Si | O24: Si | P24: Reducir (Mitigar) | Q24: Bajo | R24: No | S24: Si | T24: 1. Firma de los acuerdos de gestion con cada director tecnico. 2. Formato de Seguimiento a los acuerdos firmados por el Viceministerio y directores técnicos 3. Evaluación de desempeño de acuerdo a los acuerdos de gestión | U24: No | V24: No
A25: Formulación y Adopción de Políticas, Planes y Programas | B25: =VLOOKUP(A25,'Listas deplegables'!$A$2:$B$19,2,0) -> FP | J25: Si | K25: Semestralmente, la Viceministra del Deporte y Directores Técnicos, deben verificar los resultados del cumplimiento de sus actividades, a través de evaluaciones periódicas de la gestión (EDL). En caso de identificar desviaciones en la ejecución del control, solicita a los Directores Técnicos la formulación de un plan de choque que permita cumplir las objetivos y actividades. De la ejecución de los controles se generará la siguiente evidencia: Actas de reunión, evidencia virtual y documentos relacionados | L25: Preventivo | M25: Si | N25: Si | O25: Si | P25: Reducir (Mitigar) | Q25: Bajo | R25: No | S25: Si | T25: 1. Concertar compromisos laborales para la evaluación del desempeño laboral EDL. 2. Realizar evaluación de Desempeño Laboral del segundo semestre del 2021. | U25: No | V25: No
A26: Altos Logros | B26: =VLOOKUP(A26,'Listas deplegables'!$A$2:$B$19,2,0) -> AL | C26: Posibilidad de afectación económica y reputacional por la entrega y recepción inoportuna de la información de los programas y servicios de altos logros que impiden tomar decisiones oportunas, debido a la planeación desarticulada con las necesidades de los grupos de valor y la ausencia de acciones estandarizadas para determinar la viabilidad de la atención de imprevistos. | D26: Si | E26: 45610 | F26: No diligencia | G26: 45783 | H26: Misional | I26: Bajo | J26: Si | K26: Anualmente, el Profesional designado para llevar el seguimiento de los planes de acción de la Dirección de Posicionamiento y Liderazgo Deportivo, debe apoyar la formulación y presentación de los planes de acción de la siguiente vigencia de acuerdo con los lineamientos dados en las mesas de trabajo realizadas con la OAP, teniendo en cuenta que la planeación de oferta de servicios esté alineada con las necesidades de los grupos de valor del proceso de Altos Logros. En caso de identificar desviaciones en la ejecución del control, realizar los ajustes a los Planes de Acción. De la ejecución de los controles se generará la siguiente evidencia: Plan de acción de la vigencia y las solicitudes de ajustes a los planes (si aplica). | L26: Preventivo | M26: Si | N26: Si | O26: Si | P26: Reducir (Mitigar) | Q26: Bajo | R26: Si | S26: Si | T26: Formulación y elaboración de ajustes en el Plan de acción (si se identifica la necesidad de realizar cambios) | U26: No aplica | V26: No aplica | W26: No | X26: No aplica | Y26: No aplica | Z26: No aplica | AA26: No | AB26: Se evidencia seguimiento de primer y segunda línea de defensa, cuenta con evidencias de la ejecución de Controles, no obstante la denominación de la carpeta se remitió como "Acc" que corresponde a "Acciones" conforme las instrucciones de la OAP por lo que es necesario guardar la correspondencia de los nombres a fin de evitar errores en la evaluación que realiza la segunda y tercera línea de defensa, toda vez que podría entenderse que no se entregaron evidencias de los controles, sino del Plan de Tratamiento. No se tienen evidencias del Plan de Tratamiento toda vez que las acciones se dejaron definidas pero condicionadas a la necesidad de llegar a ser requerido. No se cuenta con medición de indicadores, a pesar que el formato diligenciado por la primera línea señala "Ver monitoreo en documento de trabajo" este solo contiene la medición de indicadores del riesgo de corrupción.
A27: Altos Logros | B27: =VLOOKUP(A27,'Listas deplegables'!$A$2:$B$19,2,0) -> AL | J27: Si | K27: Mensualmente, el Profesional designado para realizar la programación del PAC de la Dirección de Posicionamiento y Liderazgo Deportivo, debe consolidar la información entregada por los Coordinadores de los GIT y entregarla de manera oportuna al GIT de Financiera para cumplir con la programación de los pagos de los recursos ya comprometidos. En caso de identificar desviaciones en la ejecución del control, comunicar al Coordinador que se debe ajustar la programación proyectada. De la ejecución de los controles se generará la siguiente evidencia: Correos electrónicos enviados a FInanciera con el PAC final consolidado | L27: Preventivo | M27: Si | N27: Si | O27: Si | P27: Reducir (Mitigar) | Q27: Bajo | R27: Si
A28: Inspección Vigilancia y Control | B28: =VLOOKUP(A28,'Listas deplegables'!$A$2:$B$19,2,0) -> IVC | C28: Posibilidad de afectación reputacional por Falta de personal de planta en los procedimientos de inspección y vigilancia, falta de sistemas de información; ausencia de tecnologia. debido a Falta de personal capacitado, herramientas adecuedas o protocolos de supervision establecidos. | D28: Si | E28: 45616 | F28: No diligencia | G28: 45783 | H28: Misional | I28: Moderado | J28: Si | K28: Mensualmente, el coordinador GIT responsable, reorganiza las tareas de de acuerdo con las cargas laborales del personal existente, priorizando las actividades según su nivel de criticidad en cumplimiento de los procedimientos de la Dirección. En caso de desviación, el coordinador informará al Director, especificando las actividades pendientes y el número de trámites por ejecutar, así como la cantidad de personal disponible, con el fin de apoyar la toma de decisiones. De la ejecución del control, se genera la siguiente evidencia: informe mensual de gestión, correos electrónicos (cuando aplique) | L28: Preventivo | M28: Si | N28: Si | O28: Si | P28: Reducir (Mitigar) | Q28: Moderado | R28: Si | S28: Si | T28: Socializar los documentos asociados al procesoIVC, que se encuentra en ISDLUCION. a los profesionales de la Dirección de Inspección, Vigilancia y Control | U28: No | V28: Si | W28: No | X28: No aplica | Y28: No aplica | Z28: No aplica | AA28: Si | AB28: Se recuerda a la segunda línea la importancia de diligenciar el seguimiento en el formato establecido DE- FR -002, evitando diligenciar en este "Como resultado de la revisión se reportó al proceso la respectiva retroalimentación para subsanar y mejorar el seguimiento. Ver carpeta de SharePoint RETROALIMENTACION POR PROCESOS la retroalimentación al proceso IVC. Recomendaciones: Realizar revisión integral de las observaciones realizadas" puesto que la ciudadanía que accede a consulta en Isolución no tiene acceso a lo señalado en dichos correos. A su vez, la Oficina de Control Interno realiza seguimiento en el formato establecido por el Proceso DE en el que debe reposar la trazabilidad del seguimiento y evaluación de la segunda línea de defensa. No reporta fecha de monitoreo de la primera línea de defensa. El reporte de indicadores no contiene la medición cuantitativa. Se evidencia seguimiento de primer y segunda línea de defensa, cuenta con evidencias de la ejecución de Control 2, no hay evidencias e la ejecución del control 3. En cuanto a la ejecución del Plan de Tratamiento no se cuenta con evidencias que correspondan con las acciones planteadas en la periodicidad descrita, es importante la evidencia que se aporte corresponda con la planteada por el proceso, ya que, por ejemplo, a pesar de adjuntar documentos para soportar las acciones 1 y 2 del riesgo 2 no guardan relación con la acción que se planteó. A su vez, en el caso que se planteen listas de asistencia como evidencia es importante que el asunto a tratar del listado corresponda con el de la acción prevista evitando nombres genéricos.
A29: Inspección Vigilancia y Control | B29: =VLOOKUP(A29,'Listas deplegables'!$A$2:$B$19,2,0) -> IVC | K29: Semestralmente, el Coordinador del GIT responsable, verifica la información almacenada en las bases de datos de los procesos administrativos sancionatorios con vencimientos próximos. Cada coordinador, junto con el gestor documental, revisa las bases de datos para elaborar el plan de descongestion, priorizando los expedientes que están a punto de vencer. En caso de detectarse una desviación del proceso sancionatorio se tramitará de manera perentoria. De la ejecución del control, se generarán las siguientes evidencias: la base de datos actualizada y los correos electrónicos (cuando aplique). | L29: Detectivo | M29: Si | N29: Si | O29: Si | P29: Reducir (Mitigar) | Q29: Moderado | R29: Si | S29: Si | T29: Mensual realizar retroalimentación del estado y avance de los procesos en cursos en cada GIT. | U29: No | V29: Si
A30: Fomento al Desarrollo Humano y Social | B30: =VLOOKUP(A30,'Listas deplegables'!$A$2:$B$19,2,0) -> FD | C30: Posibilidad de afectación económica y reputacional por las demoras en el inicio de la ejecución de los programas a desarrollar en los convenios interdministrativos o contratos debido a la entrega incompleta y/o inoportuna de la documentación precontractactual en el marco de los convenios y/o contratos | D30: Si | E30: 45616 | F30: 45777 | G30: No diligencia | H30: Misional | I30: Alto | J30: Si | K30: Para el primer trimestre de la vigencia el y/o los supervisores de los GIT de la Dirección de Fomento y Desarrollo (Actividad Fìsica, Recreaciòn, Deporte Escolar, Deporte Social Comunitario), Inician el proceso de planeacion estrategica de la Direccion de Fomento y Desarrollo desde el mes de Diciembre del anterior , con el fin de iniciar los procesos contractuales en el primer trimestre de la vigencia, a través del Plan de Acción las prioridades a ejecutar en la vigencia siguientes. En caso de identificar desviaciones en la ejecución del control, notificar al Director de Fomento y Desarrollo la clusula que establece el inicio de los programas, ., para solicitar modificación al PAI. De la ejecución del control se registran las siguientes evidencias: 1- cronograma de inversión 2- Proyecto de PAI | L30: Detectivo | M30: No | N30: Si | O30: Si | P30: Reducir (Mitigar) | Q30: Alto | R30: No | S30: Si | T30: Generar alertas preventivas a los operadores, frente al cumplimiento y avance de acuerdo con el cronograma | U30: No | V30: No | W30: No | X30: No aplica | Y30: No aplica | Z30: No aplica | AA30: No | AB30: No se evidencia ejecución del plan de tratamiento ni de los controles, de los cuales tampoco se aportó evidencias. Aunque se diligenció el archivo de indicadores no cuenta con medición cuantitativa. No se tiene fecha de seguimiento de la segunda línea. Además, se recuerda a la segunda línea la importancia de diligenciar el seguimiento en el formato establecido DE- FR -002, evitando diligenciar en este "Ver carpeta de SharePoint" puesto que la ciudadanía que accede a consulta en Isolución no tiene acceso a lo señalado en dichos correos. A su vez, la Oficina de Control Interno realiza seguimiento en el formato establecido por el Proceso DE en el que debe reposar la trazabilidad del seguimiento y evaluación de la segunda línea de defensa.
A31: Fomento al Desarrollo Humano y Social | B31: =VLOOKUP(A31,'Listas deplegables'!$A$2:$B$19,2,0) -> FD | J31: Si | K31: Cada vez que se requiera, el y/o los supervisores de los GIT de la Dirección de Fomento y Desarrollo (Actividad Fìsica, Recreaciòn, Deporte Escolar, Deporte Social Comunitario), deben revisar y verificar el cronograma de inicio de las actividades, De acuerdo con un cronograma de actividades aceptado por el ministerio del deporte En caso de identificar desviaciones en la ejecución del control, notificar al Director de Fomento y Desarrollo las dificultades presentadas por el ente ejecutor y establecer un plan de trabajo que permita subsanar la situacion. De la ejecución del control se genera las siguientes evidencias: 1. minuta del contrato 2- cronograma de actividades 3- Oficio al operador (cuando aplique) Frecuencia: Cuattrimestral | L31: Preventivo | M31: No | N31: Si | O31: Si | P31: Reducir (Mitigar) | Q31: Alto | R31: No
A32: Apoyo a la Infraestructura Técnica y Científica | B32: =VLOOKUP(A32,'Listas deplegables'!$A$2:$B$19,2,0) -> ATC | C32: Posibilidad de afectación reputacional, por incumplir los tiempos planificados para la revision y seguimiento de los proyectos viabilizados, debido, a la entrega inoportuna de la información o reporte equivocado de los avances de cada una de las regiones afectando la etapa de seguimiento | D32: Si | E32: 45595 | F32: 45777 | G32: 45783 | H32: Misional | I32: Moderado | J32: Si | K32: Mensualmente, el Coordinador GIT de Infraestructura o quien haga sus veces verifica los tiempos de entrega de la información de acuerdo con el cronograma de trabajo, asi como tambien de los lineamientos establecidos por cada una de las regiones de conformidad con el plan establecido por la Direccion DRHSND.De acuerdo con el cronograma establecido por el GIT de Infraestructura, se solicita el estado del seguimiento a los contratos y convenios. En caso de identificar desviaciones en la ejecución del control, se enviarán notificaciones por correo electrónico al profesional responsable, alertando sobre los tiempos y fechas programadas. De la ejecución del control, se generará la siguiente evidencia: Documento de seguimiento del GIT de Infraestructura. Correo electrónico de notificación. | L32: Detectivo | M32: Si | N32: Si | O32: Si | P32: Reducir (Mitigar) | Q32: Moderado | R32: Si | S32: Si | T32: Socializar los reportes de seguimiento de las regiones | U32: No aplica | V32: No aplica | W32: No | X32: No aplica | Y32: No aplica | Z32: No aplica | AA32: Si | AB32: Se evidencia seguimiento de primer y segunda línea de defensa, se aportaron evidencias de ejecución del control, no obstante se requiere fortalecer que las mismas sean completas conforme lo planteado en el control para poder establecer su cumplimiento. No se cuenta con evidencias del plan de tratamiento toda vez que tiene fecha de inicio en octubre, se recomienda verificar que en el plazo estimado sea posible su desarrollo. Se reportó medición de indicadores, no obstante, estos carecen de evidencias.
A33: Servicio Integral al Ciudadano | B33: =VLOOKUP(A33,'Listas deplegables'!$A$2:$B$19,2,0) -> SI | C33: Posibilidad de afectación reputacional por falta de cultura organizacional a nivel institucional y por la inoportunidad en la respuesta a las PQRSD, debido a la falta de posicionamiento del proceso, de cara a los grupos de valor con los que se relaciona la entidad | D33: Si | E33: 45658 | F33: 45769 | G33: 45778 | H33: Apoyo | I33: Alto | J33: Si | K33: Mensualmente ,el Profesional del grupo interno de trabajo de Servicio Integral al Ciudadano designado, verificará las peticiones pendientes de respuesta, mediante monitoreo al trámite de peticiones generando desde GESDOC un reporte de aquellas pendientes de respuesta. En caso de identificar desviaciones en la ejecución del control, reportará al jefe de dependencia al que pertenece el funcionario o contratista, informando las peticiones próximas a vencerse que no tienen respuesta. De la ejecución de los controles se generará la siguiente evidencia: Memorandos de notificación o documento en excel que consolida la información del número de radicados de envíos. | L33: Detectivo | M33: Si | N33: Si | O33: Si | P33: Reducir (Mitigar) | Q33: Moderado | R33: Si | S33: Si | T33: Realizar segunda versión de campaña interna que busque sensibilizar acerca de la importancia del proceso en el Ministerio y promover la implementación las política de Servicio al Ciudadano | U33: No aplica | V33: No aplica | W33: No | X33: No aplica | Y33: No aplica | Z33: No aplica | AA33: Si | AB33: Se evidencia seguimiento de primer y segunda línea de defensa. Se aportan evidencias de la ejecución de controles mientras que el plan de tratamiento inicia ejecución en mayo. Se deben plantear indicadores con periodicidad específica ya que aunque se cuenta con el diligenciamiento del formato en el reporte se detalla cuales no pueden ser medidos por el corte de la información, por lo que es importante definir si son de medición mensual, semestral, etc.
A34: Servicio Integral al Ciudadano | B34: =VLOOKUP(A34,'Listas deplegables'!$A$2:$B$19,2,0) -> SI | J34: Si | K34: Trimestralmente el coordinador del grupo interno de Servicio Integral al Ciudadano incluirá una proposición sobre el estado de las PQRSD en el CIGD y remitirá presentación a la Oficina Asesora de Planeación (secretaría técnica del CIDG) con un informe ejecutivo que presenta el estado consolidado y por dependencias de las PQRSD en el periodo para la toma de decisiones. En caso de identificar desviaciones en la ejecución del control, se enviará el informe a los jefes de dependencia. De la ejecución de los controles se generará la siguiente evidencia: Agenda del CIGD y presentación. | L34: Detectivo | M34: Si | N34: Si | O34: Si | P34: Reducir (Mitigar) | Q34: Moderado | R34: Si
A35: Servicio Integral al Ciudadano | B35: =VLOOKUP(A35,'Listas deplegables'!$A$2:$B$19,2,0) -> SI | C35: Posibilidad de afectación reputacional por desconocimiento del ejercicio de participacion ciudadana, tanto a nivel interno como externo del Ministerio debido a falta de espacios de aprendizaje en participación ciudadana dirigidos a la ciudadanía. | D35: Si | E35: 45658 | F35: 45769 | G35: 45778 | H35: Apoyo | I35: Moderado | J35: Si | K35: Cada vez que se requiera, el profesional designado del GIT Servicio Integral al Ciudadano efectúa seguimiento al cumplimiento de las actividades programadas dentro de la estrategia anual de Participación Ciudadana y solicita el reporte de resultados de los mismos. En caso de identificar desviaciones en la ejecución del control, se enviará comunicación reiterando el envío inmediato de la información. De la ejecución de los controles se generará la siguiente evidencia: Comunicados de seguimiento a la ejecución de la estrategia de participación ciudadana y registro del avance de ejecución de la estrategia en el reporte de seguimiento consolidado | L35: Detectivo | M35: Si | N35: Si | O35: Si | P35: Reducir (Mitigar) | Q35: Moderado | R35: Si | S35: Si | T35: Elaborar tres piezas de comunicación interna para fortalecer los ejercicios de participación ciudadana, solicitandole a las dependencias que divulguen con oportunidad sus actividades programadas, a los grupos de valor a los que van dirigidos. | U35: Si | V35: Si | W35: No | X35: No aplica | Y35: No aplica | Z35: No aplica | AA35: Si | AB35: Se evidencia seguimiento de primer y segunda línea de defensa. Se aportan evidencias de la ejecución del control 1 y su plan de tratamiento, mientras el control 2 está pendiente de iniciar ejecución. Se deben plantear indicadores con periodicidad específica ya que aunque se cuenta con el diligenciamiento del formato en el reporte se detalla cuales no pueden ser medidos por el corte de la información, por lo que es importante definir si son de medición mensual, semestral, etc.
A36: Servicio Integral al Ciudadano | B36: =VLOOKUP(A36,'Listas deplegables'!$A$2:$B$19,2,0) -> SI | J36: Si | K36: En cada vigencia, el profesional designado del grupo interno de Servicio integral al ciudadano implementará el curso virtual de participación ciudadana en la Escuela Virtual del Deporte, para fortalecer el conocimiento y el acceso a la ciudadanía ingresando a la plataforma Escuela Virtual del Deporte - EVD verificando que sus contenidos esten vigentes y solicitando al GIT TICS su activación y divulgación. En caso de desviación, se realizarán las actualización del curso y las solicitudes de activación. La divulgación se realiza a través de la página web y de las redes sociales. Evidencia : activación del curso y reporte de la Escuela Virtual del Deporte de participación y finalización del curso | L36: Preventivo | M36: Si | N36: Si | O36: Si | P36: Reducir (Mitigar) | Q36: Moderado | R36: Si | S36: Si | T36: Enviar invitación a la base de datos de ciudadanos con que cuenta el GIT Servicio Integral al ciudadano a participar en ejercicios programados. Tres envío durante el año | U36: Si | V36: No aplica
A37: Gestión de TIC'S | B37: =VLOOKUP(A37,'Listas deplegables'!$A$2:$B$19,2,0) -> GT | C37: Posibilidad de afectación reputacional de la entidad, por falta de implementación de buenas prácticas establecidas por el GIT TICs, obsolescencia, depreciación y daño irreparable de los servidores y equipos tecnológicos del Centro de Cómputo, indisponibilidad de los servicios tecnológicos, incumplimiento de los acuerdos de nivel de servicio en los casos atendidos por Soporte TICs y sistemas de información y equipos tecnológicos desarticulados con las necesidades y/o arquitectura de TI del Ministerio, debido a falta de aprobación de gastos e inversiones en tecnología necesarias para el funcionamiento del Ministerio, falta de una planta de emergencia para respaldo eléctrico de contingencia, planta de personal insuficiente en el GIT TIC's, recorte del rubro presupuestal asignado para el GIT TIC's y escasa gobernabilidad e influencia de la oficina de TI dentro de la estructura de la entidad. | D37: Si | E37: 45590 | F37: 45772 | G37: 45782 | H37: Apoyo | I37: Alto | J37: Si | K37: Semestralmente, el Coordinador del GIT TIC's debe verificar el inventario de equipos del centro de cómputo y su depreciación , y determinar a través del registro en el sistema de inventario de la entidad en coordinación con el área de Almacén la necesidad de reemplazo tecnológico. En caso de desviación en la ejecución del control, se consultará la bitácora: GT-FR-011 Bitácora Registro de Servidores, formatos guardados en la carpeta de ejecución compartida en Sharepoint. Evidencias: Reporte del área de Almacén, Bitácora de Servidores (cuando aplique). | L37: Detectivo | M37: Si | N37: Si | O37: Si | P37: Aceptar | Q37: Alto | R37: Incompleta | S37: Si | T37: Activar el protocolo definido en el Plan de Recuperación de Desastres (DRP) para restablecer los servicios afectados según los tiempos definidos de recuperación (RPO y RTO). | U37: No aplica | V37: No aplica | W37: No | X37: No aplica | Y37: No aplica | Z37: No aplica | AA37: Si | AB37: La obsolescencia y daño irreparable de los servidores y equipos tecnológicos, corresponden a un riesgo de Seguridad de la Información y no de Gestión. Se evidencia monitoreo por parte de primera y segunda línea de defensa. Aunque el proceso aporta evidencias en la carpte, estas no son correspondientes con las planteadas en los controles, si bien pretenden dar cuenta de puesta en marcha del mismo, se requiere que la evidencia aportada corresponda con la planteada en el control para validar su ejecución. No se evidencian soportes de ejecución del plan de tratamiento ya que quedó sujeto a la necesidad de su aplicación, además los controles son similares a los planteados para los tres riesgos de seguridad de la información de manera que debe evaluarse causas inmediata y raíz repetidas en el proceso de identificación, así como cuales de ellas son de riesgo de gestión y cuales de seguridad de la información.
A38: Gestión de TIC'S | B38: =VLOOKUP(A38,'Listas deplegables'!$A$2:$B$19,2,0) -> GT | J38: Si | K38: Cada vez que se requiera, el Coordinador del GIT TIC's debe validar las cargas de trabajo del área de TIC's para determinar las necesidades de personal de planta o contratistas; , en el marco del ejercicio de análisis de cargas para la reestructuración del Ministerio determinar los perfiles y cantidad de colaboradores requeridos para el cumplimiento de las funciones del GIT TIC's. En caso de desviación en la ejecución del control, realizar el ajuste al estudio de cargas realizado. Evidencias: Matriz de propuesta de estudio de cargas de trabajo del GIT TIC's; correos y memorandos (cuando aplique). | L38: Detectivo | M38: Si | N38: Si | O38: Si | P38: Aceptar | Q38: Alto | R38: Incompleta | S38: Si | T38: Remitir informe de declaratoria de contingencia a nivel institucional para activar el Plan de Continuidad del Negocio (BCP) por las dependencias afectadas (cuando aplique). | U38: No aplica | V38: No aplica
A39: Gestión de TIC'S | B39: =VLOOKUP(A39,'Listas deplegables'!$A$2:$B$19,2,0) -> GT | J39: Si | K39: Anualmente, el Coordinador del GIT TIC's debe elaborar el anteproyecto de inversión de las necesidades tecnológicas para el periodo 2024-2027 y el presupuesto del PETI del GIT TIC's; , de acuerdo con las necesidades del área y de las dependencias, con los lineamientos de MinTIC en cuanto a proyectos de Transformación Digital y con los resultados del FURAG. En caso de desviación en la ejecución del control, se realizan ajustes mensuales al proyecto de presupuesto. Evidencias: Anteproyecto de presupuesto validado por la OAP. | L39: Preventivo | M39: Si | N39: Si | O39: Si | P39: Aceptar | Q39: Alto | R39: No
A40: Gestión del Talento Humano | B40: =VLOOKUP(A40,'Listas deplegables'!$A$2:$B$19,2,0) -> GH | C40: Posibilidad de afectación reputacional por Fallas en la implementación de los procedimientos y lineamientos en el proceso de GTH, debido a fallas en la seguimiento de verificación de las Evaluaciones del Desempeño Laboral | D40: Si | E40: 45643 | F40: 45775 | G40: 45783 | H40: Apoyo | I40: Moderado | J40: Si | K40: El Profesional designado por el Coordinador de GIT Talento Humano debera revisar y actualizar el procedimiento GH-PD-003 Evaluación del Desempeño Laboral ajustandolo a la normatividad vigente, mediante mesas de trabajo que evidencien el avance de la actualiozación del documento donde se dejaran actas de las reuniones, de presentarce algúna desviación se deberan dejar consignadas mediante actas de seguimiento. | L40: Preventivo | M40: No | N40: Si | O40: No | P40: Reducir (Mitigar) | Q40: Moderado | R40: Si | S40: Si | T40: Socializar el procedimiento actualizado tanto al grupo de trabajo , como a nivel institucional | U40: No aplica | V40: No aplica | W40: No | X40: No aplica | Y40: No aplica | Z40: No aplica | AA40: No | AB40: Se evidencia seguimiento de primer y segunda línea de defensa. Los controles no tienen periodicidad definida. El plan de tratamiento no ha iniciado ejecución. No se detalla motivo del no inicio en la ejecución de los controles. Las evidencias que se anexen deben corresponder con lo planteado. No se cuenta con medición de indicadores en el formato establecido, ni con evidencias de estos.
A41: Gestión del Talento Humano | B41: =VLOOKUP(A41,'Listas deplegables'!$A$2:$B$19,2,0) -> GH | J41: Si | K41: El Profesional designado por el Coordinador de GIT Talento Humano debera verificar las Evaluaciones de Desempeño Laboral que se encuentran en la plataforma de la Comisión Nacional del Servicio Civil correspondientes al Ministerio del Deporte mediante seguimiento semestral donde se dejara como evidencia el descargue del reporte de la evaluaciones efectuadas durante el semestre, de encontrarce alguna desviación en la revisión se procedera a notificar mediante correo electronico a evaluadores y evaluados para subsanar las desviaciones. | L41: Preventivo | M41: No | N41: Si | O41: No | P41: Reducir (Mitigar) | Q41: Moderado | R41: No | S41: Si | T41: Presentar una relación de los resultados de la verificación y seguimiento de las calificaciones de la Evaluación del Desempeño Laboral al Coordinador de GIT TH | U41: No aplica | V41: No aplica
A42: Gestión del Talento Humano | B42: =VLOOKUP(A42,'Listas deplegables'!$A$2:$B$19,2,0) -> GH | C42: Posibilidad de afectación reputacional por incumplimiento en la ejecución de los planes y programas del proceso de Gestión del talento Humano por insuficiencia en el presupuesto asignado debido a la debil Planeación Estratégico de Talento Humano. | D42: Si | E42: 45643 | F42: 45775 | G42: 45783 | H42: Apoyo | I42: Moderado | J42: Si | K42: El Profesional designado por el Coordinador de GIT Talento Humano debera coordinar la formulación de la Planeación Estrategica del Talento Humano respondiendo a las necesidades de los funcionarios, establecindo los recursos necesarios para la ejecución, mediante la aplicación de una encuesta y mesas de trabajo donde se definan las actividades a establecer en los planes y programas. | L42: Preventivo | M42: No | N42: Si | O42: No | P42: Reducir (Mitigar) | Q42: Moderado | R42: Si | S42: Si | T42: Establecer un formato de cronograma como anexo a la Planeación Etrategica del Talento Humano para formular y realizar seguimiento a la ejecución de los planes relacionados. | U42: Si | V42: Si | W42: No | X42: No aplica | Y42: No aplica | Z42: No aplica | AA42: No | AB42: Se evidencia seguimiento de primer y segunda línea de defensa. Los controles no tienen periodicidad definida. Las evidencias que se anexen deben corresponder con lo planteado ya que se encuentran incompletas. Dado que el plan de tratamiento no detalla si el formato creado será controlado o no controlado no es posible establecer si la evidencia remitida cumple con la actividad planteada por lo que el proceso debe detallarlo en su monitoreo. No se cuenta con medición de indicadores en el formato establecido, ni con evidencias de estos.
...

Sheet Sg-MRSI
A1: MATRIZ SEGUIMIENTO MAPA DE RIESGOS DE SEGURIDAD DE LA INFORMACIÓN
B2: Entidad: Ministerio del Deporte | I2: ¿Se adelantó seguimiento al Mapa de Riesgos de Seguridad de la Información?
B3: Responsable: Tercera línea de defensa
B4: Seguimiento: Primer Cuatrimestre 2025 | I4: Si | J4: Primer y segunda línea de defensa
A6: SEGUIMIENTO Y EVALUACIÓN POR PARTE DE LA TERCERA LÍNEA DE DEFENSA
A8: FORMULACIÓN DE RIESGOS Y EVALUACIÓN | J8: VALORACIÓN DE LOS CONTROLES | S8: PLAN DE TRATAMIENTO | W8: MONITOREO, SEGUIMIENTO Y EVALUACIÓN
A9: Nombre del Proceso | B9: Siglas | C9: Descripción Riesgo | D9: ¿Cumple con la redacción del Riesgo Seguridad de la Información? | E9: Fecha de Aprobación | F9: Fecha de Monitoreo 1a Línea de Defensa | G9: Fecha de Monitoreo 2da Línea de Defensa | H9: Tipo Proceso | I9: Zona de Riesgo Inherente | J9: ¿Presenta descripción de la valoración de controles? | K9: Descripción del Control | L9: Atributo del Control | M9: ¿Los controles son efectivos? | N9: ¿Los controles cuentan con responsables de su ejecución? | O9: ¿La periodicidad de los controles es oportuna para mitigar el riesgo? | P9: Tratamiento | Q9: Zona de Riesgo Residual Final | R9: ¿Se cuenta con evidencias de la ejecución del control? | S9: ¿Formuló Plan de Tratamiento (acciones)? | T9: Descripción del Plan de Tratamiento | U9: ¿Cumple con la ejecución del Plan de Tratamiento de manera eficaz? | V9: ¿Se cuenta con evidencias de la ejecución del Plan de Tratamiento? | W9: ¿El proceso reportó Materialización del Riesgo? | X9: ¿Se enunciaron acciones de mejora por materialización? | Y9: ¿Se activaron alertas tempranas para evitar la materialización? | Z9: ¿Se implementaron correctivos por la materialización? | AA9: ¿Se reportaron indicadores? | AB9: Observaciones por parte de la Tercera Línea de Defensa - Oficina de Control Interno (OCI)
A10: Direccionamiento Estratégico y Aprendizaje Organizacional | B10: =VLOOKUP(A10,'Listas deplegables'!$A$2:$B$19,2,0) -> DE | C10: Posibilidad de afectación reputacional, por modificación o alteración de información, debido a fallas de controles para la asignación de roles que permitan el acceso y la manipulación de documentos que se encuentran en ISOLUCION | D10: No | E10: 45762 | F10: No diligenciada | G10: 45782 | H10: Estratégico | I10: Alto | J10: Si | K10: Semestralmente, la Jefe de la Oficina Asesora de Planeación, solicitará al GIT de Tics el acompañamiento para realizar copias de seguridad o Backus centrales de la plataforma Isolucion-. la solicitud se realizará mediante comunicación interna al GIT: TICS el Backus de la Plataforma ISOLUCION. En caso de identificar desviaciones en la ejecución del control, notificar a la Secretaría General para que se pueda salvaguardar la información. De la ejecución de los controles se generará la siguiente evidencia: Comunicación internas, Backus o copias de seguridad realizadas. | L10: Preventivo | M10: Si | N10: Si | O10: Si | P10: Aceptar | Q10: Moderado | R10: No | S10: Si | T10: Semestralmente generar TIPS de las funciones y roles en ISOLUCION para el tratamiento de documentos | U10: No aplica | V10: No aplica | W10: No | X10: No aplica | Y10: No aplica | Z10: No aplica | AA10: Si | AB10: La redacción del riesgo no refiere afectación de “integridad”, “confidencialidad” o “disponibilidad”, como tampoco el activo afectado pues se define "información", es necesario detallar el activo que se vería afectado (Por ejemplo: base de datos, documentación institucional, planes de mejora, etc). Se evidencia seguimiento de primer y segunda línea de defensa, cuenta con evidencias de la ejecución de Controles. El plan de tratamiento está previsto para el primer semestre Nota: la carpeta se presentó vacia, no obstante, de acuerdo con los radicados relacionados en el monitoreo de la primera línea se realizó validación en GESDOC, se requiere en los próximos monitoreos aportar la evidencia en la carpeta respectiva. No registra fecha de monitoreo de la primera línea de defensa.
A11: Direccionamiento Estratégico y Aprendizaje Organizacional | B11: =VLOOKUP(A11,'Listas deplegables'!$A$2:$B$19,2,0) -> DE | J11: Si | K11: Cuatrimestralmente el profesional asignado por la OAP realizará verificación de los usuarios con rol de facilitadores por proceso. Así mismo semestralmente el jefe de la OAP, solicitara la confirmación de los roles asignados a los enlaces para el manejo de documentos en la plataforma ISOLUCION. En caso de identificar desviaciones en la ejecución del control, desde la OAP, se procederá a la actualización del rol. De la ejecución de los controles se generará la siguiente evidencia: comunicaciones internas; aplica memorando y correos electrónicos (cuando aplique) y reporte trimestral de ISOLUCION con roles asignados por usuarios. | L11: Preventivo | M11: No | N11: Si | O11: Si | P11: Aceptar | Q11: Moderado | R11: Si
