Workbook
Name _Hlk170218928: 'T5'!$B$1

Sheet Sg-MRC
A1: MATRIZ SEGUIMIENTO MAPA DE RIESGOS DE CORRUPCIÓN
B2: Entidad: Ministerio del Deporte | K2: ¿Se adelantó seguimiento al Mapa de Riesgos de Corrupción?
B3: Responsable: Tercera línea de defensa
B4: Seguimiento: Primer Cuatrimestre 2025 | K4: Si | L4: Primer y segunda línea de defensa
B5: Fecha de publicación: 15 de mayo de 2025
A6: SEGUIMIENTO Y EVALUACIÓN POR PARTE DE LA TERCERA LÍNEA DE DEFENSA
A8: FORMULACIÓN DE RIESGOS Y EVALUACIÓN | J8: VALORACIÓN DE LOS CONTROLES | S8: PLAN DE TRATAMIENTO | W8: MONITOREO, SEGUIMIENTO Y EVALUACIÓN
A9: Nombre del Proceso | B9: Siglas | C9: Descripción Riesgo | D9: ¿Cumple con la redacción del Riesgo de Corrupción? | E9: Fecha de Aprobacion | F9: Fecha de Monitoreo 1a Línea de Defensa | G9: Fecha de Monitoreo 2da Línea de Defensa | H9: Tipo Proceso | I9: Zona de Riesgo Inherente | J9: ¿Presenta descripción de la valoración de controles? | K9: Descripción del Control | L9: Atributo del Control | M9: ¿El diseño de los controles es efectivo? | N9: ¿Los controles cuentan con responsables de su ejecución? | O9: ¿La periodicidad de los controles es oportuna para mitigar el riesgo? | P9: Tratamiento | Q9: Zona de Riesgo Residual Final | R9: ¿Se cuenta con evidencias de la ejecución del control? | S9: ¿Formuló Plan de Tratamiento (acciones)? | T9: Descripción del Plan de Tratamiento | U9: ¿Cumple con la ejecución del Plan de Tratamiento de manera eficaz? | V9: ¿Se cuenta con evidencias de la ejecución del Plan de Tratamiento? | W9: ¿El proceso reportó Materialización del Riesgo? | X9: ¿Se enunciaron acciones de mejora por materialización? | Y9: ¿Se activaron alertas tempranas para evitar la materialización? | Z9: ¿Se implementaron correctivos por la materialización? | AA9: ¿Se reportaron indicadores? | AB9: ¿Cuántas alertas se convirtieron en denuncias por casos de corrupción? | AC9: Observaciones y recomendaciones por parte de la Tercera Línea de Defensa - Oficina de Control Interno (OCI)
A10: Gestión de las Comunicaciones | B10: =VLOOKUP(A10,'Listas deplegables'!$A$2:$B$19,2,0) -> GC | C10: Posibilidad de recibir cualquier dádiva o beneficio a nombre propio o tercero para difundir información sensible sin la debida verificación y aprobación | D10: No | E10: 45649 | F10: 45807 | G10: 45783 | H10: Estratégico | I10: Extremo | J10: Si | K10: El Coordinador GIT Comunicaciones, controla a través del seguimiento permanente a los integrantes del GIT Comunicaciones, estableciendo el punto análisis del cumplimiento de los lineamientos de crisis en los consejos de redacción, las cuales se sustentan en acta del consejo cuando se requieran En caso de identificar desviaciones en la ejecución del control se solicitará al responsable un informe del no cumplimiento. Se generará un acta del consejo de redacción. Frecuencial: Cuatrimestral | L10: Preventivo | M10: Si | N10: Si | O10: Si | P10: Reducir (Mitigar) | Q10: Extremo | R10: Si | S10: Si | T10: Generar un mapeo constante para anticiparnos a los riesgos de crisis de la comunicación. | U10: Si | V10: Si | W10: No | X10: No aplica | Y10: No aplica | Z10: No aplica | AA10: Si | AB10: 0 | AC10: En relación al líder del proceso, se recomienda detallar el cargo -dependencia (M8) ya que se detalla el nombre de un ex funcionario de la entidad. La redacción del riesgo no considera los cuatro (4) elementos para los riesgos de corrupción, no se refiere a daño económico o reputacional, ni la desviación específica de la gestión de lo público de manera que recomienda revisar y ajustar la redacción del riesgo. R1-Ctrl3: pese a que se detalla que se genera un informe anual, se expresa que tiene una frecuencia cuatrimestral, por lo que se recomienda verificar la frecuencia del control y de la evidencia para que sean consistentes entre si. R1-Acc2: no se cuenta con evidencias de su ejecución por lo que no es posible establecer su puesta en marcha.
A11: Gestión de las Comunicaciones | B11: =VLOOKUP(A11,'Listas deplegables'!$A$2:$B$19,2,0) -> GC | J11: Si | K11: El Coordinador GIT Comunicaciones, verifica la aprobación de las notas de prensa, el cumplimiento se hace mensualmente a través del reporte del indicador de notas de prensa publicadas. En caso de identificar desviaciones en la ejecución del control se devolverá al periodista la nota para su ajuste. De la ejecución del control: mensualmente se entrega la verificación del cumplimiento de los conductos de aprobación de las notas de prensa, mediante el formato establecido. Frecuencial: Cuatrimestral | L11: Preventivo | M11: Si | N11: Si | O11: Si | P11: Reducir (Mitigar) | Q11: Extremo | R11: Si | S11: Si | T11: Socializar con los colaboradores de la entidad cómo proceder ante la aprobación de la información de PQRS asociadas a las solicitudes de los medios de comunicación. | U11: No | V11: No
A12: Gestión de las Comunicaciones | B12: =VLOOKUP(A12,'Listas deplegables'!$A$2:$B$19,2,0) -> GC | J12: Si | K12: Coordinador GIT Comunicaciones, evalúa la aplicación de la Política Editorial para la toma de decisiones, a través de un instrumento de evaluación que arroja unos resultados y se genera un informe. En caso de desviación se hará retroalimentación. De la ejecución del control se genera informe anual. Frecuencial: Cuatrimestral | L12: Detectivo | M12: Si | N12: Si | O12: Si | P12: Reducir (Mitigar) | Q12: Extremo | R12: No | S12: Si | T12: Generar alertas tempranas sobre el cargue de la información en el SharePoint, en la cual se den recomendaciones. | U12: Si | V12: Si
A13: Formulación y Adopción de Políticas, Planes y Programas | B13: =VLOOKUP(A13,'Listas deplegables'!$A$2:$B$19,2,0) -> FP | C13: Posibilidad de favorecer un grupo de interés sobre otro en los procesos de formulación de políticas públicas. | D13: No | E13: 45051 | F13: 45287 | G13: 45786 | H13: Misional | I13: Alto | J13: Si | K13: Semestralmente, El profesional designado del viceministerio, debe verificar la existencia del mapa de actores del proceso de formulación de política pública a través de el formato de caracterización de actores para focalizar el grupo objetivo que participa. En caso de identificar desviaciones en la ejecución del control, La Viceministra generará alertas al Profesional designado, para el cumplimiento del registro de caracterización de actores. De la ejecución de los controles se generará la siguiente evidencia: Formato de caracterización de actores diligenciado. | L13: Preventivo | M13: Si | N13: Si | O13: Si | P13: Reducir (Mitigar) | Q13: Alto | R13: No | S13: Si | T13: 1. Documentar el control R3-Control 1, a través del formato de caracterización de actores del proceso de formulación de política pública. | U13: No | V13: No | W13: No | X13: No aplica | Y13: No aplica | Z13: No aplica | AA13: No | AB13: 0 | AC13: Se utilizó formato en versión no vigente (V,1) para el reporte; en adición, se evidencia que se cargó el mapa de riesgos de la vigencia 2023 con lo que podría existir una debilidad en el cumplimiento de la labor de identifcación y formulación de los riesgos del proceso para la vigencia 2025, La redacción del riesgo no considera los cuatro (4) elementos para los riesgos de corrupción, no se refiere a daño económico o reputacional, ni la desviación específica de la gestión de lo público de manera que recomienda revisar y ajustar la redacción del riesgo. Las evidencias remitdas no corresponden a las planteadas en los controles y acciones, por lo tanto no dan cuenta del cumplimiento de lo planteado para la mitigación del riesgo. Dado el que proceso tiene hallazgo reiterativo por la no identificación y formulación de riesgos, se recomienda realizar el adecuado ejercicio de tratamiento de los riesgos propios de sus funciones a cargo. Se recomienda al jefe de la OCI presentar el caso para su tratamiento ante el Comité Insitucional de Coordinación de Control Interno.
A14: Formulación y Adopción de Políticas, Planes y Programas | B14: =VLOOKUP(A14,'Listas deplegables'!$A$2:$B$19,2,0) -> FP | J14: Si | K14: El profesional designado del viceministerio, debe verificar los documentos de plan de participación ciudadana remitido por el área técnica encargada de la formulación de la política pública. | L14: Preventivo | M14: No | N14: Si | O14: No | P14: Reducir (Mitigar) | Q14: Alto | R14: No | S14: Si | T14: 1.Documentar el formato de Plan de participación ciudadana del proceso de formulación de política pública. | U14: No | V14: No
A15: Formulación y Adopción de Políticas, Planes y Programas | B15: =VLOOKUP(A15,'Listas deplegables'!$A$2:$B$19,2,0) -> FP | J15: Si | K15: El profesional designado del viceministerio, cada vez que se requiera debe validar la pertinencia, oportunidad y validez de los procesos externos de formulación de política pública que impacten a la entidad. | L15: Preventivo | M15: No | N15: Si | O15: No | P15: Reducir (Mitigar) | Q15: Alto | R15: No | S15: Si | T15: 1. Revisar matrices de validación de las líneas de acción de política pública. 2. Realizar mesas técnicas de validación de información. | U15: No | V15: No
A16: Altos Logros | B16: =VLOOKUP(A16,'Listas deplegables'!$A$2:$B$19,2,0) -> AL | C16: Posibilidad de recibir o solicitar cualquiér dadiva o beneficio a nombre propio o de terceros beneficiando a atletas o paraatletas del programa de atleta excelencia, programa de glorias del deporte, escuela de talentos o beneficiar a federaciones deportivas nacionales que no cumplan con requisitos legales o normativos. | D16: No | E16: 45610 | F16: 45775 | G16: 45783 | H16: Misional | I16: Moderado | J16: Si | K16: Cada vez que se requiera, el profesional designado debe verificar el cumplimiento de los requisitos de acceso y permanencia, a través de la implementación de los controles establecidos. En caso de identificar desviaciones en la ejecución del control, enviar un oficio indicando la situación evidenciada de falta de requisitos que permita subasanar la información requerida y abstenerse de beneficiar a quien no cumpla con los requisitos establecidos. Frecuencia: cuatrimestral | L16: Preventivo | M16: Si | N16: Si | O16: Si | P16: Reducir (Mitigar) | Q16: Moderado | R16: No | S16: Si | T16: Implementar un mecanismo de seguimiento a las acciones planificadas por medio de: * Reunión mensual (conforme a disponibilidad de agenda) de seguimiento a acciones de la DPYLD y designación (o reasignación) de responsables. | U16: No | V16: No | W16: No | X16: No aplica | Y16: No aplica | Z16: No aplica | AA16: Si | AB16: 0 | AC16: La redacción del riesgo no considera los cuatro (4) elementos para los riesgos de corrupción, no se refiere a daño económico o reputacional, ni la desviación específica de la gestión de lo público de manera que recomienda revisar y ajustar la redacción del riesgo. Verificar la frecuencia con la que se realiza la actividad y su valoración ya que inicia en zona de riesgo inherente "Moderada" siendo muy baja en relación a un riesgo de corrupción; esto se puede deber a que no fueron resueltas las 19 preguntas requeridas para la clasificación del impacto del riesgo de corrupción (Hoja <<Tabla Impacto>> del formato DE- FR -002) Se evidencia que los ocho (8) controles planteados son idénticos; se recomienda tener en cuenta que cada control debe tener un planteamiento diferente atendido cada una de las causas raices identificadas, sumado a que los controles son para el proceso y no para cada grupo de trabajo; en caso que se trate por facilidad de consolidación interna de la Dirección de Posicionamiento, se deben establecer mecanismos de trabajo interno para la consolidación del monitoreo que no afecten ni repitan controles en el mapa de riesgos de la entidad y puedan derivar en confucion a los grupos de valor que consulten el mapa de riesgos institucional. En línea con lo anterior, solo el primer control se considera efectivo, los demás no, por ser repetidos. En adición y pese a ser idénticos se clasifica tanto como preventivo, como detectivo, por lo que se recomienda verificar el atributo del control. Zona de Riesgo Residual Final no varia después de aplicar los controles, se mantiene en moderada. La evidencia debe estar detallada dentro de la descripción del control y la que se entregue en el monitoreo debe corresponder estrictamente con esta, se evidencia que se planteó en el formato pero fuera de la descripción: 1. Verificar en cumplimiento de la Hoja de Ruta para la contratación Formato del proceso de Bienes y Servicios , 2. Supervisión de los contratos de apoyo a federaciones nacionales y 3. Apoyo a la supervisión. No obstante, lo que se remitió, fue el expediente precontractual el cual no está establecido como evidencia y no permite verificar el cumplimiento del control. Indicadores: no se detalla la fuente información de la frecuencia con la cual se realiza la actividad (23) por lo que no es posible varidar su medición; no se anexan evidencias de los indicadores. De otra parte en el monitoreo se detallan contratos sucritos mientras que en el indicador se describe que "Durante el primer cuatrimestre no se suscrieron contratos, por lo que no se procedió a verificaci (sic)" con lo que la información entre el reporte de indicadores y el monitoero de los controles es incosistente.
A17: Altos Logros | B17: =VLOOKUP(A17,'Listas deplegables'!$A$2:$B$19,2,0) -> AL | J17: Si | K17: Cada vez que se requiera, el profesional designado debe verificar el cumplimiento de los requisitos de acceso y permanencia, a través de la implementación de los controles establecidos. En caso de identificar desviaciones en la ejecución del control, enviar un oficio indicando la situación evidenciada de falta de requisitos que permita subasanar la información requerida y abstenerse de beneficiar a quien no cumpla con los requisitos establecidos. Frecuencia: cuatrimestral | L17: Preventivo | M17: No | N17: Si | O17: Si | P17: Reducir (Mitigar) | Q17: Moderado | R17: No
A18: Altos Logros | B18: =VLOOKUP(A18,'Listas deplegables'!$A$2:$B$19,2,0) -> AL | J18: Si | K18: Cada vez que se requiera, el profesional designado debe verificar el cumplimiento de los requisitos de acceso y permanencia, a través de la implementación de los controles establecidos. En caso de identificar desviaciones en la ejecución del control, enviar un oficio indicando la situación evidenciada de falta de requisitos que permita subasanar la información requerida y abstenerse de beneficiar a quien no cumpla con los requisitos establecidos. Frecuencia: cuatrimestral | L18: Preventivo | M18: No | N18: Si | O18: Si | P18: Reducir (Mitigar) | Q18: Moderado | R18: No
A19: Altos Logros | B19: =VLOOKUP(A19,'Listas deplegables'!$A$2:$B$19,2,0) -> AL | J19: Si | K19: Cada vez que se requiera, el profesional designado debe verificar el cumplimiento de los requisitos de acceso y permanencia, a través de la implementación de los controles establecidos. En caso de identificar desviaciones en la ejecución del control, enviar un oficio indicando la situación evidenciada de falta de requisitos que permita subasanar la información requerida y abstenerse de beneficiar a quien no cumpla con los requisitos establecidos. Frecuencia: cuatrimestral | L19: Preventivo | M19: No | N19: Si | O19: Si | P19: Reducir (Mitigar) | Q19: Moderado | R19: No
A20: Altos Logros | B20: =VLOOKUP(A20,'Listas deplegables'!$A$2:$B$19,2,0) -> AL | J20: Si | K20: Cada vez que se requiera, el profesional designado debe verificar el cumplimiento de los requisitos de acceso y permanencia, a través de la implementación de los controles establecidos. En caso de identificar desviaciones en la ejecución del control, enviar un oficio indicando la situación evidenciada de falta de requisitos que permita subasanar la información requerida y abstenerse de beneficiar a quien no cumpla con los requisitos establecidos. Frecuencia: cuatrimestral | L20: Preventivo | M20: No | N20: Si | O20: Si | P20: Reducir (Mitigar) | Q20: Moderado | R20: No
A21: Altos Logros | B21: =VLOOKUP(A21,'Listas deplegables'!$A$2:$B$19,2,0) -> AL | J21: Si | K21: Cada vez que se requiera, el profesional designado debe verificar el cumplimiento de los requisitos de acceso y permanencia, a través de la implementación de los controles establecidos. En caso de identificar desviaciones en la ejecución del control, enviar un oficio indicando la situación evidenciada de falta de requisitos que permita subasanar la información requerida y abstenerse de beneficiar a quien no cumpla con los requisitos establecidos. Frecuencia: cuatrimestral | L21: Preventivo | M21: No | N21: Si | O21: Si | P21: Reducir (Mitigar) | Q21: Moderado | R21: No
A22: Altos Logros | B22: =VLOOKUP(A22,'Listas deplegables'!$A$2:$B$19,2,0) -> AL | J22: Si | K22: Cada vez que se requiera, el profesional designado debe verificar el cumplimiento de los requisitos de acceso y permanencia, a través de la implementación de los controles establecidos. En caso de identificar desviaciones en la ejecución del control, enviar un oficio indicando la situación evidenciada de falta de requisitos que permita subasanar la información requerida y abstenerse de beneficiar a quien no cumpla con los requisitos establecidos. Frecuencia: cuatrimestral | L22: Preventivo | M22: No | N22: Si | O22: Si | P22: Reducir (Mitigar) | Q22: Moderado | R22: No
A23: Altos Logros | B23: =VLOOKUP(A23,'Listas deplegables'!$A$2:$B$19,2,0) -> AL | J23: Si | K23: Cada vez que se requiera, el profesional designado debe verificar el cumplimiento de los requisitos de acceso y permanencia en el Centro de Alto Rendimiento, a través de la implementación de los controles establecidos. En caso de identificar desviaciones en la ejecución del control, enviar un oficio indicando la situación evidenciada de falta de requisitos que permita subasanar la información requerida y abstenerse de beneficiar a quien no cumpla con los requisitos establecidos. Frecuencia: cuatrimestral | L23: Detectivo | M23: No | N23: Si | O23: Si | P23: Reducir (Mitigar) | Q23: Moderado | R23: No
A24: Inspección Vigilancia y Control | B24: =VLOOKUP(A24,'Listas deplegables'!$A$2:$B$19,2,0) -> IVC | C24: Posibilidad de recibir o solicitar cualquier dadiva o beneficio a nombre propio o de terceros para favorecer a un organismo deportivo en el desarrollo de tramites, inspección, auditorias y/o procedimientos administrativos | D24: No | E24: 45616 | F24: No diligenciado | G24: 45783 | H24: Misional | I24: Moderado | J24: Si | K24: Cada mes, el gestor documental, verifica los permisos de acceso a las bases de datos en SharePoint, tanto en modo lectura como escritura, otorgados a los miembros de cada Grupo Interno de Trabajo (GIT). Compara estos permisos con los roles definidos para asegurar de que coinciden. En caso de desviación del control, ajusta los accesos a las bases de datos, para que correspondan a los roles definidos del profesional e informa la corrección al coordinador a través de correo electrónico. Las evidencias de la ejecución del control deben incluir: un registro en SharePoint con los permisos otorgados a los miembros de cada GIT, con los correos electrónicos del gestor documental. | L24: Preventivo | M24: Si | N24: Si | O24: Si | P24: Reducir (Mitigar) | Q24: Moderado | R24: Si | S24: Si | T24: Socializar los responsables del manejo, control de cambios, actualización y permisos de acceso a las bases de datos y expedientes de la Dirección. | U24: No | V24: No | W24: No | X24: No aplica | Y24: No aplica | Z24: No aplica | AA24: Si | AB24: 0 | AC24: No se reporta la fecha del monitoreo de la primera línea de defensa. La redacción del riesgo no considera los cuatro (4) elementos para los riesgos de corrupción, no se refiere a daño económico o reputacional, ni la desviación específica de la gestión de lo público de manera que recomienda revisar y ajustar la redacción del riesgo. Verificar la frecuencia con la que se realiza la actividad y su valoración ya que inicia en zona de riesgo inherente "Moderada" siendo muy baja en relación a un riesgo de corrupción; esto se puede deber a que no fueron resueltas las 19 preguntas requeridas para la clasificación del impacto del riesgo de corrupción (Hoja <<Tabla Impacto>> del formato DE- FR -002) R1-Ctrl2: se anexa formato 003 con el cual se evidencia el cumplimiento de la acción, se recomienda no anexar evidencias que no están relacionadas en la descripción del control, tal como el formato 048. R1-Acc-1-Acc2-Acc3: las evidecias aportadas no corresponden con las enunciadas en el mapa de riesgos, se recomienda no anexar evidencias que no están relacionadas en la descripción del control pues esto dificulta la labor de verificación de la Tercera Línea de defensa. Dado que se tienen previstos ejecutar con plazo hasta diciembre de 2025 se recomienda que en evidencia se detalle no aplica y la fecha estimada en la que se generará la evidencia detallada en el mapa de riesgos para dicha acción. Indicadores: si bien la formulación del Indicador Clave del Riesgo detalla que tiene medición semestral y por esta razón no se reporta su medición, el indicador del Desempeño del Control no tiene medición cuantitativa. Dado que son indicadores numericos se recomienda siempre detallar el cálculo de este, sumado a la descripción cualitativa, máxime si la meta del indicador es cero, puesto permite verificar la efectividad del tratamiento del riesgo.
A25: Inspección Vigilancia y Control | B25: =VLOOKUP(A25,'Listas deplegables'!$A$2:$B$19,2,0) -> IVC | J25: Si | K25: Cada vez que ingresa la solicitud de un trámite, el profesional responsable verifica la correcta aplicación de los formatos de control de legalidad IVC-FR-003, IVC-FR-004 o IVC-FR-006 vigentes, los cuales deben ser diligenciados después de cada trámite. Al finalizar un proceso, ya sea de Negación, Renovación o Actualización del Reconocimiento Deportivo e inscripción de miembros, se revisa que los formatos correspondientes estén completos y correctamente diligenciados para garantizar un adecuado control de legalidad. En caso de detectar alguna desviación en el control, el coordinador del G.I.T. devuelve el trámite para solicitar su verificación y se modifican los formatos para mejorar la calidad y precisión de los datos. Como evidencia de la ejecución del control, se generará el reporte de los registros realizados en los formatos IVC-FR-003, IVC-FR-004 o IVC-FR-006, los correos electrónicos del coordinador que contengan observaciones (si aplica) y los registros actualizados. | L25: Preventivo | M25: Si | N25: Si | O25: Si | P25: Reducir (Mitigar) | Q25: Moderado | R25: Si | S25: Si | T25: Revisar y actualziar el IVC-MN-002 Manual "Orientaciones para realizar Inspección, Vigilancia y Control en el Ministerio del Deporte". | U25: No | V25: No
A26: Inspección Vigilancia y Control | B26: =VLOOKUP(A26,'Listas deplegables'!$A$2:$B$19,2,0) -> IVC | J26: Si | K26: Cada vez que se requiera, el profesional asignado se verifica que los requisitos legales y estatutarios del organismo deportivo sean cumplidos en relación con el estudio y la validez de la documentación requerida para el trámite. Antes de iniciar cualquier trámite, se realiza una revisión preliminar que debe ser aprobada por el Coordinador y el Director. En caso de identificar desviación en la ejecución del control, el Coordinador devolverá la documentación con observaciones para su corrección. Como evidencia de la ejecución del control, se presentarán los flujos de correo que demuestren los filtros de revisión de los actos administrativos emitidos. | L26: Preventivo | M26: Si | N26: Si | O26: Si | P26: Reducir (Mitigar) | Q26: Moderado | R26: Si | S26: Si | T26: Socializar a los profesionales de la Dirección de Inspección, Vigilancia y Control la normatividad y lineamientos vigentes, así como la documentacion asociada al procesoIVC, que se encuentra en ISDLUCION. | U26: No | V26: No
A27: Fomento al Desarrollo Humano y Social | B27: =VLOOKUP(A27,'Listas deplegables'!$A$2:$B$19,2,0) -> FD | C27: Posibilidad de recibir cualquier dádiva o beneficio a nombre propio o de terceros para desembolsar recursos a convenios o contratos entre el ministerio y entes ejecutores sin el cumplimiento de los requisitos legales. | D27: No | E27: 45616 | F27: 45777 | G27: 45783 | H27: Misional | I27: Extremo | J27: Si | K27: Cada vez que se requiera el y/o los supervisores de los GIT de la Dirección de Fomento y Desarrollo (Actividad Fìsica, Recreaciòn, Deporte Escolar, Deporte Social Comunitario) Verifican los documentos soportes financieros de los convenios y/o contratos frente a lo establecido en las minutas contractuales. Cada vez que se recibe un informe financiero, valida la informacion recibida frente a la ejecucion de contrato y/o convenios; En caso de identificar desviaciones en la ejecución del control, remitir comunicacion oficial ( Correo electronico u oficios ) al operador solicitandole la completitud de la informacion o la subsanacion de las situaciones encontradas. De la ejecución de los controles se generará la siguiente evidencia: Correos electronicos, Gesdoc. Frecuencia: Cuatrimestral | L27: Detectivo | M27: Si | N27: Si | O27: Si | P27: Reducir (Mitigar) | Q27: Extremo | R27: No | S27: Si | T27: Generar de manera mensual correos a los operadores presentandoles el estado de la ejecucion presupuestal de los contratos y/o convenios, que presenten un menor avance de lo programado | U27: No | V27: No | W27: No | X27: No aplica | Y27: No aplica | Z27: No aplica | AA27: No aplica | AB27: 0 | AC27: La redacción del riesgo no considera los cuatro (4) elementos para los riesgos de corrupción, no se refiere a daño económico o reputacional, ni la desviación específica de la gestión de lo público de manera que recomienda revisar y ajustar la redacción del riesgo. No se cuenta con evidencias de la ejecución de los controles ni del plan de tratamiento, las carpetas se encuentran vacias. Indicadores: si bien se diligenció el formato de seguimiento de indicadores, el mismo no tiene medición y se describe que "Para este primer reporte no se cuenta con las evidencias", no cuenta con monitoreo del indicador de desempeño del control, el cual además requiere revisión en el planteamiento pues no permite medir efectividad del control propuesto; se recomienda revisar la formulación del indicador, ya que no permite medir eficiencia ni eficacia de las actividades planteadas. En cuanto a la medición del Indicador clave del Riesgo, se relaciona descripción cualitativa y no cuantitativa como corresponde. Seguimiento segunda línea de defensa: se recomienda verificar la sección control de cambios puesto que se evidencia trazabilidad de la actualización.
A28: Fomento al Desarrollo Humano y Social | B28: =VLOOKUP(A28,'Listas deplegables'!$A$2:$B$19,2,0) -> FD | J28: Si | K28: De manera mensual el y/o los supervisores de los GIT de la Dirección de Fomento y Desarrollo (Actividad Fìsica, Recreaciòn, Deporte Escolar, Deporte Social Comunitario) Realizan comites de seguimientos con los operadores, a traves de mesas de trabajo para monitorear el avance de la ejecucion de los contratos y/o convenios. En caso de identificar desviaciones en la ejecución del control, se solicitara un comite extraordinario con fin de aprobar las modificaciones a la asugnacion presupuestal del contrato o convenio a validar. De la ejecución de los controles se generará la siguiente evidencia: Matriz consolidada de los convenios y/o contratos de la direccion, Actas de comite, Gesdoc Frecuencia: Cuatrimestral | L28: Preventivo | M28: Si | N28: Si | O28: Si | P28: Reducir (Mitigar) | Q28: Extremo | R28: No | S28: Si | T28: Consolidar de manera semestral el estado de la ejecucion de los contratos y/o convenios. | U28: Si | V28: No aplica
A29: Apoyo a la Infraestructura Técnica y Científica | B29: =VLOOKUP(A29,'Listas deplegables'!$A$2:$B$19,2,0) -> ATC | C29: Posibilidad de recibir o solicitar cualquier dádiva o beneficio a nombre propio o de terceros para realizar de manera deficiente, el ejercicio de la supervision que para el correcto desembolso de recursos economicos | D29: No | E29: 45595 | F29: 45777 | G29: 45783 | H29: Misional | I29: Extremo | J29: Si | K29: Cada vez que se requiera, el profesional de apoyo financiero asignado al GIT de infraestructura -Profesional financiero de la Direccion de recursos y Herramientas del SND, debe verificar y validar el cumplimiento de los requisitos establecidos en la minuta del convenio y/o contrato para iniciar el tramite de desembolso o pago. El supervisor y/o apoyo a la supervisión, de acuerdo con los términos establecidos en la minuta de cada uno de los contratos o convenios y en concordancia con el BS-MN-003 Manual de Supervisión e Interventoría y el BS-MN-002 Manual de contratación, realiza la verificación y validación de los requisitos aportados por la interventoría de los contratos y/o convenios para el desembolso, a través del documento de trabajo denominado Check List.En caso de identificar desviaciones de la ejecución del control, mediante comunicación externa (Gesdoc) o correo electrónico, se notifican observaciones encontradas según sea el caso a: Entes territoriales en el marco de convenios y contratos interadministrativos, a interventorías o a convenios solidarios, para que se subsane y se remitan los soportes y/o documentos que se deben anexar o modificar para la continuidad del trámite de desembolso. De la ejecucion de los controles se generara la siguiente evidencia: Soportes que respaldan el desembolso (Ubicados en carpeta Virtual) y/o Check list de verificacion | L29: Preventivo | M29: Si | N29: Si | O29: Si | P29: Reducir (Mitigar) | Q29: Extremo | R29: Incompleta | S29: Si | T29: Crear el formato de Check list para los desembolso | U29: No aplica | V29: No aplica | W29: No | X29: No aplica | Y29: No aplica | Z29: No aplica | AA29: Si | AB29: 0 | AC29: La redacción del riesgo no considera los cuatro (4) elementos para los riesgos de corrupción, no se refiere a daño económico o reputacional, ni la desviación específica de la gestión de lo público de manera que recomienda revisar y ajustar la redacción del riesgo. Se recomienda evaluar el nivel de riesgo inherente, dado que el proceso ha sido establecido con un riesgo alto y considerando las causas identificadas su zona de Riesgo podría ser extremo, para ello se sugiere atender el procedimiento y formato, dando respuesta a las 19 preguntas para la clasificación de impacto. La evidencia de R1C1: se recomienda incluir en el formato fecha de diligenciamiento, responsable de la verificación del control y responsable del diligenciamiento por parte del supervisor. R1-Acc1: se aporta monitoreo y evidencia que no está relacionada con la acción propuesta, ya que hace referencia a instructivo. Se recomienda desarrollar lo planteado toda vez que un procedimiento podria aportar la mitigación del riesgo que permita que el control permita un óptimo seguimiento, control, verificación y cumplimiento de las obligaciones que conlleven a la autorización del trámite de pagos y desembolsos. Se solicita abstener se de realizar reportes y anexar evidencias no relacionadas con la gestión planteada ya que esto dificulta la labor de monitoreo por parte de la segunda y tercera línea de defensa. Según la evidencia R1-Ctrl1, registro N°1, "no" a la pregunta ¿CUMPLE PARA CONTINUAR EL TRÁMITE?, es decir, que acorde con lo planteado en caso de desviación en la ejecución del control, el responsable debe, mediante comunicación externa (Gesdoc) o correo electrónico, notificar las observaciones encontradas al ente territorial en el marco de convenios interadministrativos, para que se subsane y se remitan los soportes y/o documentos que se deben ajustar la modificación 1 (prorroga), actualización de las pólizas y certificación bancaria, caso similares para autorización de desembolso, para los registros No. 8, 11 y 12, no obstante no se aportó evidencia de la ejecución de la acción en caso de desviación del control, por lo que no se puede establecer que el mismo fue ejecutado conforme lo planteado. Se recomienda verificar la pertinencia de documentar la evidencia denominada matriz de seguimiento control, verificación, y cumplimiento de obligaciones apta tramite de pagos y desembolsos para fortalecer la formalización de un procedimiento, así como sus actividades del ciclo de vida de los proyectos de infraestructura y permitir su vinculación con la demás documentación (Formatos, instructivos y guías del proceso). Indicadores: Se verifica el reporte de la medición el contenido del formato DE-FR-002; no obstante el proceso no documentó evidencias de la medición del indicador, se recomienda utilizar el formato dispuesto por la segunda línea de defensa para el monitoreo de indicadores.
A30: Apoyo a la Infraestructura Técnica y Científica | B30: =VLOOKUP(A30,'Listas deplegables'!$A$2:$B$19,2,0) -> ATC | J30: Si | K30: Cada vez que se requiera, el profesional de apoyo financiero asignado al GIT de infraestructura -Profesional financiero de la Dirección de recursos y Herramientas del SND, debe revisar, verificar y validar el cumplimiento de los requisitos establecidos en la minuta del convenio y/o contrato para iniciar el trámite de desembolso o pago. El supervisor y/o apoyo a la supervisión, de acuerdo con los términos establecidos en la minuta de cada uno de los contratos o convenios y en concordancia con el BS-MN-003 Manual de Supervisión e Interventoría y el BS-MN-002 Manual de contratación, realiza la verificación y validación de los requisitos aportados por la interventoría de los contratos y/o convenios para el desembolso, a través del documento de trabajo: Matriz de seguimiento control, verificación, y cumplimiento de obligaciones apta tramite de pagos y desembolsos En caso de identificar desviaciones de la ejecución del control, mediante comunicación externa (Gesdoc) o correo electrónico, se notifican observaciones encontradas según sea el caso a: Entes territoriales en el marco de convenios y contratos interadministrativos, a interventorías o a convenios solidarios, para que se subsane y se remitan los soportes y/o documentos que se deben anexar o modificar para la continuidad del trámite de desembolso. De la ejecución de los controles se generará la siguiente evidencia: Matriz de seguimiento control, verificación, y cumplimiento de obligaciones apta tramite de pagos y desembolsos | L30: Preventivo | M30: Si | N30: Si | O30: Si | P30: Reducir (Mitigar) | Q30: Extremo | R30: Si | S30: Si | T30: Crear el procedimiento que se debe surtir para el desembolso y demas temas financieros atribuibles al contrato convenio y compartirlo con los entes ejecutores | U30: No aplica | V30: No aplica
A31: Apoyo a la Infraestructura Técnica y Científica | B31: =VLOOKUP(A31,'Listas deplegables'!$A$2:$B$19,2,0) -> ATC | C31: Posibilidad de recibir o solicitar cualquier dádiva o beneficio a nombre propio o de terceros por la financiacion y cofinanciacion de proyectos que no cumplen con los requisitos establecidos en la minuta | D31: No | E31: 45595 | F31: 45777 | G31: 45783 | H31: Misional | I31: Alto | J31: Si | K31: Semestralmente se designa un profesional del GIT Infraestuctura para verificar de manera aleatoria de los proyectos con concepto favorable con el fin de identificar si efectivamente cumplen con el lleno de requisitos establecidos en el formato de procedimiento ATC-PD-007 con el fin de identificar que se este cumpliendo con los requisitos de revision de proyectos y de procedimientos establecidos. De la ejecucion del control se emitira un informe semestral | L31: Detectivo | M31: Si | N31: Si | O31: Si | P31: Reducir (Mitigar) | Q31: Alto | R31: No | S31: Si | T31: Actualizar procedimiento de revision de proyetos acorde a la resolucion | U31: No aplica | V31: No aplica | W31: No | X31: No aplica | Y31: No aplica | Z31: No aplica | AA31: Si | AB31: 0 | AC31: La redacción del riesgo no considera los cuatro (4) elementos para los riesgos de corrupción, no se refiere a daño económico o reputacional, ni la desviación específica de la gestión de lo público de manera que recomienda revisar y ajustar la redacción del riesgo. Se recomienda evaluar el nivel de riesgo inherente, dado que el proceso ha sido establecido con un riesgo alto y considerando las causas identificadas su zona de Riesgo podría ser extremo, para ello se sugiere atender el procedimiento y formato, dando respuesta a las 19 preguntas para la clasificación de impacto. R2-Ctrl-1: El responsable del control debería considerar la inclusión del directivo del proceso de Atención al Ciudadano, ya que el coordinador del GIT de Infraestructura y/o el líder del equipo de revisión de proyectos podrían tener un conflicto de interés debido a su rol en la supervisión de los convenios. La descripción del riesgo R2-Ctrl-1: No indica la desviación de la ejecución control establecido. No se evidenció ejecución de los controles en el periodo, de acuerdo a la periodicidad del control se observa avance registrado. se deja alerta al proceso para que inicie ejecución de las acciones en las fechas programadas, con el fin de mitigar el riesgo de corrupción, se recomienda al proceso establecer una periodicidad de los controles. No se aporta evidencias por parte del proceso en la carpeta SharePoint, para este riesgo. Controles: La Actualización Procedimiento de revisión de proyectos acorde a la resolución: ATC-PD-007: Revisión de Proyectos de Infraestructura" no es claro, la aplicación del control ni la descripción de cómo se lleva a cabo el mismo en el periodo. Plan de tratamiento: R2-Acc-1: Na acción esta programada por el proceso para realizar entre 31/07/2025 al 20/10/2025, por tanto, no se registró. Los indicadores se requieren aportar evidencia de su aplicación en el documento de trabajo, ya que se detalla que su medición es cuatrimestral, se recomienda verificar la consistencia entre la frecuencia del control y los indicadores. Ahora bien, en la medición del Medición del Indicador del Desempeño del Control se describe: "50 proyectos radicados incorrectamente , sin cumplir con el procedimiento ATC-PD-007" por lo que se recomienda la verificación del reporte ya que esto podría ser un indicio de materialización del riesgo, por la manera en que está formulado el indicador.
A32: Servicio Integral al Ciudadano | B32: =VLOOKUP(A32,'Listas deplegables'!$A$2:$B$19,2,0) -> SI | C32: Posibilidad de recibir o solicitar cualquier dádiva o beneficio a nombre propio o de terceros por omitir el registro de PQRSD en los canales presenciales, telefónicos y chat | D32: No | E32: 45658 | F32: 45769 | G32: 45778 | H32: Apoyo | I32: Alto | J32: Si | K32: La coordinadora del grupo interno de trabajo de Servicio Integral al Ciudadano verifica que los responsables de la atención de canales realicen el registro en GESDOC de las atenciones a traves del un cierre diario de la gestión sobre los canales presencial, telefónico y chat . En caso de encontrar faltantes en los registos diarios se realiza el llamado de atención al responsable.. Evidencia: Reporte de gesdoc de atenciones por canal presencial, telefónico y chat e Informe trimestral de PQRSD | L32: Preventivo | M32: Si | N32: Si | O32: Si | P32: Reducir (Mitigar) | Q32: Moderado | R32: Si | S32: Si | T32: Documentar un formato de registro diario de las atenciones para los canales presencial, telefónico y chat | U32: No aplica | V32: No aplica | W32: No | X32: No aplica | Y32: No aplica | Z32: No aplica | AA32: Si | AB32: 0 | AC32: La redacción del riesgo no considera los cuatro (4) elementos para los riesgos de corrupción, no se refiere a daño económico o reputacional, ni la desviación específica de la gestión de lo público de manera que recomienda revisar y ajustar la redacción del riesgo. Acorde con el riesgo formulado se recominda al proceso (SI) realizar la identificación de causas relacionadas con garantizar el anonimato de los usuarios y funcionarios que interponen una denuncia, presiones ocultas para inducir a la omisión de radicación de peticiones por motivaciones poco éticas y evasión del procedimiento, debilidades en aplicación de sanciones displiciplinarias por no registrar una PQRSD. En la matriz el proceso (SI) dilgencio por error de transcripción como misional, en vez de apoyo. Considerando que el el plan de tratamiento documentará un registro diario de las atenciones para los canales presencial, telefónico y chat, se prevé en el periodo de 01/07/2025 al 30/11/2025, el proceso no aportó avances Se recomienda verificar el nivel de riesgo inherente, dado que no se evidencia el diligenciamiento de la Tabla de Impacto y la respuesta a los interrogantes que permite la clasificación en el mapa de calor
A33: Gestión de TIC'S | B33: =VLOOKUP(A33,'Listas deplegables'!$A$2:$B$19,2,0) -> GT | C33: Posibilidad de afectación económica o reputacional por acceder, facilitar el acceso o alterar los datos de los sistemas de información de la entidad con el fin de beneficiarse a nombre propio o de terceros | D33: Si | E33: 45955 | F33: 45772 | G33: 45782 | H33: Apoyo | I33: Alto | J33: Si | K33: Cada vez que se requiera, el Coordinador del GIT TIC's verificará que los niveles de acceso concedidos a los usuarios correspondan a los solicitados a través de los canales de atención En caso de identificar desviaciones en la ejecución del control, notificará al grupo de Soporte de GIT TIC´S para que revoque los permisos no solicitados. De la ejecución de los controles se generará la siguiente evidencia: reporte de usuarios y permisos por aplicación. | L33: Preventivo | M33: Si | N33: Si | O33: Si | P33: Reducir (Mitigar) | Q33: Alto | R33: Si | S33: Si | T33: Actualizar y solicitar la publicación de los documentos del proceso en el Sistema de Gestión de Calidad | U33: No | V33: No | W33: No | X33: No aplica | Y33: No aplica | Z33: No aplica | AA33: Si | AB33: 0 | AC33: Referente a la ejecución del Plan de Tratamiento de manera eficaz referente con la actualización y publicación de los documentos del proceso en el Sistema de Gestión de Calidad no precisa si es para la mejora de establecer una política de gobernanza TIC y divulgarla institucionalmente. Por otra, parte en el plan de tratamiento del riesgo a nivel especifico podria considerar establecer lineamientos para los permisos de acceso no revocados a tiempo. Se recomienda ajustar los indicadores cumplimiento para permisos de acceso no revocados a tiempo, autorización de acceso a las aplicaciones correctas en el momento adecuado, corrección de vulnerabilidades para mejorar la implementación de la seguridad y la eficiencia de los permisos de acceso. El proceso indica que los documentos actualizados aprobados en el Sistema de Gestión de Calidad se presentan con fecha limite del 30/11/2025, a la fecha no presenta evidencia:bitácora de incidentes de seguridad de la información, Inventario Proyectos Especiales de Tecnología, operación de Backus y restauración de información, política de seguridad de la información, POLITICA DE SEGURIDAD DE LA INFORMACIÓN, Proyectos Especiales de Tecnología, Recolección de Evidencia Digital, Reporte de Incidentes de Seguridad de la Informaciòn. R1C1: Se evidencia reporte excel del listado usuario expirados, la Oficina de Control Interno recomienda verificar la evidencia establecida, toda vez, que la misma no se permite determinar si corresponde al "reporte de usuarios y permisos por aplicación" como se describe con el control. El proceso en el documento de retroalimentación realizada por la Segunda Línea al proceso (GT) manifiesta que la ejecución del control se reporta en estado pendiente. La evidencia del RC2 no corresponde con lo establecido en la descripción del riesgo. A su vez, no se encuentra, la descripción del indicador que permita verificar la efectividad de la socialización de la politica de seguridad de informacion y régimen sancionatorio ante acceso informático indebido vigentes mediante piezas de comunicación y charlas en las que se incluyan tips de seguridad de la información. El profesional experto en ciberseguridad se contrató el 14 de abril 2025, finalizando el primer cuatrimestre de seguimiento de riesgos 2025, tal como consta: el CPSP 315 de 2025, considerando el plan de tratamiento esto conlleva a que la evidencia de los Accesos indebidos bloqueados, se debe considerar la programación de la ejecución de las acciones.
A34: Gestión de TIC'S | B34: =VLOOKUP(A34,'Listas deplegables'!$A$2:$B$19,2,0) -> GT | J34: Si | K34: Semestralmente, el Coordinador del GIT TIC's socializará la politica de seguridad de informacion y régimen sancionatorio ante acceso informático indebido vigentes mediante piezas de comunicación y charlas en las que se incluyan tips de seguridad de la información. En caso de identificar desviaciones en la ejecución del control, se remitirá a la visualización de las charlas publicadas en la sección Seguridad de la Información en la Intranet institucional. De la ejecución de los controles se generará la siguiente evidencia: Listados de asistencia a las socializaciones y cuando aplique a las grabaciones. | L34: Preventivo | M34: Si | N34: Si | O34: Si | P34: Reducir (Mitigar) | Q34: Alto | R34: No aplica | S34: Si | T34: Accesos indebidos bloqueados | U34: No | V34: Si
A35: Gestión del Talento Humano | B35: =VLOOKUP(A35,'Listas deplegables'!$A$2:$B$19,2,0) -> GH | C35: Posibilidad afectación económica y reputacional por Recibir o solicitar dadivas o beneficio por direccionamiento de vinculación en favor propio o de un tercero debido a las posibles debilidades en la implementación de procesos y procedimientos internos | D35: No | E35: 45643 | F35: 45772 | G35: 45783 | H35: Apoyo | I35: Alto | J35: Si | K35: El Profesional designado por el Coordinador de GIT Talento Humano debera verificar que los documentos de los candidatos a cubrir las vacantes cumpla con los requisitos establecidos en el manual de funciones, mediante la actualización del Procedimiento de Vinculación de Servidores Públicos, revisando que queden estipulados todos los requisitos y controles del proceso de vinculación de los funcionarios. | L35: Preventivo | M35: Si | N35: Si | O35: No | P35: Reducir (Mitigar) | Q35: Alto | R35: No | S35: Si | T35: Gestionar mediante mesas de trabajo, la revisión del manual de funciones | U35: No | V35: No | W35: No | X35: No aplica | Y35: No aplica | Z35: No aplica | AA35: No | AB35: 0 | AC35: La redacción del riesgo no considera los cuatro (4) elementos para los riesgos de corrupción, no se refiere a la desviación específica de la gestión de lo público y el beneficio privado de manera que recomienda revisar y ajustar la redacción del riesgo. R1-Ctrl 1: El proceso GH no ha iniciado la actividad de control. Se recomienda dar celeridad al inicio de la actualización del procedimiento "Vinculación de Servidores Públicos", con el fin de establecer puntos de control asociados a la verificación de requisitos para cubrir vacantes, en concordancia con el Manual de Funciones. Así mismo, y conforme a los lineamientos establecidos por la OAP, los controles o planes de tratamiento que involucren la actualización o creación de documentos no deberán superar como plazo el segundo cuatrimestre del año. R1-Acc1: Actividad no iniciada, asociada a la revisión del manual de funciones, pese a que tenia fecha de ejecución en febrero, se recomienda actualizar. Manifiesta la segunda línea: "A pesar de que la OAP estableció un documento de trabajo para el monitoreo y la medición de los indicadores, este no fue implementado. Asimismo, en el mapa de riesgos, el proceso en la medición, señalado como “N/A”, sin evidencia de seguimiento alguno. Esta situación impide realizar monitoreo eficiente". No se presentan evidencias de la ejecución de controles, acciones, medición de indicadores, por lo que no se permite concluir que el proceso esté realizando tratamiento al riesgo de corrupción identificado. En adición, el control presenta dos actividades en una, por lo que se recomienda separa la verificación de requisitos de la actualización del procedimiento.
A36: Gestión Documental | B36: =VLOOKUP(A36,'Listas deplegables'!$A$2:$B$19,2,0) -> GD | C36: Posibilidad de afectación economica y reputacional al recibir cualquier dádiva o beneficio a nombre propio o de terceros con el fin de omitir información o perdida de expedientes del archivo central. | D36: No | E36: 45645 | F36: No diligenciado | G36: 45783 | H36: Apoyo | I36: Alto | J36: Si | K36: De acuerdo con el cronograma establecido de capacitaciones, el profesional en Gestión Documental, debe socializar los lineamientos de la Gestión Documental frente al manejo del archivo y la información. En caso de identificar desviaciones en la ejecución del control, ajustar el cronograma de capacitación según la necesidad y cambios a que haya lugar con la debida justificación. De la ejecución de los controles se generará la siguiente evidencia: Piezas comunicativas socializadas en la intranet y listas de asistencia. | L36: Preventivo | M36: Si | N36: Si | O36: No | P36: Reducir (Mitigar) | Q36: Moderado | R36: Si | S36: Si | T36: Realizar encuestas a los funcionarios y contratistas para identificar la apropiacion de conocimientos adquiridos por los funcionarios y contratistas cada vez que se realice la difusión de la información | U36: Si | V36: Si | W36: No diligenció la casilla | X36: No diligenció la casilla | Y36: No diligenció la casilla | Z36: No diligenció la casilla | AA36: No | AB36: 0 | AC36: La redacción del riesgo no considera los cuatro (4) elementos para los riesgos de corrupción, no se refiere a la desviación específica de la gestión de lo público y el beneficio privado En la matriz, el proceso GD no diligenció las casillas correspondientes a la materialización de riesgos. Asimismo, la segunda línea no registró ningún pronunciamiento al respecto en el formato DE-FR-002. No obstante, se evidencia que se ha realizado seguimiento a través de correo electrónico. Se recomienda a la segunda línea documentar dicho seguimiento y dejar trazabilidad en el formato y en la casilla dispuesta para tal fin. Es importante tener en cuenta que el documento cargado en Isolucion no permite el acceso a SharePoint, lo que afecta la trazabilidad del monitoreo. En R-Ctrl 1 no se encuentran los listados de asistencia que evidencian el cumplimiento de las fechas establecidas en el cronograma del plan de capacitación (GD). No obstante, el proceso (GD) en aras de la descripción del control, podría ajustar el cronograma de capacitación según la necesidad y cambios a que haya lugar con la debida justificación, tal como se encuentra en los listados de asistencia identificados en el R1-Ctrl 3. En el plan de tratamiento R1-Ctrl 2 no se evidencia la "Comunicación de salida solicitando cotización de espacios fisicos". Además no hay coherencia entre la acción y el soporte de la acción mencionadas en el plan de tratamiento. Teniendo en cuenta, que no es posible determinar que los controles sean ineficaces o efectivos, no es coherente, que se encuentre en Zona de Riesgo Residual Final moderado. Con respecto, al informe de resutados R1-Ctrl 1 se recomienda incluir análisis de información para la toma de decisiones que permitan la mejora continúa para la apropiacion de conocimientos adquiridos por los funcionarios y contratistas, cada vez, que se realice la difusión de la información. Se recomienda al proceso incluir la periodicidad de la ejecución de los controles. La evidencia R1-Ctrl 3 correspondiente con el HOJA DE CONTROL / INDICE DE INFORMACIÓN - GD-FR-038 no fue aportada por parte del proceso (GD)
A37: Gestión Documental | B37: =VLOOKUP(A37,'Listas deplegables'!$A$2:$B$19,2,0) -> GD | J37: Si | K37: El Coordinador GIT de Gestión Administrativa, gestiona espacios fisicos para el almacenamiento del acervo documental del archivo central, a través de los Comités Institucionales de Gestión y Desempeño el Git de Administrativa presenta la necesidad de adquirir espacios fisicos adecuados para el almacenamiento del acervo documental. En caso de identificar desviaciones en la ejecución del control, el coodinador del GIT Gestión Administrativa enviará comunicación interna al ordenador del gasto exponiendo las debilidades que el proceso de gestión documental tiene en la actualidad, que conllevaria a la materialización del riesgo . De la ejecución de los controles se generará la siguiente evidencia: solicitud cotizaciones, Acta de Comité de Gestión (presentación del GIT Administrativa, y memorando interno (cuando aplique). | L37: Preventivo | M37: Si | N37: Si | O37: No | P37: Reducir (Mitigar) | Q37: Moderado | R37: Si | S37: Si | T37: Reforzar capacitaciones de gestión documental adicionales por demanda | U37: No | V37: No
A38: Gestión Documental | B38: =VLOOKUP(A38,'Listas deplegables'!$A$2:$B$19,2,0) -> GD | J38: Si | K38: El profesional en Gestión Documental cuando se requiera, valida la integridad de los expedientes producidos por los diferentes Grupos Internos de Trabajo. A través de visitas a las dependencias se diligencia para aquellas series compuestas el formato GD-FR-038 " Hoja de control / Indice de Información. En caso de identificar desviaciones en la ajecución del control, se debe aplicar el procedimiento Reconstrucción de Expedientes " . De la ejecución de los controles se generará la siguiente evidencia: Acta de visitas a las dependencias y registro GD-FR-038. | L38: Preventivo | M38: Si | N38: Si | O38: No | P38: Reducir (Mitigar) | Q38: Moderado | R38: No | S38: Si | T38: Realizar por semestre una (1) Pieza comunicativa sobre el procedimiento de reconstrucción de expedientes Realizar informe de seguimiento anual | U38: Si | V38: Si
A39: Adquisición de Bienes y Servicios | B39: =VLOOKUP(A39,'Listas deplegables'!$A$2:$B$19,2,0) -> BS | C39: Posibilidad de Afectación Reputacional por recibir cualquier dádiva o beneficio a nombre propio o de terceros por el direccionamiento indebido de procesos de contratación | D39: No | E39: 45642 | F39: 45770 | G39: 45783 | H39: Apoyo | I39: Extremo | J39: Si | K39: Cada vez que se requiera, el Coordinador GIT Contratación Realiza el seguimiento a los procesos asignados a cada estructurador en aras que los contratos se suscriban en un tiempo adecuado. Se realiza el reparto de los procesos a los estructuradores, evidenciando la fecha de asignación del proceso y la fecha de suscripción del contrato en caso de identificar desviaciones en la ejecución del control, propender por la reasignación oportuna a nuevo personal que garantize la continuidad del servicio. De la ejecución de los controles se generará la siguiente evidencia: Muestra de correos asignando los procesos a los estructuradores y/o base de datos con los procesos asignados a cada estructurador | L39: Preventivo | M39: Si | N39: Si | O39: Si | P39: Reducir (Mitigar) | Q39: Extremo | R39: Si | S39: Si | T39: Realizar la actualización de la base de contratación cada vez que se realice una nueva solicitud, es decir incluir aquellas que estan en trámite, para garantizar un seguimiento | U39: No | V39: Si | W39: No | X39: No aplica | Y39: No aplica | Z39: No aplica | AA39: Si | AB39: 0 | AC39: La redacción del riesgo no considera los cuatro (4) elementos para los riesgos de corrupción, no se refiere a la desviación específica de la gestión de lo público y el beneficio privado. La acción del plan de tratamiento planteada corresponde a la descripción del control denominado: base de datos con los procesos asignados a cada estructurador. Se recomienda, ajustar la acción de plan de tratamiento. Según soporte del la OAP denominado Retroalimentación primer monitoreo Mapas de riesgos 2025 12- Adquisición BYS, indica que "Se realizó verificación de las actas aportadas, evidenciándose que las actas numero 2,3,4 y 5 no están firmadas, solamente se evidencia las firmas correspondientes del acta".
A40: Adquisición de Bienes y Servicios | B40: =VLOOKUP(A40,'Listas deplegables'!$A$2:$B$19,2,0) -> BS | J40: Si | K40: Cada vez que se requierael Coordinador GIT Contratación Cita al Comite de Contratación para que se revisen los procesos que tengan un valor superior a la miníma cuantia, y se hagan las recomendaciones necesarias para adelantar la gestión contractual de la mejor manera posible. Se realiza la convocatoria a través de la plataforma Teams acorde alas necesidades expuestas por las áreasEn caso de identificar desviaciones en la ejecución del control, se revisará la normativa para garantizar la legalidad de los procesos que se adelanten. De la ejecución de los controles se generará la siguiente evidencia: Actas y/o grabaciones del Comité de Contratación | L40: Preventivo | M40: Si | N40: Si | O40: Si | P40: Reducir (Mitigar) | Q40: Extremo | R40: Si
A41: Gestión Financiera | B41: =VLOOKUP(A41,'Listas deplegables'!$A$2:$B$19,2,0) -> GF | C41: Posibilidad de Afectación Económica y Reputacional por posibles comportamientos no éticos de los empleados y fraude interno (corrupción, soborno), debido a Incurrir en inconsistencias en el desarrollo de las actividades asociadas a las Conciliaciones Bancarias que no sean conformes con los lineamientos del proceso de Gestión Financiera y la legislación vigente y a la falta de verificación de cálculos para pagos internos y externos que conlleva a errores, pagos que no sean conformes con los lineamientos de la Entidad y/o la legislación vigente, que no refleje la realidad financiera de la Entidad e impida la optimización de los recursos, sin el cumplimiento de los requisitos establecidos por el proceso de Gestión Financiera | D41: No | E41: 45589 | F41: 45772 | G41: 45782 | H41: Apoyo | I41: Extremo | J41: Si | K41: Cada vez que se requiera, el Coordinador (a) del GIT Tesorería y/o profesionales designados, debe conciliar la información financiera generada de las actividades desarrolladas teniendo en cuenta lo dispuesto en el procedimiento GF-PD-019 del proceso de Gestión Financiera, mediante el cruce de información de los registros efectuados . En caso de identificar desviaciones en la ejecución del control, se efectúan los ajustes requeridos mediante las transacciones dispuestas para tal fin. De la ejecución del control se generará la siguiente evidencia: Formato GF-FR–010 Conciliación Bancaria firmado o correo electrónico de devolución para ajuste. | L41: Detectivo | M41: Si | N41: Si | O41: Si | P41: Reducir (Mitigar) | Q41: Extremo | R41: Si | S41: Si | T41: 1. Elaborar el procedimiento de Gestión de Pagos, donde se evidencian las actividades del GIT Tesorería. | U41: Si | V41: Si | W41: No | X41: No aplica | Y41: No aplica | Z41: No aplica | AA41: Si | AB41: 0 | AC41: La redacción del riesgo no considera los cuatro (4) elementos para los riesgos de corrupción, no se refiere a la desviación específica de la gestión de lo público y el beneficio privado, por lo que se recomienda ajustar su descripción. Se evidencia monitoreo de primera y segunda línea de defensa, debidamente documentados.
...

Sheet Sg-MRF
A1: MATRIZ SEGUIMIENTO MAPA DE RIESGOS FISCALES
B2: Entidad: Ministerio del Deporte | I2: ¿Se adelantó seguimiento al Mapa de Riesgos Fiscales?
B3: Responsable: Tercera línea de defensa
B4: Seguimiento: Primer Cuatrimestre 2025 | I4: Si | J4: Primer y segunda línea de defensa
B5: Fecha de publicación: 15 de mayo de 2025
A6: SEGUIMIENTO Y EVALUACIÓN POR PARTE DE LA TERCERA LÍNEA DE DEFENSA
A8: FORMULACIÓN DE RIESGOS Y EVALUACIÓN | J8: VALORACIÓN DE LOS CONTROLES | S8: PLAN DE TRATAMIENTO | W8: MONITOREO, SEGUIMIENTO Y EVALUACIÓN
