Workbook

Sheet PAAI
BF1: Pendiente
BF2: En Ejecución
BF3: Finalizada
C5: PROCESO | BI5: Versión: 1
C6: SEGUIMIENTO Y EVALUACIÓN DE LA GESTIÓN | BI6: CODIGO:
BI7: SG - FR - 016
C8: FORMATO
C9: SEGUIMIENTO PLAN ANUAL DE AUDITORÍA INTERNA | BI9: Pagina 1 de 1
B12: Vigencia Aplicable: | C12: 2019 | F12: Fecha de seguimiento: | O12: Lunes 15 de octubre de 2019 | BH12: Versión del Plan: | BI12: 2
B14: TIPO DE TRABAJO | C14: DENOMINACIÓN DEL TRABAJO | D14: EQUIPO AUDITOR | E14: FECHA DE INICIO PLANIFICADA | F14: FECHA DE FINALIZACIÓN PLANIFICADA | G14: Ene | K14: Feb | O14: Mar | S14: Abr | W14: May | AB14: Jun | AF14: Jul | AJ14: Ago | AO14: Sep | AS14: Oct | AX14: Nov | BB14: Dic | BF14: ESTADO ACTUAL | BG14: FECHA DE INICIO REAL | BH14: FECHA DE FINALIZACIÓN REAL | BI14: NÚMERO DE RADICADO
G15: 1 | H15: 2 | I15: 3 | J15: 4 | K15: 1 | L15: 2 | M15: 3 | N15: 4 | O15: 1 | P15: 2 | Q15: 3 | R15: 4 | S15: 1 | T15: 2 | U15: 3 | V15: 4 | W15: 1 | X15: 2 | Y15: 3 | Z15: 4 | AA15: 5 | AB15: 1 | AC15: 2 | AD15: 3 | AE15: 4 | AF15: 1 | AG15: 2 | AH15: 3 | AI15: 4 | AJ15: 1 | AK15: 2 | AL15: 3 | AM15: 4 | AN15: 5 | AO15: 1 | AP15: 2 | AQ15: 3 | AR15: 4 | AS15: 1 | AT15: 2 | AU15: 3 | AV15: 4 | AW15: 5 | AX15: 1 | AY15: 2 | AZ15: 3 | BA15: 4 | BB15: 1 | BC15: 2 | BD15: 3 | BE15: 4 | BK15: fecha plan | BL15: diferencia | BM15: N° prog anual | BN15: N° eje mar
B16: Seguimiento Normativo | C16: Informe Pormenorizado del Sistema de Control Interno (incluye la publicación). | D16: Angela Marquez | E16: 1-mar-19 28-jun-19 30-oct-19 | F16: 13-mar-19 12-jul-19 14-nov-19 | BF16: Finalizada | BG16: 43525 | BH16: 43536 | BI16: 2019IE0001066 | BK16: 43537 | BL16: =DAYS360(BK16,BH16) -> -1 | BM16: 3 | BN16: 2
BF17: Finalizada | BH17: 43656 | BI17: 2019IE0004066 | BK17: 43658 | BL17: =DAYS360(BK17,BH17) -> -2
B19: Seguimiento Normativo | C19: Elaboraci+on y Publicación Estrategias del Plan Anticorrupción y de Atención al Ciudadano | D19: Angela Marquez | E19: 43504 | F19: 43514 | BF19: Finalizada | BH19: 43514 | BI19: 2019IE0000495 | BK19: 43514 | BL19: =DAYS360(BK19,BH19) -> 0 | BM19: 1 | BN19: 1
B20: Seguimiento Normativo | C20: Seguimiento Plan Anticorrupción y de Atención al Ciudadano y Mapa de Riesgos de Corrupción | D20: Angela Marquez | E20: dic-18 30-abr-19 30-ago-19 | F20: 15-ene-19 14-may-19 12-sep-19 | BF20: Finalizada | BH20: 43479 | BI20: 2019IE0000087 | BK20: 43480 | BL20: =DAYS360(BK20,BH20) -> -1 | BM20: 3 | BN20: 3
BF21: Finalizada | BH21: 43598 | BI21: 2019IE0002748 | BK21: 43599 | BL21: =DAYS360(BK21,BH21) -> -1
BF22: Finalizada | BH22: 43720 | BI22: 2019IE0005077 | BK22: 43720 | BL22: =DAYS360(BK22,BH22) -> 0
B23: Seguimiento Normativo | C23: Seguimiento Mapa de Riesgos Gestión de la Entidad | D23: Angela Marquez | E23: dic-18 30-abr-19 30-ago-19 | F23: 15-ene-19 14-may-19 12-sep-19 | BF23: Finalizada | BH23: 43479 | BI23: 2019IE0000086 | BK23: 43480 | BL23: =DAYS360(BK23,BH23) -> -1 | BM23: 3 | BN23: 3
BF24: Finalizada | BH24: 43598 | BI24: 2019IE0002749 | BK24: 43599 | BL24: =DAYS360(BK24,BH24) -> -1
BF25: Finalizada | BH25: 43720 | BI25: 2019IE0005078 | BK25: 43720 | BL25: =DAYS360(BK25,BH25) -> 0
B26: Seguimiento Normativo | C26: Respuestas de las Peticiones, Quejas, Reclamos, Sugerencias y Denuncias (Oportunidad y Calidad) | D26: Diana Lovo Lorena Campo | E26: 4-mar-19 24-jul-19 | F26: 8-mar-19 5-ago-19 | BF26: Finalizada | BH26: 43542 | BI26: 2019IE0001192 | BK26: 43532 | BL26: =DAYS360(BK26,BH26) -> 10 | BM26: 2 | BN26: 2
BF27: Finalizada | BH27: 43690 | BI27: 2019IE0004508 | BK27: 43682 | BL27: =DAYS360(BK27,BH27) -> 8
B28: Seguimiento Normativo | C28: Informe de la Evaluación de Control Interno Contable (a través del CHIP). | D28: Lixy Romero | F28: 43524 | BF28: Finalizada | BH28: 43524 | BI28: 2019IE0000738 | BK28: 43524 | BL28: =DAYS360(BK28,BH28) -> -2 | BM28: 1 | BN28: 1
B29: Seguimiento Normativo | C29: Informe de Revisión de la información Reportada a la Contaduría General de la Nación a través del CHIP | D29: Lixy Romero | E29: 23-abr-19 23-ago-19 2-dic-19 | F29: 15-feb-19 3-may-19 4-sep-19 12-dic-19 | BF29: Finalizada | BH29: 43514 | BI29: 2019IE0000498 | BK29: 43511 | BL29: =DAYS360(BK29,BH29) -> 3 | BM29: 4 | BN29: 3
BF30: Finalizada | BH30: 43591 | BI30: 2019IE0002466 | BK30: 43588 | BL30: =DAYS360(BK30,BH30) -> 3
BF31: Finalizada | BH31: 43712 | BI31: 2019IE0004936 | BK31: 43712 | BL31: =DAYS360(BK31,BH31) -> 0
B33: Seguimiento Normativo | C33: Informe Evaluacion Institucional por Procesos /Áreas (Calificación Funcionarios Carrera Administrativa y LNR) (15 DH) | D33: Sandra L. Montes Angela Marquez | F33: 43514 | BF33: Finalizada | BG33: 43507 | BH33: 43516 | BI33: 2019IE0000559 | BK33: 43514 | BL33: =DAYS360(BK33,BH33) -> 2 | BM33: 1 | BN33: 1
B34: Seguimiento Normativo | C34: Informe Cumplimiento Normas de Derechos de Autor. | D34: Nicolas Morales | E34: 43530 | F34: 43538 | BF34: Finalizada | BH34: 43546 | BI34: 2019IE0001287 | BK34: 43538 | BL34: =DAYS360(BK34,BH34) -> 8 | BM34: 1 | BN34: 1
B35: Seguimiento Normativo | C35: Certificacion EKOGUI (Julio - Diciembre y Enero - Junio) | D35: Diana Lovo Lorena Campo | E35: 21-ago-19 | F35: 28-feb-19 30-ago-19 | BF35: Finalizada | BH35: 43522 | BI35: 2019EE0002273 | BK35: 43524 | BL35: =DAYS360(BK35,BH35) -> -4 | BM35: 2 | BN35: 2
BF36: Finalizada | BH36: 43734 | BI36: 2019EE0020222 | BK36: 43707 | BL36: =DAYS360(BK36,BH36) -> 26
B37: Seguimiento Normativo | C37: Informe de Gestión de los Comités de Conciliación y acciones tomadas. (Acción de Repetición Cuando se presente) ANDJE | D37: Diana Lovo Lorena Campo | E37: 6-mar-19 28-ago-19 | F37: 14-mar-19 6-sep-19 | BF37: Finalizada | BH37: 43550 | BI37: 2019IE0001312 | BK37: 43538 | BL37: =DAYS360(BK37,BH37) -> 12 | BM37: 2 | BN37: 1
BF38: Finalizada | BH38: 43741 | BI38: 2019IE0005294 | BK38: 43714 | BL38: =DAYS360(BK38,BH38) -> 27
B39: Seguimiento Normativo | C39: Seguimiento y monitoreo mensual de Austeridad en el Gasto Público (por áreas) | D39: Lixy Romero Johana (desde nov) | E39: 15-mar-19 4-abr-19 3-may-19 5-jun-19 3-jul-19 2-ago-19 3-sep-19 2-oct-19 1-nov-19 3-dic-19 | F39: 29-mar-19 22-abr-19 16-may-19 18-jun-19 16-jul-19 16-ago-19 17-sep-19 16-oct-19 18-nov-19 16-dic-19 | BF39: Finalizada | BH39: 43553 | BI39: 2019IE0001379 | BK39: 43553 | BL39: =DAYS360(BK39,BH39) -> 0 | BM39: 10 | BN39: 7
BF40: Finalizada | BH40: 43578 | BI40: 2019IE0002001 | BK40: 43577 | BL40: =DAYS360(BK40,BH40) -> 1
BF41: Finalizada | BH41: 43601 | BI41: 2019IE0002810 | BK41: 43601 | BL41: =DAYS360(BK41,BH41) -> 0
BF42: Finalizada | BH42: 43657 | BI42: 2019IE0004093 | BK42: 43634 | BL42: =DAYS360(BK42,BH42) -> 23
BF43: Finalizada | BH43: 43662 | BI43: 2019IE0004162 | BK43: 43662 | BL43: =DAYS360(BK43,BH43) -> 0
BF44: Finalizada | BH44: 43698 | BI44: 2019IE0004616 | BK44: 43693 | BL44: =DAYS360(BK44,BH44) -> 5
BF45: Finalizada | BH45: 43725 | BI45: 2019IE0005145 | BK45: 43725 | BL45: =DAYS360(BK45,BH45) -> 0
B49: Seguimiento Normativo | C49: Seguimiento y monitoreo trimestral de Austeridad en el Gasto Público (por áreas) | D49: Lixy Romero | E49: 4-abr-19 11-jul-19 11-oct-19 | F49: 25-ene-19 22-abr-19 18-jul-19 18-oct-19 | BF49: Finalizada | BH49: 43542 | BI49: 2019IE0001217 | BK49: 43490 | BL49: =DAYS360(BK49,BH49) -> 53 | BM49: 4 | BN49: 3
...

Sheet Indicadores
A1: Indicador Cumplimiento PAAI
A2: Tipo de Trabajo | B2: N° trabajos programados en el año | C2: N° trabajos ejecutados | D2: % Cumplimiento | E2: N° trabajos programados corte 31-oct | F2: N° trabajos ejecutados | G2: % Cumplimiento corte 31-oct | H2: N° trabajos sin finalizar/ejecutar
A3: Seguimiento Normativo | B3: =+SUM(PAAI!BM16:BM110) -> 95 | C3: =+SUM(PAAI!BN16:BN110) -> 67 | D3: =+C3/B3 -> 0.70526316 | E3: =+COUNT(PAAI!BK16:BK110) -> 70 | F3: =+C3 -> 67 | G3: =+F3/E3 -> 0.95714286 | H3: =+E3-F3 -> 3 | I3: 1 Informe de Gestión de los Comités de Conciliación (Extemporaneo) 1 Seguimiento PMA (por ausencia de recursos) 1 Implementación del PGD (por ausencia de recursos) 1 Seguimiento SGSST (reprogramado) 1 Reporte Información al SIGEP (eliminado)
A4: Auditoria Interna | B4: =+SUM(PAAI!BM111:BM127) -> 17 | C4: =+SUM(PAAI!BN111:BN127) -> 11 | D4: =+C4/B4 -> 0.64705882 | E4: =+COUNT(PAAI!BK111:BK127) -> 13 | F4: =+C4 -> 11 | G4: =+F4/E4 -> 0.84615385 | H4: =+E4-F4 -> 2 | I4: 2 Adquisicion de bienes y serv (Finalizacion anticipada cto Admon y abogado) 1 Adquisicion de bienes y serv (reprogramada) 1 Adquisicion de bienes y serv (en ejecución y reprogramada) 1 Altos Logros (en ejecución y reprogramada) 1 ATC (en ejecución y reprogramada)
A5: Seguimientos (enfoque hacia la prevención) | B5: =+SUM(PAAI!BM128:BM134) -> 7 | C5: =+SUM(PAAI!BN128:BN134) -> 0 | D5: =+C5/B5 -> 0 | E5: =+COUNT(PAAI!BK128:BK134) -> 0 | F5: =+C5 -> 0 | G5: =+F5/E5 -> #DIV/0! | H5: =+E5-F5 -> 0
A6: TOTAL | B6: =SUM(B3:B5) -> 119 | C6: =SUM(C3:C5) -> 78 | D6: =+C6/B6 -> 0.65546218 | E6: =SUM(E3:E4) -> 83 | F6: =SUM(F3:F4) -> 78 | G6: =+F6/E6 -> 0.93975904 | H6: =SUM(H3:H4) -> 5
E7: En tiempo: 28 | F7: =28/E6 -> 0.3373494
E8: Extemporaneo: 57 | F8: =57/E6 -> 0.68674699
