Workbook

Sheet PAAI
BF1: Pendiente
BF2: En Ejecución
BF3: Finalizada
C5: PROCESO | BI5: Versión: 1
C6: SEGUIMIENTO Y EVALUACIÓN DE LA GESTIÓN | BI6: CODIGO:
BI7: SG - FR - 016
C8: FORMATO
C9: SEGUIMIENTO PLAN ANUAL DE AUDITORÍA INTERNA | BI9: Pagina 1 de 1
B12: Vigencia Aplicable: | C12: 2019 | F12: Fecha de seguimiento: | O12: Lunes 15 de octubre de 2019 | BH12: Versión del Plan: | BI12: 2
B14: TIPO DE TRABAJO | C14: DENOMINACIÓN DEL TRABAJO | D14: EQUIPO AUDITOR | E14: FECHA DE INICIO PLANIFICADA | F14: FECHA DE FINALIZACIÓN PLANIFICADA | G14: Ene | K14: Feb | O14: Mar | S14: Abr | W14: May | AB14: Jun | AF14: Jul | AJ14: Ago | AO14: Sep | AS14: Oct | AX14: Nov | BB14: Dic | BF14: ESTADO ACTUAL | BG14: FECHA DE INICIO REAL | BH14: FECHA DE FINALIZACIÓN REAL | BI14: NÚMERO DE RADICADO
G15: 1 | H15: 2 | I15: 3 | J15: 4 | K15: 1 | L15: 2 | M15: 3 | N15: 4 | O15: 1 | P15: 2 | Q15: 3 | R15: 4 | S15: 1 | T15: 2 | U15: 3 | V15: 4 | W15: 1 | X15: 2 | Y15: 3 | Z15: 4 | AA15: 5 | AB15: 1 | AC15: 2 | AD15: 3 | AE15: 4 | AF15: 1 | AG15: 2 | AH15: 3 | AI15: 4 | AJ15: 1 | AK15: 2 | AL15: 3 | AM15: 4 | AN15: 5 | AO15: 1 | AP15: 2 | AQ15: 3 | AR15: 4 | AS15: 1 | AT15: 2 | AU15: 3 | AV15: 4 | AW15: 5 | AX15: 1 | AY15: 2 | AZ15: 3 | BA15: 4 | BB15: 1 | BC15: 2 | BD15: 3 | BE15: 4 | BK15: fecha plan | BL15: diferencia | BM15: N° prog anual | BN15: N° eje mar
B16: Seguimiento Normativo | C16: Informe Pormenorizado del Sistema de Control Interno (incluye la publicación). | D16: Angela Marquez | E16: 1-mar-19 28-jun-19 30-oct-19 | F16: 13-mar-19 12-jul-19 14-nov-19 | BF16: Finalizada | BG16: 43525 | BH16: 43536 | BI16: 2019IE0001066 | BK16: 43537 | BL16: =DAYS360(BK16,BH16) -> -1 | BM16: 3 | BN16: 2
BF17: Finalizada | BH17: 43656 | BI17: 2019IE0004066 | BK17: 43658 | BL17: =DAYS360(BK17,BH17) -> -2
B19: Seguimiento Normativo | C19: Elaboraci+on y Publicación Estrategias del Plan Anticorrupción y de Atención al Ciudadano | D19: Angela Marquez | E19: 43504 | F19: 43514 | BF19: Finalizada | BH19: 43514 | BI19: 2019IE0000495 | BK19: 43514 | BL19: =DAYS360(BK19,BH19) -> 0 | BM19: 1 | BN19: 1
B20: Seguimiento Normativo | C20: Seguimiento Plan Anticorrupción y de Atención al Ciudadano y Mapa de Riesgos de Corrupción | D20: Angela Marquez | E20: dic-18 30-abr-19 30-ago-19 | F20: 15-ene-19 14-may-19 12-sep-19 | BF20: Finalizada | BH20: 43479 | BI20: 2019IE0000087 | BK20: 43480 | BL20: =DAYS360(BK20,BH20) -> -1 | BM20: 3 | BN20: 3
BF21: Finalizada | BH21: 43598 | BI21: 2019IE0002748 | BK21: 43599 | BL21: =DAYS360(BK21,BH21) -> -1
BF22: Finalizada | BH22: 43720 | BI22: 2019IE0005077 | BK22: 43720 | BL22: =DAYS360(BK22,BH22) -> 0
B23: Seguimiento Normativo | C23: Seguimiento Mapa de Riesgos Gestión de la Entidad | D23: Angela Marquez | E23: dic-18 30-abr-19 30-ago-19 | F23: 15-ene-19 14-may-19 12-sep-19 | BF23: Finalizada | BH23: 43479 | BI23: 2019IE0000086 | BK23: 43480 | BL23: =DAYS360(BK23,BH23) -> -1 | BM23: 3 | BN23: 3
BF24: Finalizada | BH24: 43598 | BI24: 2019IE0002749 | BK24: 43599 | BL24: =DAYS360(BK24,BH24) -> -1
BF25: Finalizada | BH25: 43720 | BI25: 2019IE0005078 | BK25: 43720 | BL25: =DAYS360(BK25,BH25) -> 0
B26: Seguimiento Normativo | C26: Respuestas de las Peticiones, Quejas, Reclamos, Sugerencias y Denuncias (Oportunidad y Calidad) | D26: Diana Lovo Lorena Campo | E26: 4-mar-19 24-jul-19 | F26: 8-mar-19 5-ago-19 | BF26: Finalizada | BH26: 43542 | BI26: 2019IE0001192 | BK26: 43532 | BL26: =DAYS360(BK26,BH26) -> 10 | BM26: 2 | BN26: 2
BF27: Finalizada | BH27: 43690 | BI27: 2019IE0004508 | BK27: 43682 | BL27: =DAYS360(BK27,BH27) -> 8
B28: Seguimiento Normativo | C28: Informe de la Evaluación de Control Interno Contable (a través del CHIP). | D28: Lixy Romero | F28: 43524 | BF28: Finalizada | BH28: 43524 | BI28: 2019IE0000738 | BK28: 43524 | BL28: =DAYS360(BK28,BH28) -> -2 | BM28: 1 | BN28: 1
B29: Seguimiento Normativo | C29: Informe de Revisión de la información Reportada a la Contaduría General de la Nación a través del CHIP | D29: Lixy Romero | E29: 23-abr-19 23-ago-19 2-dic-19 | F29: 15-feb-19 3-may-19 4-sep-19 12-dic-19 | BF29: Finalizada | BH29: 43514 | BI29: 2019IE0000498 | BK29: 43511 | BL29: =DAYS360(BK29,BH29) -> 3 | BM29: 4 | BN29: 3
BF30: Finalizada | BH30: 43591 | BI30: 2019IE0002466 | BK30: 43588 | BL30: =DAYS360(BK30,BH30) -> 3
BF31: Finalizada | BH31: 43712 | BI31: 2019IE0004936 | BK31: 43712 | BL31: =DAYS360(BK31,BH31) -> 0
B33: Seguimiento Normativo | C33: Informe Evaluacion Institucional por Procesos /Áreas (Calificación Funcionarios Carrera Administrativa y LNR) (15 DH) | D33: Sandra L. Montes Angela Marquez | F33: 43514 | BF33: Finalizada | BG33: 43507 | BH33: 43516 | BI33: 2019IE0000559 | BK33: 43514 | BL33: =DAYS360(BK33,BH33) -> 2 | BM33: 1 | BN33: 1
B34: Seguimiento Normativo | C34: Informe Cumplimiento Normas de Derechos de Autor. | D34: Nicolas Morales | E34: 43530 | F34: 43538 | BF34: Finalizada | BH34: 43546 | BI34: 2019IE0001287 | BK34: 43538 | BL34: =DAYS360(BK34,BH34) -> 8 | BM34: 1 | BN34: 1
B35: Seguimiento Normativo | C35: Certificacion EKOGUI (Julio - Diciembre y Enero - Junio) | D35: Diana Lovo Lorena Campo | E35: 21-ago-19 | F35: 28-feb-19 30-ago-19 | BF35: Finalizada | BH35: 43522 | BI35: 2019EE0002273 | BK35: 43524 | BL35: =DAYS360(BK35,BH35) -> -4 | BM35: 2 | BN35: 2
BF36: Finalizada | BH36: 43734 | BI36: 2019EE0020222 | BK36: 43707 | BL36: =DAYS360(BK36,BH36) -> 26
B37: Seguimiento Normativo | C37: Informe de Gestión de los Comités de Conciliación y acciones tomadas. (Acción de Repetición Cuando se presente) ANDJE | D37: Diana Lovo Lorena Campo | E37: 6-mar-19 28-ago-19 | F37: 14-mar-19 6-sep-19 | BF37: Finalizada | BH37: 43550 | BI37: 2019IE0001312 | BK37: 43538 | BL37: =DAYS360(BK37,BH37) -> 12 | BM37: 2 | BN37: 1
BF38: Finalizada | BH38: 43741 | BI38: 2019IE0005294 | BK38: 43714 | BL38: =DAYS360(BK38,BH38) -> 27
B39: Seguimiento Normativo | C39: Seguimiento y monitoreo mensual de Austeridad en el Gasto Público (por áreas) | D39: Lixy Romero Johana (desde nov) | E39: 15-mar-19 4-abr-19 3-may-19 5-jun-19 3-jul-19 2-ago-19 3-sep-19 2-oct-19 1-nov-19 3-dic-19 | F39: 29-mar-19 22-abr-19 16-may-19 18-jun-19 16-jul-19 16-ago-19 17-sep-19 16-oct-19 18-nov-19 16-dic-19 | BF39: Finalizada | BH39: 43553 | BI39: 2019IE0001379 | BK39: 43553 | BL39: =DAYS360(BK39,BH39) -> 0 | BM39: 10 | BN39: 7
BF40: Finalizada | BH40: 43578 | BI40: 2019IE0002001 | BK40: 43577 | BL40: =DAYS360(BK40,BH40) -> 1
BF41: Finalizada | BH41: 43601 | BI41: 2019IE0002810 | BK41: 43601 | BL41: =DAYS360(BK41,BH41) -> 0
BF42: Finalizada | BH42: 43657 | BI42: 2019IE0004093 | BK42: 43634 | BL42: =DAYS360(BK42,BH42) -> 23
BF43: Finalizada | BH43: 43662 | BI43: 2019IE0004162 | BK43: 43662 | BL43: =DAYS360(BK43,BH43) -> 0
BF44: Finalizada | BH44: 43698 | BI44: 2019IE0004616 | BK44: 43693 | BL44: =DAYS360(BK44,BH44) -> 5
BF45: Finalizada | BH45: 43725 | BI45: 2019IE0005145 | BK45: 43725 | BL45: =DAYS360(BK45,BH45) -> 0
B49: Seguimiento Normativo | C49: Seguimiento y monitoreo trimestral de Austeridad en el Gasto Público (por áreas) | D49: Lixy Romero | E49: 4-abr-19 11-jul-19 11-oct-19 | F49: 25-ene-19 22-abr-19 18-jul-19 18-oct-19 | BF49: Finalizada | BH49: 43542 | BI49: 2019IE0001217 | BK49: 43490 | BL49: =DAYS360(BK49,BH49) -> 53 | BM49: 4 | BN49: 3
BF50: Finalizada | BH50: 43579 | BI50: 2019IE0002098 | BK50: 43577 | BL50: =DAYS360(BK50,BH50) -> 2
BF51: Finalizada | BH51: 43665 | BI51: 2019IE0004217 | BK51: 43664 | BL51: =DAYS360(BK51,BH51) -> 1
B53: Seguimiento Normativo | C53: Plan de Mejoramiento CGR (Resumen Director) - Pub. WEB y Reporte en el aplicativo SIRECI | D53: Andres Galvis | E53: 2-jul-19 | F53: 25-ene-19 12-jul-19 | BF53: Finalizada | BG53: 43525 | BH53: 43537 | BI53: 2019IE0001106 | BK53: 43490 | BL53: =DAYS360(BK53,BH53) -> 48 | BM53: 2 | BN53: 2
BF54: Finalizada | BH54: 43661 | BI54: 2019IE0004132 | BK54: 43658 | BL54: =DAYS360(BK54,BH54) -> 3
B55: Seguimiento Normativo | C55: Plan de Mejoramiento Archivístico - PMA. Trimestral y Semestral (Aplica Seguiento normatividad AGN) | D55: Nicolas Morales Johana Sierra | E55: 26-sep-19 | F55: 21-ene-19 9-oct-19 | BF55: Finalizada | BH55: 43517 | BI55: 2019IE0000607 | BK55: 43486 | BL55: =DAYS360(BK55,BH55) -> 30 | BM55: 2 | BN55: 1
BK56: 43747
B57: Seguimiento Normativo | C57: Implementación del Programa de Gestión Documental PGD | D57: Nicolas Morales Johana Sierra | E57: 7-oct-19 | F57: 28-feb-19 22-oct-19 | BF57: Finalizada | BH57: 43532 | BI57: 2019IE0000958 | BK57: 43524 | BL57: =DAYS360(BK57,BH57) -> 8 | BM57: 2 | BN57: 1
BK58: 43760
B59: Seguimiento Normativo | C59: Informe de Arqueos de Cajas Menores. (Administrativa, CAR y Laboratorio) | D59: Lixy Romero | E59: 6-mar-19 3-abr-19 6-may-19 6-jun-19 10-jul-19 15-ago-19 13-sep-19 16-oct-19 19-nov-19 13-dic-19 | F59: 21-feb-19 15-mar-19 12-abr-19 15-may-19 17-jun-19 22-jul-19 27-ago-19 24-sep-19 25-oct-19 28-nov-19 24-dic-19 | BF59: Finalizada | BG59: SEDE AD. | BH59: 43521 | BI59: 2019IE0000648 | BK59: 43517 | BL59: =DAYS360(BK59,BH59) -> 4 | BM59: 11 | BN59: 8
BF60: Finalizada | BG60: SEDE AD. | BH60: 43536 | BI60: 2019IE0001062 | BK60: 43539 | BL60: =DAYS360(BK60,BH60) -> -3
BF61: Finalizada | BG61: SEDE AD. | BH61: 43567 | BI61: 2019IE0001840 | BK61: 43567 | BL61: =DAYS360(BK61,BH61) -> 0
BF62: Finalizada | BG62: SEDE AD. | BH62: 43599 | BI62: 2019IE0002756 | BK62: 43600 | BL62: =DAYS360(BK62,BH62) -> -1
BF63: Finalizada | BG63: SEDE AD. | BH63: 43633 | BI63: 2019IE0003642 | BK63: 43633 | BL63: =DAYS360(BK63,BH63) -> 0
BF64: Finalizada | BG64: SEDE AD. | BH64: 43669 | BI64: 2019IE0004241 | BK64: 43668 | BL64: =DAYS360(BK64,BH64) -> 1
BF65: Finalizada | BG65: SEDE AD.- CAR | BH65: 43705 | BI65: 2019IE0004724 | BK65: 43704 | BL65: =DAYS360(BK65,BH65) -> 1
BF66: Finalizada | BG66: SEDE AD - CAR | BH66: 43739 | BI66: 2019IE0005258 | BK66: 43732 | BL66: =DAYS360(BK66,BH66) -> 7
B70: Seguimiento Normativo | C70: Informe de Gestión de la OCI al Congreso de la República. | D70: Angela Marquez | E70: 43637 | F70: 43641 | BF70: Finalizada | BH70: 43641 | BI70: 2019IE0003765 | BK70: 43641 | BL70: =DAYS360(BK70,BH70) -> 0 | BM70: 1 | BN70: 1
B71: Seguimiento Normativo | C71: Informe de Gestion de la OCI (31 Enero) | D71: James Lizarazo | E71: 43490 | F71: 43490 | BF71: Finalizada | BG71: 10101/2019 | BH71: 43476 | BI71: Enviado a OPLAN a través de Correo E | BK71: 43490 | BL71: =DAYS360(BK71,BH71) -> -14 | BM71: 1 | BN71: 1
B72: Seguimiento Normativo | C72: Informe Cámara de Representantes (Gaceta del congreso) | D72: Lixy Romero | E72: 43539 | F72: 43545 | BF72: Finalizada | BH72: 43545 | BI72: 2019IE0001285 | BK72: 43545 | BL72: =DAYS360(BK72,BH72) -> 0 | BM72: 1 | BN72: 1
B73: Seguimiento Normativo | C73: Ejecución Presupuestal, Ctas x Pagar, Reservas (mensual para Jefe OCI y Trimestral para la Dirección) | D73: Lixy Romero | E73: 8-abr-19 12-jul-19 21-oct-19 | F73: 28-ene-19 26-abr-19 26-jul-19 1-nov-19 | BF73: Finalizada | BH73: 43545 | BI73: 2019IE0001279 | BK73: 43493 | BL73: =DAYS360(BK73,BH73) -> 53 | BM73: 4 | BN73: 3
BF74: Finalizada | BH74: 43580 | BI74: 2019IE0002155 | BK74: 43581 | BL74: =DAYS360(BK74,BH74) -> -1
BF75: Finalizada | BH75: 43672 | BI75: 2019IE0004282 | BK75: 43672 | BL75: =DAYS360(BK75,BH75) -> 0
B77: Seguimiento Normativo | C77: Informe del PIGA ( Seguimiento a la implementación - semestral) | D77: Andres Galvis | E77: 23-jul-19 2-dic-19 | F77: 6-ago-19 13-dic-19 | BF77: Finalizada | BH77: 43685 | BI77: 2019IE0004466 | BK77: 43683 | BL77: =DAYS360(BK77,BH77) -> 2 | BM77: 2 | BN77: 1
B79: Seguimiento Normativo | C79: Informe al Sistema de Gestión de salud y seguridad en el trabajo - SGSST | D79: Andres Galvis | E79: 43704 | F79: 43718 | BF79: Finalizada | BH79: 43727 | BI79: 2019IE0005172 | BM79: 1 | BN79: 0
B80: Seguimiento Normativo | C80: Cumplimiento del Cierre financiero de la vigencia Anterior | D80: Lixy Romero | F80: 43516 | BF80: Finalizada | BH80: 43524 | BI80: 2019IE0000736 | BK80: 43516 | BL80: =DAYS360(BK80,BH80) -> 8 | BM80: 1 | BN80: 1
B81: Seguimiento Normativo | C81: Política de Seguridad Financieras SIIF | D81: Lixy Romero | E81: 14-may-19 10-dic-19 | F81: 24-may-19 23-dic-19 | BF81: Finalizada | BH81: 43609 | BI81: 2019IE0002912 | BK81: 43609 | BL81: =DAYS360(BK81,BH81) -> 0 | BM81: 2 | BN81: 1
B83: Seguimiento Normativo | C83: Mantenimiento y reporte del Sistema de Planeación Institucional PND - PDA - Plan Estrategico Institucional - Plan Anual de Acción (31 Enero) - SISMEG- Indicadores | D83: Andres Galvis | E83: 11-jul-19 24-oct-19 | F83: 1-mar-19 1-ago-19 7-nov-19 | BF83: Finalizada | BH83: 43528 | BI83: 2019IE0000800 | BK83: 43525 | BL83: =DAYS360(BK83,BH83) -> 3 | BM83: 3 | BN83: 2
BF84: Finalizada | BG84: preliminar | BH84: 43678 | BI84: 2019IE0004378 | BK84: 43678 | BL84: =DAYS360(BK84,BH84) -> 0
B86: Seguimiento Normativo | C86: Cumplimiento y Mantenimiento de los requisitos de Ley de Transparencia y del Derecho de Acceso a la Información Pública. | D86: Nicolas Morales Johana Sierra | E86: 4-mar-19 11-sep-19 | F86: 15-mar-19 25-sep-19 | BF86: Finalizada | BH86: 43539 | BI86: 2019IE0001186 | BK86: 43539 | BL86: =DAYS360(BK86,BH86) -> 0 | BM86: 2 | BN86: 2
BF87: Finalizada | BH87: 43733 | BI87: 2019IE0005224 | BK87: 43733 | BL87: =DAYS360(BK87,BH87) -> 0
B88: Seguimiento Normativo | C88: Reporte de la información sobre la participación femenina en cargos directivos - Ley de Cuotas | D88: Lorena Campo | E88: 43690 | F88: 43699 | BF88: Finalizada | BH88: 43699 | BI88: 2019IE0004651 | BK88: 43699 | BL88: =DAYS360(BK88,BH88) -> 0 | BM88: 1 | BN88: 1
B89: Seguimiento Normativo | C89: Reporte Información al SIGEP. Declaración de B/R (Actualización plazo 28 Feb C/Año) o al momento de posesión | D89: Andres Galvis | E89: 9-may-19 15-nov-19 | F89: 28-feb-19 22-may-19 28-nov-19 | BF89: Finalizada | BH89: 43531 | BI89: 2019IE0000916 | BK89: 43524 | BL89: =DAYS360(BK89,BH89) -> 7 | BM89: 3 | BN89: 2
BF90: Finalizada | BH90: 43609 | BI90: 2019IE0002877 | BK90: 43607 | BL90: =DAYS360(BK90,BH90) -> 2
B92: Seguimiento Normativo | C92: Comité Institucional de Gestión y Desempeño y Avance Implementacion de:MIPG, MECI, FURAG. | D92: Angela Marquez | E92: 15-jmay-19 11-oct-19 | F92: 26-feb-19 28-may-19 29-oct-19 | BF92: Finalizada | BH92: 43521 | BI92: 2019IE000652 | BK92: 43522 | BL92: =DAYS360(BK92,BH92) -> -1 | BM92: 3 | BN92: 2
BF93: Finalizada | BH93: 43605 | BI93: 2019IE0002857 | BK93: 43613 | BL93: =DAYS360(BK93,BH93) -> -8
B95: Seguimiento Normativo | C95: Publicación Plan Anual de Adquisiciones y actualizaciones (31 enero C/año) Web | D95: Diana Lovo Lorena Campo | E95: 4-mar-19 3-jul-19 26-nov-19 | F95: 8-mar-19 10-jul-19 3-dic-19 | BF95: Finalizada | BH95: 43544 | BI95: 2019IE0001267 | BK95: 43532 | BL95: =DAYS360(BK95,BH95) -> 12 | BM95: 3 | BN95: 2
BF96: Finalizada | BH96: 43656 | BI96: 2019IE0004067 | BK96: 43656 | BL96: =DAYS360(BK96,BH96) -> 0
B98: Seguimiento Normativo | C98: Publicación de la Agenda Regulatoria - Web | D98: Lorena Campo | E98: 43762 | F98: 43769 | BM98: 1 | BN98: 0
B99: Seguimiento Normativo | C99: Avance Planes de Mejoramiento de las AIG | D99: Andres Galvis | E99: 25-jun-19 | F99: 25-ene-19 2-jul-19 | BF99: Finalizada | BG99: 43524 | BH99: 43553 | BI99: 2019IE0001371 | BK99: 43490 | BL99: =DAYS360(BK99,BH99) -> 64 | BM99: 2 | BN99: 2
BF100: Finalizada | BH100: 43657 | BI100: 2019IE0004088 | BK100: 43648 | BL100: =DAYS360(BK100,BH100) -> 9
B101: Seguimiento Normativo | C101: Suscripcion y Evaluacion de los Acuerdos de Gestión (Julio/ dic) | D101: Andres Galvis | E101: 43677 | F101: 43690 | BF101: Finalizada | BH101: 42604 | BI101: 2019IE0004639 | BK101: 43690 | BL101: =DAYS360(BK101,BH101) -> -1071 | BM101: 1 | BN101: 1
B102: Seguimiento Normativo | C102: Política de prevención del Daño Antijurídico - ANDJE | D102: Lorena Campo | E102: 13-jun-19 29-nov-19 | F102: 25-jun-19 10-dic-19 | BF102: Finalizada | BH102: 43641 | BI102: 2019IE0003759 | BK102: 43641 | BL102: =DAYS360(BK102,BH102) -> 0 | BM102: 2 | BN102: 1
B104: Seguimiento Normativo | C104: Política Estrategia Gobierno en Digital - GEL | D104: Andres Galvis | E104: 5-mar-19 6-sep-19 | F104: 15-mar-19 8-oct-19 | BF104: Finalizada | BH104: 43539 | BI104: 2019IE0001183 | BK104: 43539 | BL104: =DAYS360(BK104,BH104) -> 0 | BM104: 2 | BN104: 1
BF105: Finalizada | BH105: 43749 | BI105: 2019IE0005381
B106: Seguimiento Normativo | C106: Seguimiento Rendición de Cuentas (Plan de mejoramiento institucional, cronograma de encuentros para el seguimiento ciudadano a compromisos y audiencia) | D106: Angela Marquez | E106: Cuarto trimestre | F106: Cuarto trimestre | BM106: 1 | BN106: 0
B107: Seguimiento Normativo | C107: Seguimiento a los procedimientos relacionados con tiquetes, legalizaciones de comisiones y gastos de desplazamiento | D107: Lixy Romero | E107: 43768 | F107: 43798 | BM107: 1
B108: Seguimiento Normativo | C108: Seguimiento Presupuestal Detallado | D108: Lixy Romero | E108: 43720 | F108: 43740 | BF108: Finalizada | BH108: 43746 | BI108: 2019IE0005336 | BM108: 1
B109: Seguimiento Normativo | C109: Seguimiento Comité de Contratación 2018-2019 (normatividad, reuniones y funciones, entre otros) | D109: Lorena Campo | E109: 43769 | F109: 43798 | BM109: 1
B110: Seguimiento Normativo | C110: Informe Indicadores de gestión Proceso ATC Infraestructura | D110: Alejando Cano | E110: 43801 | F110: 43805 | BM110: 1
B111: Servicios de aseguramiento (evaluación) | C111: Proceso Adquisición de Bienes y Servicios - Región Caribe | D111: Lorena Campo | E111: 43634 | F111: 43669 | BF111: Finalizada | BH111: 43670 | BI111: 2019IE0004263 | BK111: 43669 | BL111: =DAYS360(BK111,BH111) -> 1 | BM111: 1 | BN111: 1
B112: Servicios de aseguramiento (evaluación) | C112: Proceso Apoyo en Infraestructura Técnica y Científica - Región Caribe | D112: Alejando Cano | E112: 43550 | F112: 43584 | BF112: Finalizada | BH112: 43614 | BI112: 2019IE0003072 | BK112: 43584 | BL112: =DAYS360(BK112,BH112) -> 30 | BM112: 1 | BN112: 1
B113: Servicios de aseguramiento (evaluación) | C113: Proceso Adquisición de Bienes y Servicios - Juegos nacionales | D113: Nicolas Morales | E113: 43552 | F113: 43581 | BF113: Finalizada | BG113: 43556 | BH113: 43581 | BI113: 2019IE0002578 | BK113: 43581 | BL113: =DAYS360(BK113,BH113) -> 0 | BM113: 1 | BN113: 1
B114: Servicios de aseguramiento (evaluación) | C114: Proceso Gestión del Talento Humano | D114: Andres Galvis | E114: 43557 | F114: 43592 | BF114: Finalizada | BH114: 43593 | BI114: 2019IE0002574 | BK114: 43592 | BL114: =DAYS360(BK114,BH114) -> 1 | BM114: 1 | BN114: 1
B115: Servicios de aseguramiento (evaluación) | C115: Proceso Adquisición de Bienes y Servicios - Región Pacífico | D115: Lorena Campo | E115: 43671 | F115: 43700 | BF115: Finalizada | BH115: 43705 | BI115: 2019IE0004739 | BK115: 43700 | BL115: =DAYS360(BK115,BH115) -> 5 | BM115: 1 | BN115: 1
B116: Servicios de aseguramiento (evaluación) | C116: Proceso Apoyo en Infraestructura Técnica y Científica - Región Pacífico | D116: Alejando Cano | E116: 43585 | F116: 43613 | BF116: Finalizada | BH116: 43626 | BI116: 2019IE0003481 | BK116: 43613 | BL116: =DAYS360(BK116,BH116) -> 12 | BM116: 1 | BN116: 1
B117: Servicios de aseguramiento (evaluación) | C117: Proceso Inspección, Vigilancia y Control | D117: Nicolas Morales | E117: 43580 | F117: 43608 | BF117: Finalizada | BH117: 43626 | BI117: 2019IE0003475 | BK117: 43608 | BL117: =DAYS360(BK117,BH117) -> 17 | BM117: 1 | BN117: 1
B118: Servicios de aseguramiento (evaluación) | C118: Proceso Apoyo en Infraestructura Técnica y Científica - Región Antioquia y eje Cafetero | D118: Alejando Cano | E118: 43614 | F118: 43643 | BF118: Finalizada | BH118: 43661 | BI118: 2019IE0004133 | BK118: 43643 | BL118: =DAYS360(BK118,BH118) -> 18 | BM118: 1 | BN118: 1
B119: Servicios de aseguramiento (evaluación) | C119: Proceso Fomento al Desarrollo Humano y Social - Deporte escolar y Programa Supérate | D119: Andres Galvis | E119: 43605 | F119: 43634 | BF119: Finalizada | BH119: 43643 | BI119: 2019IE0003849 | BK119: 43634 | BL119: =DAYS360(BK119,BH119) -> 9 | BM119: 1 | BN119: 1
B120: Servicios de aseguramiento (evaluación) | C120: Proceso Apoyo en Infraestructura Técnica y Científica - CAR | D120: Angela Marquez Lixy Romero | E120: 43609 | F120: 43642 | BF120: Finalizada | BH120: 43651 | BI120: 2019IE0004016 | BK120: 43642 | BL120: =DAYS360(BK120,BH120) -> 9 | BM120: 1 | BN120: 1
B121: Servicios de aseguramiento (evaluación) | C121: Proceso Adquisición de Bienes y Servicios | D121: Estefania Caballero | E121: 43748 | F121: 43777 | BG121: atrasada | BM121: 1 | BN121: 0
...

Sheet Indicadores
A1: Indicador Cumplimiento PAAI
A2: Tipo de Trabajo | B2: N° trabajos programados en el año | C2: N° trabajos ejecutados | D2: % Cumplimiento | E2: N° trabajos programados corte 31-oct | F2: N° trabajos ejecutados | G2: % Cumplimiento corte 31-oct | H2: N° trabajos sin finalizar/ejecutar
A3: Seguimiento Normativo | B3: =+SUM(PAAI!BM16:BM110) -> 95 | C3: =+SUM(PAAI!BN16:BN110) -> 67 | D3: =+C3/B3 -> 0.70526316 | E3: =+COUNT(PAAI!BK16:BK110) -> 70 | F3: =+C3 -> 67 | G3: =+F3/E3 -> 0.95714286 | H3: =+E3-F3 -> 3 | I3: 1 Informe de Gestión de los Comités de Conciliación (Extemporaneo) 1 Seguimiento PMA (por ausencia de recursos) 1 Implementación del PGD (por ausencia de recursos) 1 Seguimiento SGSST (reprogramado) 1 Reporte Información al SIGEP (eliminado)
A4: Auditoria Interna | B4: =+SUM(PAAI!BM111:BM127) -> 17 | C4: =+SUM(PAAI!BN111:BN127) -> 11 | D4: =+C4/B4 -> 0.64705882 | E4: =+COUNT(PAAI!BK111:BK127) -> 13 | F4: =+C4 -> 11 | G4: =+F4/E4 -> 0.84615385 | H4: =+E4-F4 -> 2 | I4: 2 Adquisicion de bienes y serv (Finalizacion anticipada cto Admon y abogado) 1 Adquisicion de bienes y serv (reprogramada) 1 Adquisicion de bienes y serv (en ejecución y reprogramada) 1 Altos Logros (en ejecución y reprogramada) 1 ATC (en ejecución y reprogramada)
A5: Seguimientos (enfoque hacia la prevención) | B5: =+SUM(PAAI!BM128:BM134) -> 7 | C5: =+SUM(PAAI!BN128:BN134) -> 0 | D5: =+C5/B5 -> 0 | E5: =+COUNT(PAAI!BK128:BK134) -> 0 | F5: =+C5 -> 0 | G5: =+F5/E5 -> #DIV/0! | H5: =+E5-F5 -> 0
A6: TOTAL | B6: =SUM(B3:B5) -> 119 | C6: =SUM(C3:C5) -> 78 | D6: =+C6/B6 -> 0.65546218 | E6: =SUM(E3:E4) -> 83 | F6: =SUM(F3:F4) -> 78 | G6: =+F6/E6 -> 0.93975904 | H6: =SUM(H3:H4) -> 5
E7: En tiempo: 28 | F7: =28/E6 -> 0.3373494
E8: Extemporaneo: 57 | F8: =57/E6 -> 0.68674699
