Workbook

Sheet RESUMEN EJECUCION SEPTIEMBRE
B77: C-4301-1604-8 | C77: APOYO A LA EDUCACIÓN FÍSICA EXTRAESCOLAR Y EL DEPORTE FORMATIVO PARA LA INFANCIA, ADOLESCENCIA Y JUVENTUD A NIVEL NACIONAL
B78: C-4301-1604-9 | C78: DESARROLLO DE LA ACTIVIDAD FÍSICA Y LOS HÁBITOS Y ESTILOS DE VIDA SALUDABLE A NIVEL NACIONAL
B79: C-4301-1604-10 | C79: DESARROLLO DE LA RECREACIÓN A NIVEL NACIONAL
B80: C-4301-1604-11 | C80: DESARROLLO AL DEPORTE SOCIAL COMUNITARIO NACIONAL
B81: C-4301-1604-12 | C81: DESARROLLO DEL DEPORTE ESCOLAR COMO HERRAMIENTA DE CONVIVENCIA Y PAZ NACIONAL
B82: C-4302-1604-16 | C82: APOYO A LA INFRAESTRUCTURA DEPORTIVA, RECREATIVA Y DE LA ACTIVIDAD FÍSICA A NIVEL NACIONAL
B83: C-4302-1604-16 | C83: APOYO A LA INFRAESTRUCTURA DEPORTIVA, RECREATIVA Y DE LA ACTIVIDAD FÍSICA A NIVEL NACIONAL
B84: C-4302-1604-17 | C84: APOYO A LA INFRAESTRUCTURA DE ALTA COMPETENCIA A NIVEL NACIONAL
B85: C-4302-1604-18 | C85: DESARROLLO DEL SISTEMA PARALÍMPICO PARA EL POSICIONAMIENTO Y LIDERAZGO DEPORTIVO NACIONAL
B86: C-4302-1604-19 | C86: DESARROLLO AL DEPORTE DEL SISTEMA OLÍMPICO Y CONVENCIONAL PARA EL POSICIONAMIENTO Y LIDERAZGO DEPORTIVO NACIONAL
B87: C-4302-1604-19 | C87: DESARROLLO AL DEPORTE DEL SISTEMA OLÍMPICO Y CONVENCIONAL PARA EL POSICIONAMIENTO Y LIDERAZGO DEPORTIVO NACIONAL
B88: C-4302-1604-20 | C88: DESARROLLO DE POLÍTICAS PÚBLICAS E INVESTIGACIÓN SECTORIAL A NIVEL NACIONAL
... B96: C-4399-1604-9 | C96: APOYO AL FORTALECIMIENTO DEL SECTOR A NIVEL NACIONAL

Sheet ACUMULADO A SEPTIEMBRE 2020
B1: 2020
B2: Actual
B3: Enero-Septiembre
B4: RUBRO | C4: REC | D4: DESCRIPCION | E4: APR. VIGENTE | F4: APR BLOQUEADA | G4: CDP | H4: APR. DISPONIBLE | I4: COMPROMISO | J4: OBLIGACION | K4: PAGOS
B5: A-01-01-01 | C5: 10 | D5: SALARIO | E5: 12190000000 | F5: 0 | G5: 8037037108 | H5: 4152962892 | I5: 8037037108 | J5: 8037037108 | K5: 8037037108
B6: A-01-01-02 | C6: 10 | D6: CONTRIBUCIONES INHERENTES A LA NÓMINA | E6: 4261000000 | F6: 0 | G6: 3060377166 | H6: 1200622834 | I6: 3060377166 | J6: 3060377166 | K6: 3060377166
B7: A-01-01-03 | C7: 10 | D7: REMUNERACIONES NO CONSTITUTIVAS DE FACTOR SALARIAL | E7: 1524000000 | F7: 0 | G7: 912962795 | H7: 611037205 | I7: 912962795 | J7: 910921796 | K7: 910921796
B8: A-02-01 | C8: 10 | D8: ADQUISICIÓN DE ACTIVOS NO FINANCIEROS | E8: 0 | F8: 0 | G8: 0 | H8: 0 | I8: 0 | J8: 0 | K8: 0
B9: A-02-02 | C9: 10 | D9: ADQUISICIONES DIFERENTES DE ACTIVOS | E9: 4340000000 | F9: 0 | G9: 4.2797168e+09 | H9: 60283200 | I9: 3.8046546e+09 | J9: 2.5175139e+09 | K9: 2.5175139e+09
B10: A-03-03-04-048 | C10: 10 | D10: ESCUELA NACIONAL DEL DEPORTE - ART. 51 DECRETO 2845 DE 1984 | E10: 13311842203 | F10: 0 | G10: 1.1515852e+10 | H10: 1.7959907e+09 | I10: 1.1515852e+10 | J10: 1.1515766e+10 | K10: 1.1515766e+10
B11: A-03-04-02-001 | C11: 10 | D11: MESADAS PENSIONALES (DE PENSIONES) | E11: 2807110160 | F11: 0 | G11: 3.9561942e+08 | H11: 2.4114907e+09 | I11: 2.940579e+08 | J11: 2.8423423e+08 | K11: 2.8423423e+08
B12: A-03-04-02-012 | C12: 10 | D12: INCAPACIDADES Y LICENCIAS DE MATERNIDAD Y PATERNIDAD (NO DE PENSIONES) | E12: 58000000 | F12: 0 | G12: 54665815 | H12: 3334185 | I12: 51338599 | J12: 49352690 | K12: 49352690
B13: A-03-10-01-001 | C13: 10 | D13: SENTENCIAS | E13: 94000000 | F13: 0 | G13: 0 | H13: 94000000 | I13: 0 | J13: 0 | K13: 0
B14: A-08-01 | C14: 10 | D14: IMPUESTOS | E14: 20000000 | F14: 0 | G14: 0 | H14: 20000000 | I14: 0 | J14: 0 | K14: 0
B15: A-08-03 | C15: 10 | D15: TASAS Y DERECHOS ADMINISTRATIVOS | E15: 11000000 | F15: 0 | G15: 0 | H15: 11000000 | I15: 0 | J15: 0 | K15: 0
B16: A-08-04-01 | C16: 11 | D16: CUOTA DE FISCALIZACIÓN Y AUDITAJE | E16: 975000000 | F16: 0 | G16: 6.2971926e+08 | H16: 3.4528074e+08 | I16: 6.2971926e+08 | J16: 6.2971926e+08 | K16: 6.2971926e+08
B17: A-08-05 | C17: 10 | D17: MULTAS, SANCIONES E INTERESES DE MORA | E17: 2000000 | F17: 0 | G17: 0 | H17: 2000000 | I17: 0 | J17: 0 | K17: 0
B18: TOTAL GASTOS DE FUNCIONAMIENTO | E18: =SUM(E5:E17) -> 39593952363 | F18: =SUM(F5:F17) -> 0 | G18: =SUM(G5:G17) -> 2.888595e+10 | H18: =SUM(H5:H17) -> 1.0708002e+10 | I18: =SUM(I5:I17) -> 2.8305999e+10 | J18: =SUM(J5:J17) -> 2.7004922e+10 | K18: =SUM(K5:K17) -> 2.7004922e+10
B19: C-4301-1604-8 | C19: 11 | D19: APOYO A LA EDUCACIÓN FÍSICA EXTRAESCOLAR Y EL DEPORTE FORMATIVO PARA LA INFANCIA, ADOLESCENCIA Y JUVENTUD A NIVEL NACIONAL | E19: 50000000000 | F19: 0 | G19: 35212190106 | H19: 14787809894 | I19: 25648557744 | J19: 14758293291 | K19: 14758293291
B20: C-4301-1604-9 | C20: 11 | D20: DESARROLLO DE LA ACTIVIDAD FÍSICA Y LOS HÁBITOS Y ESTILOS DE VIDA SALUDABLE A NIVEL NACIONAL | E20: 13000000000 | F20: 0 | G20: 9841815628 | H20: 3158184372 | I20: 9059868550 | J20: 5385731477 | K20: 5385731477
B21: C-4301-1604-10 | C21: 11 | D21: DESARROLLO DE LA RECREACIÓN A NIVEL NACIONAL | E21: 13000000000 | F21: 515000000 | G21: 10750382551 | H21: 1734617449 | I21: 7394111756 | J21: 3791124276 | K21: 3791124276
B22: C-4301-1604-11 | C22: 11 | D22: DESARROLLO AL DEPORTE SOCIAL COMUNITARIO NACIONAL | E22: 15000000000 | F22: 91000000 | G22: 13045010562 | H22: 1863989438 | I22: 4595952533 | J22: 2437744687 | K22: 2437744687
B23: C-4301-1604-12 | C23: 11 | D23: DESARROLLO DEL DEPORTE ESCOLAR COMO HERRAMIENTA DE CONVIVENCIA Y PAZ NACIONAL | E23: 15000000000 | F23: 0 | G23: 12399061119 | H23: 2600938881 | I23: 11790260536 | J23: 5717163780 | K23: 5717163780
B24: C-4302-1604-16 | C24: 10 | D24: APOYO A LA INFRAESTRUCTURA DEPORTIVA, RECREATIVA Y DE LA ACTIVIDAD FÍSICA A NIVEL NACIONAL | E24: 17750000000 | F24: 0 | G24: 1.7458813e+10 | H24: 2.9118667e+08 | I24: 1.0022211e+10 | J24: 3.7660421e+09 | K24: 3.7660421e+09
B25: C-4302-1604-16 | C25: 11 | D25: APOYO A LA INFRAESTRUCTURA DEPORTIVA, RECREATIVA Y DE LA ACTIVIDAD FÍSICA A NIVEL NACIONAL | E25: 165081157797 | F25: 120655000000 | G25: 38650355419 | H25: 5775802378 | I25: 28999834439 | J25: 136844033 | K25: 136844033
B26: C-4302-1604-17 | C26: 11 | D26: APOYO A LA INFRAESTRUCTURA DE ALTA COMPETENCIA A NIVEL NACIONAL | E26: 75290000000 | F26: 25000000000 | G26: 32059930581 | H26: 18230069419 | I26: 29065831967 | J26: 270048988 | K26: 270048988
B27: C-4302-1604-18 | C27: 11 | D27: DESARROLLO DEL SISTEMA PARALÍMPICO PARA EL POSICIONAMIENTO Y LIDERAZGO DEPORTIVO NACIONAL | E27: 25000000000 | F27: 800000000 | G27: 21676753626 | H27: 2523246374 | I27: 1.5124884e+10 | J27: 1.099965e+10 | K27: 1.099965e+10
B28: C-4302-1604-19 | C28: 10 | D28: DESARROLLO AL DEPORTE DEL SISTEMA OLÍMPICO Y CONVENCIONAL PARA EL POSICIONAMIENTO Y LIDERAZGO DEPORTIVO NACIONAL | E28: =112170000000 -> 112170000000 | F28: 22939000000 | G28: 66454333737 | H28: 22776666263 | I28: 4.2281735e+10 | J28: 2.0773766e+10 | K28: 2.0773766e+10
B29: C-4302-1604-19 | C29: 11 | D29: DESARROLLO AL DEPORTE DEL SISTEMA OLÍMPICO Y CONVENCIONAL PARA EL POSICIONAMIENTO Y LIDERAZGO DEPORTIVO NACIONAL | E29: 50000000000 | F29: 0 | G29: 44599999967 | H29: 5400000033 | I29: 38257675171 | J29: 23957675181 | K29: 23957675181
B30: C-4302-1604-20 | C30: 11 | D30: DESARROLLO DE POLÍTICAS PÚBLICAS E INVESTIGACIÓN SECTORIAL A NIVEL NACIONAL | E30: 1100000000 | F30: 0 | G30: 684000000 | H30: 416000000 | I30: 682689741 | J30: 413144485 | K30: 413144485
B31: C-4302-1604-21 | C31: 11 | D31: ASISTENCIA A LA COOPERACIÓN INTERNACIONAL DEL SECTOR A NIVEL NACIONAL | E31: 1000000000 | F31: 0 | G31: 309500000 | H31: 690500000 | I31: 259500000 | J31: 145143063 | K31: 145143063
B32: C-4302-1604-22 | C32: 11 | D32: APOYO A LA ORGANIZACIÓN DE EVENTOS DEPORTIVOS PARA LA PREPARACIÓN DE ATLETAS Y LA PROMOCIÓN DEL DEPORTE NACIONAL | E32: 53000000000 | F32: 0 | G32: 30952726903 | H32: 22047273097 | I32: 21935617868 | J32: 12221649638 | K32: 12221649638
B33: C-4302-1604-23 | C33: 11 | D33: APOYO A LA INSPECCIÓN, VIGILANCIA Y CONTROL A NIVEL NACIONAL | E33: 3750000000 | F33: 0 | G33: 3398294931 | H33: 351705069 | I33: 3354330986 | J33: 1887696252 | K33: 1887696252
B34: C-4302-1604-24 | C34: 11 | D34: APOYO AL PROGRAMA AL CONTROL DOPAJE NACIONAL | E34: 3000000000 | F34: 0 | G34: 2352111573 | H34: 647888427 | I34: 2254861573 | J34: 1225329311 | K34: 1225329311
B35: C-4302-1604-25 | C35: 11 | D35: DESARROLLO AL LABORATORIO DEL CONTROL AL DOPAJE NACIONAL | E35: 5000000000 | F35: 0 | G35: 4716838008 | H35: 283161992 | I35: 2013953191 | J35: 7.1612418e+08 | K35: 7.1612418e+08
B36: C-4399-1604-7 | C36: 11 | D36: IMPLEMENTACIÓN DE LAS TECNOLOGÍAS DE LA INFORMACIÓN Y COMUNICACIÓN PARA EL SISTEMA NACIONAL DEL DEPORTE A NIVEL NACIONAL | E36: 4000000000 | F36: 0 | G36: 3.466917e+09 | H36: 5.33083e+08 | I36: 1.7760158e+09 | J36: 9.995311e+08 | K36: 9.995311e+08
B37: C-4399-1604-8 | C37: 11 | D37: MEJORAMIENTO SEDES COLDEPORTES BOGOTÁ | E37: 8000000000 | F37: 0 | G37: 6461521853 | H37: 1538478147 | I37: 3.9205969e+09 | J37: 1.7838452e+09 | K37: 1.7838452e+09
B38: C-4399-1604-9 | C38: 11 | D38: APOYO AL FORTALECIMIENTO DEL SECTOR A NIVEL NACIONAL | E38: 7000000000 | F38: 0 | G38: 4308085459 | H38: 2691914541 | I38: 3996124486 | J38: 1903698126 | K38: 1903698126
B39: TOTAL INVERSIÓN (C) | E39: =SUM(E19:E38) -> 637141157797 | F39: =SUM(F19:F38) -> 170000000000 | G39: =SUM(G19:G38) -> 3.5879864e+11 | H39: =SUM(H19:H38) -> 1.0834252e+11 | I39: =SUM(I19:I38) -> 2.6243461e+11 | J39: =SUM(J19:J38) -> 113290245431 | K39: =SUM(K19:K38) -> 113290245431
B40: TOTAL PRESUPUESTO DE GASTOS (A+C) | E40: =+E39+E18 -> 676735110160 | F40: =+F39+F18 -> 170000000000 | G40: =+G39+G18 -> 3.8768459e+11 | H40: =+H39+H18 -> 1.1905052e+11 | I40: =+I39+I18 -> 2.9074061e+11 | J40: =+J39+J18 -> 1.4029517e+11 | K40: =+K39+K18 -> 1.4029517e+11

Sheet Hoja6
B3: Enero-Marzo
B4: RUBRO | C4: REC | D4: DESCRIPCION | E4: APR. VIGENTE | F4: COMPROMISO | G4: OBLIGACION | H4: PAGOS
B5: A-02-02 | C5: 10 | D5: ADQUISICIÓN DE BIENES Y SERVICIOS | E5: 4340 | F5: 3804.6546 | G5: 2517.5139 | H5: 2517.5139
B6: A-03-03- | C6: 10 | D6: TRANSFERENCIAS CORRIENTES | E6: 17278.952 | F6: 12490.967 | G6: 12479.072 | H6: 12479.072
B7: A-01-01- | C7: 10 | D7: SALARIOS Y CONTRIBUCIONES DE LA NOMINA | E7: 17975 | F7: 12010.377 | G7: 12008.336 | H7: 12008.336

Sheet Hoja7
B1: 2020
B2: Actual
B3: Enero-Marzo
B4: RUBRO | C4: DESCRIPCION | D4: APR. VIGENTE | E4: COMPROMISO | F4: OBLIGACION | G4: PAGOS
B5: C-4301-1604-8 | C5: APOYO A LA EDUCACIÓN FÍSICA EXTRAESCOLAR Y EL DEPORTE FORMATIVO PARA LA INFANCIA, ADOLESCENCIA Y JUVENTUD A NIVEL NACIONAL | D5: 50000000000 | E5: =+'ESPECIFICO A SEPTIEMBRE'!#REF! -> #REF! | F5: 72651628 | G5: 72651628
B6: C-4301-1604-9 | C6: DESARROLLO DE LA ACTIVIDAD FÍSICA Y LOS HÁBITOS Y ESTILOS DE VIDA SALUDABLE A NIVEL NACIONAL | D6: 13000000000 | E6: =+#REF! -> #REF! | F6: 53565901 | G6: 53565901
B7: C-4301-1604-10 | C7: DESARROLLO DE LA RECREACIÓN A NIVEL NACIONAL | D7: 12485000000 | E7: =+#REF! -> #REF! | F7: 38692320 | G7: 38692320
B8: C-4301-1604-11 | C8: DESARROLLO AL DEPORTE SOCIAL COMUNITARIO NACIONAL | D8: 14909000000 | E8: =+#REF! -> #REF! | F8: 52712557 | G8: 52712557
B9: C-4301-1604-12 | C9: DESARROLLO DEL DEPORTE ESCOLAR COMO HERRAMIENTA DE CONVIVENCIA Y PAZ NACIONAL | D9: 15000000000 | E9: =+#REF! -> #REF! | F9: 57428091 | G9: 57428091
B10: C-4302-1604-16 | C10: APOYO A LA INFRAESTRUCTURA DEPORTIVA, RECREATIVA Y DE LA ACTIVIDAD FÍSICA A NIVEL NACIONAL | D10: 62176157797 | E10: =SUM(#REF!+#REF!) -> #REF! | F10: 612870893 | G10: 612870893
B11: C-4302-1604-17 | C11: APOYO A LA INFRAESTRUCTURA DE ALTA COMPETENCIA A NIVEL NACIONAL | D11: 50290000000 | E11: =+#REF! -> #REF! | F11: 37832027 | G11: 37832027
B12: C-4302-1604-18 | C12: DESARROLLO DEL SISTEMA PARALÍMPICO PARA EL POSICIONAMIENTO Y LIDERAZGO DEPORTIVO NACIONAL | D12: 24200000000 | E12: =+#REF! -> #REF! | F12: 4340611312 | G12: 4340611312
B13: C-4302-1604-19 | C13: DESARROLLO AL DEPORTE DEL SISTEMA OLÍMPICO Y CONVENCIONAL PARA EL POSICIONAMIENTO Y LIDERAZGO DEPORTIVO NACIONAL | D13: 139231000000 | E13: =+#REF!+#REF! -> #REF! | F13: 15745006864 | G13: 15742272516
B14: C-4302-1604-20 | C14: DESARROLLO DE POLÍTICAS PÚBLICAS E INVESTIGACIÓN SECTORIAL A NIVEL NACIONAL | D14: 1100000000 | E14: =+#REF! -> #REF! | F14: 61566754 | G14: 61566754
B15: C-4302-1604-21 | C15: ASISTENCIA A LA COOPERACIÓN INTERNACIONAL DEL SECTOR A NIVEL NACIONAL | D15: 1000000000 | E15: =+#REF! -> #REF! | F15: 6500000 | G15: 6500000
B16: C-4302-1604-22 | C16: APOYO A LA ORGANIZACIÓN DE EVENTOS DEPORTIVOS PARA LA PREPARACIÓN DE ATLETAS Y LA PROMOCIÓN DEL DEPORTE NACIONAL | D16: 53000000000 | E16: =+#REF! -> #REF! | F16: 4070175863 | G16: 4070175863
B17: C-4302-1604-23 | C17: APOYO A LA INSPECCIÓN, VIGILANCIA Y CONTROL A NIVEL NACIONAL | D17: 3750000000 | E17: =+#REF! -> #REF! | F17: 149186408 | G17: 149186408
B18: C-4302-1604-24 | C18: APOYO AL PROGRAMA AL CONTROL DOPAJE NACIONAL | D18: 3000000000 | E18: =+#REF! -> #REF! | F18: 150000000 | G18: 150000000
B19: C-4302-1604-25 | C19: DESARROLLO AL LABORATORIO DEL CONTROL AL DOPAJE NACIONAL | D19: 5000000000 | E19: =+#REF! -> #REF! | F19: 93069897 | G19: 93069897
B20: C-4399-1604-7 | C20: IMPLEMENTACIÓN DE LAS TECNOLOGÍAS DE LA INFORMACIÓN Y COMUNICACIÓN PARA EL SISTEMA NACIONAL DEL DEPORTE A NIVEL NACIONAL | D20: 4000000000 | E20: =+#REF! -> #REF! | F20: 94251223 | G20: 94251223
B21: C-4399-1604-8 | C21: MEJORAMIENTO SEDES COLDEPORTES BOGOTÁ | D21: 8000000000 | E21: =+#REF! -> #REF! | F21: 134570783 | G21: 134570783
B22: C-4399-1604-9 | C22: APOYO AL FORTALECIMIENTO DEL SECTOR A NIVEL NACIONAL | D22: 7000000000 | E22: =+#REF! -> #REF! | F22: 258226896 | G22: 258226896
D23: =SUM(D5:D22) -> 467141157797 | E23: =SUM(E5:E22) -> #REF! | F23: =SUM(F5:F22) -> 2.6028919e+10 | G23: =SUM(G5:G22) -> 2.6026185e+10
D24: =+D23-#REF! -> #REF!
B26: RUBRO | C26: DESCRIPCION | D26: APR. VIGENTE | E26: COMPROMISO | F26: OBLIGACION | G26: PAGOS
B27: C-4301-1604-8 | C27: APOYO A LA EDUCACIÓN FÍSICA EXTRAESCOLAR Y EL DEPORTE FORMATIVO PARA LA INFANCIA, ADOLESCENCIA Y JUVENTUD A NIVEL NACIONAL | D27: 50000 | E27: 25648.558 | F27: =+'ESPECIFICO A SEPTIEMBRE'!J19 -> 780242990 | G27: 12648205672
B28: C-4301-1604-9 | C28: DESARROLLO DE LA ACTIVIDAD FÍSICA Y LOS HÁBITOS Y ESTILOS DE VIDA SALUDABLE A NIVEL NACIONAL | D28: 13000 | E28: 9059.8685 | F28: =+'ESPECIFICO A SEPTIEMBRE'!J20 -> 526601007 | G28: 4141394995
B29: C-4301-1604-10 | C29: DESARROLLO DE LA RECREACIÓN A NIVEL NACIONAL | D29: 12485 | E29: 7394.1118 | F29: =+'ESPECIFICO A SEPTIEMBRE'!J21 -> 406663222 | G29: 2984974705
B30: C-4301-1604-11 | C30: DESARROLLO AL DEPORTE SOCIAL COMUNITARIO NACIONAL | D30: 14909 | E30: 4595.9525 | F30: =+'ESPECIFICO A SEPTIEMBRE'!J22 -> 580198247 | G30: 1588964802
B31: C-4301-1604-12 | C31: DESARROLLO DEL DEPORTE ESCOLAR COMO HERRAMIENTA DE CONVIVENCIA Y PAZ NACIONAL | D31: 15000 | E31: 11790.261 | F31: =+'ESPECIFICO A SEPTIEMBRE'!J23 -> 1820591979 | G31: 3081478111
B32: C-4302-1604-16 | C32: APOYO A LA INFRAESTRUCTURA DEPORTIVA, RECREATIVA Y DE LA ACTIVIDAD FÍSICA A NIVEL NACIONAL | D32: 62176.158 | E32: 39022.045 | F32: =+'ESPECIFICO A SEPTIEMBRE'!J24+'ESPECIFICO A SEPTIEMBRE'!J25 -> 619255372 | G32: 2.7297462e+09
B33: C-4302-1604-17 | C33: APOYO A LA INFRAESTRUCTURA DE ALTA COMPETENCIA A NIVEL NACIONAL | D33: 50290 | E33: 29065.832 | F33: =+'ESPECIFICO A SEPTIEMBRE'!J26 -> 54793438 | G33: 184119550
B34: C-4302-1604-18 | C34: DESARROLLO DEL SISTEMA PARALÍMPICO PARA EL POSICIONAMIENTO Y LIDERAZGO DEPORTIVO NACIONAL | D34: 24200 | E34: 15124.884 | F34: =+'ESPECIFICO A SEPTIEMBRE'!J27 -> 8.6544463e+08 | G34: 8.8928947e+09
B35: C-4302-1604-19 | C35: DESARROLLO AL DEPORTE DEL SISTEMA OLÍMPICO Y CONVENCIONAL PARA EL POSICIONAMIENTO Y LIDERAZGO DEPORTIVO NACIONAL | D35: 139231 | E35: 80539.41 | F35: =+'ESPECIFICO A SEPTIEMBRE'!J28+'ESPECIFICO A SEPTIEMBRE'!J29 -> 3.9697708e+09 | G35: 3.8797291e+10
B36: C-4302-1604-20 | C36: DESARROLLO DE POLÍTICAS PÚBLICAS E INVESTIGACIÓN SECTORIAL A NIVEL NACIONAL | D36: 1100 | E36: 682.68974 | F36: =+'ESPECIFICO A SEPTIEMBRE'!J30 -> 73815882 | G36: 281134664
B37: C-4302-1604-21 | C37: ASISTENCIA A LA COOPERACIÓN INTERNACIONAL DEL SECTOR A NIVEL NACIONAL | D37: 1000 | E37: 259.5 | F37: =+'ESPECIFICO A SEPTIEMBRE'!J31 -> 58145190 | G37: 68497873
B38: C-4302-1604-22 | C38: APOYO A LA ORGANIZACIÓN DE EVENTOS DEPORTIVOS PARA LA PREPARACIÓN DE ATLETAS Y LA PROMOCIÓN DEL DEPORTE NACIONAL | D38: 53000 | E38: 21935.618 | F38: =+'ESPECIFICO A SEPTIEMBRE'!J32 -> 86804825 | G38: 8740164502
B39: C-4302-1604-23 | C39: APOYO A LA INSPECCIÓN, VIGILANCIA Y CONTROL A NIVEL NACIONAL | D39: 3750 | E39: 3354.331 | F39: =+'ESPECIFICO A SEPTIEMBRE'!J33 -> 420507832 | G39: 1172641899
B40: C-4302-1604-24 | C40: APOYO AL PROGRAMA AL CONTROL DOPAJE NACIONAL | D40: 3000 | E40: 2254.8616 | F40: =+'ESPECIFICO A SEPTIEMBRE'!J34 -> 19510400 | G40: 1186308511
B41: C-4302-1604-25 | C41: DESARROLLO AL LABORATORIO DEL CONTROL AL DOPAJE NACIONAL | D41: 5000 | E41: 2013.9532 | F41: =+'ESPECIFICO A SEPTIEMBRE'!J35 -> 93964304 | G41: 5.2441022e+08
...

Sheet ESPECIFICO A SEPTIEMBRE
B1: 2020
B2: Actual
B3: Septiembre
B4: RUBRO | C4: REC | D4: DESCRIPCION | E4: APR. VIGENTE | F4: APR BLOQUEADA | G4: CDP | H4: APR. DISPONIBLE | I4: COMPROMISO | J4: OBLIGACION | K4: PAGOS
B5: A-01-01-01 | C5: 10 | D5: SALARIO | E5: 12190000000 | F5: 0 | G5: 916553658 | H5: 11273446342 | I5: 916553658 | J5: 916553658 | K5: 916553658
B6: A-01-01-02 | C6: 10 | D6: CONTRIBUCIONES INHERENTES A LA NÓMINA | E6: 4261000000 | F6: 0 | G6: 356464389 | H6: 3904535611 | I6: 356464389 | J6: 356464389 | K6: 356464389
B7: A-01-01-03 | C7: 10 | D7: REMUNERACIONES NO CONSTITUTIVAS DE FACTOR SALARIAL | E7: 1524000000 | F7: 0 | G7: 93748000 | H7: 1430252000 | I7: 93748000 | J7: 93539238 | K7: 93539238
B8: A-02-01 | C8: 10 | D8: ADQUISICIÓN DE ACTIVOS NO FINANCIEROS | E8: 0 | F8: 0 | G8: 0 | H8: 0 | I8: 0 | J8: 0 | K8: 0
B9: A-02-02 | C9: 10 | D9: ADQUISICIONES DIFERENTES DE ACTIVOS | E9: 4340000000 | F9: 0 | G9: 23838703 | H9: 4.3161613e+09 | I9: 4.662692e+08 | J9: 571415464 | K9: 571415464
B10: A-03-03-04-048 | C10: 10 | D10: ESCUELA NACIONAL DEL DEPORTE - ART. 51 DECRETO 2845 DE 1984 | E10: 13311842203 | F10: 0 | G10: 1072239497 | H10: 12239602706 | I10: 1072239497 | J10: 1072153719 | K10: 1072153719
B11: A-03-04-02-001 | C11: 10 | D11: MESADAS PENSIONALES (DE PENSIONES) | E11: 2807110160 | F11: 0 | G11: 0 | H11: 2807110160 | I11: 25390354 | J11: 27846271 | K11: 27932059
B12: A-03-04-02-012 | C12: 10 | D12: INCAPACIDADES Y LICENCIAS DE MATERNIDAD Y PATERNIDAD (NO DE PENSIONES) | E12: 58000000 | F12: 0 | G12: 0 | H12: 58000000 | I12: -3327216 | J12: -5313125 | K12: -5313125
B13: A-03-10-01-001 | C13: 10 | D13: SENTENCIAS | E13: 94000000 | F13: 0 | G13: 0 | H13: 94000000 | I13: 0 | J13: 0 | K13: 0
B14: A-08-01 | C14: 10 | D14: IMPUESTOS | E14: 20000000 | F14: 0 | G14: 0 | H14: 20000000 | I14: 0 | J14: 0 | K14: 0
B15: A-08-03 | C15: 10 | D15: TASAS Y DERECHOS ADMINISTRATIVOS | E15: 11000000 | F15: 0 | G15: 0 | H15: 11000000 | I15: 0 | J15: 0 | K15: 0
B16: A-08-04-01 | C16: 11 | D16: CUOTA DE FISCALIZACIÓN Y AUDITAJE | E16: 975000000 | F16: 0 | G16: 0 | H16: 975000000 | I16: 0 | J16: 0 | K16: 0
B17: A-08-05 | C17: 10 | D17: MULTAS, SANCIONES E INTERESES DE MORA | E17: 2000000 | F17: 0 | G17: 0 | H17: 2000000 | I17: 0 | J17: 0 | K17: 0
B18: TOTAL GASTOS FUNCIONAMIENTO | E18: =SUM(E5:E17) -> 39593952363 | F18: =SUM(F5:F17) -> 0 | G18: =SUM(G5:G17) -> 2.4628442e+09 | H18: =SUM(H5:H17) -> 3.7131108e+10 | I18: =SUM(I5:I17) -> 2.9273379e+09 | J18: =SUM(J5:J17) -> 3032659614 | K18: =SUM(K5:K17) -> 3032745402
B19: C-4301-1604-8 | C19: 11 | D19: APOYO A LA EDUCACIÓN FÍSICA EXTRAESCOLAR Y EL DEPORTE FORMATIVO PARA LA INFANCIA, ADOLESCENCIA Y JUVENTUD A NIVEL NACIONAL | E19: 50000000000 | F19: 0 | G19: 165217500 | H19: 49834782500 | I19: 1749933017 | J19: 780242990 | K19: 780242990
B20: C-4301-1604-9 | C20: 11 | D20: DESARROLLO DE LA ACTIVIDAD FÍSICA Y LOS HÁBITOS Y ESTILOS DE VIDA SALUDABLE A NIVEL NACIONAL | E20: 13000000000 | F20: 0 | G20: -695952104 | H20: 13695952104 | I20: 7000000 | J20: 526601007 | K20: 526601007
B21: C-4301-1604-10 | C21: 11 | D21: DESARROLLO DE LA RECREACIÓN A NIVEL NACIONAL | E21: 13000000000 | F21: 515000000 | G21: 904051000 | H21: 11580949000 | I21: 681601580 | J21: 406663222 | K21: 406663222
B22: C-4301-1604-11 | C22: 11 | D22: DESARROLLO AL DEPORTE SOCIAL COMUNITARIO NACIONAL | E22: 15000000000 | F22: 91000000 | G22: 165560000 | H22: 14743440000 | I22: 342325910 | J22: 580198247 | K22: 580198247
B23: C-4301-1604-12 | C23: 11 | D23: DESARROLLO DEL DEPORTE ESCOLAR COMO HERRAMIENTA DE CONVIVENCIA Y PAZ NACIONAL | E23: 15000000000 | F23: 0 | G23: -2214975650 | H23: 17214975650 | I23: 4070774132 | J23: 1820591979 | K23: 1820591979
B24: C-4302-1604-16 | C24: 10 | D24: APOYO A LA INFRAESTRUCTURA DEPORTIVA, RECREATIVA Y DE LA ACTIVIDAD FÍSICA A NIVEL NACIONAL | E24: 17750000000 | F24: 0 | G24: 363302828 | H24: 17386697172 | I24: 1823545156 | J24: 556758472 | K24: 556758472
B25: C-4302-1604-16 | C25: 11 | D25: APOYO A LA INFRAESTRUCTURA DEPORTIVA, RECREATIVA Y DE LA ACTIVIDAD FÍSICA A NIVEL NACIONAL | E25: 165081157797 | F25: 120655000000 | G25: 868182264 | H25: 43557975533 | I25: 180250000 | J25: 62496900 | K25: 62496900
B26: C-4302-1604-17 | C26: 11 | D26: APOYO A LA INFRAESTRUCTURA DE ALTA COMPETENCIA A NIVEL NACIONAL | E26: 75290000000 | F26: 25000000000 | G26: 491003869 | H26: 49798996131 | I26: 33609489 | J26: 54793438 | K26: 54793438
B27: C-4302-1604-18 | C27: 11 | D27: DESARROLLO DEL SISTEMA PARALÍMPICO PARA EL POSICIONAMIENTO Y LIDERAZGO DEPORTIVO NACIONAL | E27: 25000000000 | F27: 800000000 | G27: 1079390233 | H27: 23120609767 | I27: 4.0927086e+08 | J27: 8.6544463e+08 | K27: 9.7546576e+08
B28: C-4302-1604-19 | C28: 10 | D28: DESARROLLO AL DEPORTE DEL SISTEMA OLÍMPICO Y CONVENCIONAL PARA EL POSICIONAMIENTO Y LIDERAZGO DEPORTIVO NACIONAL | E28: 112170000000 | F28: 22939000000 | G28: 8747179724 | H28: 80483820276 | I28: 1301762054 | J28: 3.1341023e+09 | K28: 3.1341023e+09
B29: C-4302-1604-19 | C29: 11 | D29: DESARROLLO AL DEPORTE DEL SISTEMA OLÍMPICO Y CONVENCIONAL PARA EL POSICIONAMIENTO Y LIDERAZGO DEPORTIVO NACIONAL | E29: 50000000000 | F29: 0 | G29: 1400000000 | H29: 48600000000 | I29: 831279441 | J29: 835668456 | K29: 835668456
B30: C-4302-1604-20 | C30: 11 | D30: DESARROLLO DE POLÍTICAS PÚBLICAS E INVESTIGACIÓN SECTORIAL A NIVEL NACIONAL | E30: 1100000000 | F30: 0 | G30: 0 | H30: 1100000000 | I30: 2285251 | J30: 73815882 | K30: 73815882
... B38: C-4399-1604-9 | C38: 11 | D38: APOYO AL FORTALECIMIENTO DEL SECTOR A NIVEL NACIONAL | E38: 7000000000 | F38: 0 | G38: -6484000 | H38: 7006484000 | I38: 107899193 | J38: 280913499 | K38: 280913499
B39: PRESUPUESTO DE INVERSIÓN | E39: =SUM(E19:E38) -> 637141157797 | F39: =SUM(F19:F38) -> 170000000000 | G39: =SUM(G19:G38) -> 15769426972 | H39: =SUM(H19:H38) -> 451371730825 | I39: =SUM(I19:I38) -> 1.2042582e+10 | J39: =SUM(J19:J38) -> 1.1233522e+10 | K39: =SUM(K19:K38) -> 1.1343543e+10 | L39: 1.4699755e+10
B40: TOTAL PRESUPUESTO DE GASTOS | E40: =+E39+E18 -> 676735110160 | F40: =+F39+F18 -> 170000000000 | G40: =+G39+G18 -> 1.8232271e+10 | H40: =+H39+H18 -> 4.8850284e+11 | I40: =+I39+I18 -> 1.496992e+10 | J40: =+J39+J18 -> 1.4266181e+10 | K40: =+K39+K18 -> 1.4376288e+10 | L40: =+L39+L18 -> 1.4699755e+10

Sheet ESPECIFICO AGOSTO
B1: 2020
B2: Actual
B3: Agosto
B4: RUBRO | C4: REC | D4: DESCRIPCION | E4: APR. VIGENTE | F4: APR BLOQUEADA | G4: CDP | H4: APR. DISPONIBLE | I4: COMPROMISO | J4: OBLIGACION | K4: ORDEN PAGO | L4: PAGOS
B5: A-01-01-01 | C5: 10 | D5: SALARIO | E5: 12190000000 | F5: 0 | G5: 876928143 | H5: 11313071857 | I5: 876928143 | J5: 876928143 | K5: 876928143 | L5: 876928143
B6: A-01-01-02 | C6: 10 | D6: CONTRIBUCIONES INHERENTES A LA NÓMINA | E6: 4261000000 | F6: 0 | G6: 316210035 | H6: 3944789965 | I6: 316210035 | J6: 346776803 | K6: 346776803 | L6: 346776803
B7: A-01-01-03 | C7: 10 | D7: REMUNERACIONES NO CONSTITUTIVAS DE FACTOR SALARIAL | E7: 1524000000 | F7: 0 | G7: 71502008 | H7: 1452497992 | I7: 71502008 | J7: 69878533 | K7: 69878533 | L7: 69878533
B8: A-02-01 | C8: 10 | D8: ADQUISICIÓN DE ACTIVOS NO FINANCIEROS | E8: 0 | F8: 0 | G8: 0 | H8: 0 | I8: 0 | J8: 0 | K8: 0 | L8: 0
B9: A-02-02 | C9: 10 | D9: ADQUISICIONES DIFERENTES DE ACTIVOS | E9: 4340000000 | F9: 0 | G9: 33800000 | H9: 4306200000 | I9: 65674985 | J9: 2.1651502e+08 | K9: 2.1651502e+08 | L9: 2.1651502e+08
B10: A-03-03-04-048 | C10: 10 | D10: ESCUELA NACIONAL DEL DEPORTE - ART. 51 DECRETO 2845 DE 1984 | E10: 13311842203 | F10: 0 | G10: 1172153709 | H10: 12139688494 | I10: 1172153709 | J10: 1172153709 | K10: 1172153709 | L10: 1172153709
B11: A-03-04-02-001 | C11: 10 | D11: MESADAS PENSIONALES (DE PENSIONES) | E11: 2807110160 | F11: 0 | G11: 0 | H11: 2807110160 | I11: 25390374 | J11: 27846291 | K11: 27760503 | L11: 27760503
B12: A-03-04-02-012 | C12: 10 | D12: INCAPACIDADES Y LICENCIAS DE MATERNIDAD Y PATERNIDAD (NO DE PENSIONES) | E12: 58000000 | F12: 0 | G12: 3067197 | H12: 54932803 | I12: 3067197 | J12: 6394413 | K12: 6394413 | L12: 6394413
B13: A-03-10-01-001 | C13: 10 | D13: SENTENCIAS | E13: 94000000 | F13: 0 | G13: 0 | H13: 94000000 | I13: 0 | J13: 0 | K13: 0 | L13: 0
B14: A-08-01 | C14: 10 | D14: IMPUESTOS | E14: 20000000 | F14: 0 | G14: 0 | H14: 20000000 | I14: 0 | J14: 0 | K14: 0 | L14: 0
B15: A-08-03 | C15: 10 | D15: TASAS Y DERECHOS ADMINISTRATIVOS | E15: 11000000 | F15: 0 | G15: 0 | H15: 11000000 | I15: 0 | J15: 0 | K15: 0 | L15: 0
B16: A-08-04-01 | C16: 11 | D16: CUOTA DE FISCALIZACIÓN Y AUDITAJE | E16: 975000000 | F16: 0 | G16: 0 | H16: 975000000 | I16: 0 | J16: 0 | K16: 0 | L16: 0
B17: A-08-05 | C17: 10 | D17: MULTAS, SANCIONES E INTERESES DE MORA | E17: 2000000 | F17: 0 | G17: 0 | H17: 2000000 | I17: 0 | J17: 0 | K17: 0 | L17: 0
B18: PRESUPUESTO DE FUNCIONAMIENTO | E18: =SUM(E5:E17) -> 39593952363 | F18: =SUM(F5:F17) -> 0 | G18: =SUM(G5:G17) -> 2473661092 | H18: =SUM(H5:H17) -> 37120291271 | I18: =SUM(I5:I17) -> 2.5309265e+09 | J18: =SUM(J5:J17) -> 2.7164929e+09 | K18: =SUM(K5:K17) -> 2.7164071e+09 | L18: =SUM(L5:L17) -> 2.7164071e+09
B19: C-4301-1604-8 | C19: 11 | D19: APOYO A LA EDUCACIÓN FÍSICA EXTRAESCOLAR Y EL DEPORTE FORMATIVO PARA LA INFANCIA, ADOLESCENCIA Y JUVENTUD A NIVEL NACIONAL | E19: 50000000000 | F19: 0 | G19: -10306978999 | H19: 60306978999 | I19: 9725783654 | J19: 1329844629 | K19: 1329844629 | L19: 1329844629
B20: C-4301-1604-9 | C20: 11 | D20: DESARROLLO DE LA ACTIVIDAD FÍSICA Y LOS HÁBITOS Y ESTILOS DE VIDA SALUDABLE A NIVEL NACIONAL | E20: 13000000000 | F20: 0 | G20: -1015000000 | H20: 14015000000 | I20: 205609167 | J20: 717735475 | K20: 717735475 | L20: 717735475
B21: C-4301-1604-10 | C21: 11 | D21: DESARROLLO DE LA RECREACIÓN A NIVEL NACIONAL | E21: 13000000000 | F21: 515000000 | G21: -854528000 | H21: 13339528000 | I21: 0 | J21: 399486349 | K21: 399486349 | L21: 399486349
B22: C-4301-1604-11 | C22: 11 | D22: DESARROLLO AL DEPORTE SOCIAL COMUNITARIO NACIONAL | E22: 15000000000 | F22: 91000000 | G22: 4583606289 | H22: 10325393711 | I22: 174451820 | J22: 268581638 | K22: 268581638 | L22: 268581638
B23: C-4301-1604-12 | C23: 11 | D23: DESARROLLO DEL DEPORTE ESCOLAR COMO HERRAMIENTA DE CONVIVENCIA Y PAZ NACIONAL | E23: 15000000000 | F23: 0 | G23: 315150600 | H23: 14684849400 | I23: 55291 | J23: 815093690 | K23: 815093690 | L23: 815093690
B24: C-4302-1604-16 | C24: 10 | D24: APOYO A LA INFRAESTRUCTURA DEPORTIVA, RECREATIVA Y DE LA ACTIVIDAD FÍSICA A NIVEL NACIONAL | E24: 17750000000 | F24: 0 | G24: -190521233 | H24: 17940521233 | I24: 258531696 | J24: 499353585 | K24: 499353585 | L24: 499353585
B25: C-4302-1604-16 | C25: 11 | D25: APOYO A LA INFRAESTRUCTURA DEPORTIVA, RECREATIVA Y DE LA ACTIVIDAD FÍSICA A NIVEL NACIONAL | E25: 165081157797 | F25: 120655000000 | G25: 280400000 | H25: 44145757797 | I25: 144500384 | J25: 54531000 | K25: 54531000 | L25: 54531000
B26: C-4302-1604-17 | C26: 11 | D26: APOYO A LA INFRAESTRUCTURA DE ALTA COMPETENCIA A NIVEL NACIONAL | E26: 75290000000 | F26: 25000000000 | G26: -1580467820 | H26: 51870467820 | I26: 4770113 | J26: 31136000 | K26: 31136000 | L26: 31136000
B27: C-4302-1604-18 | C27: 11 | D27: DESARROLLO DEL SISTEMA PARALÍMPICO PARA EL POSICIONAMIENTO Y LIDERAZGO DEPORTIVO NACIONAL | E27: 25000000000 | F27: 800000000 | G27: -59083333 | H27: 2.4259083e+10 | I27: 1.3836297e+09 | J27: 1.2413108e+09 | K27: 1.1312897e+09 | L27: 1.1312897e+09
B28: C-4302-1604-19 | C28: 10 | D28: DESARROLLO AL DEPORTE DEL SISTEMA OLÍMPICO Y CONVENCIONAL PARA EL POSICIONAMIENTO Y LIDERAZGO DEPORTIVO NACIONAL | E28: 112170000000 | F28: 22939000000 | G28: -5.4049886e+09 | H28: 9.4635989e+10 | I28: 1.858281e+09 | J28: 1.1884017e+09 | K28: 1.1884017e+09 | L28: 1.1884017e+09
B29: C-4302-1604-19 | C29: 11 | D29: DESARROLLO AL DEPORTE DEL SISTEMA OLÍMPICO Y CONVENCIONAL PARA EL POSICIONAMIENTO Y LIDERAZGO DEPORTIVO NACIONAL | E29: 50000000000 | F29: 0 | G29: -1000000000 | H29: 51000000000 | I29: 775977852 | J29: 775977852 | K29: 775977852 | L29: 775977852
B30: C-4302-1604-20 | C30: 11 | D30: DESARROLLO DE POLÍTICAS PÚBLICAS E INVESTIGACIÓN SECTORIAL A NIVEL NACIONAL | E30: 1100000000 | F30: 0 | G30: -84530305 | H30: 1184530305 | I30: 0 | J30: 58193939 | K30: 58193939 | L30: 58193939
... B38: C-4399-1604-9 | C38: 11 | D38: APOYO AL FORTALECIMIENTO DEL SECTOR A NIVEL NACIONAL | E38: 7000000000 | F38: 0 | G38: 49750000 | H38: 6950250000 | I38: 321863391 | J38: 265089396 | K38: 265089396 | L38: 265089396
B39: PRESUPUESTO DE INVERSIÓN | E39: =SUM(E19:E38) -> 637141157797 | F39: =SUM(F19:F38) -> 170000000000 | G39: =SUM(G19:G38) -> -2.1670655e+10 | H39: =SUM(H19:H38) -> 4.8881181e+11 | I39: =SUM(I19:I38) -> 1.5248458e+10 | J39: =SUM(J19:J38) -> 1.2093369e+10 | K39: =SUM(K19:K38) -> 1.1983348e+10 | L39: 1.4699755e+10
B40: TOTAL PRESUPUESTO DE GASTOS | E40: =+E39+E18 -> 676735110160 | F40: =+F39+F18 -> 170000000000 | G40: =+G39+G18 -> -1.9196994e+10 | H40: =+H39+H18 -> 5.259321e+11 | I40: =+I39+I18 -> 1.7779384e+10 | J40: =+J39+J18 -> 1.4809862e+10 | K40: =+K39+K18 -> 1.4699755e+10 | L40: =+L39+L18 -> 1.7416162e+10

Sheet ESPECIFICO JULIO
B1: 2020
B2: Actual
B3: Julio
B4: RUBRO | C4: REC | D4: DESCRIPCION | E4: APR. VIGENTE | F4: APR BLOQUEADA | G4: CDP | H4: APR. DISPONIBLE | I4: COMPROMISO | J4: OBLIGACION | K4: PAGOS
B5: A-01-01-01 | C5: 10 | D5: SALARIO | E5: 12190000000 | F5: 0 | G5: 880678450 | H5: 11309321550 | I5: 880678450 | J5: 881811274 | K5: 881811274
B6: A-01-01-02 | C6: 10 | D6: CONTRIBUCIONES INHERENTES A LA NÓMINA | E6: 4261000000 | F6: 0 | G6: 337312659 | H6: 3923687341 | I6: 337312659 | J6: 306745891 | K6: 306745891
B7: A-01-01-03 | C7: 10 | D7: REMUNERACIONES NO CONSTITUTIVAS DE FACTOR SALARIAL | E7: 1524000000 | F7: 0 | G7: 89502967 | H7: 1434497033 | I7: 89502967 | J7: 89502967 | K7: 89502967
B8: A-02-01 | C8: 10 | D8: ADQUISICIÓN DE ACTIVOS NO FINANCIEROS | E8: 0 | F8: 0 | G8: 0 | H8: 0 | I8: 0 | J8: 0 | K8: 0
B9: A-02-02 | C9: 10 | D9: ADQUISICIONES DIFERENTES DE ACTIVOS | E9: 4340000000 | F9: 0 | G9: 1130170.5 | H9: 4.3388698e+09 | I9: 1.2936016e+08 | J9: 2.183292e+08 | K9: 2.183292e+08
B10: A-03-03-04-048 | C10: 10 | D10: ESCUELA NACIONAL DEL DEPORTE - ART. 51 DECRETO 2845 DE 1984 | E10: 13311842203 | F10: 0 | G10: 1472153709 | H10: 11839688494 | I10: 1472153709 | J10: 1472153709 | K10: 1472153709
B11: A-03-04-02-001 | C11: 10 | D11: MESADAS PENSIONALES (DE PENSIONES) | E11: 2807110160 | F11: 0 | G11: 0 | H11: 2807110160 | I11: 25390374 | J11: 27846291 | K11: 27846291
B12: A-03-04-02-012 | C12: 10 | D12: INCAPACIDADES Y LICENCIAS DE MATERNIDAD Y PATERNIDAD (NO DE PENSIONES) | E12: 58000000 | F12: 0 | G12: -1174455 | H12: 59174455 | I12: -1174455 | J12: -4501671 | K12: -4501671
B13: A-03-10-01-001 | C13: 10 | D13: SENTENCIAS | E13: 94000000 | F13: 0 | G13: 0 | H13: 94000000 | I13: 0 | J13: 0 | K13: 0
B14: A-08-01 | C14: 10 | D14: IMPUESTOS | E14: 20000000 | F14: 0 | G14: 0 | H14: 20000000 | I14: 0 | J14: 0 | K14: 0
B15: A-08-03 | C15: 10 | D15: TASAS Y DERECHOS ADMINISTRATIVOS | E15: 11000000 | F15: 0 | G15: 0 | H15: 11000000 | I15: 0 | J15: 0 | K15: 0
B16: A-08-04-01 | C16: 11 | D16: CUOTA DE FISCALIZACIÓN Y AUDITAJE | E16: 975000000 | F16: 0 | G16: 0 | H16: 975000000 | I16: 0 | J16: 0 | K16: 0
B17: A-08-05 | C17: 10 | D17: MULTAS, SANCIONES E INTERESES DE MORA | E17: 2000000 | F17: 0 | G17: 0 | H17: 2000000 | I17: 0 | J17: 0 | K17: 0
B18: PRESUPUESTO DE FUNCIONAMIENTO | E18: =SUM(E5:E17) -> 39593952363 | F18: =SUM(F5:F17) -> 0 | G18: =SUM(G5:G17) -> 2.7796035e+09 | H18: =SUM(H5:H17) -> 3.6814349e+10 | I18: =SUM(I5:I17) -> 2.9332239e+09 | J18: =SUM(J5:J17) -> 2.9918877e+09 | K18: =SUM(K5:K17) -> 2.9918877e+09
B19: C-4301-1604-8 | C19: 11 | D19: APOYO A LA EDUCACIÓN FÍSICA EXTRAESCOLAR Y EL DEPORTE FORMATIVO PARA LA INFANCIA, ADOLESCENCIA Y JUVENTUD A NIVEL NACIONAL | E19: 50000000000 | F19: 0 | G19: 64681416 | H19: 49935318584 | I19: 59537500 | J19: 161438659 | K19: 161438659
B20: C-4301-1604-9 | C20: 11 | D20: DESARROLLO DE LA ACTIVIDAD FÍSICA Y LOS HÁBITOS Y ESTILOS DE VIDA SALUDABLE A NIVEL NACIONAL | E20: 13000000000 | F20: 0 | G20: -37531666 | H20: 13037531666 | I20: 1334810641 | J20: 511797817 | K20: 511797817
B21: C-4301-1604-10 | C21: 11 | D21: DESARROLLO DE LA RECREACIÓN A NIVEL NACIONAL | E21: 13000000000 | F21: 515000000 | G21: -242886600 | H21: 12727886600 | I21: 419153621 | J21: 322451872 | K21: 322451872
B22: C-4301-1604-11 | C22: 11 | D22: DESARROLLO AL DEPORTE SOCIAL COMUNITARIO NACIONAL | E22: 15000000000 | F22: 91000000 | G22: 26683333 | H22: 14882316667 | I22: 744164703 | J22: 341314410 | K22: 341314410
B23: C-4301-1604-12 | C23: 11 | D23: DESARROLLO DEL DEPORTE ESCOLAR COMO HERRAMIENTA DE CONVIVENCIA Y PAZ NACIONAL | E23: 15000000000 | F23: 0 | G23: 3425161400 | H23: 11574838600 | I23: 1006966476 | J23: 364166011 | K23: 364166011
B24: C-4302-1604-16 | C24: 10 | D24: APOYO A LA INFRAESTRUCTURA DEPORTIVA, RECREATIVA Y DE LA ACTIVIDAD FÍSICA A NIVEL NACIONAL | E24: 17750000000 | F24: 0 | G24: 60000000 | H24: 17690000000 | I24: 867792206 | J24: 535622468 | K24: 535622468
B25: C-4302-1604-16 | C25: 11 | D25: APOYO A LA INFRAESTRUCTURA DEPORTIVA, RECREATIVA Y DE LA ACTIVIDAD FÍSICA A NIVEL NACIONAL | E25: 165081157797 | F25: 120655000000 | G25: 199200000 | H25: 44226957797 | I25: 90000000 | J25: 19816133 | K25: 19816133
B26: C-4302-1604-17 | C26: 11 | D26: APOYO A LA INFRAESTRUCTURA DE ALTA COMPETENCIA A NIVEL NACIONAL | E26: 75290000000 | F26: 25000000000 | G26: -7500000 | H26: 50297500000 | I26: 45000000 | J26: 36686638 | K26: 36686638
B27: C-4302-1604-18 | C27: 11 | D27: DESARROLLO DEL SISTEMA PARALÍMPICO PARA EL POSICIONAMIENTO Y LIDERAZGO DEPORTIVO NACIONAL | E27: 25000000000 | F27: 800000000 | G27: -1054908403 | H27: 25254908403 | I27: 578102071 | J27: 466528089 | K27: 466528089
B28: C-4302-1604-19 | C28: 10 | D28: DESARROLLO AL DEPORTE DEL SISTEMA OLÍMPICO Y CONVENCIONAL PARA EL POSICIONAMIENTO Y LIDERAZGO DEPORTIVO NACIONAL | E28: 112170000000 | F28: 22939000000 | G28: 18373074 | H28: 89212626926 | I28: 2477099735 | J28: 1769127330 | K28: 1769127330
B29: C-4302-1604-19 | C29: 11 | D29: DESARROLLO AL DEPORTE DEL SISTEMA OLÍMPICO Y CONVENCIONAL PARA EL POSICIONAMIENTO Y LIDERAZGO DEPORTIVO NACIONAL | E29: 50000000000 | F29: 0 | G29: -1800000000 | H29: 51800000000 | I29: 861124743 | J29: 2.6712195e+09 | K29: 2.6712195e+09
B30: C-4302-1604-20 | C30: 11 | D30: DESARROLLO DE POLÍTICAS PÚBLICAS E INVESTIGACIÓN SECTORIAL A NIVEL NACIONAL | E30: 1100000000 | F30: 0 | G30: 93530305 | H30: 1006469695 | I30: 87030305 | J30: 51693939 | K30: 51693939
... B38: C-4399-1604-9 | C38: 11 | D38: APOYO AL FORTALECIMIENTO DEL SECTOR A NIVEL NACIONAL | E38: 7000000000 | F38: 0 | G38: 201608450 | H38: 6798391550 | I38: 79250000 | J38: 336634781 | K38: 336634781
B39: PRESUPUESTO DE INVERSIÓN | E39: =SUM(E19:E38) -> 637141157797 | F39: =SUM(F19:F38) -> 170000000000 | G39: =SUM(G19:G38) -> 2591570744 | H39: =SUM(H19:H38) -> 464549587053 | I39: =SUM(I19:I38) -> 9039833056 | J39: =SUM(J19:J38) -> 1.0495577e+10 | K39: =SUM(K19:K38) -> 1.0495577e+10
B40: TOTAL PRESUPUESTO DE GASTOS | E40: =+E39+E18 -> 676735110160 | F40: =+F39+F18 -> 170000000000 | G40: =+G39+G18 -> 5.3711742e+09 | H40: =+H39+H18 -> 5.0136394e+11 | I40: =+I39+I18 -> 1.1973057e+10 | J40: =+J39+J18 -> 1.3487465e+10 | K40: =+K39+K18 -> 1.3487465e+10

Sheet ESPECIFICO JUNIO
B1: 2020
B2: Actual
B3: Junio
B4: RUBRO | C4: REC | D4: DESCRIPCION | E4: APR. VIGENTE | F4: APR BLOQUEADA | G4: CDP | H4: APR. DISPONIBLE | I4: COMPROMISO | J4: OBLIGACION | K4: PAGOS
B5: A-01-01-01 | C5: 10 | D5: SALARIO | E5: 12190000000 | F5: 0 | G5: 1274416067 | H5: 10915583933 | I5: 1274416067 | J5: 1276610459 | K5: 1276610459
B6: A-01-01-02 | C6: 10 | D6: CONTRIBUCIONES INHERENTES A LA NÓMINA | E6: 4261000000 | F6: 0 | G6: 455193967 | H6: 3805806033 | I6: 455193967 | J6: 455193967 | K6: 455193967
B7: A-01-01-03 | C7: 10 | D7: REMUNERACIONES NO CONSTITUTIVAS DE FACTOR SALARIAL | E7: 1524000000 | F7: 0 | G7: 248182606 | H7: 1275817394 | I7: 248391368 | J7: 249863597 | K7: 249863597
B8: A-02-01 | C8: 10 | D8: ADQUISICIÓN DE ACTIVOS NO FINANCIEROS | E8: 0 | F8: 0 | G8: 0 | H8: 0 | I8: 0 | J8: 0 | K8: 0
B9: A-02-02 | C9: 10 | D9: ADQUISICIONES DIFERENTES DE ACTIVOS | E9: 4340000000 | F9: 0 | G9: 1.9213679e+08 | H9: 4.1478632e+09 | I9: 82086258 | J9: 218356241 | K9: 218356241
B10: A-03-03-04-048 | C10: 10 | D10: ESCUELA NACIONAL DEL DEPORTE - ART. 51 DECRETO 2845 DE 1984 | E10: 13311842203 | F10: 0 | G10: 1944307418 | H10: 11367534785 | I10: 1944307418 | J10: 1944307418 | K10: 1944307418
B11: A-03-04-02-001 | C11: 10 | D11: MESADAS PENSIONALES (DE PENSIONES) | E11: 2807110160 | F11: 0 | G11: 0 | H11: 2807110160 | I11: 50780748 | J11: 55692582 | K11: 55692582
B12: A-03-04-02-012 | C12: 10 | D12: INCAPACIDADES Y LICENCIAS DE MATERNIDAD Y PATERNIDAD (NO DE PENSIONES) | E12: 58000000 | F12: 0 | G12: 0 | H12: 58000000 | I12: 0 | J12: 0 | K12: 0
B13: A-03-10-01-001 | C13: 10 | D13: SENTENCIAS | E13: 94000000 | F13: 0 | G13: 0 | H13: 94000000 | I13: 0 | J13: 0 | K13: 0
B14: A-08-01 | C14: 10 | D14: IMPUESTOS | E14: 20000000 | F14: 0 | G14: 0 | H14: 20000000 | I14: 0 | J14: 0 | K14: 0
B15: A-08-03 | C15: 10 | D15: TASAS Y DERECHOS ADMINISTRATIVOS | E15: 11000000 | F15: 0 | G15: 0 | H15: 11000000 | I15: 0 | J15: 0 | K15: 0
B16: A-08-04-01 | C16: 11 | D16: CUOTA DE FISCALIZACIÓN Y AUDITAJE | E16: 975000000 | F16: 0 | G16: 0 | H16: 975000000 | I16: 0 | J16: 0 | K16: 0
B17: A-08-05 | C17: 10 | D17: MULTAS, SANCIONES E INTERESES DE MORA | E17: 2000000 | F17: 0 | G17: 0 | H17: 2000000 | I17: 0 | J17: 0 | K17: 0
B18: A - PRESUPUESTO FUNCIONAMIENTO | E18: =SUM(E5:E17) -> 39593952363 | F18: =SUM(F5:F17) -> 0 | G18: =SUM(G5:G17) -> 4.1142368e+09 | H18: =SUM(H5:H17) -> 3.5479716e+10 | I18: =SUM(I5:I17) -> 4.0551758e+09 | J18: =SUM(J5:J17) -> 4200024264 | K18: =SUM(K5:K17) -> 4200024264
B19: C-4301-1604-8 | C19: 11 | D19: APOYO A LA EDUCACIÓN FÍSICA EXTRAESCOLAR Y EL DEPORTE FORMATIVO PARA LA INFANCIA, ADOLESCENCIA Y JUVENTUD A NIVEL NACIONAL | E19: 50000000000 | F19: 0 | G19: -235485766 | H19: 50235485766 | I19: 260000000 | J19: 4954046826 | K19: 4954046826
B20: C-4301-1604-9 | C20: 11 | D20: DESARROLLO DE LA ACTIVIDAD FÍSICA Y LOS HÁBITOS Y ESTILOS DE VIDA SALUDABLE A NIVEL NACIONAL | E20: 13000000000 | F20: 0 | G20: -200000000 | H20: 13200000000 | I20: 1340996912 | J20: 2195802175 | K20: 2195802175
B21: C-4301-1604-10 | C21: 11 | D21: DESARROLLO DE LA RECREACIÓN A NIVEL NACIONAL | E21: 13000000000 | F21: 515000000 | G21: -151774000 | H21: 12636774000 | I21: 1187441619 | J21: 1756639822 | K21: 1756639822
B22: C-4301-1604-11 | C22: 11 | D22: DESARROLLO AL DEPORTE SOCIAL COMUNITARIO NACIONAL | E22: 15000000000 | F22: 91000000 | G22: -206400000 | H22: 15115400000 | I22: 418427730 | J22: 672498486 | K22: 672498486
B23: C-4301-1604-12 | C23: 11 | D23: DESARROLLO DEL DEPORTE ESCOLAR COMO HERRAMIENTA DE CONVIVENCIA Y PAZ NACIONAL | E23: 15000000000 | F23: 0 | G23: -147791531 | H23: 15147791531 | I23: 1622178127 | J23: 1954804766 | K23: 1954804766
B24: C-4302-1604-16 | C24: 10 | D24: APOYO A LA INFRAESTRUCTURA DEPORTIVA, RECREATIVA Y DE LA ACTIVIDAD FÍSICA A NIVEL NACIONAL | E24: 17750000000 | F24: 0 | G24: 356848584 | H24: 17393151416 | I24: 1408315381 | J24: 5.9869193e+08 | K24: 5.9869193e+08
B25: C-4302-1604-16 | C25: 11 | D25: APOYO A LA INFRAESTRUCTURA DEPORTIVA, RECREATIVA Y DE LA ACTIVIDAD FÍSICA A NIVEL NACIONAL | E25: 165081157797 | F25: 120655000000 | G25: 1137941914 | H25: 43288215883 | I25: 288460000 | J25: 0 | K25: 0
B26: C-4302-1604-17 | C26: 11 | D26: APOYO A LA INFRAESTRUCTURA DE ALTA COMPETENCIA A NIVEL NACIONAL | E26: 75290000000 | F26: 25000000000 | G26: 3599005599 | H26: 46690994401 | I26: 29900000 | J26: 36463000 | K26: 36463000
B27: C-4302-1604-18 | C27: 11 | D27: DESARROLLO DEL SISTEMA PARALÍMPICO PARA EL POSICIONAMIENTO Y LIDERAZGO DEPORTIVO NACIONAL | E27: 25000000000 | F27: 800000000 | G27: -42528000 | H27: 24242528000 | I27: 2.0485796e+09 | J27: 2.2540705e+09 | K27: 2.2540705e+09
B28: C-4302-1604-19 | C28: 10 | D28: DESARROLLO AL DEPORTE DEL SISTEMA OLÍMPICO Y CONVENCIONAL PARA EL POSICIONAMIENTO Y LIDERAZGO DEPORTIVO NACIONAL | E28: 112170000000 | F28: 22939000000 | G28: 713602012 | H28: 88517397988 | I28: 14743206117 | J28: 6132217014 | K28: 6146005928
B29: C-4302-1604-19 | C29: 11 | D29: DESARROLLO AL DEPORTE DEL SISTEMA OLÍMPICO Y CONVENCIONAL PARA EL POSICIONAMIENTO Y LIDERAZGO DEPORTIVO NACIONAL | E29: 50000000000 | F29: 0 | G29: 0 | H29: 50000000000 | I29: 7.8519478e+08 | J29: 783878079 | K29: 788267094
B30: C-4302-1604-20 | C30: 11 | D30: DESARROLLO DE POLÍTICAS PÚBLICAS E INVESTIGACIÓN SECTORIAL A NIVEL NACIONAL | E30: 1100000000 | F30: 0 | G30: 0 | H30: 1100000000 | I30: 0 | J30: 52358852 | K30: 52358852
... B38: C-4399-1604-9 | C38: 11 | D38: APOYO AL FORTALECIMIENTO DEL SECTOR A NIVEL NACIONAL | E38: 7000000000 | F38: 0 | G38: -241000000 | H38: 7241000000 | I38: 455000000 | J38: 265792683 | K38: 265792683
B39: B- PRESUPUESTO INVERSION | E39: =SUM(E19:E38) -> 637141157797 | F39: =SUM(F19:F38) -> 170000000000 | G39: =SUM(G19:G38) -> 4616915411 | H39: =SUM(H19:H38) -> 462524242386 | I39: =SUM(I19:I38) -> 4.3517657e+10 | J39: =SUM(J19:J38) -> 2.5851673e+10 | K39: =SUM(K19:K38) -> 2.5869851e+10
B40: TOTAL PRESUPUESTO A + B | E40: =+E39+E18 -> 676735110160 | F40: 170000000000 | G40: =+G39+G18 -> 8.7311523e+09 | H40: =+H39+H18 -> 4.9800396e+11 | I40: =+I39+I18 -> 4.7572833e+10 | J40: =+J39+J18 -> 3.0051697e+10 | K40: =+K39+K18 -> 3.0069875e+10

Sheet ESPECIFICO MAYO
B1: 2020
B2: Actual
B3: Mayo
B4: RUBRO | C4: DESCRIPCION | D4: APR. VIGENTE | E4: APR BLOQUEADA | F4: CDP | G4: APR. DISPONIBLE | H4: COMPROMISO | I4: OBLIGACION | J4: ORDEN PAGO | K4: PAGOS
B5: A-01-01-01 | C5: SALARIO | D5: 12190000000 | E5: 0 | F5: 914998667 | G5: 11275001333 | H5: 914998667 | I5: 912920837 | J5: 912920837 | K5: 912920837
B6: A-01-01-02 | C6: CONTRIBUCIONES INHERENTES A LA NÓMINA | D6: 4261000000 | E6: 0 | F6: 361478774 | G6: 3899521226 | H6: 361478774 | I6: 361478774 | J6: 361478774 | K6: 361478774
B7: A-01-01-03 | C7: REMUNERACIONES NO CONSTITUTIVAS DE FACTOR SALARIAL | D7: 1524000000 | E7: 0 | F7: 97221188 | G7: 1426778812 | H7: 97012426 | I7: 95331435 | J7: 95331435 | K7: 95331435
B8: A-02-01 | C8: ADQUISICIÓN DE ACTIVOS NO FINANCIEROS | D8: 11000000 | E8: 0 | F8: 0 | G8: 11000000 | H8: 0 | I8: 0 | J8: 0 | K8: 0
B9: A-02-02 | C9: ADQUISICIONES DIFERENTES DE ACTIVOS | D9: 4329000000 | E9: 0 | F9: 63410950 | G9: 4265589050 | H9: 14914155 | I9: 3.2899257e+08 | J9: 3.2899257e+08 | K9: 3.2899257e+08
B10: A-03-03-04-048 | C10: ESCUELA NACIONAL DEL DEPORTE - ART. 51 DECRETO 2845 DE 1984 | D10: 13311842203 | E10: 0 | F10: 1472153709 | G10: 11839688494 | H10: 1472153709 | I10: 1472153709 | J10: 1472153709 | K10: 1472153709
B11: A-03-04-02-001 | C11: MESADAS PENSIONALES (DE PENSIONES) | D11: 2807110160 | E11: 0 | F11: 0 | G11: 2807110160 | H11: 25390374 | I11: 27846291 | J11: 27846291 | K11: 27846291
B12: A-03-04-02-012 | C12: INCAPACIDADES Y LICENCIAS DE MATERNIDAD Y PATERNIDAD (NO DE PENSIONES) | D12: 58000000 | E12: 0 | F12: 7309531 | G12: 50690469 | H12: 7309531 | I12: 7309531 | J12: 7309531 | K12: 7309531
B13: A-03-10-01-001 | C13: SENTENCIAS | D13: 94000000 | E13: 0 | F13: 0 | G13: 94000000 | H13: 0 | I13: 0 | J13: 0 | K13: 0
B14: A-08-01 | C14: IMPUESTOS | D14: 20000000 | E14: 0 | F14: 0 | G14: 20000000 | H14: 0 | I14: 0 | J14: 0 | K14: 0
B15: A-08-03 | C15: TASAS Y DERECHOS ADMINISTRATIVOS | D15: 11000000 | E15: 0 | F15: 0 | G15: 11000000 | H15: 0 | I15: 0 | J15: 0 | K15: 0
B16: A-08-04-01 | C16: CUOTA DE FISCALIZACIÓN Y AUDITAJE | D16: 975000000 | E16: 0 | F16: 0 | G16: 975000000 | H16: 0 | I16: 0 | J16: 0 | K16: 0
B17: A-08-05 | C17: MULTAS, SANCIONES E INTERESES DE MORA | D17: 2000000 | E17: 0 | F17: 0 | G17: 2000000 | H17: 0 | I17: 0 | J17: 0 | K17: 0
D18: =SUM(D5:D17) -> 39593952363 | E18: =SUM(E5:E17) -> 0 | F18: =SUM(F5:F17) -> 2916572819 | G18: =SUM(G5:G17) -> 36677379544 | H18: =SUM(H5:H17) -> 2.8932576e+09 | I18: =SUM(I5:I17) -> 3.2060331e+09 | J18: =SUM(J5:J17) -> 3.2060331e+09 | K18: =SUM(K5:K17) -> 3.2060331e+09
B19: C-4301-1604-8 | C19: APOYO A LA EDUCACIÓN FÍSICA EXTRAESCOLAR Y EL DEPORTE FORMATIVO PARA LA INFANCIA, ADOLESCENCIA Y JUVENTUD A NIVEL NACIONAL | D19: 50000000000 | E19: 0 | F19: 16341650940 | G19: 33658349060 | H19: 12221812316 | I19: 7348048342 | J19: 7348048342 | K19: 7348048342
B20: C-4301-1604-9 | C20: DESARROLLO DE LA ACTIVIDAD FÍSICA Y LOS HÁBITOS Y ESTILOS DE VIDA SALUDABLE A NIVEL NACIONAL | D20: 13000000000 | E20: 0 | F20: 622982124 | G20: 12377017876 | H20: 3278149060 | I20: 1257344864 | J20: 1257344864 | K20: 1257344864
B21: C-4301-1604-10 | C21: DESARROLLO DE LA RECREACIÓN A NIVEL NACIONAL | D21: 13000000000 | E21: 515000000 | F21: -230745449 | G21: 12715745449 | H21: 4371313731 | I21: 821531673 | J21: 821531673 | K21: 821531673
B22: C-4301-1604-11 | C22: DESARROLLO AL DEPORTE SOCIAL COMUNITARIO NACIONAL | D22: 15000000000 | E22: 91000000 | F22: -4279269060 | G22: 19188269060 | H22: 1450401605 | I22: 452306049 | J22: 452306049 | K22: 452306049
B23: C-4301-1604-12 | C23: DESARROLLO DEL DEPORTE ESCOLAR COMO HERRAMIENTA DE CONVIVENCIA Y PAZ NACIONAL | D23: 15000000000 | E23: 0 | F23: 143713300 | G23: 14856286700 | H23: 3751841001 | I23: 639439910 | J23: 639439910 | K23: 639439910
B24: C-4302-1604-16 | C24: APOYO A LA INFRAESTRUCTURA DEPORTIVA, RECREATIVA Y DE LA ACTIVIDAD FÍSICA A NIVEL NACIONAL | D24: 17750000000 | E24: 0 | F24: 924648621 | G24: 16825351379 | H24: 405058000 | I24: 4.5209285e+08 | J24: 4.5209285e+08 | K24: 4.5209285e+08
B25: C-4302-1604-16 | C25: APOYO A LA INFRAESTRUCTURA DEPORTIVA, RECREATIVA Y DE LA ACTIVIDAD FÍSICA A NIVEL NACIONAL | D25: 165081157797 | E25: 120655000000 | F25: 1768007186 | G25: 42658150611 | H25: 0 | I25: 0 | J25: 0 | K25: 0
B26: C-4302-1604-17 | C26: APOYO A LA INFRAESTRUCTURA DE ALTA COMPETENCIA A NIVEL NACIONAL | D26: 75290000000 | E26: 25000000000 | F26: 9200000 | G26: 50280800000 | H26: 0 | I26: 36674885 | J26: 36674885 | K26: 36674885
B27: C-4302-1604-18 | C27: DESARROLLO DEL SISTEMA PARALÍMPICO PARA EL POSICIONAMIENTO Y LIDERAZGO DEPORTIVO NACIONAL | D27: 25000000000 | E27: 800000000 | F27: -96784236 | G27: 24296784236 | H27: 5.4586755e+08 | I27: 6.3714747e+08 | J27: 6.4329209e+08 | K27: 6.4329209e+08
B28: C-4302-1604-19 | C28: DESARROLLO AL DEPORTE DEL SISTEMA OLÍMPICO Y CONVENCIONAL PARA EL POSICIONAMIENTO Y LIDERAZGO DEPORTIVO NACIONAL | D28: 112170000000 | E28: 22939000000 | F28: -1299144433 | G28: 90530144433 | H28: 5406704004 | I28: 3.398743e+09 | J28: 3.3863212e+09 | K28: 3.3863212e+09
B29: C-4302-1604-19 | C29: DESARROLLO AL DEPORTE DEL SISTEMA OLÍMPICO Y CONVENCIONAL PARA EL POSICIONAMIENTO Y LIDERAZGO DEPORTIVO NACIONAL | D29: 50000000000 | E29: 0 | F29: 0 | G29: 50000000000 | H29: 8.3435175e+08 | I29: 3.1604975e+09 | J29: 3.1622532e+09 | K29: 3.1622532e+09
B30: C-4302-1604-20 | C30: DESARROLLO DE POLÍTICAS PÚBLICAS E INVESTIGACIÓN SECTORIAL A NIVEL NACIONAL | D30: 1100000000 | E30: 0 | F30: 0 | G30: 1100000000 | H30: 0 | I30: 54560575 | J30: 54560575 | K30: 54560575
... B38: C-4399-1604-9 | C38: APOYO AL FORTALECIMIENTO DEL SECTOR A NIVEL NACIONAL | D38: 7000000000 | E38: 0 | F38: -897798477 | G38: 7897798477 | H38: 170435203 | I38: 246186288 | J38: 246186288 | K38: 246186288
D39: =SUM(D19:D38) -> 637141157797 | E39: =SUM(E19:E38) -> 170000000000 | F39: =SUM(F19:F38) -> 3001792757 | G39: =SUM(G19:G38) -> 464139365040 | H39: =SUM(H19:H38) -> 33029684317 | I39: =SUM(I19:I38) -> 1.9138263e+10 | J39: =SUM(J19:J38) -> 1.9133742e+10 | K39: =SUM(K19:K38) -> 1.9133742e+10
D40: =+D39+D18 -> 676735110160 | E40: =+E39+E18 -> 170000000000 | F40: =+F39+F18 -> 5918365576 | G40: =+G39+G18 -> 500816744584 | H40: =+H39+H18 -> 3.5922942e+10 | I40: =+I39+I18 -> 2.2344297e+10 | J40: =+J39+J18 -> 2.2339775e+10 | K40: =+K39+K18 -> 2.2339775e+10

Sheet ESPECIFICO ABRIL
B1: 2020
B2: Actual
B3: Abril
B4: RUBRO | C4: REC | D4: DESCRIPCION | E4: APR. VIGENTE | F4: APR BLOQUEADA | G4: CDP | H4: APR. DISPONIBLE | I4: COMPROMISO | J4: OBLIGACION | K4: ORDEN PAGO | L4: PAGOS
B5: A-01-01-01 | C5: 10 | D5: SALARIO | E5: 12190000000 | F5: 0 | G5: 833146834 | H5: 11356853166 | I5: 833146834 | J5: 841070131 | K5: 841070131 | L5: 841070131
B6: A-01-01-02 | C6: 10 | D6: CONTRIBUCIONES INHERENTES A LA NÓMINA | E6: 4261000000 | F6: 0 | G6: 336542121 | H6: 3924457879 | I6: 336542121 | J6: 336542121 | K6: 336542121 | L6: 336542121
B7: A-01-01-03 | C7: 10 | D7: REMUNERACIONES NO CONSTITUTIVAS DE FACTOR SALARIAL | E7: 1524000000 | F7: 0 | G7: 73970418 | H7: 1450029582 | I7: 73970418 | J7: 73970418 | K7: 73970418 | L7: 73970418
B8: A-02-01 | C8: 10 | D8: ADQUISICIÓN DE ACTIVOS NO FINANCIEROS | E8: 11000000 | F8: 0 | G8: 0 | H8: 11000000 | I8: 0 | J8: 0 | K8: 0 | L8: 0
B9: A-02-02 | C9: 10 | D9: ADQUISICIONES DIFERENTES DE ACTIVOS | E9: 4329000000 | F9: 0 | G9: 52000000 | H9: 4277000000 | I9: 4.11255e+08 | J9: 3.6973486e+08 | K9: 3.6973486e+08 | L9: 3.6973486e+08
B10: A-03-03-04-048 | C10: 10 | D10: ESCUELA NACIONAL DEL DEPORTE - ART. 51 DECRETO 2845 DE 1984 | E10: 13311842203 | F10: 0 | G10: 1472153709 | H10: 11839688494 | I10: 1472153709 | J10: 1472153709 | K10: 1472153709 | L10: 1472153709
B11: A-03-04-02-001 | C11: 10 | D11: MESADAS PENSIONALES (DE PENSIONES) | E11: 2807110160 | F11: 0 | G11: 0 | H11: 2807110160 | I11: 25390374 | J11: 27846291 | K11: 27846291 | L11: 27846291
B12: A-03-04-02-012 | C12: 10 | D12: INCAPACIDADES Y LICENCIAS DE MATERNIDAD Y PATERNIDAD (NO DE PENSIONES) | E12: 58000000 | F12: 0 | G12: 1976702 | H12: 56023298 | I12: 1976702 | J12: 1976702 | K12: 1976702 | L12: 1976702
B13: A-03-10-01-001 | C13: 10 | D13: SENTENCIAS | E13: 94000000 | F13: 0 | G13: 0 | H13: 94000000 | I13: 0 | J13: 0 | K13: 0 | L13: 0
B14: A-08-01 | C14: 10 | D14: IMPUESTOS | E14: 20000000 | F14: 0 | G14: 0 | H14: 20000000 | I14: 0 | J14: 0 | K14: 0 | L14: 0
B15: A-08-03 | C15: 10 | D15: TASAS Y DERECHOS ADMINISTRATIVOS | E15: 11000000 | F15: 0 | G15: 0 | H15: 11000000 | I15: 0 | J15: 0 | K15: 0 | L15: 0
B16: A-08-04-01 | C16: 11 | D16: CUOTA DE FISCALIZACIÓN Y AUDITAJE | E16: 975000000 | F16: 0 | G16: 0 | H16: 975000000 | I16: 0 | J16: 0 | K16: 0 | L16: 0
B17: A-08-05 | C17: 10 | D17: MULTAS, SANCIONES E INTERESES DE MORA | E17: 2000000 | F17: 0 | G17: 0 | H17: 2000000 | I17: 0 | J17: 0 | K17: 0 | L17: 0
E18: =SUM(E5:E17) -> 39593952363 | F18: =SUM(F5:F17) -> 0 | G18: =SUM(G5:G17) -> 2769789784 | H18: =SUM(H5:H17) -> 36824162579 | I18: =SUM(I5:I17) -> 3.1544352e+09 | J18: =SUM(J5:J17) -> 3.1232942e+09 | K18: =SUM(K5:K17) -> 3.1232942e+09 | L18: =SUM(L5:L17) -> 3.1232942e+09
B19: C-4301-1604-8 | C19: 11 | D19: APOYO A LA EDUCACIÓN FÍSICA EXTRAESCOLAR Y EL DEPORTE FORMATIVO PARA LA INFANCIA, ADOLESCENCIA Y JUVENTUD A NIVEL NACIONAL | E19: 50000000000 | F19: 0 | G19: 222980000 | H19: 49777020000 | I19: 158580103 | J19: 112020217 | K19: 112020217 | L19: 112020217
B20: C-4301-1604-9 | C20: 11 | D20: DESARROLLO DE LA ACTIVIDAD FÍSICA Y LOS HÁBITOS Y ESTILOS DE VIDA SALUDABLE A NIVEL NACIONAL | E20: 13000000000 | F20: 0 | G20: -206213726 | H20: 13206213726 | I20: 1501136350 | J20: 122884238 | K20: 122884238 | L20: 122884238
B21: C-4301-1604-10 | C21: 11 | D21: DESARROLLO DE LA RECREACIÓN A NIVEL NACIONAL | E21: 13000000000 | F21: 515000000 | G21: -930932000 | H21: 13415932000 | I21: 56700000 | J21: 45659018 | K21: 45659018 | L21: 45659018
B22: C-4301-1604-11 | C22: 11 | D22: DESARROLLO AL DEPORTE SOCIAL COMUNITARIO NACIONAL | E22: 15000000000 | F22: 91000000 | G22: 8254730000 | H22: 6654270000 | I22: 603431595 | J22: 70133300 | K22: 70133300 | L22: 70133300
B23: C-4301-1604-12 | C23: 11 | D23: DESARROLLO DEL DEPORTE ESCOLAR COMO HERRAMIENTA DE CONVIVENCIA Y PAZ NACIONAL | E23: 15000000000 | F23: 0 | G23: 1104318000 | H23: 13895682000 | I23: 505029617 | J23: 65639333 | K23: 65639333 | L23: 65639333
B24: C-4302-1604-16 | C24: 10 | D24: APOYO A LA INFRAESTRUCTURA DEPORTIVA, RECREATIVA Y DE LA ACTIVIDAD FÍSICA A NIVEL NACIONAL | E24: 17750000000 | F24: 0 | G24: 6.8930521e+09 | H24: 1.0856948e+10 | I24: 188313692 | J24: 510651943 | K24: 510651943 | L24: 510651943
B25: C-4302-1604-16 | C25: 11 | D25: APOYO A LA INFRAESTRUCTURA DEPORTIVA, RECREATIVA Y DE LA ACTIVIDAD FÍSICA A NIVEL NACIONAL | E25: 165081157797 | F25: 120655000000 | G25: 6100000000 | H25: 38326157797 | I25: 0 | J25: 0 | K25: 0 | L25: 0
B26: C-4302-1604-17 | C26: 11 | D26: APOYO A LA INFRAESTRUCTURA DE ALTA COMPETENCIA A NIVEL NACIONAL | E26: 75290000000 | F26: 25000000000 | G26: 444766067 | H26: 49845233933 | I26: 0 | J26: 36463000 | K26: 36463000 | L26: 36463000
B27: C-4302-1604-18 | C27: 11 | D27: DESARROLLO DEL SISTEMA PARALÍMPICO PARA EL POSICIONAMIENTO Y LIDERAZGO DEPORTIVO NACIONAL | E27: 25000000000 | F27: 800000000 | G27: -4.170751e+08 | H27: 2.4617075e+10 | I27: 5.3570266e+08 | J27: 1.1945373e+09 | K27: 1.1883927e+09 | L27: 1.1883927e+09
B28: C-4302-1604-19 | C28: 10 | D28: DESARROLLO AL DEPORTE DEL SISTEMA OLÍMPICO Y CONVENCIONAL PARA EL POSICIONAMIENTO Y LIDERAZGO DEPORTIVO NACIONAL | E28: 112170000000 | F28: 22939000000 | G28: 5.0746053e+09 | H28: 8.4156395e+10 | I28: 364629018 | J28: 707346980 | K28: 708714154 | L28: 708714154
B29: C-4302-1604-19 | C29: 11 | D29: DESARROLLO AL DEPORTE DEL SISTEMA OLÍMPICO Y CONVENCIONAL PARA EL POSICIONAMIENTO Y LIDERAZGO DEPORTIVO NACIONAL | E29: 50000000000 | F29: 0 | G29: 3999999967 | H29: 46000000033 | I29: 8.4137418e+08 | J29: 4429254668 | K29: 4423110047 | L29: 4423110047
B30: C-4302-1604-20 | C30: 11 | D30: DESARROLLO DE POLÍTICAS PÚBLICAS E INVESTIGACIÓN SECTORIAL A NIVEL NACIONAL | E30: 1100000000 | F30: 0 | G30: -16554544 | H30: 1116554544 | I30: 53045456 | J30: 60954544 | K30: 60954544 | L30: 60954544
... B38: C-4399-1604-9 | C38: 11 | D38: APOYO AL FORTALECIMIENTO DEL SECTOR A NIVEL NACIONAL | E38: 7000000000 | F38: 0 | G38: 1448269093 | H38: 5551730907 | I38: 41633231 | J38: 250854583 | K38: 250854583 | L38: 250854583
E39: 676735110160 | F39: 170000000000 | G39: 4.0665975e+10 | H39: 4.6606914e+11 | I39: 8.8521705e+09 | J39: 1.1572216e+10 | K39: 1.1561294e+10 | L39: 1.1561294e+10

Sheet ESPECIFICO MARZO 2020
B1: 2020
B2: Actual
B3: Marzo
B4: RUBRO | C4: DESCRIPCION | D4: APR. VIGENTE | E4: APR BLOQUEADA | F4: CDP | G4: APR. DISPONIBLE | H4: COMPROMISO | I4: OBLIGACION | J4: ORDEN PAGO | K4: PAGOS
B5: A-01-01-01 | C5: SALARIO | D5: 12190000000 | E5: 0 | F5: 851563945 | G5: 11338436055 | H5: 851563945 | I5: 842391262 | J5: 842391262 | K5: 842391262
B6: A-01-01-02 | C6: CONTRIBUCIONES INHERENTES A LA NÓMINA | D6: 4261000000 | E6: 0 | F6: 266474700 | G6: 3994525300 | H6: 266474700 | I6: 268124238 | J6: 268124238 | K6: 268124238
B7: A-01-01-03 | C7: REMUNERACIONES NO CONSTITUTIVAS DE FACTOR SALARIAL | D7: 1524000000 | E7: 0 | F7: 93021617 | G7: 1430978383 | H7: 93021617 | I7: 93021617 | J7: 93021617 | K7: 93021617
B8: A-02-01 | C8: ADQUISICIÓN DE ACTIVOS NO FINANCIEROS | D8: 11000000 | E8: 0 | F8: 0 | G8: 11000000 | H8: 0 | I8: 0 | J8: 0 | K8: 0
B9: A-02-02 | C9: ADQUISICIONES DIFERENTES DE ACTIVOS | D9: 4329000000 | E9: 0 | F9: 49867803 | G9: 4279132197 | H9: 1.9743214e+08 | I9: 477494692 | J9: 477494692 | K9: 477494692
B10: A-03-03-04-048 | C10: ESCUELA NACIONAL DEL DEPORTE - ART. 51 DECRETO 2845 DE 1984 | D10: 13311842203 | E10: 0 | F10: 966576436 | G10: 12345265767 | H10: 966576436 | I10: 966576436 | J10: 966576436 | K10: 966576436
B11: A-03-04-02-001 | C11: MESADAS PENSIONALES (DE PENSIONES) | D11: 2807110160 | E11: 0 | F11: 5577273 | G11: 2801532887 | H11: 30967647 | I11: 33423564 | J11: 33423564 | K11: 33423564
B12: A-03-04-02-012 | C12: INCAPACIDADES Y LICENCIAS DE MATERNIDAD Y PATERNIDAD (NO DE PENSIONES) | D12: 58000000 | E12: 0 | F12: 14060543 | G12: 43939457 | H12: 14060543 | I12: 14060543 | J12: 14060543 | K12: 14060543
B13: A-03-10-01-001 | C13: SENTENCIAS | D13: 94000000 | E13: 0 | F13: 0 | G13: 94000000 | H13: 0 | I13: 0 | J13: 0 | K13: 0
B14: A-08-01 | C14: IMPUESTOS | D14: 20000000 | E14: 0 | F14: 0 | G14: 20000000 | H14: 0 | I14: 0 | J14: 0 | K14: 0
B15: A-08-03 | C15: TASAS Y DERECHOS ADMINISTRATIVOS | D15: 11000000 | E15: 0 | F15: 0 | G15: 11000000 | H15: 0 | I15: 0 | J15: 0 | K15: 0
B16: A-08-04-01 | C16: CUOTA DE FISCALIZACIÓN Y AUDITAJE | D16: 975000000 | E16: 0 | F16: 579572.42 | G16: 9.7442043e+08 | H16: 579572.42 | I16: 4970272.6 | J16: 4970272.6 | K16: 4970272.6
... B37: C-4399-1604-9 | C37: APOYO AL FORTALECIMIENTO DEL SECTOR A NIVEL NACIONAL | D37: 7000000000 | E37: 0 | F37: 125746200 | G37: 6874253800 | H37: 317787146 | I37: 194486906 | J37: 194486906 | K37: 194486906
D38: =SUM(D5:D37) -> 506735110160 | E38: =SUM(E5:E37) -> 170000000000 | F38: =SUM(F5:F37) -> 7.2716805e+10 | G38: =SUM(G5:G37) -> 4.3401831e+11 | H38: =SUM(H5:H37) -> 2.6905123e+10 | I38: =SUM(I5:I37) -> 2.3320377e+10 | J38: =SUM(J5:J37) -> 2.3317643e+10 | K38: =SUM(K5:K37) -> 2.3317643e+10

Sheet ESPECIFICO FEBRERO 2020
B1: 2020
B2: Actual
B3: Febrero
B4: RUBRO | C4: DESCRIPCION | D4: APR. VIGENTE | E4: CDP | F4: APR. DISPONIBLE | G4: COMPROMISO | H4: OBLIGACION | I4: ORDEN PAGO | J4: PAGOS
B5: A-01-01-01 | C5: SALARIO | D5: 12190000000 | E5: 793771648 | F5: 11396228352 | G5: 793771648 | H5: 793771648 | I5: 793771648 | J5: 793771648
B6: A-01-01-02 | C6: CONTRIBUCIONES INHERENTES A LA NÓMINA | D6: 4261000000 | E6: 315516862 | F6: 3945483138 | G6: 315516862 | H6: 386731883 | I6: 386731883 | J6: 386731883
B7: A-01-01-03 | C7: REMUNERACIONES NO CONSTITUTIVAS DE FACTOR SALARIAL | D7: 1524000000 | E7: 91227868 | F7: 1432772132 | G7: 91227868 | H7: 91227868 | I7: 91227868 | J7: 91227868
B8: A-02-01 | C8: ADQUISICIÓN DE ACTIVOS NO FINANCIEROS | D8: 11000000 | E8: 0 | F8: 11000000 | G8: 0 | H8: 0 | I8: 0 | J8: 0
B9: A-02-02 | C9: ADQUISICIONES DIFERENTES DE ACTIVOS | D9: 4329000000 | E9: 125845803 | F9: 4203154197 | G9: 1163536212 | H9: 69844467 | I9: 69844467 | J9: 69844467
B10: A-03-03-04-048 | C10: ESCUELA NACIONAL DEL DEPORTE - ART. 51 DECRETO 2845 DE 1984 | D10: 13311842203 | E10: 9.7195964e+08 | F10: 1.2339883e+10 | G10: 9.7195964e+08 | H10: 9.7195964e+08 | I10: 9.7195964e+08 | J10: 9.7195964e+08
B11: A-03-04-02-001 | C11: MESADAS PENSIONALES (DE PENSIONES) | D11: 2807110160 | E11: 194068.98 | F11: 2.8069161e+09 | G11: 25584443 | H11: 28040360 | I11: 28040360 | J11: 28040360
B12: A-03-04-02-012 | C12: INCAPACIDADES Y LICENCIAS DE MATERNIDAD Y PATERNIDAD (NO DE PENSIONES) | D12: 58000000 | E12: 15739423 | F12: 42260577 | G12: 15739423 | H12: 15739423 | I12: 15739423 | J12: 15739423
B13: A-03-10-01-001 | C13: SENTENCIAS | D13: 94000000 | E13: 0 | F13: 94000000 | G13: 0 | H13: 0 | I13: 0 | J13: 0
B14: A-08-01 | C14: IMPUESTOS | D14: 20000000 | E14: 0 | F14: 20000000 | G14: 0 | H14: 0 | I14: 0 | J14: 0
B15: A-08-03 | C15: TASAS Y DERECHOS ADMINISTRATIVOS | D15: 11000000 | E15: 0 | F15: 11000000 | G15: 0 | H15: 0 | I15: 0 | J15: 0
B16: A-08-04-01 | C16: CUOTA DE FISCALIZACIÓN Y AUDITAJE | D16: 975000000 | E16: 4390700.1 | F16: 9.706093e+08 | G16: 4390700.1 | H16: 624748985 | I16: 624748985 | J16: 624748985
