Workbook

Sheet RESUMEN EJECUCION MAYO 2020
B54: C-4301-1604-8 | C54: APOYO A LA EDUCACIÓN FÍSICA EXTRAESCOLAR Y EL DEPORTE FORMATIVO PARA LA INFANCIA, ADOLESCENCIA Y JUVENTUD A NIVEL NACIONAL
B55: C-4301-1604-9 | C55: DESARROLLO DE LA ACTIVIDAD FÍSICA Y LOS HÁBITOS Y ESTILOS DE VIDA SALUDABLE A NIVEL NACIONAL
B56: C-4301-1604-10 | C56: DESARROLLO DE LA RECREACIÓN A NIVEL NACIONAL
B57: C-4301-1604-11 | C57: DESARROLLO AL DEPORTE SOCIAL COMUNITARIO NACIONAL
B58: C-4301-1604-12 | C58: DESARROLLO DEL DEPORTE ESCOLAR COMO HERRAMIENTA DE CONVIVENCIA Y PAZ NACIONAL
B59: C-4302-1604-16 | C59: APOYO A LA INFRAESTRUCTURA DEPORTIVA, RECREATIVA Y DE LA ACTIVIDAD FÍSICA A NIVEL NACIONAL
B60: C-4302-1604-16 | C60: APOYO A LA INFRAESTRUCTURA DEPORTIVA, RECREATIVA Y DE LA ACTIVIDAD FÍSICA A NIVEL NACIONAL
B61: C-4302-1604-17 | C61: APOYO A LA INFRAESTRUCTURA DE ALTA COMPETENCIA A NIVEL NACIONAL
B62: C-4302-1604-18 | C62: DESARROLLO DEL SISTEMA PARALÍMPICO PARA EL POSICIONAMIENTO Y LIDERAZGO DEPORTIVO NACIONAL
B63: C-4302-1604-19 | C63: DESARROLLO AL DEPORTE DEL SISTEMA OLÍMPICO Y CONVENCIONAL PARA EL POSICIONAMIENTO Y LIDERAZGO DEPORTIVO NACIONAL
B64: C-4302-1604-19 | C64: DESARROLLO AL DEPORTE DEL SISTEMA OLÍMPICO Y CONVENCIONAL PARA EL POSICIONAMIENTO Y LIDERAZGO DEPORTIVO NACIONAL
B65: C-4302-1604-20 | C65: DESARROLLO DE POLÍTICAS PÚBLICAS E INVESTIGACIÓN SECTORIAL A NIVEL NACIONAL
... B73: C-4399-1604-9 | C73: APOYO AL FORTALECIMIENTO DEL SECTOR A NIVEL NACIONAL

Sheet ACUMULADO A MAYO  2020
B1: 2020
B2: Actual
B3: Enero-Mayo
B4: RUBRO | C4: DESCRIPCION | D4: APR. VIGENTE | E4: CDP | F4: APR. DISPONIBLE | G4: COMPROMISO | H4: OBLIGACION | I4: ORDEN PAGO | J4: PAGOS
B5: A-01-01-01 | C5: SALARIO | D5: 12190000000 | E5: 4088460790 | F5: 8101539210 | G5: 4088460790 | H5: 4085133574 | I5: 4085133574 | J5: 4085133574
B6: A-01-01-02 | C6: CONTRIBUCIONES INHERENTES A LA NÓMINA | D6: 4261000000 | E6: 1595196116 | F6: 2665803884 | G6: 1595196116 | H6: 1595196116 | I6: 1595196116 | J6: 1595196116
B7: A-01-01-03 | C7: REMUNERACIONES NO CONSTITUTIVAS DE FACTOR SALARIAL | D7: 1524000000 | E7: 410027214 | F7: 1113972786 | G7: 409818452 | H7: 408137461 | I7: 408137461 | J7: 408137461
B8: A-02-01 | C8: ADQUISICIÓN DE ACTIVOS NO FINANCIEROS | D8: 11000000 | E8: 0 | F8: 11000000 | G8: 0 | H8: 0 | I8: 0 | J8: 0
B9: A-02-02 | C9: ADQUISICIONES DIFERENTES DE ACTIVOS | D9: 4329000000 | E9: 4.0288111e+09 | F9: 3.0018886e+08 | G9: 3.061264e+09 | H9: 1.292898e+09 | I9: 1.292898e+09 | J9: 1.292898e+09
B10: A-03-03-04-048 | C10: ESCUELA NACIONAL DEL DEPORTE - ART. 51 DECRETO 2845 DE 1984 | D10: 13311842203 | E10: 5.8549972e+09 | F10: 7.456845e+09 | G10: 5.8549972e+09 | H10: 5.8549972e+09 | I10: 5.8549972e+09 | J10: 5.8549972e+09
B11: A-03-04-02-001 | C11: MESADAS PENSIONALES (DE PENSIONES) | D11: 2807110160 | E11: 3.9561942e+08 | F11: 2.4114907e+09 | G11: 1.6710605e+08 | H11: 1.450028e+08 | I11: 1.450028e+08 | J11: 1.450028e+08
B12: A-03-04-02-012 | C12: INCAPACIDADES Y LICENCIAS DE MATERNIDAD Y PATERNIDAD (NO DE PENSIONES) | D12: 58000000 | E12: 52773073 | F12: 5226927 | G12: 52773073 | H12: 52773073 | I12: 52773073 | J12: 52773073
B13: A-03-10-01-001 | C13: SENTENCIAS | D13: 94000000 | E13: 0 | F13: 94000000 | G13: 0 | H13: 0 | I13: 0 | J13: 0
B14: A-08-01 | C14: IMPUESTOS | D14: 20000000 | E14: 0 | F14: 20000000 | G14: 0 | H14: 0 | I14: 0 | J14: 0
B15: A-08-03 | C15: TASAS Y DERECHOS ADMINISTRATIVOS | D15: 11000000 | E15: 0 | F15: 11000000 | G15: 0 | H15: 0 | I15: 0 | J15: 0
B16: A-08-04-01 | C16: CUOTA DE FISCALIZACIÓN Y AUDITAJE | D16: 975000000 | E16: 6.2971926e+08 | F16: 3.4528074e+08 | G16: 6.2971926e+08 | H16: 6.2971926e+08 | I16: 6.2971926e+08 | J16: 6.2971926e+08
B17: A-08-05 | C17: MULTAS, SANCIONES E INTERESES DE MORA | D17: 2000000 | E17: 0 | F17: 2000000 | G17: 0 | H17: 0 | I17: 0 | J17: 0
D18: =SUM(D5:D17) -> 39593952363 | E18: =SUM(E5:E17) -> 1.7055604e+10 | F18: =SUM(F5:F17) -> 2.2538348e+10 | G18: =SUM(G5:G17) -> 1.5859335e+10 | H18: =SUM(H5:H17) -> 1.4063858e+10 | I18: =SUM(I5:I17) -> 1.4063858e+10 | J18: =SUM(J5:J17) -> 1.4063858e+10
B19: C-4301-1604-8 | C19: APOYO A LA EDUCACIÓN FÍSICA EXTRAESCOLAR Y EL DEPORTE FORMATIVO PARA LA INFANCIA, ADOLESCENCIA Y JUVENTUD A NIVEL NACIONAL | D19: 50000000000 | E19: 45524755955 | F19: 4475244045 | G19: 13853303573 | H19: 7532720187 | I19: 7532720187 | J19: 7532720187
B20: C-4301-1604-9 | C20: DESARROLLO DE LA ACTIVIDAD FÍSICA Y LOS HÁBITOS Y ESTILOS DE VIDA SALUDABLE A NIVEL NACIONAL | D20: 13000000000 | E20: 11790299398 | F20: 1209700602 | G20: 6171451830 | H20: 1433795003 | I20: 1433795003 | J20: 1433795003
B21: C-4301-1604-10 | C21: DESARROLLO DE LA RECREACIÓN A NIVEL NACIONAL | D21: 13000000000 | E21: 11095520151 | F21: 1389479849 | G21: 5105914936 | H21: 905883011 | I21: 905883011 | J21: 905883011
B22: C-4301-1604-11 | C22: DESARROLLO AL DEPORTE SOCIAL COMUNITARIO NACIONAL | D22: 15000000000 | E22: 8475560940 | F22: 6433439060 | G22: 2916582370 | H22: 575151906 | I22: 575151906 | J22: 575151906
B23: C-4301-1604-12 | C23: DESARROLLO DEL DEPORTE ESCOLAR COMO HERRAMIENTA DE CONVIVENCIA Y PAZ NACIONAL | D23: 15000000000 | E23: 11021516300 | F23: 3978483700 | G23: 5090286510 | H23: 762507334 | I23: 762507334 | J23: 762507334
B24: C-4302-1604-16 | C24: APOYO A LA INFRAESTRUCTURA DEPORTIVA, RECREATIVA Y DE LA ACTIVIDAD FÍSICA A NIVEL NACIONAL | D24: 17750000000 | E24: 1.6869183e+10 | F24: 8.8081685e+08 | G24: 5.6640266e+09 | H24: 1.5756157e+09 | I24: 1.5756157e+09 | J24: 1.5756157e+09
B25: C-4302-1604-16 | C25: APOYO A LA INFRAESTRUCTURA DEPORTIVA, RECREATIVA Y DE LA ACTIVIDAD FÍSICA A NIVEL NACIONAL | D25: 165081157797 | E25: 36164631241 | F25: 8261526556 | G25: 28296624055 | H25: 0 | I25: 0 | J25: 0
B26: C-4302-1604-17 | C26: APOYO A LA INFRAESTRUCTURA DE ALTA COMPETENCIA A NIVEL NACIONAL | D26: 75290000000 | E26: 29557888933 | F26: 20732111067 | G26: 28952552365 | H26: 110969912 | I26: 110969912 | J26: 110969912
B27: C-4302-1604-18 | C27: DESARROLLO DEL SISTEMA PARALÍMPICO PARA EL POSICIONAMIENTO Y LIDERAZGO DEPORTIVO NACIONAL | D27: 25000000000 | E27: 2.1753883e+10 | F27: 2.4461169e+09 | G27: 10705301454 | H27: 6172296131 | I27: 6172296131 | J27: 6172296131
B28: C-4302-1604-19 | C28: DESARROLLO AL DEPORTE DEL SISTEMA OLÍMPICO Y CONVENCIONAL PARA EL POSICIONAMIENTO Y LIDERAZGO DEPORTIVO NACIONAL | D28: 112170000000 | E28: 6.2380168e+10 | F28: 2.6850832e+10 | G28: 21901385810 | H28: 8.5499177e+09 | I28: 8.5361288e+09 | J28: 8.5361288e+09
B29: C-4302-1604-19 | C29: DESARROLLO AL DEPORTE DEL SISTEMA OLÍMPICO Y CONVENCIONAL PARA EL POSICIONAMIENTO Y LIDERAZGO DEPORTIVO NACIONAL | D29: 50000000000 | E29: 45999999967 | F29: 4000000033 | G29: 3.5004098e+10 | H29: 1.8890931e+10 | I29: 1.8886542e+10 | J29: 1.8886542e+10
B30: C-4302-1604-20 | C30: DESARROLLO DE POLÍTICAS PÚBLICAS E INVESTIGACIÓN SECTORIAL A NIVEL NACIONAL | D30: 1100000000 | E30: 675000000 | F30: 425000000 | G30: 593374185 | H30: 177081873 | I30: 177081873 | J30: 177081873
... B38: C-4399-1604-9 | C38: APOYO AL FORTALECIMIENTO DEL SECTOR A NIVEL NACIONAL | D38: 7000000000 | E38: 4304211009 | F38: 2695788991 | G38: 3032111902 | H38: 755267767 | I38: 755267767 | J38: 755267767
D39: =SUM(D19:D38) -> 637141157797 | E39: =SUM(E19:E38) -> 3.5749138e+11 | F39: =SUM(F19:F38) -> 1.0964977e+11 | G39: =SUM(G19:G38) -> 1.8258608e+11 | H39: =SUM(H19:H38) -> 53616104980 | I39: =SUM(I19:I38) -> 53597927051 | J39: =SUM(J19:J38) -> 53597927051
D40: =+D39+D18 -> 676735110160 | E40: =+E39+E18 -> 3.7454699e+11 | F40: =+F39+F18 -> 1.3218812e+11 | G40: =+G39+G18 -> 1.9844542e+11 | H40: =+H39+H18 -> 6.7679962e+10 | I40: =+I39+I18 -> 6.7661785e+10 | J40: =+J39+J18 -> 6.7661785e+10

Sheet ESPECIFICO MAYO
B1: 2020
B2: Actual
B3: Mayo
B4: RUBRO | C4: DESCRIPCION | D4: APR. VIGENTE | E4: APR BLOQUEADA | F4: CDP | G4: APR. DISPONIBLE | H4: COMPROMISO | I4: OBLIGACION | J4: ORDEN PAGO | K4: PAGOS
B5: A-01-01-01 | C5: SALARIO | D5: 12190000000 | E5: 0 | F5: 914998667 | G5: 11275001333 | H5: 914998667 | I5: 912920837 | J5: 912920837 | K5: 912920837
B6: A-01-01-02 | C6: CONTRIBUCIONES INHERENTES A LA NÓMINA | D6: 4261000000 | E6: 0 | F6: 361478774 | G6: 3899521226 | H6: 361478774 | I6: 361478774 | J6: 361478774 | K6: 361478774
B7: A-01-01-03 | C7: REMUNERACIONES NO CONSTITUTIVAS DE FACTOR SALARIAL | D7: 1524000000 | E7: 0 | F7: 97221188 | G7: 1426778812 | H7: 97012426 | I7: 95331435 | J7: 95331435 | K7: 95331435
B8: A-02-01 | C8: ADQUISICIÓN DE ACTIVOS NO FINANCIEROS | D8: 11000000 | E8: 0 | F8: 0 | G8: 11000000 | H8: 0 | I8: 0 | J8: 0 | K8: 0
B9: A-02-02 | C9: ADQUISICIONES DIFERENTES DE ACTIVOS | D9: 4329000000 | E9: 0 | F9: 63410950 | G9: 4265589050 | H9: 14914155 | I9: 3.2899257e+08 | J9: 3.2899257e+08 | K9: 3.2899257e+08
B10: A-03-03-04-048 | C10: ESCUELA NACIONAL DEL DEPORTE - ART. 51 DECRETO 2845 DE 1984 | D10: 13311842203 | E10: 0 | F10: 1472153709 | G10: 11839688494 | H10: 1472153709 | I10: 1472153709 | J10: 1472153709 | K10: 1472153709
B11: A-03-04-02-001 | C11: MESADAS PENSIONALES (DE PENSIONES) | D11: 2807110160 | E11: 0 | F11: 0 | G11: 2807110160 | H11: 25390374 | I11: 27846291 | J11: 27846291 | K11: 27846291
B12: A-03-04-02-012 | C12: INCAPACIDADES Y LICENCIAS DE MATERNIDAD Y PATERNIDAD (NO DE PENSIONES) | D12: 58000000 | E12: 0 | F12: 7309531 | G12: 50690469 | H12: 7309531 | I12: 7309531 | J12: 7309531 | K12: 7309531
B13: A-03-10-01-001 | C13: SENTENCIAS | D13: 94000000 | E13: 0 | F13: 0 | G13: 94000000 | H13: 0 | I13: 0 | J13: 0 | K13: 0
B14: A-08-01 | C14: IMPUESTOS | D14: 20000000 | E14: 0 | F14: 0 | G14: 20000000 | H14: 0 | I14: 0 | J14: 0 | K14: 0
B15: A-08-03 | C15: TASAS Y DERECHOS ADMINISTRATIVOS | D15: 11000000 | E15: 0 | F15: 0 | G15: 11000000 | H15: 0 | I15: 0 | J15: 0 | K15: 0
B16: A-08-04-01 | C16: CUOTA DE FISCALIZACIÓN Y AUDITAJE | D16: 975000000 | E16: 0 | F16: 0 | G16: 975000000 | H16: 0 | I16: 0 | J16: 0 | K16: 0
B17: A-08-05 | C17: MULTAS, SANCIONES E INTERESES DE MORA | D17: 2000000 | E17: 0 | F17: 0 | G17: 2000000 | H17: 0 | I17: 0 | J17: 0 | K17: 0
D18: =SUM(D5:D17) -> 39593952363 | E18: =SUM(E5:E17) -> 0 | F18: =SUM(F5:F17) -> 2916572819 | G18: =SUM(G5:G17) -> 36677379544 | H18: =SUM(H5:H17) -> 2.8932576e+09 | I18: =SUM(I5:I17) -> 3.2060331e+09 | J18: =SUM(J5:J17) -> 3.2060331e+09 | K18: =SUM(K5:K17) -> 3.2060331e+09
B19: C-4301-1604-8 | C19: APOYO A LA EDUCACIÓN FÍSICA EXTRAESCOLAR Y EL DEPORTE FORMATIVO PARA LA INFANCIA, ADOLESCENCIA Y JUVENTUD A NIVEL NACIONAL | D19: 50000000000 | E19: 0 | F19: 16341650940 | G19: 33658349060 | H19: 12221812316 | I19: 7348048342 | J19: 7348048342 | K19: 7348048342
B20: C-4301-1604-9 | C20: DESARROLLO DE LA ACTIVIDAD FÍSICA Y LOS HÁBITOS Y ESTILOS DE VIDA SALUDABLE A NIVEL NACIONAL | D20: 13000000000 | E20: 0 | F20: 622982124 | G20: 12377017876 | H20: 3278149060 | I20: 1257344864 | J20: 1257344864 | K20: 1257344864
B21: C-4301-1604-10 | C21: DESARROLLO DE LA RECREACIÓN A NIVEL NACIONAL | D21: 13000000000 | E21: 515000000 | F21: -230745449 | G21: 12715745449 | H21: 4371313731 | I21: 821531673 | J21: 821531673 | K21: 821531673
B22: C-4301-1604-11 | C22: DESARROLLO AL DEPORTE SOCIAL COMUNITARIO NACIONAL | D22: 15000000000 | E22: 91000000 | F22: -4279269060 | G22: 19188269060 | H22: 1450401605 | I22: 452306049 | J22: 452306049 | K22: 452306049
B23: C-4301-1604-12 | C23: DESARROLLO DEL DEPORTE ESCOLAR COMO HERRAMIENTA DE CONVIVENCIA Y PAZ NACIONAL | D23: 15000000000 | E23: 0 | F23: 143713300 | G23: 14856286700 | H23: 3751841001 | I23: 639439910 | J23: 639439910 | K23: 639439910
B24: C-4302-1604-16 | C24: APOYO A LA INFRAESTRUCTURA DEPORTIVA, RECREATIVA Y DE LA ACTIVIDAD FÍSICA A NIVEL NACIONAL | D24: 17750000000 | E24: 0 | F24: 924648621 | G24: 16825351379 | H24: 405058000 | I24: 4.5209285e+08 | J24: 4.5209285e+08 | K24: 4.5209285e+08
B25: C-4302-1604-16 | C25: APOYO A LA INFRAESTRUCTURA DEPORTIVA, RECREATIVA Y DE LA ACTIVIDAD FÍSICA A NIVEL NACIONAL | D25: 165081157797 | E25: 120655000000 | F25: 1768007186 | G25: 42658150611 | H25: 0 | I25: 0 | J25: 0 | K25: 0
B26: C-4302-1604-17 | C26: APOYO A LA INFRAESTRUCTURA DE ALTA COMPETENCIA A NIVEL NACIONAL | D26: 75290000000 | E26: 25000000000 | F26: 9200000 | G26: 50280800000 | H26: 0 | I26: 36674885 | J26: 36674885 | K26: 36674885
B27: C-4302-1604-18 | C27: DESARROLLO DEL SISTEMA PARALÍMPICO PARA EL POSICIONAMIENTO Y LIDERAZGO DEPORTIVO NACIONAL | D27: 25000000000 | E27: 800000000 | F27: -96784236 | G27: 24296784236 | H27: 5.4586755e+08 | I27: 6.3714747e+08 | J27: 6.4329209e+08 | K27: 6.4329209e+08
B28: C-4302-1604-19 | C28: DESARROLLO AL DEPORTE DEL SISTEMA OLÍMPICO Y CONVENCIONAL PARA EL POSICIONAMIENTO Y LIDERAZGO DEPORTIVO NACIONAL | D28: 112170000000 | E28: 22939000000 | F28: -1299144433 | G28: 90530144433 | H28: 5406704004 | I28: 3.398743e+09 | J28: 3.3863212e+09 | K28: 3.3863212e+09
B29: C-4302-1604-19 | C29: DESARROLLO AL DEPORTE DEL SISTEMA OLÍMPICO Y CONVENCIONAL PARA EL POSICIONAMIENTO Y LIDERAZGO DEPORTIVO NACIONAL | D29: 50000000000 | E29: 0 | F29: 0 | G29: 50000000000 | H29: 8.3435175e+08 | I29: 3.1604975e+09 | J29: 3.1622532e+09 | K29: 3.1622532e+09
B30: C-4302-1604-20 | C30: DESARROLLO DE POLÍTICAS PÚBLICAS E INVESTIGACIÓN SECTORIAL A NIVEL NACIONAL | D30: 1100000000 | E30: 0 | F30: 0 | G30: 1100000000 | H30: 0 | I30: 54560575 | J30: 54560575 | K30: 54560575
... B38: C-4399-1604-9 | C38: APOYO AL FORTALECIMIENTO DEL SECTOR A NIVEL NACIONAL | D38: 7000000000 | E38: 0 | F38: -897798477 | G38: 7897798477 | H38: 170435203 | I38: 246186288 | J38: 246186288 | K38: 246186288
D39: =SUM(D19:D38) -> 637141157797 | E39: =SUM(E19:E38) -> 170000000000 | F39: =SUM(F19:F38) -> 3001792757 | G39: =SUM(G19:G38) -> 464139365040 | H39: =SUM(H19:H38) -> 33029684317 | I39: =SUM(I19:I38) -> 1.9138263e+10 | J39: =SUM(J19:J38) -> 1.9133742e+10 | K39: =SUM(K19:K38) -> 1.9133742e+10
D40: =+D39+D18 -> 676735110160 | E40: =+E39+E18 -> 170000000000 | F40: =+F39+F18 -> 5918365576 | G40: =+G39+G18 -> 500816744584 | H40: =+H39+H18 -> 3.5922942e+10 | I40: =+I39+I18 -> 2.2344297e+10 | J40: =+J39+J18 -> 2.2339775e+10 | K40: =+K39+K18 -> 2.2339775e+10

Sheet ESPECIFICO ABRIL
B1: 2020
B2: Actual
B3: Abril
B4: RUBRO | C4: REC | D4: DESCRIPCION | E4: APR. VIGENTE | F4: APR BLOQUEADA | G4: CDP | H4: APR. DISPONIBLE | I4: COMPROMISO | J4: OBLIGACION | K4: ORDEN PAGO | L4: PAGOS
B5: A-01-01-01 | C5: 10 | D5: SALARIO | E5: 12190000000 | F5: 0 | G5: 833146834 | H5: 11356853166 | I5: 833146834 | J5: 841070131 | K5: 841070131 | L5: 841070131
B6: A-01-01-02 | C6: 10 | D6: CONTRIBUCIONES INHERENTES A LA NÓMINA | E6: 4261000000 | F6: 0 | G6: 336542121 | H6: 3924457879 | I6: 336542121 | J6: 336542121 | K6: 336542121 | L6: 336542121
B7: A-01-01-03 | C7: 10 | D7: REMUNERACIONES NO CONSTITUTIVAS DE FACTOR SALARIAL | E7: 1524000000 | F7: 0 | G7: 73970418 | H7: 1450029582 | I7: 73970418 | J7: 73970418 | K7: 73970418 | L7: 73970418
B8: A-02-01 | C8: 10 | D8: ADQUISICIÓN DE ACTIVOS NO FINANCIEROS | E8: 11000000 | F8: 0 | G8: 0 | H8: 11000000 | I8: 0 | J8: 0 | K8: 0 | L8: 0
B9: A-02-02 | C9: 10 | D9: ADQUISICIONES DIFERENTES DE ACTIVOS | E9: 4329000000 | F9: 0 | G9: 52000000 | H9: 4277000000 | I9: 4.11255e+08 | J9: 3.6973486e+08 | K9: 3.6973486e+08 | L9: 3.6973486e+08
B10: A-03-03-04-048 | C10: 10 | D10: ESCUELA NACIONAL DEL DEPORTE - ART. 51 DECRETO 2845 DE 1984 | E10: 13311842203 | F10: 0 | G10: 1472153709 | H10: 11839688494 | I10: 1472153709 | J10: 1472153709 | K10: 1472153709 | L10: 1472153709
B11: A-03-04-02-001 | C11: 10 | D11: MESADAS PENSIONALES (DE PENSIONES) | E11: 2807110160 | F11: 0 | G11: 0 | H11: 2807110160 | I11: 25390374 | J11: 27846291 | K11: 27846291 | L11: 27846291
B12: A-03-04-02-012 | C12: 10 | D12: INCAPACIDADES Y LICENCIAS DE MATERNIDAD Y PATERNIDAD (NO DE PENSIONES) | E12: 58000000 | F12: 0 | G12: 1976702 | H12: 56023298 | I12: 1976702 | J12: 1976702 | K12: 1976702 | L12: 1976702
B13: A-03-10-01-001 | C13: 10 | D13: SENTENCIAS | E13: 94000000 | F13: 0 | G13: 0 | H13: 94000000 | I13: 0 | J13: 0 | K13: 0 | L13: 0
B14: A-08-01 | C14: 10 | D14: IMPUESTOS | E14: 20000000 | F14: 0 | G14: 0 | H14: 20000000 | I14: 0 | J14: 0 | K14: 0 | L14: 0
B15: A-08-03 | C15: 10 | D15: TASAS Y DERECHOS ADMINISTRATIVOS | E15: 11000000 | F15: 0 | G15: 0 | H15: 11000000 | I15: 0 | J15: 0 | K15: 0 | L15: 0
B16: A-08-04-01 | C16: 11 | D16: CUOTA DE FISCALIZACIÓN Y AUDITAJE | E16: 975000000 | F16: 0 | G16: 0 | H16: 975000000 | I16: 0 | J16: 0 | K16: 0 | L16: 0
B17: A-08-05 | C17: 10 | D17: MULTAS, SANCIONES E INTERESES DE MORA | E17: 2000000 | F17: 0 | G17: 0 | H17: 2000000 | I17: 0 | J17: 0 | K17: 0 | L17: 0
E18: =SUM(E5:E17) -> 39593952363 | F18: =SUM(F5:F17) -> 0 | G18: =SUM(G5:G17) -> 2769789784 | H18: =SUM(H5:H17) -> 36824162579 | I18: =SUM(I5:I17) -> 3.1544352e+09 | J18: =SUM(J5:J17) -> 3.1232942e+09 | K18: =SUM(K5:K17) -> 3.1232942e+09 | L18: =SUM(L5:L17) -> 3.1232942e+09
B19: C-4301-1604-8 | C19: 11 | D19: APOYO A LA EDUCACIÓN FÍSICA EXTRAESCOLAR Y EL DEPORTE FORMATIVO PARA LA INFANCIA, ADOLESCENCIA Y JUVENTUD A NIVEL NACIONAL | E19: 50000000000 | F19: 0 | G19: 222980000 | H19: 49777020000 | I19: 158580103 | J19: 112020217 | K19: 112020217 | L19: 112020217
B20: C-4301-1604-9 | C20: 11 | D20: DESARROLLO DE LA ACTIVIDAD FÍSICA Y LOS HÁBITOS Y ESTILOS DE VIDA SALUDABLE A NIVEL NACIONAL | E20: 13000000000 | F20: 0 | G20: -206213726 | H20: 13206213726 | I20: 1501136350 | J20: 122884238 | K20: 122884238 | L20: 122884238
B21: C-4301-1604-10 | C21: 11 | D21: DESARROLLO DE LA RECREACIÓN A NIVEL NACIONAL | E21: 13000000000 | F21: 515000000 | G21: -930932000 | H21: 13415932000 | I21: 56700000 | J21: 45659018 | K21: 45659018 | L21: 45659018
B22: C-4301-1604-11 | C22: 11 | D22: DESARROLLO AL DEPORTE SOCIAL COMUNITARIO NACIONAL | E22: 15000000000 | F22: 91000000 | G22: 8254730000 | H22: 6654270000 | I22: 603431595 | J22: 70133300 | K22: 70133300 | L22: 70133300
B23: C-4301-1604-12 | C23: 11 | D23: DESARROLLO DEL DEPORTE ESCOLAR COMO HERRAMIENTA DE CONVIVENCIA Y PAZ NACIONAL | E23: 15000000000 | F23: 0 | G23: 1104318000 | H23: 13895682000 | I23: 505029617 | J23: 65639333 | K23: 65639333 | L23: 65639333
B24: C-4302-1604-16 | C24: 10 | D24: APOYO A LA INFRAESTRUCTURA DEPORTIVA, RECREATIVA Y DE LA ACTIVIDAD FÍSICA A NIVEL NACIONAL | E24: 17750000000 | F24: 0 | G24: 6.8930521e+09 | H24: 1.0856948e+10 | I24: 188313692 | J24: 510651943 | K24: 510651943 | L24: 510651943
B25: C-4302-1604-16 | C25: 11 | D25: APOYO A LA INFRAESTRUCTURA DEPORTIVA, RECREATIVA Y DE LA ACTIVIDAD FÍSICA A NIVEL NACIONAL | E25: 165081157797 | F25: 120655000000 | G25: 6100000000 | H25: 38326157797 | I25: 0 | J25: 0 | K25: 0 | L25: 0
B26: C-4302-1604-17 | C26: 11 | D26: APOYO A LA INFRAESTRUCTURA DE ALTA COMPETENCIA A NIVEL NACIONAL | E26: 75290000000 | F26: 25000000000 | G26: 444766067 | H26: 49845233933 | I26: 0 | J26: 36463000 | K26: 36463000 | L26: 36463000
B27: C-4302-1604-18 | C27: 11 | D27: DESARROLLO DEL SISTEMA PARALÍMPICO PARA EL POSICIONAMIENTO Y LIDERAZGO DEPORTIVO NACIONAL | E27: 25000000000 | F27: 800000000 | G27: -4.170751e+08 | H27: 2.4617075e+10 | I27: 5.3570266e+08 | J27: 1.1945373e+09 | K27: 1.1883927e+09 | L27: 1.1883927e+09
B28: C-4302-1604-19 | C28: 10 | D28: DESARROLLO AL DEPORTE DEL SISTEMA OLÍMPICO Y CONVENCIONAL PARA EL POSICIONAMIENTO Y LIDERAZGO DEPORTIVO NACIONAL | E28: 112170000000 | F28: 22939000000 | G28: 5.0746053e+09 | H28: 8.4156395e+10 | I28: 364629018 | J28: 707346980 | K28: 708714154 | L28: 708714154
B29: C-4302-1604-19 | C29: 11 | D29: DESARROLLO AL DEPORTE DEL SISTEMA OLÍMPICO Y CONVENCIONAL PARA EL POSICIONAMIENTO Y LIDERAZGO DEPORTIVO NACIONAL | E29: 50000000000 | F29: 0 | G29: 3999999967 | H29: 46000000033 | I29: 8.4137418e+08 | J29: 4429254668 | K29: 4423110047 | L29: 4423110047
B30: C-4302-1604-20 | C30: 11 | D30: DESARROLLO DE POLÍTICAS PÚBLICAS E INVESTIGACIÓN SECTORIAL A NIVEL NACIONAL | E30: 1100000000 | F30: 0 | G30: -16554544 | H30: 1116554544 | I30: 53045456 | J30: 60954544 | K30: 60954544 | L30: 60954544
... B38: C-4399-1604-9 | C38: 11 | D38: APOYO AL FORTALECIMIENTO DEL SECTOR A NIVEL NACIONAL | E38: 7000000000 | F38: 0 | G38: 1448269093 | H38: 5551730907 | I38: 41633231 | J38: 250854583 | K38: 250854583 | L38: 250854583
E39: 676735110160 | F39: 170000000000 | G39: 4.0665975e+10 | H39: 4.6606914e+11 | I39: 8.8521705e+09 | J39: 1.1572216e+10 | K39: 1.1561294e+10 | L39: 1.1561294e+10

Sheet ESPECIFICO MARZO 2020
B1: 2020
B2: Actual
B3: Marzo
B4: RUBRO | C4: DESCRIPCION | D4: APR. VIGENTE | E4: APR BLOQUEADA | F4: CDP | G4: APR. DISPONIBLE | H4: COMPROMISO | I4: OBLIGACION | J4: ORDEN PAGO | K4: PAGOS
B5: A-01-01-01 | C5: SALARIO | D5: 12190000000 | E5: 0 | F5: 851563945 | G5: 11338436055 | H5: 851563945 | I5: 842391262 | J5: 842391262 | K5: 842391262
B6: A-01-01-02 | C6: CONTRIBUCIONES INHERENTES A LA NÓMINA | D6: 4261000000 | E6: 0 | F6: 266474700 | G6: 3994525300 | H6: 266474700 | I6: 268124238 | J6: 268124238 | K6: 268124238
B7: A-01-01-03 | C7: REMUNERACIONES NO CONSTITUTIVAS DE FACTOR SALARIAL | D7: 1524000000 | E7: 0 | F7: 93021617 | G7: 1430978383 | H7: 93021617 | I7: 93021617 | J7: 93021617 | K7: 93021617
B8: A-02-01 | C8: ADQUISICIÓN DE ACTIVOS NO FINANCIEROS | D8: 11000000 | E8: 0 | F8: 0 | G8: 11000000 | H8: 0 | I8: 0 | J8: 0 | K8: 0
B9: A-02-02 | C9: ADQUISICIONES DIFERENTES DE ACTIVOS | D9: 4329000000 | E9: 0 | F9: 49867803 | G9: 4279132197 | H9: 1.9743214e+08 | I9: 477494692 | J9: 477494692 | K9: 477494692
B10: A-03-03-04-048 | C10: ESCUELA NACIONAL DEL DEPORTE - ART. 51 DECRETO 2845 DE 1984 | D10: 13311842203 | E10: 0 | F10: 966576436 | G10: 12345265767 | H10: 966576436 | I10: 966576436 | J10: 966576436 | K10: 966576436
B11: A-03-04-02-001 | C11: MESADAS PENSIONALES (DE PENSIONES) | D11: 2807110160 | E11: 0 | F11: 5577273 | G11: 2801532887 | H11: 30967647 | I11: 33423564 | J11: 33423564 | K11: 33423564
B12: A-03-04-02-012 | C12: INCAPACIDADES Y LICENCIAS DE MATERNIDAD Y PATERNIDAD (NO DE PENSIONES) | D12: 58000000 | E12: 0 | F12: 14060543 | G12: 43939457 | H12: 14060543 | I12: 14060543 | J12: 14060543 | K12: 14060543
B13: A-03-10-01-001 | C13: SENTENCIAS | D13: 94000000 | E13: 0 | F13: 0 | G13: 94000000 | H13: 0 | I13: 0 | J13: 0 | K13: 0
B14: A-08-01 | C14: IMPUESTOS | D14: 20000000 | E14: 0 | F14: 0 | G14: 20000000 | H14: 0 | I14: 0 | J14: 0 | K14: 0
B15: A-08-03 | C15: TASAS Y DERECHOS ADMINISTRATIVOS | D15: 11000000 | E15: 0 | F15: 0 | G15: 11000000 | H15: 0 | I15: 0 | J15: 0 | K15: 0
B16: A-08-04-01 | C16: CUOTA DE FISCALIZACIÓN Y AUDITAJE | D16: 975000000 | E16: 0 | F16: 579572.42 | G16: 9.7442043e+08 | H16: 579572.42 | I16: 4970272.6 | J16: 4970272.6 | K16: 4970272.6
... B37: C-4399-1604-9 | C37: APOYO AL FORTALECIMIENTO DEL SECTOR A NIVEL NACIONAL | D37: 7000000000 | E37: 0 | F37: 125746200 | G37: 6874253800 | H37: 317787146 | I37: 194486906 | J37: 194486906 | K37: 194486906
D38: =SUM(D5:D37) -> 506735110160 | E38: =SUM(E5:E37) -> 170000000000 | F38: =SUM(F5:F37) -> 7.2716805e+10 | G38: =SUM(G5:G37) -> 4.3401831e+11 | H38: =SUM(H5:H37) -> 2.6905123e+10 | I38: =SUM(I5:I37) -> 2.3320377e+10 | J38: =SUM(J5:J37) -> 2.3317643e+10 | K38: =SUM(K5:K37) -> 2.3317643e+10

Sheet ESPECIFICO FEBRERO 2020
B1: 2020
B2: Actual
B3: Febrero
B4: RUBRO | C4: DESCRIPCION | D4: APR. VIGENTE | E4: CDP | F4: APR. DISPONIBLE | G4: COMPROMISO | H4: OBLIGACION | I4: ORDEN PAGO | J4: PAGOS
B5: A-01-01-01 | C5: SALARIO | D5: 12190000000 | E5: 793771648 | F5: 11396228352 | G5: 793771648 | H5: 793771648 | I5: 793771648 | J5: 793771648
B6: A-01-01-02 | C6: CONTRIBUCIONES INHERENTES A LA NÓMINA | D6: 4261000000 | E6: 315516862 | F6: 3945483138 | G6: 315516862 | H6: 386731883 | I6: 386731883 | J6: 386731883
B7: A-01-01-03 | C7: REMUNERACIONES NO CONSTITUTIVAS DE FACTOR SALARIAL | D7: 1524000000 | E7: 91227868 | F7: 1432772132 | G7: 91227868 | H7: 91227868 | I7: 91227868 | J7: 91227868
B8: A-02-01 | C8: ADQUISICIÓN DE ACTIVOS NO FINANCIEROS | D8: 11000000 | E8: 0 | F8: 11000000 | G8: 0 | H8: 0 | I8: 0 | J8: 0
B9: A-02-02 | C9: ADQUISICIONES DIFERENTES DE ACTIVOS | D9: 4329000000 | E9: 125845803 | F9: 4203154197 | G9: 1163536212 | H9: 69844467 | I9: 69844467 | J9: 69844467
B10: A-03-03-04-048 | C10: ESCUELA NACIONAL DEL DEPORTE - ART. 51 DECRETO 2845 DE 1984 | D10: 13311842203 | E10: 9.7195964e+08 | F10: 1.2339883e+10 | G10: 9.7195964e+08 | H10: 9.7195964e+08 | I10: 9.7195964e+08 | J10: 9.7195964e+08
B11: A-03-04-02-001 | C11: MESADAS PENSIONALES (DE PENSIONES) | D11: 2807110160 | E11: 194068.98 | F11: 2.8069161e+09 | G11: 25584443 | H11: 28040360 | I11: 28040360 | J11: 28040360
B12: A-03-04-02-012 | C12: INCAPACIDADES Y LICENCIAS DE MATERNIDAD Y PATERNIDAD (NO DE PENSIONES) | D12: 58000000 | E12: 15739423 | F12: 42260577 | G12: 15739423 | H12: 15739423 | I12: 15739423 | J12: 15739423
B13: A-03-10-01-001 | C13: SENTENCIAS | D13: 94000000 | E13: 0 | F13: 94000000 | G13: 0 | H13: 0 | I13: 0 | J13: 0
B14: A-08-01 | C14: IMPUESTOS | D14: 20000000 | E14: 0 | F14: 20000000 | G14: 0 | H14: 0 | I14: 0 | J14: 0
B15: A-08-03 | C15: TASAS Y DERECHOS ADMINISTRATIVOS | D15: 11000000 | E15: 0 | F15: 11000000 | G15: 0 | H15: 0 | I15: 0 | J15: 0
B16: A-08-04-01 | C16: CUOTA DE FISCALIZACIÓN Y AUDITAJE | D16: 975000000 | E16: 4390700.1 | F16: 9.706093e+08 | G16: 4390700.1 | H16: 624748985 | I16: 624748985 | J16: 624748985
... B37: C-4399-1604-9 | C37: APOYO AL FORTALECIMIENTO DEL SECTOR A NIVEL NACIONAL | D37: 7000000000 | E37: 964013593 | F37: 6035986407 | G37: 1043332090 | H37: 63739990 | I37: 63739990 | J37: 63739990
D38: 676735110160 | E38: 1.6239804e+11 | F38: 3.9433707e+11 | G38: 5.2780589e+10 | H38: 8390669273 | I38: 8390669273 | J38: 8390669273

Sheet ESPECIFICO ENERO 2020
B1: 2020
B2: Actual
B3: Enero-Enero
B4: RUBRO | C4: REC | D4: SIT | E4: DESCRIPCION | F4: APR. VIGENTE | G4: CDP | H4: APR. DISPONIBLE | I4: COMPROMISO | J4: OBLIGACION | K4: ORDEN PAGO | L4: PAGOS
B5: A-01-01-01 | C5: 10 | D5: CSF | E5: SALARIO | F5: 12190000000 | G5: 694979696 | H5: 11495020304 | I5: 694979696 | J5: 694979696 | K5: 694979696 | L5: 694979696
B6: A-01-01-02 | C6: 10 | D6: CSF | E6: CONTRIBUCIONES INHERENTES A LA NÓMINA | F6: 4261000000 | G6: 315183659 | H6: 3945816341 | I6: 315183659 | J6: 242319100 | K6: 242319100 | L6: 242319100
B7: A-01-01-03 | C7: 10 | D7: CSF | E7: REMUNERACIONES NO CONSTITUTIVAS DE FACTOR SALARIAL | F7: 1524000000 | G7: 54586123 | H7: 1469413877 | I7: 54586123 | J7: 54586123 | K7: 54586123 | L7: 54586123
B8: A-02-01 | C8: 10 | D8: CSF | E8: ADQUISICIÓN DE ACTIVOS NO FINANCIEROS | F8: 11000000 | G8: 0 | H8: 11000000 | I8: 0 | J8: 0 | K8: 0 | L8: 0
B9: A-02-02 | C9: 10 | D9: CSF | E9: ADQUISICIONES DIFERENTES DE ACTIVOS | F9: 4329000000 | G9: 3.7376866e+09 | H9: 5.9131342e+08 | I9: 1.2741265e+09 | J9: 46831432 | K9: 46831432 | L9: 46831432
B10: A-03-03-04-048 | C10: 10 | D10: CSF | E10: ESCUELA NACIONAL DEL DEPORTE - ART. 51 DECRETO 2845 DE 1984 | F10: 13311842203 | G10: 972153709 | H10: 12339688494 | I10: 972153709 | J10: 972153709 | K10: 972153709 | L10: 972153709
B11: A-03-04-02-001 | C11: 10 | D11: CSF | E11: MESADAS PENSIONALES (DE PENSIONES) | F11: 2807110160 | G11: 389848074 | H11: 2417262086 | I11: 59773212 | J11: 27846291 | K11: 27846291 | L11: 27846291
B12: A-03-04-02-012 | C12: 10 | D12: CSF | E12: INCAPACIDADES Y LICENCIAS DE MATERNIDAD Y PATERNIDAD (NO DE PENSIONES) | F12: 58000000 | G12: 13686874 | H12: 44313126 | I12: 13686874 | J12: 13686874 | K12: 13686874 | L12: 13686874
B13: A-03-10-01-001 | C13: 10 | D13: CSF | E13: SENTENCIAS | F13: 94000000 | G13: 0 | H13: 94000000 | I13: 0 | J13: 0 | K13: 0 | L13: 0
B14: A-08-01 | C14: 10 | D14: CSF | E14: IMPUESTOS | F14: 20000000 | G14: 0 | H14: 20000000 | I14: 0 | J14: 0 | K14: 0 | L14: 0
B15: A-08-03 | C15: 10 | D15: CSF | E15: TASAS Y DERECHOS ADMINISTRATIVOS | F15: 11000000 | G15: 0 | H15: 11000000 | I15: 0 | J15: 0 | K15: 0 | L15: 0
B16: A-08-04-01 | C16: 11 | D16: SSF | E16: CUOTA DE FISCALIZACIÓN Y AUDITAJE | F16: 975000000 | G16: 624748985 | H16: 350251015 | I16: 624748985 | J16: 0 | K16: 0 | L16: 0
... B37: C-4399-1604-9 | C37: 11 | D37: CSF | E37: APOYO AL FORTALECIMIENTO DEL SECTOR A NIVEL NACIONAL | F37: 7000000000 | G37: 2663980600 | H37: 4336019400 | I37: 1458924232 | J37: 0 | K37: 0 | L37: 0
F38: 676735110160 | G38: 9.2847802e+10 | H38: 5.8388731e+11 | I38: 7.3984595e+10 | J38: 2.0524032e+09 | K38: 2.0524032e+09 | L38: 2.0524032e+09

Sheet Hoja6
B3: Enero-Marzo
B4: RUBRO | C4: REC | D4: DESCRIPCION | E4: APR. VIGENTE | F4: COMPROMISO | G4: OBLIGACION | H4: PAGOS
B5: A-02-01 | C5: 10 | D5: ADQUISICIÓN DE BIENES Y SERVICIOS | E5: =SUM('ACUMULADO A MAYO 2020'!D8:D9)/1000000 -> 4340 | F5: =SUM('ACUMULADO A MAYO 2020'!G8:G9)/1000000 -> 3061.264 | G5: =SUM('ACUMULADO A MAYO 2020'!H8:H9)/1000000 -> 1292.898 | H5: =SUM('ACUMULADO A MAYO 2020'!J8:J9)/1000000 -> 1292.898
B6: A-03-03- | C6: 10 | D6: TRANSFERENCIAS CORRIENTES | E6: =SUM('ACUMULADO A MAYO 2020'!D10:D17)/1000000 -> 17278.952 | F6: =SUM('ACUMULADO A MAYO 2020'!G10:G17)/1000000 -> 6704.5956 | G6: =SUM('ACUMULADO A MAYO 2020'!H10:H17)/1000000 -> 6682.4923 | H6: =SUM('ACUMULADO A MAYO 2020'!J10:J17)/1000000 -> 6682.4923
B7: A-01-01- | C7: 10 | D7: SALARIOS Y CONTRIBUCIONES DE LA NOMINA | E7: =SUM('ACUMULADO A MAYO 2020'!D5:D7)/1000000 -> 17975 | F7: =SUM('ACUMULADO A MAYO 2020'!G5:G7)/1000000 -> 6093.4754 | G7: =SUM('ACUMULADO A MAYO 2020'!H5:H7)/1000000 -> 6088.4672 | H7: =SUM('ACUMULADO A MAYO 2020'!J5:J7)/1000000 -> 6088.4672

Sheet Hoja9
B3: RUBRO | C3: DESCRIPCION | D3: APR. VIGENTE | E3: COMPROMISO | F3: OBLIGACION | G3: PAGOS
B4: C-4301 | C4: FOMENTO A LA RECREACIÓN, LA ACTIVIDAD FÍSICA Y EL DEPORTE PARA DESARROLLAR ENTORNOS DE CONVIVENCIA Y PAZ | D4: =SUM('ACUMULADO A MAYO 2020'!D19:D23) -> 106000000000 | E4: =SUM('ACUMULADO A MAYO 2020'!G19:G23) -> 33137539219 | F4: =SUM('ACUMULADO A MAYO 2020'!H19:H23) -> 11210057441 | G4: =SUM('ACUMULADO A MAYO 2020'!J19:J23) -> 11210057441
B5: C-4302 | C5: FORMACIÓN Y PREPARACIÓN DE DEPORTISTAS | D5: =SUM('ACUMULADO A MAYO 2020'!D27:D35) -> 254020000000 | E5: =SUM('ACUMULADO A MAYO 2020'!G27:G35) -> 7.897406e+10 | F5: =SUM('ACUMULADO A MAYO 2020'!H27:H36) -> 3.9495839e+10 | G5: =SUM('ACUMULADO A MAYO 2020'!J27:J35) -> 3.917996e+10 | H5: =+F5-G5 -> 3.1587982e+08
B6: C-4302 | C6: INFRAESTRUCTURA | D6: =SUM('ACUMULADO A MAYO 2020'!D24:D26) -> 258121157797 | E6: =SUM('ACUMULADO A MAYO 2020'!G24:G26) -> 6.2913203e+10 | F6: =SUM('ACUMULADO A MAYO 2020'!H24:H26) -> 1.6865856e+09 | G6: =SUM('ACUMULADO A MAYO 2020'!J24:J26) -> 1.6865856e+09
B7: C-4399 | C7: FORTALECIMIENTO DE LA GESTIÓN Y DIRECCIÓN DEL SECTOR DEPORTE Y RECREACIÓN | D7: =SUM('ACUMULADO A MAYO 2020'!D36:D38) -> 19000000000 | E7: =SUM('ACUMULADO A MAYO 2020'!G36:G38) -> 7.5612817e+09 | F7: =SUM('ACUMULADO A MAYO 2020'!H36:H38) -> 1.5213244e+09 | G7: =SUM('ACUMULADO A MAYO 2020'!J36:J38) -> 1.5213244e+09

Sheet Hoja8
B1: 2020
B2: Actual
B3: Enero-Marzo
B4: RUBRO | C4: DESCRIPCION | D4: APR. INICIAL | E4: APR. VIGENTE | F4: APR BLOQUEADA | G4: CDP | H4: APR. DISPONIBLE | I4: COMPROMISO | J4: OBLIGACION | K4: ORDEN PAGO | L4: PAGOS
B5: C | C5: INVERSION | D5: =SUM(D6:D8) -> 637141157797 | E5: =SUM(E6:E8) -> 467141157797 | F5: =SUM(F6:F8) -> 170000000000 | G5: =SUM(G6:G8) -> 3.1659341e+11 | H5: =SUM(H6:H8) -> 1.5054775e+11 | I5: =SUM(I6:I8) -> 1.4385866e+11 | J5: =SUM(J6:J8) -> 2.6028919e+10 | K5: =SUM(K6:K8) -> 2.6026185e+10 | L5: =SUM(L6:L8) -> 2.6026185e+10
B6: C-4301 | C6: FOMENTO A LA RECREACIÓN, LA ACTIVIDAD FÍSICA Y EL DEPORTE PARA DESARROLLAR ENTORNOS DE CONVIVENCIA Y PAZ | D6: 106000000000 | E6: =106000000000-F6 -> 105394000000 | F6: 606000000 | G6: 66864438615 | H6: 38529561385 | I6: 5239143841 | J6: 275050497 | K6: 275050497 | L6: 275050497
B7: C-4302 | C7: FORMACIÓN Y PREPARACIÓN DE DEPORTISTAS | D7: 512141157797 | E7: =512141157797-F7 -> 342747157797 | F7: 169394000000 | G7: 2.4006406e+11 | H7: 1.026831e+11 | I7: 1.322804e+11 | J7: 25266820018 | K7: 25264085670 | L7: 25264085670
B8: C-4399 | C8: FORTALECIMIENTO DE LA GESTIÓN Y DIRECCIÓN DEL SECTOR DEPORTE Y RECREACIÓN | D8: 19000000000 | E8: 19000000000 | F8: 0 | G8: 9.6649126e+09 | H8: 9.3350874e+09 | I8: 6.3391247e+09 | J8: 4.870489e+08 | K8: 4.870489e+08 | L8: 4.870489e+08
B10: A | C10: FUNCIONAMIENTO | D10: 39593952363 | E10: 39593952363 | F10: 0 | G10: 1.1369242e+10 | H10: 2.8224711e+10 | I10: 9.8116422e+09 | J10: 7.7345301e+09 | K10: 7.7345301e+09 | L10: 7.7345301e+09
B11: C | C11: INVERSION | D11: 637141157797 | E11: 637141157797 | F11: 170000000000 | G11: 3.1659341e+11 | H11: 1.5054775e+11 | I11: 1.4385866e+11 | J11: 2.6028919e+10 | K11: 2.6026185e+10 | L11: 2.6026185e+10
D13: 676735110160 | E13: 676735110160 | F13: 170000000000 | G13: 3.2796265e+11 | H13: 1.7877246e+11 | I13: 1.5367031e+11 | J13: 3.376345e+10 | K13: 3.3760715e+10 | L13: 3.3760715e+10
C15: FUNCIONAMIENTO | D15: 39593952363
C16: INVERSION | D16: 467141157797
C17: APROPIACION BLOQUEADA | D17: 170000000000

Sheet Hoja7
B1: 2020
B2: Actual
B3: Enero-Marzo
B4: RUBRO | C4: DESCRIPCION | D4: APR. VIGENTE | E4: COMPROMISO | F4: OBLIGACION | G4: PAGOS
B5: C-4301-1604-8 | C5: APOYO A LA EDUCACIÓN FÍSICA EXTRAESCOLAR Y EL DEPORTE FORMATIVO PARA LA INFANCIA, ADOLESCENCIA Y JUVENTUD A NIVEL NACIONAL | D5: 50000000000 | E5: =+'ACUMULADO A MAYO 2020'!#REF! -> #REF! | F5: 72651628 | G5: 72651628
B6: C-4301-1604-9 | C6: DESARROLLO DE LA ACTIVIDAD FÍSICA Y LOS HÁBITOS Y ESTILOS DE VIDA SALUDABLE A NIVEL NACIONAL | D6: 13000000000 | E6: =+'ACUMULADO A MAYO 2020'!#REF! -> #REF! | F6: 53565901 | G6: 53565901
B7: C-4301-1604-10 | C7: DESARROLLO DE LA RECREACIÓN A NIVEL NACIONAL | D7: 12485000000 | E7: =+'ACUMULADO A MAYO 2020'!#REF! -> #REF! | F7: 38692320 | G7: 38692320
B8: C-4301-1604-11 | C8: DESARROLLO AL DEPORTE SOCIAL COMUNITARIO NACIONAL | D8: 14909000000 | E8: =+'ACUMULADO A MAYO 2020'!#REF! -> #REF! | F8: 52712557 | G8: 52712557
B9: C-4301-1604-12 | C9: DESARROLLO DEL DEPORTE ESCOLAR COMO HERRAMIENTA DE CONVIVENCIA Y PAZ NACIONAL | D9: 15000000000 | E9: =+'ACUMULADO A MAYO 2020'!#REF! -> #REF! | F9: 57428091 | G9: 57428091
B10: C-4302-1604-16 | C10: APOYO A LA INFRAESTRUCTURA DEPORTIVA, RECREATIVA Y DE LA ACTIVIDAD FÍSICA A NIVEL NACIONAL | D10: 62176157797 | E10: =SUM('ACUMULADO A MAYO 2020'!#REF!+'ACUMULADO A MAYO 2020'!#REF!) -> #REF! | F10: 612870893 | G10: 612870893
B11: C-4302-1604-17 | C11: APOYO A LA INFRAESTRUCTURA DE ALTA COMPETENCIA A NIVEL NACIONAL | D11: 50290000000 | E11: =+'ACUMULADO A MAYO 2020'!#REF! -> #REF! | F11: 37832027 | G11: 37832027
B12: C-4302-1604-18 | C12: DESARROLLO DEL SISTEMA PARALÍMPICO PARA EL POSICIONAMIENTO Y LIDERAZGO DEPORTIVO NACIONAL | D12: 24200000000 | E12: =+'ACUMULADO A MAYO 2020'!#REF! -> #REF! | F12: 4340611312 | G12: 4340611312
B13: C-4302-1604-19 | C13: DESARROLLO AL DEPORTE DEL SISTEMA OLÍMPICO Y CONVENCIONAL PARA EL POSICIONAMIENTO Y LIDERAZGO DEPORTIVO NACIONAL | D13: 139231000000 | E13: =+'ACUMULADO A MAYO 2020'!#REF!+'ACUMULADO A MAYO 2020'!#REF! -> #REF! | F13: 15745006864 | G13: 15742272516
B14: C-4302-1604-20 | C14: DESARROLLO DE POLÍTICAS PÚBLICAS E INVESTIGACIÓN SECTORIAL A NIVEL NACIONAL | D14: 1100000000 | E14: =+'ACUMULADO A MAYO 2020'!#REF! -> #REF! | F14: 61566754 | G14: 61566754
B15: C-4302-1604-21 | C15: ASISTENCIA A LA COOPERACIÓN INTERNACIONAL DEL SECTOR A NIVEL NACIONAL | D15: 1000000000 | E15: =+'ACUMULADO A MAYO 2020'!#REF! -> #REF! | F15: 6500000 | G15: 6500000
B16: C-4302-1604-22 | C16: APOYO A LA ORGANIZACIÓN DE EVENTOS DEPORTIVOS PARA LA PREPARACIÓN DE ATLETAS Y LA PROMOCIÓN DEL DEPORTE NACIONAL | D16: 53000000000 | E16: =+'ACUMULADO A MAYO 2020'!#REF! -> #REF! | F16: 4070175863 | G16: 4070175863
B17: C-4302-1604-23 | C17: APOYO A LA INSPECCIÓN, VIGILANCIA Y CONTROL A NIVEL NACIONAL | D17: 3750000000 | E17: =+'ACUMULADO A MAYO 2020'!#REF! -> #REF! | F17: 149186408 | G17: 149186408
B18: C-4302-1604-24 | C18: APOYO AL PROGRAMA AL CONTROL DOPAJE NACIONAL | D18: 3000000000 | E18: =+'ACUMULADO A MAYO 2020'!#REF! -> #REF! | F18: 150000000 | G18: 150000000
B19: C-4302-1604-25 | C19: DESARROLLO AL LABORATORIO DEL CONTROL AL DOPAJE NACIONAL | D19: 5000000000 | E19: =+'ACUMULADO A MAYO 2020'!#REF! -> #REF! | F19: 93069897 | G19: 93069897
B20: C-4399-1604-7 | C20: IMPLEMENTACIÓN DE LAS TECNOLOGÍAS DE LA INFORMACIÓN Y COMUNICACIÓN PARA EL SISTEMA NACIONAL DEL DEPORTE A NIVEL NACIONAL | D20: 4000000000 | E20: =+'ACUMULADO A MAYO 2020'!#REF! -> #REF! | F20: 94251223 | G20: 94251223
B21: C-4399-1604-8 | C21: MEJORAMIENTO SEDES COLDEPORTES BOGOTÁ | D21: 8000000000 | E21: =+'ACUMULADO A MAYO 2020'!#REF! -> #REF! | F21: 134570783 | G21: 134570783
B22: C-4399-1604-9 | C22: APOYO AL FORTALECIMIENTO DEL SECTOR A NIVEL NACIONAL | D22: 7000000000 | E22: =+'ACUMULADO A MAYO 2020'!#REF! -> #REF! | F22: 258226896 | G22: 258226896
D23: =SUM(D5:D22) -> 467141157797 | E23: =SUM(E5:E22) -> #REF! | F23: =SUM(F5:F22) -> 2.6028919e+10 | G23: =SUM(G5:G22) -> 2.6026185e+10
D24: =+D23-#REF! -> #REF!
B26: RUBRO | C26: DESCRIPCION | D26: APR. VIGENTE | E26: COMPROMISO | F26: OBLIGACION | G26: PAGOS
B27: C-4301-1604-8 | C27: APOYO A LA EDUCACIÓN FÍSICA EXTRAESCOLAR Y EL DEPORTE FORMATIVO PARA LA INFANCIA, ADOLESCENCIA Y JUVENTUD A NIVEL NACIONAL | D27: =+'ACUMULADO A MAYO 2020'!D19/1000000 -> 50000 | E27: =SUM('ACUMULADO A MAYO 2020'!G19)/1000000 -> 13853.304 | F27: =+F5/1000000 -> 72.651628 | G27: =+G5/1000000 -> 72.651628
B28: C-4301-1604-9 | C28: DESARROLLO DE LA ACTIVIDAD FÍSICA Y LOS HÁBITOS Y ESTILOS DE VIDA SALUDABLE A NIVEL NACIONAL | D28: =+'ACUMULADO A MAYO 2020'!D20/1000000 -> 13000 | E28: =SUM('ACUMULADO A MAYO 2020'!G20)/1000000 -> 6171.4518 | F28: =+F6/1000000 -> 53.565901 | G28: =+G6/1000000 -> 53.565901
B29: C-4301-1604-10 | C29: DESARROLLO DE LA RECREACIÓN A NIVEL NACIONAL | D29: =(+'ESPECIFICO MAYO'!D21-'ESPECIFICO MAYO'!E21)/1000000 -> 12485 | E29: =SUM('ACUMULADO A MAYO 2020'!G21)/1000000 -> 5105.9149 | F29: =+F7/1000000 -> 38.69232 | G29: =+G7/1000000 -> 38.69232
B30: C-4301-1604-11 | C30: DESARROLLO AL DEPORTE SOCIAL COMUNITARIO NACIONAL | D30: =(+'ESPECIFICO MAYO'!D22-'ESPECIFICO MAYO'!E22)/1000000 -> 14909 | E30: =SUM('ACUMULADO A MAYO 2020'!G22)/1000000 -> 2916.5824 | F30: =+F8/1000000 -> 52.712557 | G30: =+G8/1000000 -> 52.712557
B31: C-4301-1604-12 | C31: DESARROLLO DEL DEPORTE ESCOLAR COMO HERRAMIENTA DE CONVIVENCIA Y PAZ NACIONAL | D31: =+'ACUMULADO A MAYO 2020'!D23/1000000 -> 15000 | E31: =SUM('ACUMULADO A MAYO 2020'!G23)/1000000 -> 5090.2865 | F31: =+F9/1000000 -> 57.428091 | G31: =+G9/1000000 -> 57.428091
B32: C-4302-1604-16 | C32: APOYO A LA INFRAESTRUCTURA DEPORTIVA, RECREATIVA Y DE LA ACTIVIDAD FÍSICA A NIVEL NACIONAL | D32: =(+'ESPECIFICO MAYO'!D24+'ESPECIFICO MAYO'!D25-'ESPECIFICO MAYO'!E25)/1000000 -> 62176.158 | E32: =(+'ACUMULADO A MAYO 2020'!G24+'ACUMULADO A MAYO 2020'!G25)/1000000 -> 33960.651 | F32: =+F10/1000000 -> 612.87089 | G32: =+G10/1000000 -> 612.87089
B33: C-4302-1604-17 | C33: APOYO A LA INFRAESTRUCTURA DE ALTA COMPETENCIA A NIVEL NACIONAL | D33: =(+'ESPECIFICO MAYO'!D26-'ESPECIFICO MAYO'!E26)/1000000 -> 50290 | E33: =+'ACUMULADO A MAYO 2020'!G26/1000000 -> 28952.552 | F33: =+F11/1000000 -> 37.832027 | G33: =+G11/1000000 -> 37.832027
B34: C-4302-1604-18 | C34: DESARROLLO DEL SISTEMA PARALÍMPICO PARA EL POSICIONAMIENTO Y LIDERAZGO DEPORTIVO NACIONAL | D34: =(+'ESPECIFICO MAYO'!D27-'ESPECIFICO MAYO'!E27)/1000000 -> 24200 | E34: =+'ACUMULADO A MAYO 2020'!G27/1000000 -> 10705.301 | F34: =+F12/1000000 -> 4340.6113 | G34: =+G12/1000000 -> 4340.6113
B35: C-4302-1604-19 | C35: DESARROLLO AL DEPORTE DEL SISTEMA OLÍMPICO Y CONVENCIONAL PARA EL POSICIONAMIENTO Y LIDERAZGO DEPORTIVO NACIONAL | D35: =(+'ESPECIFICO MAYO'!D28+'ESPECIFICO MAYO'!D29-'ESPECIFICO MAYO'!E28)/1000000 -> 139231 | E35: =(+'ACUMULADO A MAYO 2020'!G28+'ACUMULADO A MAYO 2020'!G29)/1000000 -> 56905.484 | F35: =+F13/1000000 -> 15745.007 | G35: =+G13/1000000 -> 15742.273
B36: C-4302-1604-20 | C36: DESARROLLO DE POLÍTICAS PÚBLICAS E INVESTIGACIÓN SECTORIAL A NIVEL NACIONAL | D36: =+'ACUMULADO A MAYO 2020'!D30/1000000 -> 1100 | E36: =+'ACUMULADO A MAYO 2020'!G30/1000000 -> 593.37419 | F36: =+F14/1000000 -> 61.566754 | G36: =+G14/1000000 -> 61.566754
B37: C-4302-1604-21 | C37: ASISTENCIA A LA COOPERACIÓN INTERNACIONAL DEL SECTOR A NIVEL NACIONAL | D37: =+'ACUMULADO A MAYO 2020'!D31/1000000 -> 1000 | E37: =+'ACUMULADO A MAYO 2020'!G31/1000000 -> 259.5 | F37: =+F15/1000000 -> 6.5 | G37: =+G15/1000000 -> 6.5
B38: C-4302-1604-22 | C38: APOYO A LA ORGANIZACIÓN DE EVENTOS DEPORTIVOS PARA LA PREPARACIÓN DE ATLETAS Y LA PROMOCIÓN DEL DEPORTE NACIONAL | D38: =+'ACUMULADO A MAYO 2020'!D32/1000000 -> 53000 | E38: =+'ACUMULADO A MAYO 2020'!G32/1000000 -> 5730.8159 | F38: =+F16/1000000 -> 4070.1759 | G38: =+G16/1000000 -> 4070.1759
B39: C-4302-1604-23 | C39: APOYO A LA INSPECCIÓN, VIGILANCIA Y CONTROL A NIVEL NACIONAL | D39: =+'ACUMULADO A MAYO 2020'!D33/1000000 -> 3750 | E39: =+'ACUMULADO A MAYO 2020'!G33/1000000 -> 2877.1392 | F39: =+F17/1000000 -> 149.18641 | G39: =+G17/1000000 -> 149.18641
B40: C-4302-1604-24 | C40: APOYO AL PROGRAMA AL CONTROL DOPAJE NACIONAL | D40: =+'ACUMULADO A MAYO 2020'!D34/1000000 -> 3000 | E40: =+'ACUMULADO A MAYO 2020'!G34/1000000 -> 370.6934 | F40: =+F18/1000000 -> 150 | G40: =+G18/1000000 -> 150
B41: C-4302-1604-25 | C41: DESARROLLO AL LABORATORIO DEL CONTROL AL DOPAJE NACIONAL | D41: =+'ACUMULADO A MAYO 2020'!D35/1000000 -> 5000 | E41: =+'ACUMULADO A MAYO 2020'!G35/1000000 -> 1531.7512 | F41: =+F19/1000000 -> 93.069897 | G41: =+G19/1000000 -> 93.069897
...

Sheet Hoja2

Sheet Hoja3
