Workbook

Sheet RESUMEN EJECUCION FEBRERO 2020
B77: C-4301-1604-8 | C77: APOYO A LA EDUCACIÓN FÍSICA EXTRAESCOLAR Y EL DEPORTE FORMATIVO PARA LA INFANCIA, ADOLESCENCIA Y JUVENTUD A NIVEL NACIONAL
B78: C-4301-1604-9 | C78: DESARROLLO DE LA ACTIVIDAD FÍSICA Y LOS HÁBITOS Y ESTILOS DE VIDA SALUDABLE A NIVEL NACIONAL
B79: C-4301-1604-10 | C79: DESARROLLO DE LA RECREACIÓN A NIVEL NACIONAL
B80: C-4301-1604-11 | C80: DESARROLLO AL DEPORTE SOCIAL COMUNITARIO NACIONAL
B81: C-4301-1604-12 | C81: DESARROLLO DEL DEPORTE ESCOLAR COMO HERRAMIENTA DE CONVIVENCIA Y PAZ NACIONAL
B82: C-4302-1604-16 | C82: APOYO A LA INFRAESTRUCTURA DEPORTIVA, RECREATIVA Y DE LA ACTIVIDAD FÍSICA A NIVEL NACIONAL
B83: C-4302-1604-16 | C83: APOYO A LA INFRAESTRUCTURA DEPORTIVA, RECREATIVA Y DE LA ACTIVIDAD FÍSICA A NIVEL NACIONAL
B84: C-4302-1604-17 | C84: APOYO A LA INFRAESTRUCTURA DE ALTA COMPETENCIA A NIVEL NACIONAL
B85: C-4302-1604-18 | C85: DESARROLLO DEL SISTEMA PARALÍMPICO PARA EL POSICIONAMIENTO Y LIDERAZGO DEPORTIVO NACIONAL
B86: C-4302-1604-19 | C86: DESARROLLO AL DEPORTE DEL SISTEMA OLÍMPICO Y CONVENCIONAL PARA EL POSICIONAMIENTO Y LIDERAZGO DEPORTIVO NACIONAL
B87: C-4302-1604-19 | C87: DESARROLLO AL DEPORTE DEL SISTEMA OLÍMPICO Y CONVENCIONAL PARA EL POSICIONAMIENTO Y LIDERAZGO DEPORTIVO NACIONAL
B88: C-4302-1604-20 | C88: DESARROLLO DE POLÍTICAS PÚBLICAS E INVESTIGACIÓN SECTORIAL A NIVEL NACIONAL
... B96: C-4399-1604-9 | C96: APOYO AL FORTALECIMIENTO DEL SECTOR A NIVEL NACIONAL

Sheet ACUMULADO A FEBRERO
B1: 2020
B2: Actual
B3: Enero-Febrero
B4: RUBRO | C4: REC | D4: DESCRIPCION | E4: APR. VIGENTE | F4: APR BLOQUEADA | G4: CDP | H4: APR. DISPONIBLE | I4: COMPROMISO | J4: OBLIGACION | K4: PAGOS
B5: A-01-01-01 | C5: 10 | D5: SALARIO | E5: 12190000000 | F5: 0 | G5: 1488751344 | H5: 10701248656 | I5: 1488751344 | J5: 1488751344 | K5: 1488751344
B6: A-01-01-02 | C6: 10 | D6: CONTRIBUCIONES INHERENTES A LA NÓMINA | E6: 4261000000 | F6: 0 | G6: 630700521 | H6: 3630299479 | I6: 630700521 | J6: 629050983 | K6: 629050983
B7: A-01-01-03 | C7: 10 | D7: REMUNERACIONES NO CONSTITUTIVAS DE FACTOR SALARIAL | E7: 1524000000 | F7: 0 | G7: 145813991 | H7: 1378186009 | I7: 145813991 | J7: 145813991 | K7: 145813991
B8: A-02-01 | C8: 10 | D8: ADQUISICIÓN DE ACTIVOS NO FINANCIEROS | E8: 11000000 | F8: 0 | G8: 0 | H8: 11000000 | I8: 0 | J8: 0 | K8: 0
B9: A-02-02 | C9: 10 | D9: ADQUISICIONES DIFERENTES DE ACTIVOS | E9: 4329000000 | F9: 0 | G9: 3.8635324e+09 | H9: 4.6546762e+08 | I9: 2.4376627e+09 | J9: 1.166759e+08 | K9: 1.166759e+08
B10: A-03-03-04-048 | C10: 10 | D10: ESCUELA NACIONAL DEL DEPORTE - ART. 51 DECRETO 2845 DE 1984 | E10: 13311842203 | F10: 0 | G10: 1.9441133e+09 | H10: 1.1367729e+10 | I10: 1.9441133e+09 | J10: 1.9441133e+09 | K10: 1.9441133e+09
B11: A-03-04-02-001 | C11: 10 | D11: MESADAS PENSIONALES (DE PENSIONES) | E11: 2807110160 | F11: 0 | G11: 3.9004214e+08 | H11: 2.417068e+09 | I11: 85357655 | J11: 55886651 | K11: 55886651
B12: A-03-04-02-012 | C12: 10 | D12: INCAPACIDADES Y LICENCIAS DE MATERNIDAD Y PATERNIDAD (NO DE PENSIONES) | E12: 58000000 | F12: 0 | G12: 29426297 | H12: 28573703 | I12: 29426297 | J12: 29426297 | K12: 29426297
B13: A-03-10-01-001 | C13: 10 | D13: SENTENCIAS | E13: 94000000 | F13: 0 | G13: 0 | H13: 94000000 | I13: 0 | J13: 0 | K13: 0
B14: A-08-01 | C14: 10 | D14: IMPUESTOS | E14: 20000000 | F14: 0 | G14: 0 | H14: 20000000 | I14: 0 | J14: 0 | K14: 0
B15: A-08-03 | C15: 10 | D15: TASAS Y DERECHOS ADMINISTRATIVOS | E15: 11000000 | F15: 0 | G15: 0 | H15: 11000000 | I15: 0 | J15: 0 | K15: 0
B16: A-08-04-01 | C16: 11 | D16: CUOTA DE FISCALIZACIÓN Y AUDITAJE | E16: 975000000 | F16: 0 | G16: 6.2913969e+08 | H16: 3.4586031e+08 | I16: 6.2913969e+08 | J16: 624748985 | K16: 624748985
B17: A-08-05 | C17: 10 | D17: MULTAS, SANCIONES E INTERESES DE MORA | E17: 2000000 | F17: 0 | G17: 0 | H17: 2000000 | I17: 0 | J17: 0 | K17: 0
B18: GASTOS DE FUNCIONAMIETO | E18: =SUM(E5:E17) -> 39593952363 | F18: =SUM(F5:F17) -> 0 | G18: =SUM(G5:G17) -> 9.1215197e+09 | H18: =SUM(H5:H17) -> 3.0472433e+10 | I18: =SUM(I5:I17) -> 7.3909656e+09 | J18: =SUM(J5:J17) -> 5.0344675e+09 | K18: =SUM(K5:K17) -> 5.0344675e+09
B19: C-4301-1604-8 | C19: 11 | D19: APOYO A LA EDUCACIÓN FÍSICA EXTRAESCOLAR Y EL DEPORTE FORMATIVO PARA LA INFANCIA, ADOLESCENCIA Y JUVENTUD A NIVEL NACIONAL | E19: 50000000000 | F19: 0 | G19: 1877132767 | H19: 48122867233 | I19: 941935912 | J19: 0 | K19: 0
B20: C-4301-1604-9 | C20: 11 | D20: DESARROLLO DE LA ACTIVIDAD FÍSICA Y LOS HÁBITOS Y ESTILOS DE VIDA SALUDABLE A NIVEL NACIONAL | E20: 13000000000 | F20: 0 | G20: 1652519000 | H20: 11347481000 | I20: 507344286 | J20: 6103947 | K20: 6103947
B21: C-4301-1604-10 | C21: 11 | D21: DESARROLLO DE LA RECREACIÓN A NIVEL NACIONAL | E21: 13000000000 | F21: 0 | G21: 1965499600 | H21: 11034500400 | I21: 400273160 | J21: 2200000 | K21: 2200000
B22: C-4301-1604-11 | C22: 11 | D22: DESARROLLO AL DEPORTE SOCIAL COMUNITARIO NACIONAL | E22: 15000000000 | F22: 0 | G22: 1041990000 | H22: 13958010000 | I22: 441444205 | J22: 6806427 | K22: 6806427
B23: C-4301-1604-12 | C23: 11 | D23: DESARROLLO DEL DEPORTE ESCOLAR COMO HERRAMIENTA DE CONVIVENCIA Y PAZ NACIONAL | E23: 15000000000 | F23: 0 | G23: 1613485000 | H23: 13386515000 | I23: 559290012 | J23: 4979361 | K23: 4979361
B24: C-4302-1604-16 | C24: 10 | D24: APOYO A LA INFRAESTRUCTURA DEPORTIVA, RECREATIVA Y DE LA ACTIVIDAD FÍSICA A NIVEL NACIONAL | E24: 17750000000 | F24: 0 | G24: 7531003210 | H24: 10218996790 | I24: 3855234290 | J24: 281113511 | K24: 281113511
B25: C-4302-1604-16 | C25: 11 | D25: APOYO A LA INFRAESTRUCTURA DEPORTIVA, RECREATIVA Y DE LA ACTIVIDAD FÍSICA A NIVEL NACIONAL | E25: 165081157797 | F25: 100000000000 | G25: 28296624055 | H25: 36784533742 | I25: 28296624055 | J25: 0 | K25: 0
B26: C-4302-1604-17 | C26: 11 | D26: APOYO A LA INFRAESTRUCTURA DE ALTA COMPETENCIA A NIVEL NACIONAL | E26: 75290000000 | F26: 0 | G26: 29137098200 | H26: 46152901800 | I26: 28950538754 | J26: 1456321 | K26: 1456321
B27: C-4302-1604-18 | C27: 11 | D27: DESARROLLO DEL SISTEMA PARALÍMPICO PARA EL POSICIONAMIENTO Y LIDERAZGO DEPORTIVO NACIONAL | E27: 25000000000 | F27: 0 | G27: 2.059989e+10 | H27: 4.4001097e+09 | I27: 6.6242319e+09 | J27: 1.804348e+09 | K27: 1.804348e+09
B28: C-4302-1604-19 | C28: 10 | D28: DESARROLLO AL DEPORTE DEL SISTEMA OLÍMPICO Y CONVENCIONAL PARA EL POSICIONAMIENTO Y LIDERAZGO DEPORTIVO NACIONAL | E28: 112170000000 | F28: 20000000000 | G28: 5.0591061e+10 | H28: 4.1578939e+10 | I28: 7634945242 | J28: 1340575754 | K28: 1340575754
B29: C-4302-1604-19 | C29: 11 | D29: DESARROLLO AL DEPORTE DEL SISTEMA OLÍMPICO Y CONVENCIONAL PARA EL POSICIONAMIENTO Y LIDERAZGO DEPORTIVO NACIONAL | E29: 50000000000 | F29: 0 | G29: 42000000000 | H29: 8000000000 | I29: 2.6476026e+10 | J29: 8.3171834e+08 | K29: 8.3171834e+08
B30: C-4302-1604-20 | C30: 11 | D30: DESARROLLO DE POLÍTICAS PÚBLICAS E INVESTIGACIÓN SECTORIAL A NIVEL NACIONAL | E30: 1100000000 | F30: 0 | G30: 675000000 | H30: 425000000 | I30: 591687841 | J30: 13691022 | K30: 13691022
... B38: C-4399-1604-9 | C38: 11 | D38: APOYO AL FORTALECIMIENTO DEL SECTOR A NIVEL NACIONAL | E38: 7000000000 | F38: 0 | G38: 3627994193 | H38: 3372005807 | I38: 2502256322 | J38: 63739990 | K38: 63739990
B39: TOTAL GASTOS DE INVERSION | E39: =SUM(E19:E38) -> 637141157797 | F39: =SUM(F19:F38) -> 120000000000 | G39: =SUM(G19:G38) -> 2.4612432e+11 | H39: =SUM(H19:H38) -> 2.7101683e+11 | I39: =SUM(I19:I38) -> 1.1937422e+11 | J39: =SUM(J19:J38) -> 5408604999 | K39: =SUM(K19:K38) -> 5408604999
B40: PRESUPUESTO TOTAL | E40: =+E39+E18 -> 676735110160 | F40: =+F39+F18 -> 120000000000 | G40: =+G39+G18 -> 2.5524584e+11 | H40: =+H39+H18 -> 3.0148927e+11 | I40: =+I39+I18 -> 1.2676518e+11 | J40: =+J39+J18 -> 1.0443072e+10 | K40: =+K39+K18 -> 1.0443072e+10
E41: =+E39-F39 -> 517141157797

Sheet Hoja9
D2: =+D6 -> 163121157797
B3: RUBRO | C3: DESCRIPCION | D3: APR. VIGENTE | E3: COMPROMISO | F3: OBLIGACION | G3: PAGOS
B4: C-4301 | C4: FOMENTO A LA RECREACIÓN, LA ACTIVIDAD FÍSICA Y EL DEPORTE PARA DESARROLLAR ENTORNOS DE CONVIVENCIA Y PAZ | D4: =SUM('ACUMULADO A FEBRERO'!E19:E23) -> 106000000000 | E4: =SUM('ACUMULADO A FEBRERO'!I19:I23) -> 2850287575 | F4: =SUM('ACUMULADO A FEBRERO'!J19:J23) -> 20089735 | G4: =SUM('ACUMULADO A FEBRERO'!K19:K23) -> 20089735
B5: C-4302 | C5: FORMACIÓN Y PREPARACIÓN DE DEPORTISTAS | D5: =SUM('ACUMULADO A FEBRERO'!E27:E34)-'ACUMULADO A FEBRERO'!F28 -> 229020000000 | E5: =SUM('ACUMULADO A FEBRERO'!I27:I34) -> 48289938763 | F5: =SUM('ACUMULADO A FEBRERO'!J27:J34) -> 4960103717 | G5: =SUM('ACUMULADO A FEBRERO'!K27:K34) -> 4960103717 | H5: =+F5-G5 -> 0
B6: C-4302 | C6: INFRAESTRUCTURA | D6: =SUM('ACUMULADO A FEBRERO'!E24:E26)-'ACUMULADO A FEBRERO'!F25+'ACUMULADO A FEBRERO'!E35 -> 163121157797 | E6: =SUM('ACUMULADO A FEBRERO'!I24:I26)+'ACUMULADO A FEBRERO'!I35 -> 62513148280 | F6: =SUM('ACUMULADO A FEBRERO'!J24:J26)+'ACUMULADO A FEBRERO'!J35 -> 282569832 | G6: =SUM('ACUMULADO A FEBRERO'!K24:K26)+'ACUMULADO A FEBRERO'!K35 -> 282569832
B7: C-4399 | C7: FORTALECIMIENTO DE LA GESTIÓN Y DIRECCIÓN DEL SECTOR DEPORTE Y RECREACIÓN | D7: 19000000000 | E7: =SUM('ACUMULADO A FEBRERO'!I36:I38) -> 5.7208432e+09 | F7: =SUM('ACUMULADO A FEBRERO'!J36:J38) -> 145841715 | G7: =SUM('ACUMULADO A FEBRERO'!K36:K38) -> 145841715
H8: =+G6 -> 282569832

Sheet ESPECIFICO FEBRERO 2020
B1: 2020
B2: Actual
B3: Febrero
B4: RUBRO | C4: DESCRIPCION | D4: APR. VIGENTE | E4: CDP | F4: APR. DISPONIBLE | G4: COMPROMISO | H4: OBLIGACION | I4: ORDEN PAGO | J4: PAGOS
B5: A-01-01-01 | C5: SALARIO | D5: 12190000000 | E5: 793771648 | F5: 11396228352 | G5: 793771648 | H5: 793771648 | I5: 793771648 | J5: 793771648
B6: A-01-01-02 | C6: CONTRIBUCIONES INHERENTES A LA NÓMINA | D6: 4261000000 | E6: 315516862 | F6: 3945483138 | G6: 315516862 | H6: 386731883 | I6: 386731883 | J6: 386731883
B7: A-01-01-03 | C7: REMUNERACIONES NO CONSTITUTIVAS DE FACTOR SALARIAL | D7: 1524000000 | E7: 91227868 | F7: 1432772132 | G7: 91227868 | H7: 91227868 | I7: 91227868 | J7: 91227868
B8: A-02-01 | C8: ADQUISICIÓN DE ACTIVOS NO FINANCIEROS | D8: 11000000 | E8: 0 | F8: 11000000 | G8: 0 | H8: 0 | I8: 0 | J8: 0
B9: A-02-02 | C9: ADQUISICIONES DIFERENTES DE ACTIVOS | D9: 4329000000 | E9: 125845803 | F9: 4203154197 | G9: 1163536212 | H9: 69844467 | I9: 69844467 | J9: 69844467
B10: A-03-03-04-048 | C10: ESCUELA NACIONAL DEL DEPORTE - ART. 51 DECRETO 2845 DE 1984 | D10: 13311842203 | E10: 9.7195964e+08 | F10: 1.2339883e+10 | G10: 9.7195964e+08 | H10: 9.7195964e+08 | I10: 9.7195964e+08 | J10: 9.7195964e+08
B11: A-03-04-02-001 | C11: MESADAS PENSIONALES (DE PENSIONES) | D11: 2807110160 | E11: 194068.98 | F11: 2.8069161e+09 | G11: 25584443 | H11: 28040360 | I11: 28040360 | J11: 28040360
B12: A-03-04-02-012 | C12: INCAPACIDADES Y LICENCIAS DE MATERNIDAD Y PATERNIDAD (NO DE PENSIONES) | D12: 58000000 | E12: 15739423 | F12: 42260577 | G12: 15739423 | H12: 15739423 | I12: 15739423 | J12: 15739423
B13: A-03-10-01-001 | C13: SENTENCIAS | D13: 94000000 | E13: 0 | F13: 94000000 | G13: 0 | H13: 0 | I13: 0 | J13: 0
B14: A-08-01 | C14: IMPUESTOS | D14: 20000000 | E14: 0 | F14: 20000000 | G14: 0 | H14: 0 | I14: 0 | J14: 0
B15: A-08-03 | C15: TASAS Y DERECHOS ADMINISTRATIVOS | D15: 11000000 | E15: 0 | F15: 11000000 | G15: 0 | H15: 0 | I15: 0 | J15: 0
B16: A-08-04-01 | C16: CUOTA DE FISCALIZACIÓN Y AUDITAJE | D16: 975000000 | E16: 4390700.1 | F16: 9.706093e+08 | G16: 4390700.1 | H16: 624748985 | I16: 624748985 | J16: 624748985
... B37: C-4399-1604-9 | C37: APOYO AL FORTALECIMIENTO DEL SECTOR A NIVEL NACIONAL | D37: 7000000000 | E37: 964013593 | F37: 6035986407 | G37: 1043332090 | H37: 63739990 | I37: 63739990 | J37: 63739990
D38: 676735110160 | E38: 1.6239804e+11 | F38: 3.9433707e+11 | G38: 5.2780589e+10 | H38: 8390669273 | I38: 8390669273 | J38: 8390669273

Sheet ESPECIFICO ENERO 2020
B1: 2020
B2: Actual
B3: Enero-Enero
B4: RUBRO | C4: REC | D4: SIT | E4: DESCRIPCION | F4: APR. VIGENTE | G4: CDP | H4: APR. DISPONIBLE | I4: COMPROMISO | J4: OBLIGACION | K4: ORDEN PAGO | L4: PAGOS
B5: A-01-01-01 | C5: 10 | D5: CSF | E5: SALARIO | F5: 12190000000 | G5: 694979696 | H5: 11495020304 | I5: 694979696 | J5: 694979696 | K5: 694979696 | L5: 694979696
B6: A-01-01-02 | C6: 10 | D6: CSF | E6: CONTRIBUCIONES INHERENTES A LA NÓMINA | F6: 4261000000 | G6: 315183659 | H6: 3945816341 | I6: 315183659 | J6: 242319100 | K6: 242319100 | L6: 242319100
B7: A-01-01-03 | C7: 10 | D7: CSF | E7: REMUNERACIONES NO CONSTITUTIVAS DE FACTOR SALARIAL | F7: 1524000000 | G7: 54586123 | H7: 1469413877 | I7: 54586123 | J7: 54586123 | K7: 54586123 | L7: 54586123
B8: A-02-01 | C8: 10 | D8: CSF | E8: ADQUISICIÓN DE ACTIVOS NO FINANCIEROS | F8: 11000000 | G8: 0 | H8: 11000000 | I8: 0 | J8: 0 | K8: 0 | L8: 0
B9: A-02-02 | C9: 10 | D9: CSF | E9: ADQUISICIONES DIFERENTES DE ACTIVOS | F9: 4329000000 | G9: 3.7376866e+09 | H9: 5.9131342e+08 | I9: 1.2741265e+09 | J9: 46831432 | K9: 46831432 | L9: 46831432
B10: A-03-03-04-048 | C10: 10 | D10: CSF | E10: ESCUELA NACIONAL DEL DEPORTE - ART. 51 DECRETO 2845 DE 1984 | F10: 13311842203 | G10: 972153709 | H10: 12339688494 | I10: 972153709 | J10: 972153709 | K10: 972153709 | L10: 972153709
B11: A-03-04-02-001 | C11: 10 | D11: CSF | E11: MESADAS PENSIONALES (DE PENSIONES) | F11: 2807110160 | G11: 389848074 | H11: 2417262086 | I11: 59773212 | J11: 27846291 | K11: 27846291 | L11: 27846291
B12: A-03-04-02-012 | C12: 10 | D12: CSF | E12: INCAPACIDADES Y LICENCIAS DE MATERNIDAD Y PATERNIDAD (NO DE PENSIONES) | F12: 58000000 | G12: 13686874 | H12: 44313126 | I12: 13686874 | J12: 13686874 | K12: 13686874 | L12: 13686874
B13: A-03-10-01-001 | C13: 10 | D13: CSF | E13: SENTENCIAS | F13: 94000000 | G13: 0 | H13: 94000000 | I13: 0 | J13: 0 | K13: 0 | L13: 0
B14: A-08-01 | C14: 10 | D14: CSF | E14: IMPUESTOS | F14: 20000000 | G14: 0 | H14: 20000000 | I14: 0 | J14: 0 | K14: 0 | L14: 0
B15: A-08-03 | C15: 10 | D15: CSF | E15: TASAS Y DERECHOS ADMINISTRATIVOS | F15: 11000000 | G15: 0 | H15: 11000000 | I15: 0 | J15: 0 | K15: 0 | L15: 0
B16: A-08-04-01 | C16: 11 | D16: SSF | E16: CUOTA DE FISCALIZACIÓN Y AUDITAJE | F16: 975000000 | G16: 624748985 | H16: 350251015 | I16: 624748985 | J16: 0 | K16: 0 | L16: 0
... B37: C-4399-1604-9 | C37: 11 | D37: CSF | E37: APOYO AL FORTALECIMIENTO DEL SECTOR A NIVEL NACIONAL | F37: 7000000000 | G37: 2663980600 | H37: 4336019400 | I37: 1458924232 | J37: 0 | K37: 0 | L37: 0
F38: 676735110160 | G38: 9.2847802e+10 | H38: 5.8388731e+11 | I38: 7.3984595e+10 | J38: 2.0524032e+09 | K38: 2.0524032e+09 | L38: 2.0524032e+09

Sheet Hoja2

Sheet Hoja3

Sheet Hoja6
B3: Enero-Marzo
B4: RUBRO | C4: REC | D4: DESCRIPCION | E4: APR. VIGENTE | F4: COMPROMISO | G4: OBLIGACION | H4: PAGOS
B5: A-02-02 | C5: 10 | D5: ADQUISICIÓN DE BIENES Y SERVICIOS | E5: =SUM('ACUMULADO A FEBRERO'!E8:E9)/1000000 -> 4340 | F5: =SUM('ACUMULADO A FEBRERO'!I8:I9)/1000000 -> 2437.6627 | G5: =SUM('ACUMULADO A FEBRERO'!J8:J9)/1000000 -> 116.6759 | H5: =SUM('ACUMULADO A FEBRERO'!K8:K9)/1000000 -> 116.6759
B6: A-03-03- | C6: 10 | D6: TRANSFERENCIAS CORRIENTES | E6: =SUM('ACUMULADO A FEBRERO'!E10:E17)/1000000 -> 17278.952 | F6: =SUM('ACUMULADO A FEBRERO'!I10:I17)/1000000 -> 2688.037 | G6: =SUM('ACUMULADO A FEBRERO'!J10:J17)/1000000 -> 2654.1753 | H6: =SUM('ACUMULADO A FEBRERO'!K10:K17)/1000000 -> 2654.1753
B7: A-01-01- | C7: 10 | D7: SALARIOS Y CONTRIBUCIONES DE LA NOMINA | E7: =SUM('ACUMULADO A FEBRERO'!E5:E7)/1000000 -> 17975 | F7: =SUM('ACUMULADO A FEBRERO'!I5:I7)/1000000 -> 2265.2659 | G7: =SUM('ACUMULADO A FEBRERO'!J5:J7)/1000000 -> 2263.6163 | H7: =SUM('ACUMULADO A FEBRERO'!K5:K7)/1000000 -> 2263.6163

Sheet Hoja7
B1: 2020
B2: Actual
B3: Enero-Marzo
B4: RUBRO | C4: DESCRIPCION | D4: APR. VIGENTE | E4: COMPROMISO | F4: OBLIGACION | G4: PAGOS
B5: C-4301-1604-8 | C5: APOYO A LA EDUCACIÓN FÍSICA EXTRAESCOLAR Y EL DEPORTE FORMATIVO PARA LA INFANCIA, ADOLESCENCIA Y JUVENTUD A NIVEL NACIONAL | D5: 50000000000 | E5: =+#REF! -> #REF! | F5: 72651628 | G5: 72651628
B6: C-4301-1604-9 | C6: DESARROLLO DE LA ACTIVIDAD FÍSICA Y LOS HÁBITOS Y ESTILOS DE VIDA SALUDABLE A NIVEL NACIONAL | D6: 13000000000 | E6: =+#REF! -> #REF! | F6: 53565901 | G6: 53565901
B7: C-4301-1604-10 | C7: DESARROLLO DE LA RECREACIÓN A NIVEL NACIONAL | D7: 12485000000 | E7: =+#REF! -> #REF! | F7: 38692320 | G7: 38692320
B8: C-4301-1604-11 | C8: DESARROLLO AL DEPORTE SOCIAL COMUNITARIO NACIONAL | D8: 14909000000 | E8: =+#REF! -> #REF! | F8: 52712557 | G8: 52712557
B9: C-4301-1604-12 | C9: DESARROLLO DEL DEPORTE ESCOLAR COMO HERRAMIENTA DE CONVIVENCIA Y PAZ NACIONAL | D9: 15000000000 | E9: =+#REF! -> #REF! | F9: 57428091 | G9: 57428091
B10: C-4302-1604-16 | C10: APOYO A LA INFRAESTRUCTURA DEPORTIVA, RECREATIVA Y DE LA ACTIVIDAD FÍSICA A NIVEL NACIONAL | D10: 62176157797 | E10: =SUM(#REF!+#REF!) -> #REF! | F10: 612870893 | G10: 612870893
B11: C-4302-1604-17 | C11: APOYO A LA INFRAESTRUCTURA DE ALTA COMPETENCIA A NIVEL NACIONAL | D11: 50290000000 | E11: =+#REF! -> #REF! | F11: 37832027 | G11: 37832027
B12: C-4302-1604-18 | C12: DESARROLLO DEL SISTEMA PARALÍMPICO PARA EL POSICIONAMIENTO Y LIDERAZGO DEPORTIVO NACIONAL | D12: 24200000000 | E12: =+#REF! -> #REF! | F12: 4340611312 | G12: 4340611312
B13: C-4302-1604-19 | C13: DESARROLLO AL DEPORTE DEL SISTEMA OLÍMPICO Y CONVENCIONAL PARA EL POSICIONAMIENTO Y LIDERAZGO DEPORTIVO NACIONAL | D13: 139231000000 | E13: =+#REF!+#REF! -> #REF! | F13: 15745006864 | G13: 15742272516
B14: C-4302-1604-20 | C14: DESARROLLO DE POLÍTICAS PÚBLICAS E INVESTIGACIÓN SECTORIAL A NIVEL NACIONAL | D14: 1100000000 | E14: =+#REF! -> #REF! | F14: 61566754 | G14: 61566754
B15: C-4302-1604-21 | C15: ASISTENCIA A LA COOPERACIÓN INTERNACIONAL DEL SECTOR A NIVEL NACIONAL | D15: 1000000000 | E15: =+#REF! -> #REF! | F15: 6500000 | G15: 6500000
B16: C-4302-1604-22 | C16: APOYO A LA ORGANIZACIÓN DE EVENTOS DEPORTIVOS PARA LA PREPARACIÓN DE ATLETAS Y LA PROMOCIÓN DEL DEPORTE NACIONAL | D16: 53000000000 | E16: =+#REF! -> #REF! | F16: 4070175863 | G16: 4070175863
B17: C-4302-1604-23 | C17: APOYO A LA INSPECCIÓN, VIGILANCIA Y CONTROL A NIVEL NACIONAL | D17: 3750000000 | E17: =+#REF! -> #REF! | F17: 149186408 | G17: 149186408
B18: C-4302-1604-24 | C18: APOYO AL PROGRAMA AL CONTROL DOPAJE NACIONAL | D18: 3000000000 | E18: =+#REF! -> #REF! | F18: 150000000 | G18: 150000000
B19: C-4302-1604-25 | C19: DESARROLLO AL LABORATORIO DEL CONTROL AL DOPAJE NACIONAL | D19: 5000000000 | E19: =+#REF! -> #REF! | F19: 93069897 | G19: 93069897
B20: C-4399-1604-7 | C20: IMPLEMENTACIÓN DE LAS TECNOLOGÍAS DE LA INFORMACIÓN Y COMUNICACIÓN PARA EL SISTEMA NACIONAL DEL DEPORTE A NIVEL NACIONAL | D20: 4000000000 | E20: =+#REF! -> #REF! | F20: 94251223 | G20: 94251223
B21: C-4399-1604-8 | C21: MEJORAMIENTO SEDES COLDEPORTES BOGOTÁ | D21: 8000000000 | E21: =+#REF! -> #REF! | F21: 134570783 | G21: 134570783
B22: C-4399-1604-9 | C22: APOYO AL FORTALECIMIENTO DEL SECTOR A NIVEL NACIONAL | D22: 7000000000 | E22: =+#REF! -> #REF! | F22: 258226896 | G22: 258226896
D23: =SUM(D5:D22) -> 467141157797 | E23: =SUM(E5:E22) -> #REF! | F23: =SUM(F5:F22) -> 2.6028919e+10 | G23: =SUM(G5:G22) -> 2.6026185e+10
D24: =+D23-#REF! -> #REF!
B26: RUBRO | C26: DESCRIPCION | D26: APR. VIGENTE | E26: COMPROMISO | F26: OBLIGACION | G26: PAGOS
B27: C-4301-1604-8 | C27: APOYO A LA EDUCACIÓN FÍSICA EXTRAESCOLAR Y EL DEPORTE FORMATIVO PARA LA INFANCIA, ADOLESCENCIA Y JUVENTUD A NIVEL NACIONAL | D27: =+'ACUMULADO A FEBRERO'!E19/1000000 -> 50000 | E27: =+'ACUMULADO A FEBRERO'!I19/1000000 -> 941.93591 | F27: 12648205672 | G27: 12648205672
B28: C-4301-1604-9 | C28: DESARROLLO DE LA ACTIVIDAD FÍSICA Y LOS HÁBITOS Y ESTILOS DE VIDA SALUDABLE A NIVEL NACIONAL | D28: =+'ACUMULADO A FEBRERO'!E20/1000000 -> 13000 | E28: =+'ACUMULADO A FEBRERO'!I20/1000000 -> 507.34429 | F28: 4141394995 | G28: 4141394995
B29: C-4301-1604-10 | C29: DESARROLLO DE LA RECREACIÓN A NIVEL NACIONAL | D29: =+'ACUMULADO A FEBRERO'!E21/1000000 -> 13000 | E29: =+'ACUMULADO A FEBRERO'!I21/1000000 -> 400.27316 | F29: 2984974705 | G29: 2984974705
B30: C-4301-1604-11 | C30: DESARROLLO AL DEPORTE SOCIAL COMUNITARIO NACIONAL | D30: =+'ACUMULADO A FEBRERO'!E22/1000000 -> 15000 | E30: =+'ACUMULADO A FEBRERO'!I22/1000000 -> 441.44421 | F30: 1588964802 | G30: 1588964802
B31: C-4301-1604-12 | C31: DESARROLLO DEL DEPORTE ESCOLAR COMO HERRAMIENTA DE CONVIVENCIA Y PAZ NACIONAL | D31: =+'ACUMULADO A FEBRERO'!E23/1000000 -> 15000 | E31: =+'ACUMULADO A FEBRERO'!I23/1000000 -> 559.29001 | F31: 3081478111 | G31: 3081478111
B32: C-4302-1604-16 | C32: APOYO A LA INFRAESTRUCTURA DEPORTIVA, RECREATIVA Y DE LA ACTIVIDAD FÍSICA A NIVEL NACIONAL | D32: =(+'ACUMULADO A FEBRERO'!E24+'ACUMULADO A FEBRERO'!E25)/1000000 -> 182831.16 | E32: =(+'ACUMULADO A FEBRERO'!I24+'ACUMULADO A FEBRERO'!I25)/1000000 -> 32151.858 | F32: 2.7297462e+09 | G32: 2.7297462e+09
B33: C-4302-1604-17 | C33: APOYO A LA INFRAESTRUCTURA DE ALTA COMPETENCIA A NIVEL NACIONAL | D33: =+'ACUMULADO A FEBRERO'!E26/1000000 -> 75290 | E33: =+'ACUMULADO A FEBRERO'!I26/1000000 -> 28950.539 | F33: 184119550 | G33: 184119550
B34: C-4302-1604-18 | C34: DESARROLLO DEL SISTEMA PARALÍMPICO PARA EL POSICIONAMIENTO Y LIDERAZGO DEPORTIVO NACIONAL | D34: =+'ACUMULADO A FEBRERO'!E27/1000000 -> 25000 | E34: =+'ACUMULADO A FEBRERO'!I27/1000000 -> 6624.2319 | F34: 8.8928947e+09 | G34: 8.8928947e+09
B35: C-4302-1604-19 | C35: DESARROLLO AL DEPORTE DEL SISTEMA OLÍMPICO Y CONVENCIONAL PARA EL POSICIONAMIENTO Y LIDERAZGO DEPORTIVO NACIONAL | D35: =(+'ACUMULADO A FEBRERO'!E28+'ACUMULADO A FEBRERO'!E29)/1000000 -> 162170 | E35: =(+'ACUMULADO A FEBRERO'!I28+'ACUMULADO A FEBRERO'!I29)/1000000 -> 34110.971 | F35: 3.8797291e+10 | G35: 3.8797291e+10
B36: C-4302-1604-20 | C36: DESARROLLO DE POLÍTICAS PÚBLICAS E INVESTIGACIÓN SECTORIAL A NIVEL NACIONAL | D36: =+'ACUMULADO A FEBRERO'!E30/1000000 -> 1100 | E36: =591687841/1000000 -> 591.68784 | F36: 281134664 | G36: 281134664
B37: C-4302-1604-21 | C37: ASISTENCIA A LA COOPERACIÓN INTERNACIONAL DEL SECTOR A NIVEL NACIONAL | D37: =+'ACUMULADO A FEBRERO'!E31/1000000 -> 1000 | E37: =71500000/1000000 -> 71.5 | F37: 68497873 | G37: 68497873
B38: C-4302-1604-22 | C38: APOYO A LA ORGANIZACIÓN DE EVENTOS DEPORTIVOS PARA LA PREPARACIÓN DE ATLETAS Y LA PROMOCIÓN DEL DEPORTE NACIONAL | D38: =+'ACUMULADO A FEBRERO'!E32/1000000 -> 53000 | E38: =4892629994/1000000 -> 4892.63 | F38: 8740164502 | G38: 8740164502
B39: C-4302-1604-23 | C39: APOYO A LA INSPECCIÓN, VIGILANCIA Y CONTROL A NIVEL NACIONAL | D39: =+'ACUMULADO A FEBRERO'!E33/1000000 -> 3750 | E39: =1848918024/1000000 -> 1848.918 | F39: 1172641899 | G39: 1172641899
B40: C-4302-1604-24 | C40: APOYO AL PROGRAMA AL CONTROL DOPAJE NACIONAL | D40: =+'ACUMULADO A FEBRERO'!E34/1000000 -> 3000 | E40: =150000000/1000000 -> 150 | F40: 1186308511 | G40: 1186308511
B41: C-4302-1604-25 | C41: DESARROLLO AL LABORATORIO DEL CONTROL AL DOPAJE NACIONAL | D41: =+'ACUMULADO A FEBRERO'!E35/1000000 -> 5000 | E41: =1410751181/1000000 -> 1410.7512 | F41: 5.2441022e+08 | G41: 5.2441022e+08
...

Sheet Hoja8
B1: 2020
B2: Actual
B3: Enero-Marzo
B4: RUBRO | C4: DESCRIPCION | D4: APR. INICIAL | E4: APR. VIGENTE | F4: APR BLOQUEADA | G4: CDP | H4: APR. DISPONIBLE | I4: COMPROMISO | J4: OBLIGACION | K4: ORDEN PAGO | L4: PAGOS
B5: C | C5: INVERSION | D5: =SUM(D6:D8) -> 637141157797 | E5: =SUM(E6:E8) -> 467141157797 | F5: =SUM(F6:F8) -> 170000000000 | G5: =SUM(G6:G8) -> 3.1659341e+11 | H5: =SUM(H6:H8) -> 1.5054775e+11 | I5: =SUM(I6:I8) -> 1.4385866e+11 | J5: =SUM(J6:J8) -> 2.6028919e+10 | K5: =SUM(K6:K8) -> 2.6026185e+10 | L5: =SUM(L6:L8) -> 2.6026185e+10
B6: C-4301 | C6: FOMENTO A LA RECREACIÓN, LA ACTIVIDAD FÍSICA Y EL DEPORTE PARA DESARROLLAR ENTORNOS DE CONVIVENCIA Y PAZ | D6: 106000000000 | E6: =106000000000-F6 -> 105394000000 | F6: 606000000 | G6: 66864438615 | H6: 38529561385 | I6: 5239143841 | J6: 275050497 | K6: 275050497 | L6: 275050497
B7: C-4302 | C7: FORMACIÓN Y PREPARACIÓN DE DEPORTISTAS | D7: 512141157797 | E7: =512141157797-F7 -> 342747157797 | F7: 169394000000 | G7: 2.4006406e+11 | H7: 1.026831e+11 | I7: 1.322804e+11 | J7: 25266820018 | K7: 25264085670 | L7: 25264085670
B8: C-4399 | C8: FORTALECIMIENTO DE LA GESTIÓN Y DIRECCIÓN DEL SECTOR DEPORTE Y RECREACIÓN | D8: 19000000000 | E8: 19000000000 | F8: 0 | G8: 9.6649126e+09 | H8: 9.3350874e+09 | I8: 6.3391247e+09 | J8: 4.870489e+08 | K8: 4.870489e+08 | L8: 4.870489e+08
B10: A | C10: FUNCIONAMIENTO | D10: 39593952363 | E10: 39593952363 | F10: 0 | G10: 1.1369242e+10 | H10: 2.8224711e+10 | I10: 9.8116422e+09 | J10: 7.7345301e+09 | K10: 7.7345301e+09 | L10: 7.7345301e+09
B11: C | C11: INVERSION | D11: 637141157797 | E11: 637141157797 | F11: 170000000000 | G11: 3.1659341e+11 | H11: 1.5054775e+11 | I11: 1.4385866e+11 | J11: 2.6028919e+10 | K11: 2.6026185e+10 | L11: 2.6026185e+10
D13: 676735110160 | E13: 676735110160 | F13: 170000000000 | G13: 3.2796265e+11 | H13: 1.7877246e+11 | I13: 1.5367031e+11 | J13: 3.376345e+10 | K13: 3.3760715e+10 | L13: 3.3760715e+10
C15: FUNCIONAMIENTO | D15: =SUM('ACUMULADO A FEBRERO'!E18) -> 39593952363
C16: INVERSION | D16: =+'ACUMULADO A FEBRERO'!E39 -> 637141157797
C17: APROPIACION BLOQUEADA | D17: =+'ACUMULADO A FEBRERO'!F40 -> 120000000000
