Workbook

Sheet RESUMEN
D8: FUNCIONAMIENTO | E8: 37055.371
D9: INVERSION | E9: 532000
D23: GASTOS DE FUNCIONAMIENTO - COMPROMISOS PRESUPUESTALES
H24: en miles de $
E25: ENERO | F25: FEBRERO | G25: MARZO | H25: ABRIL | I25: MAYO | J25: JUNIO | K25: JULIO | L25: AGOSTO | M25: SEPTIEMBRE | N25: OCTUBRE | O25: NOVIEMBRE | P25: DICIEMBRE
D26: SERVICOS PERSONALES | E26: =SUM('ENERO -PROYECTO'!H6:H8)/1000 -> 1145563.5 | F26: =SUM('FEBRERO - PROYECTO'!H6:H8)/1000 -> 1165789.4 | G26: =SUM('MARZO - PROYECTO'!H6:H8)/1000 -> 1210188.4 | H26: =SUM('ABRIL - PROYECTO'!H6:H8)/1000 -> 1253526.3 | I26: =SUM('MAYO - PROYECTO'!H6:H8)/1000 -> 1162198.7 | J26: =SUM('JUNIO-PROYECTO'!H6:H8)/1000 -> 1844752.3 | K26: =SUM('JULIO-PROYECTO'!H6:H8)/1000 -> 1327988.7 | L26: =SUM('AGOSTO-PROYECTO'!H6:H8)/1000 -> 1362157.6 | M26: =SUM('SEPTIEMBRE-PROYECTO'!H6:H8)/1000 -> 1414038.2 | N26: =SUM('OCTUBRE-PROYECTO'!H6:H8)/1000 -> 1178211.9 | O26: =SUM('NOVIEMBRE-PROYECTO'!H6:H8)/1000 -> 1175110.9 | P26: 2915737.2
D27: GASTOS GENERALES | E27: =SUM('ENERO -PROYECTO'!H9:H10)/1000 -> 1420364.5 | F27: =SUM('FEBRERO - PROYECTO'!H9:H10)/1000 -> 1352865.3 | G27: =SUM('MARZO - PROYECTO'!H9:H10)/1000 -> 252931.58 | H27: =SUM('ABRIL - PROYECTO'!H9:H10)/1000 -> 46032.816 | I27: =SUM('MAYO - PROYECTO'!H9:H10)/1000 -> 178389.87 | J27: =SUM('JUNIO-PROYECTO'!H9:H10)/1000 -> 129517.92 | K27: =SUM('JULIO-PROYECTO'!H9:H10)/1000 -> 274771.82 | L27: =SUM('AGOSTO-PROYECTO'!H9:H10)/1000 -> 51871.113 | M27: =SUM('SEPTIEMBRE-PROYECTO'!H9:H10)/1000 -> 92675.434 | N27: =SUM('OCTUBRE-PROYECTO'!H9:H10)/1000 -> 44923.051 | O27: =SUM('NOVIEMBRE-PROYECTO'!H9:H10)/1000 -> 58864.752 | P27: 10080.595
D28: TRANSFERENCIAS | E28: =SUM('ENERO -PROYECTO'!H11:H17)/1000 -> 840205.01 | F28: =SUM('FEBRERO - PROYECTO'!H11:H17)/1000 -> 1540859.5 | G28: =SUM('MARZO - PROYECTO'!H11:H17)/1000 -> 1503497.5 | H28: =SUM('ABRIL - PROYECTO'!H11:H16)/1000 -> 1067118.6 | I28: =SUM('MAYO - PROYECTO'!H11:H13)/1000 -> 1070345.2 | J28: =SUM('JUNIO-PROYECTO'!H11:H13)/1000 -> 1758378.8 | K28: =SUM('JULIO-PROYECTO'!H11:H13)/1000 -> 1124420.4 | L28: =SUM('AGOSTO-PROYECTO'!H11:H13)/1000 -> 1133676.2 | M28: =SUM('SEPTIEMBRE-PROYECTO'!H11:H17)/1000 -> 996960.94 | N28: =SUM('OCTUBRE-PROYECTO'!H11:H17)/1000 -> 1193222.7 | O28: =SUM('NOVIEMBRE-PROYECTO'!H11:H17)/1000 -> 1241801.9 | P28: 2440701.1
C47: GASTOS DE INVERSION - COMPROMISOS PRESUPUESTALES 2019
D48: en miles de $
E49: ENERO | F49: FEBRERO | G49: MARZO | H49: ABRIL | I49: MAYO | J49: JUNIO | K49: JULIO | L49: AGOSTO | M49: SEPTIEMBRE | N49: OCTUBRE | O49: NOVIEMBRE | P49: DICIEMBRE
C50: C-4301-1604-8 | D50: APOYO A LA EDUCACIÓN FÍSICA EXTRAESCOLAR Y EL DEPORTE FORMATIVO PARA LA INFANCIA, ADOLESCENCIA Y JUVENTUD A NIVEL NACIONAL | E50: =+'ENERO -PROYECTO'!H19 -> 0 | F50: =+'FEBRERO - PROYECTO'!H19/1000 -> 257.524 | G50: =+'MARZO - PROYECTO'!H19/1000 -> 405986.15 | H50: =+'ABRIL - PROYECTO'!H19/1000 -> 378257.52 | I50: =+'MAYO - PROYECTO'!H19/1000 -> 21384803 | J50: =+'JUNIO-PROYECTO'!H19/1000 -> 3433603.1 | K50: =+'JULIO-PROYECTO'!H19/1000 -> 16864.603 | L50: =+'AGOSTO-PROYECTO'!H19/1000 -> 13301.702 | M50: =+'SEPTIEMBRE-PROYECTO'!H19/1000 -> 561067.26 | N50: =+'OCTUBRE-PROYECTO'!H19/1000 -> 148879.9 | O50: =+'NOVIEMBRE-PROYECTO'!H19/1000 -> 215888.07 | P50: 4778718884
C51: C-4301-1604-9 | D51: DESARROLLO DE LA ACTIVIDAD FÍSICA Y LOS HÁBITOS Y ESTILOS DE VIDA SALUDABLE A NIVEL NACIONAL | E51: 0 | F51: =+'FEBRERO - PROYECTO'!H20/1000 -> 2472.098 | G51: =+'MARZO - PROYECTO'!H20/1000 -> 175347.54 | H51: =+'ABRIL - PROYECTO'!H20/1000 -> 2186117 | I51: =+'MAYO - PROYECTO'!H20/1000 -> 3613222.3 | J51: =+'JUNIO-PROYECTO'!H20/1000 -> 136492.63 | K51: =+'JULIO-PROYECTO'!H20/1000 -> 19598.872 | L51: =+'AGOSTO-PROYECTO'!H20/1000 -> 16573.197 | M51: =+'SEPTIEMBRE-PROYECTO'!H20/1000 -> 454478.76 | N51: =+'OCTUBRE-PROYECTO'!H20/1000 -> 43431.398 | O51: =+'NOVIEMBRE-PROYECTO'!H20/1000 -> 1273702.3 | P51: 74496151
C52: C-4301-1604-10 | D52: DESARROLLO DE LA RECREACIÓN A NIVEL NACIONAL | E52: 0 | F52: 0 | G52: =+'MARZO - PROYECTO'!H21/1000 -> 226817.57 | H52: =+'ABRIL - PROYECTO'!H21/1000 -> 1806488.6 | I52: =+'MAYO - PROYECTO'!H21/1000 -> 1439071.7 | J52: =+'JUNIO-PROYECTO'!H21/1000 -> 1594709.3 | K52: =+'JULIO-PROYECTO'!H21/1000 -> 82208.432 | L52: =+'AGOSTO-PROYECTO'!H21/1000 -> 553253.56 | M52: =+'SEPTIEMBRE-PROYECTO'!H21/1000 -> 1325208.5 | N52: =+'OCTUBRE-PROYECTO'!H21/1000 -> 931992.88 | O52: =+'NOVIEMBRE-PROYECTO'!H21/1000 -> 53332.205 | P52: -2726111
C53: C-4301-1604-11 | D53: DESARROLLO AL DEPORTE SOCIAL COMUNITARIO NACIONAL | E53: 0 | F53: =+'FEBRERO - PROYECTO'!H22/1000 -> 1282.062 | G53: =+'MARZO - PROYECTO'!H22/1000 -> 291764.19 | H53: =+'ABRIL - PROYECTO'!H22/1000 -> 804220.63 | I53: =+'MAYO - PROYECTO'!H22/1000 -> 2355522.8 | J53: =+'JUNIO-PROYECTO'!H22/1000 -> 2133219.6 | K53: =+'JULIO-PROYECTO'!H22/1000 -> 54660.679 | L53: =+'AGOSTO-PROYECTO'!H22/1000 -> 152458.44 | M53: =+'SEPTIEMBRE-PROYECTO'!H22/1000 -> 757586.26 | N53: =+'OCTUBRE-PROYECTO'!H22/1000 -> 76453.638 | O53: =+'NOVIEMBRE-PROYECTO'!H22/1000 -> 812694.92 | P53: 71415168
C54: C-4301-1604-12 | D54: DESARROLLO DEL DEPORTE ESCOLAR COMO HERRAMIENTA DE CONVIVENCIA Y PAZ NACIONAL | E54: 0 | F54: 0 | G54: =+'MARZO - PROYECTO'!H23/1000 -> 178640.39 | H54: =+'ABRIL - PROYECTO'!H23/1000 -> 1698176.3 | I54: =+'MAYO - PROYECTO'!H23/1000 -> 2799313.6 | J54: =+'JUNIO-PROYECTO'!H23/1000 -> 202003.05 | K54: =+'JULIO-PROYECTO'!H23/1000 -> 23253.686 | L54: =+'AGOSTO-PROYECTO'!H23/1000 -> 233040.84 | M54: =+'SEPTIEMBRE-PROYECTO'!H23/1000 -> 2414248.9 | N54: =+'OCTUBRE-PROYECTO'!H23/1000 -> 28666.21 | O54: =+'NOVIEMBRE-PROYECTO'!H23/1000 -> 67349.705 | P54: 1471250574
C55: C-4302-1604-16 | D55: APOYO A LA INFRAESTRUCTURA DEPORTIVA, RECREATIVA Y DE LA ACTIVIDAD FÍSICA A NIVEL NACIONAL | E55: =+'ENERO -PROYECTO'!H24/1000 -> 157000000 | F55: =+'FEBRERO - PROYECTO'!H24/1000 -> 1639642.7 | G55: =+'MARZO - PROYECTO'!H24/1000 -> 336963.74 | H55: =+'ABRIL - PROYECTO'!H24/1000 -> 303349.49 | I55: =+'MAYO - PROYECTO'!H24/1000 -> 308910.81 | J55: =+'JUNIO-PROYECTO'!H24/1000 -> 119361.49 | K55: =+'JULIO-PROYECTO'!H24/1000 -> -1850241.7 | L55: =+'AGOSTO-PROYECTO'!H24/1000 -> 811132.67 | M55: =+'SEPTIEMBRE-PROYECTO'!H24/1000 -> 2574540.8 | N55: =+'OCTUBRE-PROYECTO'!H24/1000 -> 396133.98 | O55: =+'NOVIEMBRE-PROYECTO'!H24/1000 -> -892996.88 | P55: 9712714697
C56: C-4302-1604-17 | D56: APOYO A LA INFRAESTRUCTURA DE ALTA COMPETENCIA A NIVEL NACIONAL | E56: 0 | F56: =+'FEBRERO - PROYECTO'!H25/1000 -> 19425387 | G56: =+'MARZO - PROYECTO'!H25/1000 -> 4042792.2 | H56: =+'ABRIL - PROYECTO'!H25/1000 -> 17698002 | I56: =+'MAYO - PROYECTO'!H25/1000 -> 1432495.6 | J56: =+'JUNIO-PROYECTO'!H25/1000 -> 24051.996 | K56: =+'JULIO-PROYECTO'!H25/1000 -> 615931.79 | L56: =+'AGOSTO-PROYECTO'!H25/1000 -> 156588.3 | M56: =+'SEPTIEMBRE-PROYECTO'!H25/1000 -> 478786.45 | N56: =+'OCTUBRE-PROYECTO'!H25/1000 -> 54623.316 | O56: =+'NOVIEMBRE-PROYECTO'!H25/1000 -> 2495930.4 | P56: 8968398761
C57: C-4302-1604-18 | D57: DESARROLLO DEL SISTEMA PARALÍMPICO PARA EL POSICIONAMIENTO Y LIDERAZGO DEPORTIVO NACIONAL | E57: 0 | F57: =+'FEBRERO - PROYECTO'!H26/1000 -> 2918195.9 | G57: =+'MARZO - PROYECTO'!H26/1000 -> 1721939.3 | H57: =+'ABRIL - PROYECTO'!H26/1000 -> 245889.37 | I57: =+'MAYO - PROYECTO'!H26/1000 -> 377262.92 | J57: =+'JUNIO-PROYECTO'!H26/1000 -> 1228786.2 | K57: =+'JULIO-PROYECTO'!H26/1000 -> 636555.5 | L57: =+'AGOSTO-PROYECTO'!H26/1000 -> 1468229.7 | M57: =+'SEPTIEMBRE-PROYECTO'!H26/1000 -> 307213.14 | N57: =+'OCTUBRE-PROYECTO'!H26/1000 -> 880596.9 | O57: =+'NOVIEMBRE-PROYECTO'!H26/1000 -> 842295.62 | P57: 959192791
C58: C-4302-1604-19 | D58: DESARROLLO AL DEPORTE DEL SISTEMA OLÍMPICO Y CONVENCIONAL PARA EL POSICIONAMIENTO Y LIDERAZGO DEPORTIVO NACIONAL | E58: =+'ENERO -PROYECTO'!H27/1000 -> 5200000 | F58: =+'FEBRERO - PROYECTO'!H27/1000 -> 6742789.2 | G58: =+'MARZO - PROYECTO'!H27/1000 -> 22937034 | H58: =+'ABRIL - PROYECTO'!H27/1000 -> 6397821.7 | I58: =+'MAYO - PROYECTO'!H27/1000 -> 7023037.2 | J58: =+'JUNIO-PROYECTO'!H27/1000 -> 1902190 | K58: =+'JULIO-PROYECTO'!H27/1000 -> 1555902 | L58: =+'AGOSTO-PROYECTO'!H27/1000 -> 6022276.2 | M58: =+'SEPTIEMBRE-PROYECTO'!H27/1000 -> 1168756.8 | N58: =+'OCTUBRE-PROYECTO'!H27/1000 -> 3549531.5 | O58: =+'NOVIEMBRE-PROYECTO'!H27/1000 -> 3818942.5 | P58: 4.4686633e+09
C59: C-4302-1604-20 | D59: DESARROLLO DE POLÍTICAS PÚBLICAS E INVESTIGACIÓN SECTORIAL A NIVEL NACIONAL | E59: 0 | F59: =+'FEBRERO - PROYECTO'!H28/1000 -> 42842.8 | G59: =+'MARZO - PROYECTO'!H28/1000 -> 139642.62 | H59: =+'ABRIL - PROYECTO'!H28/1000 -> 16000 | I59: =+'MAYO - PROYECTO'!H28/1000 -> 123384.06 | J59: =+'JUNIO-PROYECTO'!H28/1000 -> 3470.655 | K59: =+'JULIO-PROYECTO'!H28/1000 -> 6735.96 | L59: =+'AGOSTO-PROYECTO'!H28/1000 -> 58055.907 | M59: =+'SEPTIEMBRE-PROYECTO'!H28/1000 -> 40411.645 | N59: =+'OCTUBRE-PROYECTO'!H28/1000 -> 32437.596 | O59: =+'NOVIEMBRE-PROYECTO'!H28/1000 -> 24950.341 | P59: 414269111
C60: C-4302-1604-21 | D60: ASISTENCIA A LA COOPERACIÓN INTERNACIONAL DEL SECTOR A NIVEL NACIONAL | E60: 0 | F60: 0 | G60: =+'MARZO - PROYECTO'!H29/1000 -> 131811.84 | H60: 0 | I60: =+'MAYO - PROYECTO'!H29/1000 -> 0 | J60: =+'JUNIO-PROYECTO'!H29/1000 -> 1591.921 | K60: =+'JULIO-PROYECTO'!H29/1000 -> 54911.383 | L60: =+'AGOSTO-PROYECTO'!H29/1000 -> 99000 | M60: =+'SEPTIEMBRE-PROYECTO'!H29/1000 -> 779525.65 | N60: =+'OCTUBRE-PROYECTO'!H29/1000 -> 41683.4 | O60: =+'NOVIEMBRE-PROYECTO'!H29/1000 -> 814.423 | P60: 1258769
C61: C-4302-1604-22 | D61: APOYO A LA ORGANIZACIÓN DE EVENTOS DEPORTIVOS PARA LA PREPARACIÓN DE ATLETAS Y LA PROMOCIÓN DEL DEPORTE NACIONAL | E61: 0 | F61: =+'FEBRERO - PROYECTO'!H30/1000 -> 1354.587 | G61: =+'MARZO - PROYECTO'!H30/1000 -> 392010.87 | H61: =+'ABRIL - PROYECTO'!H30/1000 -> 28447305 | I61: =+'MAYO - PROYECTO'!H30/1000 -> 423201.65 | J61: =+'JUNIO-PROYECTO'!H30/1000 -> 1283753.5 | K61: =+'JULIO-PROYECTO'!H30/1000 -> 1228616 | L61: =+'AGOSTO-PROYECTO'!H30/1000 -> 857184.6 | M61: =+'SEPTIEMBRE-PROYECTO'!H30/1000 -> 1445291.1 | N61: =+'OCTUBRE-PROYECTO'!H30/1000 -> 368299.65 | O61: =+'NOVIEMBRE-PROYECTO'!H30/1000 -> 8333508.5 | P61: 1903386005
C62: C-4302-1604-23 | D62: APOYO A LA INSPECCIÓN, VIGILANCIA Y CONTROL A NIVEL NACIONAL | E62: 0 | F62: =+'FEBRERO - PROYECTO'!H31/1000 -> 4083.261 | G62: =+'MARZO - PROYECTO'!H31/1000 -> 182909.8 | H62: =+'ABRIL - PROYECTO'!H31/1000 -> 377837 | I62: =+'MAYO - PROYECTO'!H31/1000 -> 204412.54 | J62: =+'JUNIO-PROYECTO'!H31/1000 -> 169235.43 | K62: =+'JULIO-PROYECTO'!H31/1000 -> 240503.74 | L62: =+'AGOSTO-PROYECTO'!H31/1000 -> 194136.2 | M62: =+'SEPTIEMBRE-PROYECTO'!H31/1000 -> 37801.769 | N62: =+'OCTUBRE-PROYECTO'!H31/1000 -> 82070.75 | O62: =+'NOVIEMBRE-PROYECTO'!H31/1000 -> 846105.78 | P62: -13219081
C63: C-4302-1604-24 | D63: APOYO AL PROGRAMA AL CONTROL DOPAJE NACIONAL | E63: 0 | F63: 0 | G63: =+'MARZO - PROYECTO'!H32/1000 -> 91062.5 | H63: =+'ABRIL - PROYECTO'!H32/1000 -> 1318375 | I63: =+'MAYO - PROYECTO'!H32/1000 -> 1230.901 | J63: =+'JUNIO-PROYECTO'!H32/1000 -> 1007.04 | K63: =+'JULIO-PROYECTO'!H32/1000 -> -450.824 | L63: =+'AGOSTO-PROYECTO'!H32/1000 -> 133641.52 | M63: =+'SEPTIEMBRE-PROYECTO'!H32/1000 -> 3031.78 | N63: =+'OCTUBRE-PROYECTO'!H32/1000 -> 9563.356 | O63: =+'NOVIEMBRE-PROYECTO'!H32/1000 -> 131327.58 | P63: -1804716
C64: C-4302-1604-25 | D64: DESARROLLO AL LABORATORIO DEL CONTROL AL DOPAJE NACIONAL | E64: 0 | F64: =+'FEBRERO - PROYECTO'!H33/1000 -> 312530.4 | G64: =+'MARZO - PROYECTO'!H33/1000 -> 219787.4 | H64: =+'ABRIL - PROYECTO'!H33/1000 -> 224224.55 | I64: =+'MAYO - PROYECTO'!H33/1000 -> 3111.406 | J64: =+'JUNIO-PROYECTO'!H33/1000 -> 373989.51 | K64: =+'JULIO-PROYECTO'!H33/1000 -> 30582.752 | L64: =+'AGOSTO-PROYECTO'!H33/1000 -> 70108.551 | M64: =+'SEPTIEMBRE-PROYECTO'!H33/1000 -> 180890.97 | N64: =+'OCTUBRE-PROYECTO'!H33/1000 -> 37447.203 | O64: =+'NOVIEMBRE-PROYECTO'!H33/1000 -> 1550092.3 | P64: 5293481105
C65: C-4399-1604-7 | D65: IMPLEMENTACIÓN DE LAS TECNOLOGÍAS DE LA INFORMACIÓN Y COMUNICACIÓN PARA EL SISTEMA NACIONAL DEL DEPORTE A NIVEL NACIONAL | E65: 0 | F65: 0 | G65: =+'MARZO - PROYECTO'!H34/1000 -> 200168.47 | H65: =+'ABRIL - PROYECTO'!H34/1000 -> 1305.1422 | I65: =+'MAYO - PROYECTO'!H34/1000 -> 98312.609 | J65: =+'JUNIO-PROYECTO'!H34/1000 -> 134259.17 | K65: =+'JULIO-PROYECTO'!H34/1000 -> 266193.83 | L65: =+'AGOSTO-PROYECTO'!H34/1000 -> 69769.4 | M65: =+'SEPTIEMBRE-PROYECTO'!H34/1000 -> 69441.619 | N65: =+'OCTUBRE-PROYECTO'!H34/1000 -> 1122854.3 | O65: =+'NOVIEMBRE-PROYECTO'!H34/1000 -> 49231.841 | P65: 7.9490943e+08
C66: C-4399-1604-8 | D66: MEJORAMIENTO SEDES COLDEPORTES BOGOTÁ | E66: 0 | F66: =+'FEBRERO - PROYECTO'!H35/1000 -> 92195.355 | G66: =+'MARZO - PROYECTO'!H35/1000 -> 872834.28 | H66: =+'ABRIL - PROYECTO'!H35/1000 -> 1558989.6 | I66: =+'MAYO - PROYECTO'!H35/1000 -> 88111.852 | J66: =+'JUNIO-PROYECTO'!H35/1000 -> 71940.982 | K66: =+'JULIO-PROYECTO'!H35/1000 -> 26743.833 | L66: =+'AGOSTO-PROYECTO'!H35/1000 -> 58904.924 | M66: =+'SEPTIEMBRE-PROYECTO'!H35/1000 -> 64167.731 | N66: =+'OCTUBRE-PROYECTO'!H35/1000 -> 70631.5 | O66: =+'NOVIEMBRE-PROYECTO'!H35/1000 -> 59766.359 | P66: 1654925845
C67: C-4399-1604-9 | D67: APOYO AL FORTALECIMIENTO DEL SECTOR A NIVEL NACIONAL | E67: 0 | F67: =+'FEBRERO - PROYECTO'!H36/1000 -> 541780.64 | G67: =+'MARZO - PROYECTO'!H36/1000 -> 80299.983 | H67: =+'ABRIL - PROYECTO'!H36/1000 -> 280259.5 | I67: =+'MAYO - PROYECTO'!H36/1000 -> 205257.51 | J67: =+'JUNIO-PROYECTO'!H36/1000 -> 105744.55 | K67: =+'JULIO-PROYECTO'!H36/1000 -> 1258102.3 | L67: =+'AGOSTO-PROYECTO'!H36/1000 -> 568833.63 | M67: =+'SEPTIEMBRE-PROYECTO'!H36/1000 -> 567481.59 | N67: =+'OCTUBRE-PROYECTO'!H36/1000 -> 203252.22 | O67: =+'NOVIEMBRE-PROYECTO'!H36/1000 -> 1281716.8 | P67: 502816773
E68: =SUM(E50:E67) -> 162200000 | F68: =SUM(F50:F67) -> 31724814 | G68: =SUM(G50:G67) -> 32627813 | H68: =SUM(H50:H67) -> 63742618 | I68: =SUM(I50:I67) -> 41880663 | J68: =SUM(J50:J67) -> 12919410 | K68: =SUM(K50:K67) -> 4266672.8 | L68: =SUM(L50:L67) -> 11536489 | ... P68: =SUM(P50:P67) -> 4.1052147e+10

Sheet ACUMULADO A DICIEMBR X PROYECTO
B1: 2019
B2: Actual
B3: Enero-Diciembre | D3: 1 | E3: 2 | F3: 3 | G3: 4 | H3: 5 | I3: 6 | J3: 7 | K3: 5 / (1-2) | L3: 7 / 5
B4: RUBRO | C4: DESCRIPCION | D4: APR. VIGENTE | E4: APR REDUCIDA | F4: CDP | G4: APR. DISPONIBLE | H4: COMPROMISO | I4: OBLIGACION | J4: PAGOS | K4: COMPR /APROP VIG | L4: PAGOS/COMPROMISOS
B5: GASTOS DE FUNCIONAMIENTO | D5: =SUM(D6:D17) -> 37630371065 | E5: =SUM(E6:E17) -> 0 | F5: =SUM(F6:F17) -> 3.6979739e+10 | G5: =SUM(G6:G17) -> 6.5063168e+08 | H5: =SUM(H6:H17) -> 3.6979739e+10 | I5: =SUM(I6:I17) -> 3.5196357e+10 | J5: =SUM(J6:J17) -> 3.5196357e+10 | K5: =+H5/D5 -> 0.98270993 | L5: =+J5/H5 -> 0.95177406
B6: A-01-01-01 | C6: SALARIO | D6: 11592000000 | F6: 11430025137 | G6: 161974863 | H6: 11430025137 | I6: 11413183932 | J6: 11413183932 | K6: =+H6/D6 -> 0.98602701 | L6: =+J6/H6 -> 0.99852658
B7: A-01-01-02 | C7: CONTRIBUCIONES INHERENTES A LA NÓMINA | D7: 4099000000 | F7: 4028791179 | G7: 70208821 | H7: 4028791179 | I7: 3796355471 | J7: 3796355471 | K7: =+H7/D7 -> 0.98287172 | L7: =+J7/H7 -> 0.94230634
B8: A-01-01-03 | C8: REMUNERACIONES NO CONSTITUTIVAS DE FACTOR SALARIAL | D8: 1705000000 | F8: 1696446678 | G8: 8553322 | H8: 1696446678 | I8: 1696446678 | J8: 1696446678 | K8: =+H8/D8 -> 0.99498339 | L8: =+J8/H8 -> 1
B9: A-02-01 | C9: ADQUISICIÓN DE ACTIVOS NO FINANCIEROS | D9: 10000000 | F9: 5951507 | G9: 4048493 | H9: 5951507 | I9: 5951507 | J9: 5951507 | K9: =+H9/D9 -> 0.5951507 | L9: =+J9/H9 -> 1
B10: A-02-02 | C10: ADQUISICIONES DIFERENTES DE ACTIVOS | D10: 4202371065 | F10: 3.9073372e+09 | G10: 2.9503386e+08 | H10: 3.9073372e+09 | I10: 3.6847344e+09 | J10: 3.6847344e+09 | K10: =+H10/D10 -> 0.92979348 | L10: =+J10/H10 -> 0.94302954
B11: A-03-03-04-048 | C11: ESCUELA NACIONAL DEL DEPORTE - ART. 51 DECRETO 2845 DE 1984 | D11: 14085000000 | F11: 14085000000 | G11: 0 | H11: 14085000000 | I11: 1.3502003e+10 | J11: 1.3502003e+10 | K11: =+H11/D11 -> 1 | L11: =+J11/H11 -> 0.95860863
B12: A-03-04-02-001 | C12: MESADAS PENSIONALES (DE PENSIONES) | D12: 1153000000 | F12: 1.153e+09 | G12: 0.28 | H12: 1.153e+09 | I12: 5.8466238e+08 | J12: 5.8466238e+08 | K12: =+H12/D12 -> 1 | L12: =+J12/H12 -> 0.50707926
B13: A-03-04-02-012 | C13: INCAPACIDADES Y LICENCIAS DE MATERNIDAD Y PATERNIDAD (NO DE PENSIONES) | D13: 96000000 | F13: 95747687 | G13: 252313 | H13: 95747687 | I13: 95747687 | J13: 95747687 | K13: =+H13/D13 -> 0.99737174 | L13: =+J13/H13 -> 1
B14: A-03-10-01-001 | C14: SENTENCIAS | D14: 91000000 | F14: 0 | G14: 91000000 | H14: 0 | I14: 0 | J14: 0 | K14: =+H14/D14 -> 0 | L14: 0
B15: A-08-01 | C15: IMPUESTOS | D15: 10000000 | F15: 440000 | G15: 9560000 | H15: 440000 | I15: 440000 | J15: 440000 | K15: =+H15/D15 -> 0.044 | L15: 0
B16: A-08-03 | C16: TASAS Y DERECHOS ADMINISTRATIVOS | D16: 10000000 | F16: 0 | G16: 10000000 | H16: 0 | I16: 0 | J16: 0 | K16: =+H16/D16 -> 0 | L16: 0
B17: A-08-04-01 | C17: CUOTA DE FISCALIZACIÓN Y AUDITAJE | D17: 577000000 | F17: 577000000 | G17: 0 | H17: 577000000 | I17: 416832085 | J17: 416832085 | K17: =+H17/D17 -> 1 | L17: =+J17/H17 -> 0.72241263
B18: GASTOS DE INVERSION | D18: =SUM(D19:D36) -> 532000000000 | E18: =SUM(E19:E36) -> 70000000000 | F18: =SUM(F19:F36) -> 4.4422376e+11 | G18: =SUM(G19:G36) -> 1.777624e+10 | H18: =SUM(H19:H36) -> 4.4422376e+11 | I18: =SUM(I19:I36) -> 2.3030444e+11 | J18: =SUM(J19:J36) -> 2.3030237e+11 | K18: =+H18/D18 -> 0.83500707 | L18: =+J18/H18 -> 0.51843777
B19: C-4301-1604-8 | C19: APOYO A LA EDUCACIÓN FÍSICA EXTRAESCOLAR Y EL DEPORTE FORMATIVO PARA LA INFANCIA, ADOLESCENCIA Y JUVENTUD A NIVEL NACIONAL | D19: =34042973108+39226292944 -> 73269266052 | E19: 39226292944 | F19: 31337627852 | G19: 2705345256 | H19: 31337627852 | I19: 20785642408 | J19: 20785642408 | K19: =+H19/(D19-E19) -> 0.92053146 | L19: =+J19/H19 -> 0.66328066
B20: C-4301-1604-9 | C20: DESARROLLO DE LA ACTIVIDAD FÍSICA Y LOS HÁBITOS Y ESTILOS DE VIDA SALUDABLE A NIVEL NACIONAL | D20: =8744162733+5837267 -> 8750000000 | E20: 5837267 | F20: 7995932234 | G20: 748230499 | H20: 7995932234 | I20: 5037063140 | J20: 5037063140 | K20: =+H20/(D20-E20) -> 0.91443086 | L20: =+J20/H20 -> 0.62995321
B21: C-4301-1604-10 | C21: DESARROLLO DE LA RECREACIÓN A NIVEL NACIONAL | D21: =8367830466+35169534 -> 8403000000 | E21: 35169534 | F21: 8010356593 | G21: 357473873 | H21: 8010356593 | I21: 5213865844 | J21: 5213865844 | K21: =+H21/(D21-E21) -> 0.95727998 | L21: =+J21/H21 -> 0.6508906
B22: C-4301-1604-11 | C22: DESARROLLO AL DEPORTE SOCIAL COMUNITARIO NACIONAL | D22: 7782000000 | E22: 0 | F22: 7511278408 | G22: 270721592 | H22: 7511278408 | I22: 4827231005 | J22: 4827231005 | K22: =+H22/(D22-E22) -> 0.96521182 | L22: =+J22/H22 -> 0.64266437
B23: C-4301-1604-12 | C23: DESARROLLO DEL DEPORTE ESCOLAR COMO HERRAMIENTA DE CONVIVENCIA Y PAZ NACIONAL | D23: =9228033693+1966307 -> 9230000000 | E23: 1966307 | F23: 9115943320 | G23: 112090373 | H23: 9115943320 | I23: 5018185154 | J23: 5018185154 | K23: =+H23/(D23-E23) -> 0.98785328 | L23: =+J23/H23 -> 0.55048446
B24: C-4302-1604-16 | C24: APOYO A LA INFRAESTRUCTURA DEPORTIVA, RECREATIVA Y DE LA ACTIVIDAD FÍSICA A NIVEL NACIONAL | D24: =173451000000+2200000000 -> 175651000000 | E24: 2200000000 | F24: 1.7045951e+11 | G24: 2.9914882e+09 | H24: 1.7045951e+11 | I24: 5.2865398e+10 | J24: 5.2865398e+10 | K24: =+H24/(D24-E24) -> 0.98275312 | L24: =+J24/H24 -> 0.31013463
B25: C-4302-1604-17 | C25: APOYO A LA INFRAESTRUCTURA DE ALTA COMPETENCIA A NIVEL NACIONAL | D25: =55590000000+6900000000 -> 62490000000 | E25: 6900000000 | F25: 55392987569 | G25: 197012431 | H25: 55392987569 | I25: 24835621977 | J25: 24835621977 | K25: =+H25/(D25-E25) -> 0.99645597 | L25: =+J25/H25 -> 0.44835318
B26: C-4302-1604-18 | C26: DESARROLLO DEL SISTEMA PARALÍMPICO PARA EL POSICIONAMIENTO Y LIDERAZGO DEPORTIVO NACIONAL | D26: =12033450000+1266283948 -> 13299733948 | E26: 1266283948 | F26: 1.1586157e+10 | G26: 4.4729274e+08 | H26: 1.1586157e+10 | I26: 1.0215551e+10 | J26: 1.0215551e+10 | K26: =+H26/(D26-E26) -> 0.96282922 | L26: =+J26/H26 -> 0.88170312
B27: C-4302-1604-19 | C27: DESARROLLO AL DEPORTE DEL SISTEMA OLÍMPICO Y CONVENCIONAL PARA EL POSICIONAMIENTO Y LIDERAZGO DEPORTIVO NACIONAL | D27: =76490550000+19664450000 -> 96155000000 | E27: 19664450000 | F27: 7.0786945e+10 | G27: 5.7036054e+09 | H27: 7.0786945e+10 | I27: 5.8181711e+10 | J27: 5.817964e+10 | K27: =+H27/(D27-E27) -> 0.92543385 | L27: =+J27/H27 -> 0.82189789
B28: C-4302-1604-20 | C28: DESARROLLO DE POLÍTICAS PÚBLICAS E INVESTIGACIÓN SECTORIAL A NIVEL NACIONAL | D28: 1000000000 | E28: 0 | F28: 902200690 | G28: 97799310 | H28: 902200690 | I28: 381623873 | J28: 381623873 | K28: =+H28/(D28-E28) -> 0.90220069 | L28: =+J28/H28 -> 0.42299222
B29: C-4302-1604-21 | C29: ASISTENCIA A LA COOPERACIÓN INTERNACIONAL DEL SECTOR A NIVEL NACIONAL | D29: 1200000000 | E29: 0 | F29: 1.1105974e+09 | G29: 89402613 | H29: 1.1105974e+09 | I29: 6.5329842e+08 | J29: 6.5329842e+08 | K29: =+H29/(D29-E29) -> 0.92549782 | L29: =+J29/H29 -> 0.58824055
B30: C-4302-1604-22 | C30: APOYO A LA ORGANIZACIÓN DE EVENTOS DEPORTIVOS PARA LA PREPARACIÓN DE ATLETAS Y LA PROMOCIÓN DEL DEPORTE NACIONAL | D30: 45620000000 | E30: 0 | F30: 4.4683912e+10 | G30: 9.3608833e+08 | H30: 4.4683912e+10 | I30: 3.270598e+10 | J30: 3.270598e+10 | K30: =+H30/(D30-E30) -> 0.97948075 | L30: =+J30/H30 -> 0.73194085
B31: C-4302-1604-23 | C31: APOYO A LA INSPECCIÓN, VIGILANCIA Y CONTROL A NIVEL NACIONAL | D31: 2500000000 | E31: 0 | F31: 2.3258772e+09 | G31: 1.7412281e+08 | H31: 2.3258772e+09 | I31: 1.2477891e+09 | J31: 1.2477891e+09 | K31: =+H31/(D31-E31) -> 0.93035088 | L31: =+J31/H31 -> 0.53648108
B32: C-4302-1604-24 | C32: APOYO AL PROGRAMA AL CONTROL DOPAJE NACIONAL | D32: 1700000000 | E32: 0 | F32: 1686984140 | G32: 13015860 | H32: 1686984140 | I32: 1484965930 | J32: 1484965930 | K32: =+H32/(D32-E32) -> 0.99234361 | L32: =+J32/H32 -> 0.8802489
B33: C-4302-1604-25 | C33: DESARROLLO AL LABORATORIO DEL CONTROL AL DOPAJE NACIONAL | D33: 9000000000 | E33: 0 | F33: 8.2962461e+09 | G33: 7.0375386e+08 | H33: 8.2962461e+09 | I33: 1.1524127e+09 | J33: 1.1524127e+09 | K33: =+H33/(D33-E33) -> 0.92180513 | L33: =+J33/H33 -> 0.13890773
B34: C-4399-1604-7 | C34: IMPLEMENTACIÓN DE LAS TECNOLOGÍAS DE LA INFORMACIÓN Y COMUNICACIÓN PARA EL SISTEMA NACIONAL DEL DEPORTE A NIVEL NACIONAL | D34: 4000000000 | E34: 0 | F34: 2.8064458e+09 | G34: 1.1935542e+09 | H34: 2.8064458e+09 | I34: 6.7443575e+08 | J34: 6.7443575e+08 | K34: =+H34/(D34-E34) -> 0.70161146 | L34: =+J34/H34 -> 0.24031668
B35: C-4399-1604-8 | C35: MEJORAMIENTO SEDES COLDEPORTES BOGOTÁ | D35: =5300000000+700000000 -> 6000000000 | E35: 700000000 | F35: 4.6192123e+09 | G35: 6.807877e+08 | H35: 4.6192123e+09 | I35: 2.7232258e+09 | J35: 2.7232258e+09 | K35: =+H35/(D35-E35) -> 0.87154949 | L35: =+J35/H35 -> 0.58954334
B36: C-4399-1604-9 | C36: APOYO AL FORTALECIMIENTO DEL SECTOR A NIVEL NACIONAL | D36: 5950000000 | E36: 0 | F36: 5595545474 | G36: 354454526 | H36: 5595545474 | I36: 2300443384 | J36: 2300443384 | K36: =+H36/(D36-E36) -> 0.94042781 | L36: =+J36/H36 -> 0.41112049
B37: PRESUPUESTO TOTAL | D37: =+D18+D5 -> 569630371065 | E37: =+E18+E5 -> 70000000000 | F37: =+F18+F5 -> 4.812035e+11 | G37: =+G18+G5 -> 1.8426871e+10 | H37: =+H18+H5 -> 4.812035e+11 | I37: =+I18+I5 -> 2.655008e+11 | J37: =+J18+J5 -> 2.6549873e+11 | K37: =+H37/(D37-E37) -> 0.96311899 | L37: =+J37/H37 -> 0.55173899
D38: =+D37-E37 -> 499630371065

Sheet ENERO -PROYECTO
B1: 2019
B2: Actual
B3: Enero-Enero
B4: RUBRO | C4: DESCRIPCION | D4: APR. VIGENTE | E4: APR BLOQUEADA | F4: CDP | G4: APR. DISPONIBLE | H4: COMPROMISO | I4: OBLIGACION | J4: PAGOS
C5: FUNCI0NAMIENTO | D5: =SUM(D6:D17) -> 37055371065 | E5: =SUM(E6:E17) -> 0 | F5: =SUM(F6:F17) -> 4891871832 | G5: =SUM(G6:G17) -> 32163499233 | H5: =SUM(H6:H17) -> 3.406133e+09 | I5: =SUM(I6:I17) -> 1.6462257e+09 | J5: =SUM(J6:J17) -> 1.6462257e+09
B6: A-01-01-01 | C6: SALARIO | D6: 11589000000 | E6: 0 | F6: 747324685 | G6: 10841675315 | H6: 747324685 | I6: 747324685 | J6: 747324685
B7: A-01-01-02 | C7: CONTRIBUCIONES INHERENTES A LA NÓMINA | D7: 3935000000 | E7: 0 | F7: 301083723 | G7: 3633916277 | H7: 301083723 | I7: 298280923 | J7: 298280923
B8: A-01-01-03 | C8: REMUNERACIONES NO CONSTITUTIVAS DE FACTOR SALARIAL | D8: 1337000000 | E8: 0 | F8: 97155091 | G8: 1239844909 | H8: 97155091 | I8: 97155091 | J8: 97155091
B9: A-02-01 | C9: ADQUISICIÓN DE ACTIVOS NO FINANCIEROS | D9: 10000000 | E9: 0 | F9: 0 | G9: 10000000 | H9: 0 | I9: 0 | J9: 0
B10: A-02-02 | C10: ADQUISICIONES DIFERENTES DE ACTIVOS | D10: 3952371065 | E10: 0 | F10: 2895443839 | G10: 1056927226 | H10: 1.4203645e+09 | I10: 58103721 | J10: 58103721
B11: A-03-03-04-048 | C11: ESCUELA NACIONAL DEL DEPORTE - ART. 51 DECRETO 2845 DE 1984 | D11: 14085000000 | E11: 0 | F11: 0 | G11: 14085000000 | H11: 0 | I11: 0 | J11: 0
B12: A-03-04-02-001 | C12: MESADAS PENSIONALES (DE PENSIONES) | D12: 1403000000 | E12: 0 | F12: 431984112 | G12: 971015888 | H12: 421324627 | I12: 26480930 | J12: 26480930
B13: A-03-04-02-012 | C13: INCAPACIDADES Y LICENCIAS DE MATERNIDAD Y PATERNIDAD (NO DE PENSIONES) | D13: 56000000 | E13: 0 | F13: 2048297 | G13: 53951703 | H13: 2048297 | I13: 2048297 | J13: 2048297
B14: A-03-10-01-001 | C14: SENTENCIAS | D14: 91000000 | E14: 0 | F14: 0 | G14: 91000000 | H14: 0 | I14: 0 | J14: 0
B15: A-08-01 | C15: IMPUESTOS | D15: 10000000 | E15: 0 | F15: 0 | G15: 10000000 | H15: 0 | I15: 0 | J15: 0
B16: A-08-03 | C16: TASAS Y DERECHOS ADMINISTRATIVOS | D16: 10000000 | E16: 0 | F16: 0 | G16: 10000000 | H16: 0 | I16: 0 | J16: 0
B17: A-08-04-01 | C17: CUOTA DE FISCALIZACIÓN Y AUDITAJE | D17: 577000000 | E17: 0 | F17: 416832085 | G17: 160167915 | H17: 416832085 | I17: 416832085 | J17: 416832085
C18: INVERSION | D18: =SUM(D19:D36) -> 532000000000 | E18: =SUM(E19:E36) -> 250000000000 | F18: =SUM(F19:F36) -> 208616500000 | G18: =SUM(G19:G36) -> 73383500000 | H18: =SUM(H19:H36) -> 162200000000 | I18: =SUM(I19:I36) -> 0 | J18: =SUM(J19:J36) -> 0
B19: C-4301-1604-8 | C19: APOYO A LA EDUCACIÓN FÍSICA EXTRAESCOLAR Y EL DEPORTE FORMATIVO PARA LA INFANCIA, ADOLESCENCIA Y JUVENTUD A NIVEL NACIONAL | D19: 73269266052 | E19: 73269266052 | F19: 0 | G19: 0 | H19: 0 | I19: 0 | J19: 0
B20: C-4301-1604-9 | C20: DESARROLLO DE LA ACTIVIDAD FÍSICA Y LOS HÁBITOS Y ESTILOS DE VIDA SALUDABLE A NIVEL NACIONAL | D20: 8750000000 | E20: 8750000000 | F20: 0 | G20: 0 | H20: 0 | I20: 0 | J20: 0
B21: C-4301-1604-10 | C21: DESARROLLO DE LA RECREACIÓN A NIVEL NACIONAL | D21: 8403000000 | E21: 8403000000 | F21: 0 | G21: 0 | H21: 0 | I21: 0 | J21: 0
B22: C-4301-1604-11 | C22: DESARROLLO AL DEPORTE SOCIAL COMUNITARIO NACIONAL | D22: 7782000000 | E22: 7782000000 | F22: 0 | G22: 0 | H22: 0 | I22: 0 | J22: 0
B23: C-4301-1604-12 | C23: DESARROLLO DEL DEPORTE ESCOLAR COMO HERRAMIENTA DE CONVIVENCIA Y PAZ NACIONAL | D23: 9230000000 | E23: 9230000000 | F23: 0 | G23: 0 | H23: 0 | I23: 0 | J23: 0
B24: C-4302-1604-16 | C24: APOYO A LA INFRAESTRUCTURA DEPORTIVA, RECREATIVA Y DE LA ACTIVIDAD FÍSICA A NIVEL NACIONAL | D24: 175651000000 | E24: 18651000000 | F24: 157000000000 | G24: 0 | H24: 157000000000 | I24: 0 | J24: 0
B25: C-4302-1604-17 | C25: APOYO A LA INFRAESTRUCTURA DE ALTA COMPETENCIA A NIVEL NACIONAL | D25: 62490000000 | E25: 18490000000 | F25: 44000000000 | G25: 0 | H25: 0 | I25: 0 | J25: 0
B26: C-4302-1604-18 | C26: DESARROLLO DEL SISTEMA PARALÍMPICO PARA EL POSICIONAMIENTO Y LIDERAZGO DEPORTIVO NACIONAL | D26: 13299733948 | E26: 5399733948 | F26: 503500000 | G26: 7396500000 | H26: 0 | I26: 0 | J26: 0
B27: C-4302-1604-19 | C27: DESARROLLO AL DEPORTE DEL SISTEMA OLÍMPICO Y CONVENCIONAL PARA EL POSICIONAMIENTO Y LIDERAZGO DEPORTIVO NACIONAL | D27: 96155000000 | E27: 23055000000 | F27: 7113000000 | G27: 65987000000 | H27: 5200000000 | I27: 0 | J27: 0
B28: C-4302-1604-20 | C28: DESARROLLO DE POLÍTICAS PÚBLICAS E INVESTIGACIÓN SECTORIAL A NIVEL NACIONAL | D28: 1000000000 | E28: 1000000000 | F28: 0 | G28: 0 | H28: 0 | I28: 0 | J28: 0
B29: C-4302-1604-21 | C29: ASISTENCIA A LA COOPERACIÓN INTERNACIONAL DEL SECTOR A NIVEL NACIONAL | D29: 1200000000 | E29: 1200000000 | F29: 0 | G29: 0 | H29: 0 | I29: 0 | J29: 0
B30: C-4302-1604-22 | C30: APOYO A LA ORGANIZACIÓN DE EVENTOS DEPORTIVOS PARA LA PREPARACIÓN DE ATLETAS Y LA PROMOCIÓN DEL DEPORTE NACIONAL | D30: 45620000000 | E30: 45620000000 | F30: 0 | G30: 0 | H30: 0 | I30: 0 | J30: 0
... B36: C-4399-1604-9 | C36: APOYO AL FORTALECIMIENTO DEL SECTOR A NIVEL NACIONAL | D36: 5950000000 | E36: 5950000000 | F36: 0 | G36: 0 | H36: 0 | I36: 0 | J36: 0
C37: PRESUPUSTO TOTAL | D37: =+D18+D5 -> 569055371065 | E37: =+E18+E5 -> 250000000000 | F37: =+F18+F5 -> 213508371832 | G37: =+G18+G5 -> 105546999233 | H37: =+H18+H5 -> 1.6560613e+11 | I37: =+I18+I5 -> 1.6462257e+09 | J37: =+J18+J5 -> 1.6462257e+09

Sheet FEBRERO - PROYECTO
B1: 2019
B2: Actual
B3: Febrero
B4: RUBRO | C4: DESCRIPCION | D4: APR. VIGENTE | E4: APR BLOQUEADA | F4: CDP | G4: APR. DISPONIBLE | H4: COMPROMISO | I4: OBLIGACION | J4: PAGOS
C5: FUNCIONAMIENTO | D5: =SUM(D6:D17) -> 37055371065 | E5: =SUM(E6:E17) -> 0 | F5: =SUM(F6:F17) -> 3.398311e+09 | G5: =SUM(G6:G17) -> 3.365706e+10 | H5: =SUM(H6:H17) -> 4.0595141e+09 | I5: =SUM(I6:I17) -> 2.9522929e+09 | J5: =SUM(J6:J17) -> 2.9522929e+09
B6: A-01-01-01 | C6: SALARIO | D6: 11589000000 | E6: 0 | F6: 782104202 | G6: 10806895798 | H6: 782104202 | I6: 782104202 | J6: 782104202
B7: A-01-01-02 | C7: CONTRIBUCIONES INHERENTES A LA NÓMINA | D7: 3935000000 | E7: 0 | F7: 305369802 | G7: 3629630198 | H7: 305369802 | I7: 308074902 | J7: 308074902
B8: A-01-01-03 | C8: REMUNERACIONES NO CONSTITUTIVAS DE FACTOR SALARIAL | D8: 1337000000 | E8: 0 | F8: 78315346 | G8: 1258684654 | H8: 78315346 | I8: 78315346 | J8: 78315346
B9: A-02-01 | C9: ADQUISICIÓN DE ACTIVOS NO FINANCIEROS | D9: 10000000 | E9: 0 | F9: 9000000 | G9: 1000000 | H9: 2500000 | I9: 2500000 | J9: 2500000
B10: A-02-02 | C10: ADQUISICIONES DIFERENTES DE ACTIVOS | D10: 3952371065 | E10: 0 | F10: 693321638 | G10: 3259049427 | H10: 1.3503653e+09 | I10: 1.7595575e+08 | J10: 1.7595575e+08
B11: A-03-03-04-048 | C11: ESCUELA NACIONAL DEL DEPORTE - ART. 51 DECRETO 2845 DE 1984 | D11: 14085000000 | E11: 0 | F11: 1534488509 | G11: 12550511491 | H11: 1534488509 | I11: 1534488509 | J11: 1534488509
B12: A-03-04-02-001 | C12: MESADAS PENSIONALES (DE PENSIONES) | D12: 1403000000 | E12: 0 | F12: -10177680 | G12: 1.4131777e+09 | H12: 481804.6 | I12: 67013253 | J12: 67013253
B13: A-03-04-02-012 | C13: INCAPACIDADES Y LICENCIAS DE MATERNIDAD Y PATERNIDAD (NO DE PENSIONES) | D13: 56000000 | E13: 0 | F13: 5889192 | G13: 50110808 | H13: 5889192 | I13: 3840895 | J13: 3840895
B14: A-03-10-01-001 | C14: SENTENCIAS | D14: 91000000 | E14: 0 | F14: 0 | G14: 91000000 | H14: 0 | I14: 0 | J14: 0
B15: A-08-01 | C15: IMPUESTOS | D15: 10000000 | E15: 0 | F15: 0 | G15: 10000000 | H15: 0 | I15: 0 | J15: 0
B16: A-08-03 | C16: TASAS Y DERECHOS ADMINISTRATIVOS | D16: 10000000 | E16: 0 | F16: 0 | G16: 10000000 | H16: 0 | I16: 0 | J16: 0
B17: A-08-04-01 | C17: CUOTA DE FISCALIZACIÓN Y AUDITAJE | D17: 577000000 | E17: 0 | F17: 0 | G17: 577000000 | H17: 0 | I17: 0 | J17: 0
C18: INVERSION | D18: =SUM(D19:D36) -> 532000000000 | E18: =SUM(E19:E36) -> 70000000000 | F18: =SUM(F19:F36) -> 48758804097 | G18: =SUM(G19:G36) -> 413241195903 | H18: =SUM(H19:H36) -> 31724813803 | I18: =SUM(I19:I36) -> 5747226741 | J18: =SUM(J19:J36) -> 5747226741
B19: C-4301-1604-8 | C19: APOYO A LA EDUCACIÓN FÍSICA EXTRAESCOLAR Y EL DEPORTE FORMATIVO PARA LA INFANCIA, ADOLESCENCIA Y JUVENTUD A NIVEL NACIONAL | D19: 73269266052 | E19: 42569266052 | F19: 405585524 | G19: 30294414476 | H19: 257524 | I19: 0 | J19: 0
B20: C-4301-1604-9 | C20: DESARROLLO DE LA ACTIVIDAD FÍSICA Y LOS HÁBITOS Y ESTILOS DE VIDA SALUDABLE A NIVEL NACIONAL | D20: 8750000000 | E20: 0 | F20: 212472098 | G20: 8537527902 | H20: 2472098 | I20: 0 | J20: 0
B21: C-4301-1604-10 | C21: DESARROLLO DE LA RECREACIÓN A NIVEL NACIONAL | D21: 8403000000 | E21: 0 | F21: 229600000 | G21: 8173400000 | H21: 0 | I21: 0 | J21: 0
B22: C-4301-1604-11 | C22: DESARROLLO AL DEPORTE SOCIAL COMUNITARIO NACIONAL | D22: 7782000000 | E22: 0 | F22: 290599606 | G22: 7491400394 | H22: 1282062 | I22: 0 | J22: 0
B23: C-4301-1604-12 | C23: DESARROLLO DEL DEPORTE ESCOLAR COMO HERRAMIENTA DE CONVIVENCIA Y PAZ NACIONAL | D23: 9230000000 | E23: 0 | F23: 213500000 | G23: 9016500000 | H23: 0 | I23: 0 | J23: 0
B24: C-4302-1604-16 | C24: APOYO A LA INFRAESTRUCTURA DEPORTIVA, RECREATIVA Y DE LA ACTIVIDAD FÍSICA A NIVEL NACIONAL | D24: 175651000000 | E24: 0 | F24: 1823442724 | G24: 173827557276 | H24: 1639642724 | I24: 0 | J24: 0
B25: C-4302-1604-17 | C25: APOYO A LA INFRAESTRUCTURA DE ALTA COMPETENCIA A NIVEL NACIONAL | D25: 62490000000 | E25: 6500000000 | F25: 238778285 | G25: 55751221715 | H25: 19425387225 | I25: 0 | J25: 0
B26: C-4302-1604-18 | C26: DESARROLLO DEL SISTEMA PARALÍMPICO PARA EL POSICIONAMIENTO Y LIDERAZGO DEPORTIVO NACIONAL | D26: 13299733948 | E26: 1266283948 | F26: 6546537600 | G26: 5486912400 | H26: 2918195878 | I26: 244708278 | J26: 244708278
B27: C-4302-1604-19 | C27: DESARROLLO AL DEPORTE DEL SISTEMA OLÍMPICO Y CONVENCIONAL PARA EL POSICIONAMIENTO Y LIDERAZGO DEPORTIVO NACIONAL | D27: 96155000000 | E27: 19664450000 | F27: 34470959380 | G27: 42019590620 | H27: 6742789250 | I27: 5501870473 | J27: 5501870473
B28: C-4302-1604-20 | C28: DESARROLLO DE POLÍTICAS PÚBLICAS E INVESTIGACIÓN SECTORIAL A NIVEL NACIONAL | D28: 1000000000 | E28: 0 | F28: 42842800 | G28: 957157200 | H28: 42842800 | I28: 0 | J28: 0
B29: C-4302-1604-21 | C29: ASISTENCIA A LA COOPERACIÓN INTERNACIONAL DEL SECTOR A NIVEL NACIONAL | D29: 1200000000 | E29: 0 | F29: 0 | G29: 1200000000 | H29: 0 | I29: 0 | J29: 0
B30: C-4302-1604-22 | C30: APOYO A LA ORGANIZACIÓN DE EVENTOS DEPORTIVOS PARA LA PREPARACIÓN DE ATLETAS Y LA PROMOCIÓN DEL DEPORTE NACIONAL | D30: 45620000000 | E30: 0 | F30: 67854587 | G30: 45552145413 | H30: 1354587 | I30: 0 | J30: 0
... B36: C-4399-1604-9 | C36: APOYO AL FORTALECIMIENTO DEL SECTOR A NIVEL NACIONAL | D36: 5950000000 | E36: 0 | F36: 665883095 | G36: 5284116905 | H36: 541780639 | I36: 647990 | J36: 647990
C37: PRESUPUSTO TOTAL | D37: 569055371065 | E37: 70000000000 | F37: 5.2157115e+10 | G37: 4.4689826e+11 | H37: 3.5784328e+10 | I37: 8.6995196e+09 | J37: 8.6995196e+09

Sheet MARZO - PROYECTO
B1: 2019
B2: Actual
B3: Marzo
B4: RUBRO | C4: DESCRIPCION | D4: APR. VIGENTE | E4: APR BLOQUEADA | F4: CDP | G4: APR. DISPONIBLE | H4: COMPROMISO | I4: OBLIGACION | J4: PAGOS
C5: FUNCIONAMIENTO | D5: =SUM(D6:D17) -> 37055371065 | E5: =SUM(E6:E17) -> 0 | F5: =SUM(F6:F17) -> 2943418200 | G5: =SUM(G6:G17) -> 34111952865 | H5: =SUM(H6:H17) -> 2966617402 | I5: =SUM(I6:I17) -> 3258436579 | J5: =SUM(J6:J17) -> 3258436579
B6: A-01-01-01 | C6: SALARIO | D6: 11589000000 | E6: 0 | F6: 789114750 | G6: 10799885250 | H6: 789114750 | I6: 789114750 | J6: 789114750
B7: A-01-01-02 | C7: CONTRIBUCIONES INHERENTES A LA NÓMINA | D7: 3935000000 | E7: 0 | F7: 296359660 | G7: 3638640340 | H7: 296359660 | I7: 296457360 | J7: 296457360
B8: A-01-01-03 | C8: REMUNERACIONES NO CONSTITUTIVAS DE FACTOR SALARIAL | D8: 1337000000 | E8: 0 | F8: 124713954 | G8: 1212286046 | H8: 124713954 | I8: 124713954 | J8: 124713954
B9: A-02-01 | C9: ADQUISICIÓN DE ACTIVOS NO FINANCIEROS | D9: 10000000 | E9: 0 | F9: 0 | G9: 10000000 | H9: 0 | I9: 0 | J9: 0
B10: A-02-02 | C10: ADQUISICIONES DIFERENTES DE ACTIVOS | D10: 3952371065 | E10: 0 | F10: 229732377 | G10: 3722638688 | H10: 252931579 | I10: 5.1480374e+08 | J10: 5.1480374e+08
B11: A-03-03-04-048 | C11: ESCUELA NACIONAL DEL DEPORTE - ART. 51 DECRETO 2845 DE 1984 | D11: 14085000000 | E11: 0 | F11: 1497389758 | G11: 12587610242 | H11: 1497389758 | I11: 1497389758 | J11: 1497389758
B12: A-03-04-02-001 | C12: MESADAS PENSIONALES (DE PENSIONES) | D12: 1403000000 | E12: 0 | F12: 2791912 | G12: 1400208088 | H12: 2791912 | I12: 30592934 | J12: 30592934
B13: A-03-04-02-012 | C13: INCAPACIDADES Y LICENCIAS DE MATERNIDAD Y PATERNIDAD (NO DE PENSIONES) | D13: 56000000 | E13: 0 | F13: 3315789 | G13: 52684211 | H13: 3315789 | I13: 5364086 | J13: 5364086
B14: A-03-10-01-001 | C14: SENTENCIAS | D14: 91000000 | E14: 0 | F14: 0 | G14: 91000000 | H14: 0 | I14: 0 | J14: 0
B15: A-08-01 | C15: IMPUESTOS | D15: 10000000 | E15: 0 | F15: 0 | G15: 10000000 | H15: 0 | I15: 0 | J15: 0
B16: A-08-03 | C16: TASAS Y DERECHOS ADMINISTRATIVOS | D16: 10000000 | E16: 0 | F16: 0 | G16: 10000000 | H16: 0 | I16: 0 | J16: 0
B17: A-08-04-01 | C17: CUOTA DE FISCALIZACIÓN Y AUDITAJE | D17: 577000000 | E17: 0 | F17: 0 | G17: 577000000 | H17: 0 | I17: 0 | J17: 0
C18: INVERSION | D18: =SUM(D19:D36) -> 532000000000 | E18: =SUM(E19:E36) -> 70000000000 | F18: =SUM(F19:F36) -> 3.5466958e+10 | G18: =SUM(G19:G36) -> 4.2653304e+11 | H18: =SUM(H19:H36) -> 3.2627813e+10 | I18: =SUM(I19:I36) -> 14075664488 | J18: =SUM(J19:J36) -> 14075664488
B19: C-4301-1604-8 | C19: APOYO A LA EDUCACIÓN FÍSICA EXTRAESCOLAR Y EL DEPORTE FORMATIVO PARA LA INFANCIA, ADOLESCENCIA Y JUVENTUD A NIVEL NACIONAL | D19: 73269266052 | E19: 42569266052 | F19: 274322154 | G19: 30425677846 | H19: 405986154 | I19: 1532666 | J19: 1532666
B20: C-4301-1604-9 | C20: DESARROLLO DE LA ACTIVIDAD FÍSICA Y LOS HÁBITOS Y ESTILOS DE VIDA SALUDABLE A NIVEL NACIONAL | D20: 8750000000 | E20: 0 | F20: 4104047543 | G20: 4645952457 | H20: 175347543 | I20: 2418847 | J20: 2418847
B21: C-4301-1604-10 | C21: DESARROLLO DE LA RECREACIÓN A NIVEL NACIONAL | D21: 8403000000 | E21: 0 | F21: 4022717568 | G21: 4380282432 | H21: 226817568 | I21: 0 | J21: 0
B22: C-4301-1604-11 | C22: DESARROLLO AL DEPORTE SOCIAL COMUNITARIO NACIONAL | D22: 7782000000 | E22: 0 | F22: 2476889190 | G22: 5305110810 | H22: 291764190 | I22: 416876 | J22: 416876
B23: C-4301-1604-12 | C23: DESARROLLO DEL DEPORTE ESCOLAR COMO HERRAMIENTA DE CONVIVENCIA Y PAZ NACIONAL | D23: 9230000000 | E23: 0 | F23: 4844209136 | G23: 4385790864 | H23: 178640386 | I23: 0 | J23: 0
B24: C-4302-1604-16 | C24: APOYO A LA INFRAESTRUCTURA DEPORTIVA, RECREATIVA Y DE LA ACTIVIDAD FÍSICA A NIVEL NACIONAL | D24: 175651000000 | E24: 0 | F24: 494358489 | G24: 175156641511 | H24: 336963739 | I24: 794565940 | J24: 794565940
B25: C-4302-1604-17 | C25: APOYO A LA INFRAESTRUCTURA DE ALTA COMPETENCIA A NIVEL NACIONAL | D25: 62490000000 | E25: 6500000000 | F25: 72967523 | G25: 55917032477 | H25: 4042792157 | I25: 7688218148 | J25: 7688218148
B26: C-4302-1604-18 | C26: DESARROLLO DEL SISTEMA PARALÍMPICO PARA EL POSICIONAMIENTO Y LIDERAZGO DEPORTIVO NACIONAL | D26: 13299733948 | E26: 1266283948 | F26: 411633000 | G26: 11621817000 | H26: 1721939278 | I26: 2026029878 | J26: 2026029878
B27: C-4302-1604-19 | C27: DESARROLLO AL DEPORTE DEL SISTEMA OLÍMPICO Y CONVENCIONAL PARA EL POSICIONAMIENTO Y LIDERAZGO DEPORTIVO NACIONAL | D27: 96155000000 | E27: 19664450000 | F27: 12836564213 | G27: 63653985787 | H27: 22937034092 | I27: 3492749918 | J27: 3492749918
B28: C-4302-1604-20 | C28: DESARROLLO DE POLÍTICAS PÚBLICAS E INVESTIGACIÓN SECTORIAL A NIVEL NACIONAL | D28: 1000000000 | E28: 0 | F28: 139642618 | G28: 860357382 | H28: 139642618 | I28: 0 | J28: 0
B29: C-4302-1604-21 | C29: ASISTENCIA A LA COOPERACIÓN INTERNACIONAL DEL SECTOR A NIVEL NACIONAL | D29: 1200000000 | E29: 0 | F29: 131811837 | G29: 1068188163 | H29: 131811837 | I29: 0 | J29: 0
B30: C-4302-1604-22 | C30: APOYO A LA ORGANIZACIÓN DE EVENTOS DEPORTIVOS PARA LA PREPARACIÓN DE ATLETAS Y LA PROMOCIÓN DEL DEPORTE NACIONAL | D30: 45620000000 | E30: 0 | F30: 1525851616 | G30: 44094148384 | H30: 392010866 | I30: 1174458 | J30: 1174458
... B36: C-4399-1604-9 | C36: APOYO AL FORTALECIMIENTO DEL SECTOR A NIVEL NACIONAL | D36: 5950000000 | E36: 0 | F36: 203527870 | G36: 5746472130 | H36: 80299983 | I36: 23835013 | J36: 23835013
C37: PRESUPUSTO TOTAL | D37: =+D18+D5 -> 569055371065 | E37: =+E18+E5 -> 70000000000 | F37: =+F18+F5 -> 3.8410376e+10 | G37: =+G18+G5 -> 4.6064499e+11 | H37: =+H18+H5 -> 3.559443e+10 | I37: =+I18+I5 -> 17334101067 | J37: =+J5+J18 -> 17334101067

Sheet ABRIL - PROYECTO
B1: 2019
B2: Actual
B3: Abril
B4: RUBRO | C4: DESCRIPCION | D4: APR. VIGENTE | E4: APR BLOQUEADA | F4: CDP | G4: APR. DISPONIBLE | H4: COMPROMISO | I4: OBLIGACION | J4: PAGOS
C5: FUNCIONAMIENTO | D5: =SUM(D6:D17) -> 37055371065 | E5: =SUM(E6:E17) -> 0 | F5: =SUM(F6:F17) -> 2584804807 | G5: =SUM(G6:G17) -> 34470566258 | H5: =SUM(H6:H17) -> 2.3666777e+09 | I5: =SUM(I6:I17) -> 2.8325926e+09 | J5: =SUM(J6:J17) -> 2.832066e+09
B6: A-01-01-01 | C6: SALARIO | D6: 11589000000 | E6: 0 | F6: 804739384 | G6: 10784260616 | H6: 804739384 | I6: 797668141 | J6: 797668141
B7: A-01-01-02 | C7: CONTRIBUCIONES INHERENTES A LA NÓMINA | D7: 3935000000 | E7: 0 | F7: 311957119 | G7: 3623042881 | H7: 311957119 | I7: 311187519 | J7: 311187519
B8: A-01-01-03 | C8: REMUNERACIONES NO CONSTITUTIVAS DE FACTOR SALARIAL | D8: 1337000000 | E8: 0 | F8: 136829794 | G8: 1200170206 | H8: 136829794 | I8: 131873927 | J8: 131873927
B9: A-02-01 | C9: ADQUISICIÓN DE ACTIVOS NO FINANCIEROS | D9: 10000000 | E9: 0 | F9: 0 | G9: 10000000 | H9: 272113 | I9: 0 | J9: 0
B10: A-02-02 | C10: ADQUISICIONES DIFERENTES DE ACTIVOS | D10: 3952371065 | E10: 0 | F10: 14159949 | G10: 3938211116 | H10: 45760703 | I10: 501887805 | J10: 501361249
B11: A-03-03-04-048 | C11: ESCUELA NACIONAL DEL DEPORTE - ART. 51 DECRETO 2845 DE 1984 | D11: 14085000000 | E11: 0 | F11: 1.0099553e+09 | G11: 1.3075045e+10 | H11: 1.0099553e+09 | I11: 1.0099553e+09 | J11: 1.0099553e+09
B12: A-03-04-02-001 | C12: MESADAS PENSIONALES (DE PENSIONES) | D12: 1403000000 | E12: 0 | F12: 2.9421753e+08 | G12: 1.1087825e+09 | H12: 44217526 | I12: 70797045 | J12: 70797045
B13: A-03-04-02-012 | C13: INCAPACIDADES Y LICENCIAS DE MATERNIDAD Y PATERNIDAD (NO DE PENSIONES) | D13: 56000000 | E13: 0 | F13: 12945781 | G13: 43054219 | H13: 12945781 | I13: 9222914 | J13: 9222914
B14: A-03-10-01-001 | C14: SENTENCIAS | D14: 91000000 | E14: 0 | F14: 0 | G14: 91000000 | H14: 0 | I14: 0 | J14: 0
B15: A-08-01 | C15: IMPUESTOS | D15: 10000000 | E15: 0 | F15: 0 | G15: 10000000 | H15: 0 | I15: 0 | J15: 0
B16: A-08-03 | C16: TASAS Y DERECHOS ADMINISTRATIVOS | D16: 10000000 | E16: 0 | F16: 0 | G16: 10000000 | H16: 0 | I16: 0 | J16: 0
B17: A-08-04-01 | C17: CUOTA DE FISCALIZACIÓN Y AUDITAJE | D17: 577000000 | E17: 0 | F17: 0 | G17: 577000000 | H17: 0 | I17: 0 | J17: 0
C18: INVERSION | D18: =SUM(D19:D36) -> 532000000000 | E18: =SUM(E19:E36) -> 70000000000 | F18: =SUM(F19:F36) -> 4.8401258e+10 | G18: =SUM(G19:G36) -> 4.1359874e+11 | H18: =SUM(H19:H36) -> 6.3742618e+10 | I18: =SUM(I19:I36) -> 19063469450 | J18: =SUM(J19:J36) -> 19063469450
B19: C-4301-1604-8 | C19: APOYO A LA EDUCACIÓN FÍSICA EXTRAESCOLAR Y EL DEPORTE FORMATIVO PARA LA INFANCIA, ADOLESCENCIA Y JUVENTUD A NIVEL NACIONAL | D19: 73269266052 | E19: 42569266052 | F19: 9289791005 | G19: 21410208995 | H19: 378257524 | I19: 41139466 | J19: 41139466
B20: C-4301-1604-9 | C20: DESARROLLO DE LA ACTIVIDAD FÍSICA Y LOS HÁBITOS Y ESTILOS DE VIDA SALUDABLE A NIVEL NACIONAL | D20: 8750000000 | E20: 0 | F20: 2516979 | G20: 8747483021 | H20: 2186116979 | I20: 17489575 | J20: 17489575
B21: C-4301-1604-10 | C21: DESARROLLO DE LA RECREACIÓN A NIVEL NACIONAL | D21: 8403000000 | E21: 0 | F21: 24888568 | G21: 8378111432 | H21: 1806488568 | I21: 21297568 | J21: 21297568
B22: C-4301-1604-11 | C22: DESARROLLO AL DEPORTE SOCIAL COMUNITARIO NACIONAL | D22: 7782000000 | E22: 0 | F22: 21003084 | G22: 7760996916 | H22: 804220628 | I22: 21784885 | J22: 21784885
B23: C-4301-1604-12 | C23: DESARROLLO DEL DEPORTE ESCOLAR COMO HERRAMIENTA DE CONVIVENCIA Y PAZ NACIONAL | D23: 9230000000 | E23: 0 | F23: 130991592 | G23: 9099008408 | H23: 1698176342 | I23: 15117053 | J23: 15117053
B24: C-4302-1604-16 | C24: APOYO A LA INFRAESTRUCTURA DEPORTIVA, RECREATIVA Y DE LA ACTIVIDAD FÍSICA A NIVEL NACIONAL | D24: 175651000000 | E24: 0 | F24: 47561438 | G24: 175603438562 | H24: 303349488 | I24: 11743597963 | J24: 11743597963
B25: C-4302-1604-17 | C25: APOYO A LA INFRAESTRUCTURA DE ALTA COMPETENCIA A NIVEL NACIONAL | D25: 62490000000 | E25: 6500000000 | F25: 53930191 | G25: 55936069809 | H25: 17698001556 | I25: 36415713 | J25: 36415713
B26: C-4302-1604-18 | C26: DESARROLLO DEL SISTEMA PARALÍMPICO PARA EL POSICIONAMIENTO Y LIDERAZGO DEPORTIVO NACIONAL | D26: 13299733948 | E26: 1266283948 | F26: 1102483082 | G26: 10930966918 | H26: 245889366 | I26: 198565400 | J26: 198565400
B27: C-4302-1604-19 | C27: DESARROLLO AL DEPORTE DEL SISTEMA OLÍMPICO Y CONVENCIONAL PARA EL POSICIONAMIENTO Y LIDERAZGO DEPORTIVO NACIONAL | D27: 96155000000 | E27: 19664450000 | F27: 5635695529 | G27: 70854854471 | H27: 6397821721 | I27: 5981966307 | J27: 5981966307
B28: C-4302-1604-20 | C28: DESARROLLO DE POLÍTICAS PÚBLICAS E INVESTIGACIÓN SECTORIAL A NIVEL NACIONAL | D28: 1000000000 | E28: 0 | F28: 16000000 | G28: 984000000 | H28: 16000000 | I28: 16703018 | J28: 16703018
B29: C-4302-1604-21 | C29: ASISTENCIA A LA COOPERACIÓN INTERNACIONAL DEL SECTOR A NIVEL NACIONAL | D29: 1200000000 | E29: 0 | F29: 0 | G29: 1200000000 | H29: 0 | I29: 6995170 | J29: 6995170
B30: C-4302-1604-22 | C30: APOYO A LA ORGANIZACIÓN DE EVENTOS DEPORTIVOS PARA LA PREPARACIÓN DE ATLETAS Y LA PROMOCIÓN DEL DEPORTE NACIONAL | D30: 45620000000 | E30: 0 | F30: 31127088420 | G30: 14492911580 | H30: 28447305170 | I30: 347366375 | J30: 347366375
... B36: C-4399-1604-9 | C36: APOYO AL FORTALECIMIENTO DEL SECTOR A NIVEL NACIONAL | D36: 5950000000 | E36: 0 | F36: 278899254 | G36: 5671100746 | H36: 280259501 | I36: 88184444 | J36: 88184444
C37: PRESUPUSTO TOTAL | D37: =+D18+D5 -> 569055371065 | E37: =+E18+E5 -> 70000000000 | F37: =+F18+F5 -> 5.0986063e+10 | G37: =+G18+G5 -> 4.4806931e+11 | H37: =+H18+H5 -> 6.6109296e+10 | I37: =+I18+I5 -> 21896062055 | J37: =+J18+J5 -> 21895535499

Sheet MAYO - PROYECTO
B1: 2019
B2: Actual
B3: Mayo
B4: RUBRO | C4: DESCRIPCION | D4: APR. VIGENTE | E4: APR BLOQUEADA | F4: CDP | G4: APR. DISPONIBLE | H4: COMPROMISO | I4: OBLIGACION | J4: PAGOS
C5: FUNCIONAMIENTO | D5: =SUM(D6:D17) -> 37055371065 | E5: =SUM(E6:E17) -> 0 | F5: =SUM(F6:F17) -> 2163488191 | G5: =SUM(G6:G17) -> 34891882874 | H5: =SUM(H6:H17) -> 2.4109337e+09 | I5: =SUM(I6:I17) -> 2.7108305e+09 | J5: =SUM(J6:J17) -> 2.7108305e+09
B6: A-01-01-01 | C6: SALARIO | D6: 11589000000 | E6: 0 | F6: 766282989 | G6: 10822717011 | H6: 766282989 | I6: 773354232 | J6: 773354232
B7: A-01-01-02 | C7: CONTRIBUCIONES INHERENTES A LA NÓMINA | D7: 3935000000 | E7: 0 | F7: 275064800 | G7: 3659935200 | H7: 275064800 | I7: 275834400 | J7: 275834400
B8: A-01-01-03 | C8: REMUNERACIONES NO CONSTITUTIVAS DE FACTOR SALARIAL | D8: 1337000000 | E8: 0 | F8: 120850915 | G8: 1216149085 | H8: 120850915 | I8: 125806782 | J8: 125806782
B9: A-02-01 | C9: ADQUISICIÓN DE ACTIVOS NO FINANCIEROS | D9: 10000000 | E9: 0 | F9: 0 | G9: 10000000 | H9: 0 | I9: 272113 | J9: 272113
B10: A-02-02 | C10: ADQUISICIONES DIFERENTES DE ACTIVOS | D10: 4202371065 | E10: 0 | F10: 180944327 | G10: 4021426738 | H10: 1.7838987e+08 | I10: 4.3491542e+08 | J10: 4.3491542e+08
B11: A-03-03-04-048 | C11: ESCUELA NACIONAL DEL DEPORTE - ART. 51 DECRETO 2845 DE 1984 | D11: 14085000000 | E11: 0 | F11: 1.0563267e+09 | G11: 1.3028673e+10 | H11: 1.0563267e+09 | I11: 1.0563267e+09 | J11: 1.0563267e+09
B12: A-03-04-02-001 | C12: MESADAS PENSIONALES (DE PENSIONES) | D12: 1153000000 | E12: 0 | F12: -2.4985391e+08 | G12: 1.4028539e+09 | H12: 146090.94 | I12: 26725610 | J12: 26725610
B13: A-03-04-02-012 | C13: INCAPACIDADES Y LICENCIAS DE MATERNIDAD Y PATERNIDAD (NO DE PENSIONES) | D13: 56000000 | E13: 0 | F13: 13872380 | G13: 42127620 | H13: 13872380 | I13: 17595247 | J13: 17595247
B14: A-03-10-01-001 | C14: SENTENCIAS | D14: 91000000 | E14: 0 | F14: 0 | G14: 91000000 | H14: 0 | I14: 0 | J14: 0
B15: A-08-01 | C15: IMPUESTOS | D15: 10000000 | E15: 0 | F15: 0 | G15: 10000000 | H15: 0 | I15: 0 | J15: 0
B16: A-08-03 | C16: TASAS Y DERECHOS ADMINISTRATIVOS | D16: 10000000 | E16: 0 | F16: 0 | G16: 10000000 | H16: 0 | I16: 0 | J16: 0
B17: A-08-04-01 | C17: CUOTA DE FISCALIZACIÓN Y AUDITAJE | D17: 577000000 | E17: 0 | F17: 0 | G17: 577000000 | H17: 0 | I17: 0 | J17: 0
D18: =SUM(D19:D36) -> 532000000000 | E18: =SUM(E19:E36) -> 70000000000 | F18: =SUM(F19:F36) -> 2.6717247e+10 | G18: =SUM(G19:G36) -> 4.3528275e+11 | H18: =SUM(H19:H36) -> 4.1880663e+10 | I18: =SUM(I19:I36) -> 2.739545e+10 | J18: =SUM(J19:J36) -> 2.739545e+10
B19: C-4301-1604-8 | C19: APOYO A LA EDUCACIÓN FÍSICA EXTRAESCOLAR Y EL DEPORTE FORMATIVO PARA LA INFANCIA, ADOLESCENCIA Y JUVENTUD A NIVEL NACIONAL | D19: 73269266052 | E19: 42569266052 | F19: 15990933818 | G19: 14709066182 | H19: 21384803103 | I19: 59362401 | J19: 59362401
B20: C-4301-1604-9 | C20: DESARROLLO DE LA ACTIVIDAD FÍSICA Y LOS HÁBITOS Y ESTILOS DE VIDA SALUDABLE A NIVEL NACIONAL | D20: 8750000000 | E20: 0 | F20: 2332962315 | G20: 6417037685 | H20: 3613222315 | I20: 589757912 | J20: 589757912
B21: C-4301-1604-10 | C21: DESARROLLO DE LA RECREACIÓN A NIVEL NACIONAL | D21: 8403000000 | E21: 0 | F21: 2398171715 | G21: 6004828285 | H21: 1439071715 | I21: 36692744 | J21: 36692744
B22: C-4301-1604-11 | C22: DESARROLLO AL DEPORTE SOCIAL COMUNITARIO NACIONAL | D22: 7782000000 | E22: 0 | F22: 2990447789 | G22: 4791552211 | H22: 2355522789 | I22: 38597303 | J22: 38597303
B23: C-4301-1604-12 | C23: DESARROLLO DEL DEPORTE ESCOLAR COMO HERRAMIENTA DE CONVIVENCIA Y PAZ NACIONAL | D23: 9230000000 | E23: 0 | F23: 634969597 | G23: 8595030403 | H23: 2799313597 | I23: 29511983 | J23: 29511983
B24: C-4302-1604-16 | C24: APOYO A LA INFRAESTRUCTURA DEPORTIVA, RECREATIVA Y DE LA ACTIVIDAD FÍSICA A NIVEL NACIONAL | D24: 175651000000 | E24: 0 | F24: 548092681 | G24: 175102907319 | H24: 3.0891081e+08 | I24: 3515753945 | J24: 3515753945
B25: C-4302-1604-17 | C25: APOYO A LA INFRAESTRUCTURA DE ALTA COMPETENCIA A NIVEL NACIONAL | D25: 62490000000 | E25: 6500000000 | F25: 49782785 | G25: 55940217215 | H25: 1432495595 | I25: 42670691 | J25: 42670691
B26: C-4302-1604-18 | C26: DESARROLLO DEL SISTEMA PARALÍMPICO PARA EL POSICIONAMIENTO Y LIDERAZGO DEPORTIVO NACIONAL | D26: 13299733948 | E26: 1266283948 | F26: 0 | G26: 12033450000 | H26: 377262916 | I26: 518340182 | J26: 518340182
B27: C-4302-1604-19 | C27: DESARROLLO AL DEPORTE DEL SISTEMA OLÍMPICO Y CONVENCIONAL PARA EL POSICIONAMIENTO Y LIDERAZGO DEPORTIVO NACIONAL | D27: 96155000000 | E27: 19664450000 | F27: 217186939 | G27: 76273363061 | H27: 7023037211 | I27: 7033959749 | J27: 7033959749
B28: C-4302-1604-20 | C28: DESARROLLO DE POLÍTICAS PÚBLICAS E INVESTIGACIÓN SECTORIAL A NIVEL NACIONAL | D28: 1000000000 | E28: 0 | F28: 123384057 | G28: 876615943 | H28: 123384057 | I28: 27433300 | J28: 27433300
B29: C-4302-1604-21 | C29: ASISTENCIA A LA COOPERACIÓN INTERNACIONAL DEL SECTOR A NIVEL NACIONAL | D29: 1200000000 | E29: 0 | F29: 941200000 | G29: 258800000 | H29: 0 | I29: 18500000 | J29: 18500000
B30: C-4302-1604-22 | C30: APOYO A LA ORGANIZACIÓN DE EVENTOS DEPORTIVOS PARA LA PREPARACIÓN DE ATLETAS Y LA PROMOCIÓN DEL DEPORTE NACIONAL | D30: 45620000000 | E30: 0 | F30: -624811599 | G30: 46244811599 | H30: 423201651 | I30: 14389405260 | J30: 14389405260
... B36: C-4399-1604-9 | C36: APOYO AL FORTALECIMIENTO DEL SECTOR A NIVEL NACIONAL | D36: 5950000000 | E36: 0 | F36: 106554081 | G36: 5843445919 | H36: 205257510 | I36: 108202043 | J36: 108202043
D37: =+D5+D18 -> 569055371065 | E37: =+E5+E18 -> 70000000000 | F37: =+F5+F18 -> 2.8880736e+10 | G37: =+G5+G18 -> 4.7017464e+11 | H37: =+H5+H18 -> 4.4291596e+10 | I37: =+I5+I18 -> 3.0106281e+10 | J37: =+J5+J18 -> 3.0106281e+10

Sheet JUNIO-PROYECTO
B1: Año Fiscal: | C1: 2019
B2: Vigencia: | C2: Actual
B3: Periodo: | C3: Junio
B4: RUBRO | C4: DESCRIPCION | D4: APR. VIGENTE | E4: APR BLOQUEADA | F4: CDP | G4: APR. DISPONIBLE | H4: COMPROMISO | I4: OBLIGACION | J4: PAGOS
C5: FUNCIONAMIENTO | D5: =SUM(D6:D17) -> 37055371065 | E5: =SUM(E6:E17) -> 0 | F5: =SUM(F6:F17) -> 3.6079291e+09 | G5: =SUM(G6:G17) -> 3.3447442e+10 | H5: =SUM(H6:H17) -> 3.7326491e+09 | I5: =SUM(I6:I17) -> 3.9200572e+09 | J5: =SUM(J6:J17) -> 3.8645935e+09
B6: A-01-01-01 | C6: SALARIO | D6: 11589000000 | E6: 0 | F6: 1198527367 | G6: 10390472633 | H6: 1198527367 | I6: 1196494544 | J6: 1196494544
B7: A-01-01-02 | C7: CONTRIBUCIONES INHERENTES A LA NÓMINA | D7: 3935000000 | E7: 0 | F7: 394200609 | G7: 3540799391 | H7: 394200609 | I7: 379060512 | J7: 379060512
B8: A-01-01-03 | C8: REMUNERACIONES NO CONSTITUTIVAS DE FACTOR SALARIAL | D8: 1337000000 | E8: 0 | F8: 252024367 | G8: 1084975633 | H8: 252024367 | I8: 248622130 | J8: 193158474
B9: A-02-01 | C9: ADQUISICIÓN DE ACTIVOS NO FINANCIEROS | D9: 10000000 | E9: 0 | F9: 0 | G9: 10000000 | H9: 0 | I9: 0 | J9: 0
B10: A-02-02 | C10: ADQUISICIONES DIFERENTES DE ACTIVOS | D10: 4202371065 | E10: 0 | F10: 4797992 | G10: 4197573073 | H10: 1.2951792e+08 | I10: 301500000 | J10: 301500000
B11: A-03-03-04-048 | C11: ESCUELA NACIONAL DEL DEPORTE - ART. 51 DECRETO 2845 DE 1984 | D11: 14085000000 | E11: 0 | F11: 1.7411177e+09 | G11: 1.2343882e+10 | H11: 1.7411177e+09 | I11: 1.7411177e+09 | J11: 1.7411177e+09
B12: A-03-04-02-001 | C12: MESADAS PENSIONALES (DE PENSIONES) | D12: 1153000000 | E12: 0 | F12: 0 | G12: 1153000000 | H12: 0 | I12: 53159042 | J12: 53159042
B13: A-03-04-02-012 | C13: INCAPACIDADES Y LICENCIAS DE MATERNIDAD Y PATERNIDAD (NO DE PENSIONES) | D13: 56000000 | E13: 0 | F13: 17261153 | G13: 38738847 | H13: 17261153 | I13: 103277 | J13: 103277
B14: A-03-10-01-001 | C14: SENTENCIAS | D14: 91000000 | E14: 0 | F14: 0 | G14: 91000000 | H14: 0 | I14: 0 | J14: 0
B15: A-08-01 | C15: IMPUESTOS | D15: 10000000 | E15: 0 | F15: 0 | G15: 10000000 | H15: 0 | I15: 0 | J15: 0
B16: A-08-03 | C16: TASAS Y DERECHOS ADMINISTRATIVOS | D16: 10000000 | E16: 0 | F16: 0 | G16: 10000000 | H16: 0 | I16: 0 | J16: 0
B17: A-08-04-01 | C17: CUOTA DE FISCALIZACIÓN Y AUDITAJE | D17: 577000000 | E17: 0 | F17: 0 | G17: 577000000 | H17: 0 | I17: 0 | J17: 0
C18: INVERSION | D18: =SUM(D19:D36) -> 532000000000 | E18: =SUM(E19:E36) -> 70000000000 | F18: =SUM(F19:F36) -> 1.3596256e+10 | G18: =SUM(G19:G36) -> 4.4840374e+11 | H18: =SUM(H19:H36) -> 12919410256 | I18: =SUM(I19:I36) -> 1.8e+10 | J18: =SUM(J19:J36) -> 1.791122e+10
B19: C-4301-1604-8 | C19: APOYO A LA EDUCACIÓN FÍSICA EXTRAESCOLAR Y EL DEPORTE FORMATIVO PARA LA INFANCIA, ADOLESCENCIA Y JUVENTUD A NIVEL NACIONAL | D19: 73269266052 | E19: 42569266052 | F19: 447079948 | G19: 30252920052 | H19: 3433603128 | I19: 6259001593 | J19: 6259001593
B20: C-4301-1604-9 | C20: DESARROLLO DE LA ACTIVIDAD FÍSICA Y LOS HÁBITOS Y ESTILOS DE VIDA SALUDABLE A NIVEL NACIONAL | D20: 8750000000 | E20: 0 | F20: 19334613 | G20: 8730665387 | H20: 136492633 | I20: 1335163279 | J20: 1335163279
B21: C-4301-1604-10 | C21: DESARROLLO DE LA RECREACIÓN A NIVEL NACIONAL | D21: 8403000000 | E21: 0 | F21: 306709309 | G21: 8096290691 | H21: 1594709309 | I21: 227388299 | J21: 200231802
B22: C-4301-1604-11 | C22: DESARROLLO AL DEPORTE SOCIAL COMUNITARIO NACIONAL | D22: 7782000000 | E22: 0 | F22: 247471200 | G22: 7534528800 | H22: 2133219638 | I22: 941340327 | J22: 941340327
B23: C-4301-1604-12 | C23: DESARROLLO DEL DEPORTE ESCOLAR COMO HERRAMIENTA DE CONVIVENCIA Y PAZ NACIONAL | D23: 9230000000 | E23: 0 | F23: 129503055 | G23: 9100496945 | H23: 202003055 | I23: 390898663 | J23: 390898663
B24: C-4302-1604-16 | C24: APOYO A LA INFRAESTRUCTURA DEPORTIVA, RECREATIVA Y DE LA ACTIVIDAD FÍSICA A NIVEL NACIONAL | D24: 175651000000 | E24: 0 | F24: 8.8036018e+09 | G24: 1.668474e+11 | H24: 119361493 | I24: 3208012423 | J24: 3208012423
B25: C-4302-1604-17 | C25: APOYO A LA INFRAESTRUCTURA DE ALTA COMPETENCIA A NIVEL NACIONAL | D25: 62490000000 | E25: 6500000000 | F25: 322285806 | G25: 55667714194 | H25: 24051996 | I25: 39481814 | J25: 39481814
B26: C-4302-1604-18 | C26: DESARROLLO DEL SISTEMA PARALÍMPICO PARA EL POSICIONAMIENTO Y LIDERAZGO DEPORTIVO NACIONAL | D26: 13299733948 | E26: 1266283948 | F26: 115187400 | G26: 11918262600 | H26: 1228786215 | I26: 285241483 | J26: 285241483
B27: C-4302-1604-19 | C27: DESARROLLO AL DEPORTE DEL SISTEMA OLÍMPICO Y CONVENCIONAL PARA EL POSICIONAMIENTO Y LIDERAZGO DEPORTIVO NACIONAL | D27: 96155000000 | E27: 19664450000 | F27: 552990347 | G27: 75937559653 | H27: 1902190031 | I27: 4659799178 | J27: 4629010387
B28: C-4302-1604-20 | C28: DESARROLLO DE POLÍTICAS PÚBLICAS E INVESTIGACIÓN SECTORIAL A NIVEL NACIONAL | D28: 1000000000 | E28: 0 | F28: 3470655 | G28: 996529345 | H28: 3470655 | I28: 87291557 | J28: 87291557
B29: C-4302-1604-21 | C29: ASISTENCIA A LA COOPERACIÓN INTERNACIONAL DEL SECTOR A NIVEL NACIONAL | D29: 1200000000 | E29: 0 | F29: 591921 | G29: 1199408079 | H29: 1591921 | I29: 18500000 | J29: 18500000
B30: C-4302-1604-22 | C30: APOYO A LA ORGANIZACIÓN DE EVENTOS DEPORTIVOS PARA LA PREPARACIÓN DE ATLETAS Y LA PROMOCIÓN DEL DEPORTE NACIONAL | D30: 45620000000 | E30: 0 | F30: 734642760 | G30: 44885357240 | H30: 1283753500 | I30: 57341742 | J30: 57341742
... B36: C-4399-1604-9 | C36: APOYO AL FORTALECIMIENTO DEL SECTOR A NIVEL NACIONAL | D36: 5950000000 | E36: 0 | F36: 96633340 | G36: 5853366660 | H36: 105744555 | I36: 148740013 | J36: 148740013
C37: TOTAL PRESUPUESTO | D37: 569055371065 | E37: 70000000000 | F37: 1.7204186e+10 | G37: 4.8185119e+11 | H37: 1.6652059e+10 | I37: 2.1920057e+10 | J37: 2.1775814e+10

Sheet JULIO-PROYECTO
B1: Año Fiscal: | C1: 2019
B2: Vigencia: | C2: Actual
B3: Periodo: | C3: Julio
B4: RUBRO | C4: DESCRIPCION | D4: APR. VIGENTE | E4: APR BLOQUEADA | F4: CDP | G4: APR. DISPONIBLE | H4: COMPROMISO | I4: OBLIGACION | J4: PAGOS
C5: FUNCIONAMIENTO | D5: =SUM(D6:D17) -> 37055371065 | E5: =SUM(E6:E17) -> 0 | F5: =SUM(F6:F17) -> 2.417228e+09 | G5: =SUM(G6:G17) -> 3.4638143e+10 | H5: =SUM(H6:H17) -> 2.727181e+09 | I5: =SUM(I6:I17) -> 2.8332217e+09 | J5: =SUM(J6:J17) -> 2.8891561e+09
B6: A-01-01-01 | C6: SALARIO | D6: 11589000000 | E6: 0 | F6: 780312220 | G6: 10808687780 | H6: 780312220 | I6: 782345043 | J6: 782345043
B7: A-01-01-02 | C7: CONTRIBUCIONES INHERENTES A LA NÓMINA | D7: 3935000000 | E7: 0 | F7: 470773133 | G7: 3464226867 | H7: 470773133 | I7: 485913230 | J7: 485913230
B8: A-01-01-03 | C8: REMUNERACIONES NO CONSTITUTIVAS DE FACTOR SALARIAL | D8: 1337000000 | E8: 0 | F8: 76903391 | G8: 1260096609 | H8: 76903391 | I8: 80305628 | J8: 135713431
B9: A-02-01 | C9: ADQUISICIÓN DE ACTIVOS NO FINANCIEROS | D9: 10000000 | E9: 0 | F9: 0 | G9: 10000000 | H9: 2031101 | I9: 2031101 | J9: 2031101
B10: A-02-02 | C10: ADQUISICIONES DIFERENTES DE ACTIVOS | D10: 4202371065 | E10: 0 | F10: -35181208 | G10: 4.2375523e+09 | H10: 2.7274072e+08 | I10: 3.144689e+08 | J10: 3.1499545e+08
B11: A-03-03-04-048 | C11: ESCUELA NACIONAL DEL DEPORTE - ART. 51 DECRETO 2845 DE 1984 | D11: 14085000000 | E11: 0 | F11: 1.0788318e+09 | G11: 1.3006168e+10 | H11: 1.0788318e+09 | I11: 1.0788318e+09 | J11: 1.0788318e+09
B12: A-03-04-02-001 | C12: MESADAS PENSIONALES (DE PENSIONES) | D12: 1153000000 | E12: 0 | F12: 61787192 | G12: 1091212808 | H12: 61787192 | I12: 88366711 | J12: 88366711
B13: A-03-04-02-012 | C13: INCAPACIDADES Y LICENCIAS DE MATERNIDAD Y PATERNIDAD (NO DE PENSIONES) | D13: 56000000 | E13: 0 | F13: -16198576 | G13: 72198576 | H13: -16198576 | I13: 959300 | J13: 959300
B14: A-03-10-01-001 | C14: SENTENCIAS | D14: 91000000 | E14: 0 | F14: 0 | G14: 91000000 | H14: 0 | I14: 0 | J14: 0
B15: A-08-01 | C15: IMPUESTOS | D15: 10000000 | E15: 0 | F15: 0 | G15: 10000000 | H15: 0 | I15: 0 | J15: 0
B16: A-08-03 | C16: TASAS Y DERECHOS ADMINISTRATIVOS | D16: 10000000 | E16: 0 | F16: 0 | G16: 10000000 | H16: 0 | I16: 0 | J16: 0
B17: A-08-04-01 | C17: CUOTA DE FISCALIZACIÓN Y AUDITAJE | D17: 577000000 | E17: 0 | F17: 0 | G17: 577000000 | H17: 0 | I17: 0 | J17: 0
C18: INVERSION | D18: =SUM(D19:D36) -> 532000000000 | E18: =SUM(E19:E36) -> 70000000000 | F18: =SUM(F19:F36) -> 9.3587299e+09 | G18: =SUM(G19:G36) -> 4.5264127e+11 | H18: =SUM(H19:H36) -> 4.2666728e+09 | I18: =SUM(I19:I36) -> 1.2277708e+10 | J18: =SUM(J19:J36) -> 1.2361519e+10
