Workbook

Sheet REP_EPG034_EjecucionPresupuesta
A1: Año Fiscal: | B1: 2016
A2: Vigencia: | B2: Actual
A3: Periodo: | B3: Enero-Septiembre
A4: UEJ | B4: NOMBRE UEJ | C4: RUBRO | D4: TIPO | E4: CTA | F4: SUB CTA | G4: OBJ | H4: ORD | I4: SOR ORD | J4: ITEM | K4: SUB ITEM | L4: FUENTE | M4: REC | N4: SIT | O4: DESCRIPCION | P4: APR. INICIAL | Q4: APR. ADICIONADA | R4: APR. REDUCIDA | S4: APR. VIGENTE | T4: APR BLOQUEADA | U4: APR. ACTUAL | V4: CDP | W4: APR. DISPONIBLE | X4: COMPROMISO | Y4: OBLIGACION | Z4: ORDEN PAGO | AA4: PAGOS
A5: 43-01-01 | B5: DEPARTAMENTO ADMINISTRATIVO DEL DEPORTE, LA RECREACIÓN, LA ACTIVIDAD FÍSICA Y EL APROVECHAMIENTO DEL TIEMPO LIBRE – COLDEPORTES - GESTIÓN GENERAL | C5: A-1-0-1-1 | D5: A | E5: 1 | F5: 0 | G5: 1 | H5: 1 | L5: Nación | M5: 10 | N5: CSF | O5: SUELDOS DE PERSONAL DE NOMINA | P5: 7329189230 | Q5: 0 | R5: 0 | S5: 7329189230 | T5: 0 | U5: =S5-T5 -> 7329189230 | V5: 5775861883 | W5: 1553327347 | X5: 5770161050 | Y5: 5770161050 | Z5: 5770161050 | AA5: 5770161050
A6: 43-01-01 | B6: DEPARTAMENTO ADMINISTRATIVO DEL DEPORTE, LA RECREACIÓN, LA ACTIVIDAD FÍSICA Y EL APROVECHAMIENTO DEL TIEMPO LIBRE – COLDEPORTES - GESTIÓN GENERAL | C6: A-1-0-1-4 | D6: A | E6: 1 | F6: 0 | G6: 1 | H6: 4 | L6: Nación | M6: 10 | N6: CSF | O6: PRIMA TECNICA | P6: 441857453 | Q6: 0 | R6: 0 | S6: 441857453 | T6: 0 | U6: =S6-T6 -> 441857453 | V6: 352355387 | W6: 89502066 | X6: 265232992 | Y6: 265232992 | Z6: 265232992 | AA6: 265232992
A7: 43-01-01 | B7: DEPARTAMENTO ADMINISTRATIVO DEL DEPORTE, LA RECREACIÓN, LA ACTIVIDAD FÍSICA Y EL APROVECHAMIENTO DEL TIEMPO LIBRE – COLDEPORTES - GESTIÓN GENERAL | C7: A-1-0-1-5 | D7: A | E7: 1 | F7: 0 | G7: 1 | H7: 5 | L7: Nación | M7: 10 | N7: CSF | O7: OTROS | P7: 2598691080 | Q7: 0 | R7: 0 | S7: 2598691080 | T7: 0 | U7: =S7-T7 -> 2598691080 | V7: 1391873959 | W7: 1206817121 | X7: 1391873959 | Y7: 1391873959 | Z7: 1391873959 | AA7: 1391873959
A8: 43-01-01 | B8: DEPARTAMENTO ADMINISTRATIVO DEL DEPORTE, LA RECREACIÓN, LA ACTIVIDAD FÍSICA Y EL APROVECHAMIENTO DEL TIEMPO LIBRE – COLDEPORTES - GESTIÓN GENERAL | C8: A-1-0-1-9 | D8: A | E8: 1 | F8: 0 | G8: 1 | H8: 9 | L8: Nación | M8: 10 | N8: CSF | O8: HORAS EXTRAS, DIAS FESTIVOS E INDEMNIZACION POR VACACIONES | P8: 176005092 | Q8: 0 | R8: 0 | S8: 176005092 | T8: 0 | U8: =S8-T8 -> 176005092 | V8: 160504564 | W8: 15500528 | X8: 160504564 | Y8: 160504564 | Z8: 160504564 | AA8: 160504564
A9: 43-01-01 | B9: DEPARTAMENTO ADMINISTRATIVO DEL DEPORTE, LA RECREACIÓN, LA ACTIVIDAD FÍSICA Y EL APROVECHAMIENTO DEL TIEMPO LIBRE – COLDEPORTES - GESTIÓN GENERAL | C9: A-1-0-2 | D9: A | E9: 1 | F9: 0 | G9: 2 | L9: Nación | M9: 10 | N9: CSF | O9: SERVICIOS PERSONALES INDIRECTOS | P9: 811827216 | Q9: 1192970792 | R9: 0 | S9: 2004798008 | T9: 40591361 | U9: =S9-T9 -> 1964206647 | V9: 1.9044536e+09 | W9: 59753058 | X9: 1.8231286e+09 | Y9: 1386598990 | Z9: 1386598990 | AA9: 1386598990
A10: 43-01-01 | B10: DEPARTAMENTO ADMINISTRATIVO DEL DEPORTE, LA RECREACIÓN, LA ACTIVIDAD FÍSICA Y EL APROVECHAMIENTO DEL TIEMPO LIBRE – COLDEPORTES - GESTIÓN GENERAL | C10: A-1-0-5 | D10: A | E10: 1 | F10: 0 | G10: 5 | L10: Nación | M10: 10 | N10: CSF | O10: CONTRIBUCIONES INHERENTES A LA NOMINA SECTOR PRIVADO Y PUBLICO | P10: 3272349163 | Q10: 0 | R10: 0 | S10: 3272349163 | T10: 0 | U10: =S10-T10 -> 3272349163 | V10: 2492883735 | W10: 779465428 | X10: 2492883735 | Y10: 2492883735 | Z10: 2492883735 | AA10: 2492883735
A11: 43-01-01 | B11: DEPARTAMENTO ADMINISTRATIVO DEL DEPORTE, LA RECREACIÓN, LA ACTIVIDAD FÍSICA Y EL APROVECHAMIENTO DEL TIEMPO LIBRE – COLDEPORTES - GESTIÓN GENERAL | C11: A-2-0-3 | D11: A | E11: 2 | F11: 0 | G11: 3 | L11: Nación | M11: 10 | N11: CSF | O11: IMPUESTOS Y MULTAS | P11: 50000000 | Q11: 0 | R11: 0 | S11: 50000000 | T11: 0 | U11: =S11-T11 -> 50000000 | V11: 7846808 | W11: 42153192 | X11: 7846808 | Y11: 7846808 | Z11: 7846808 | AA11: 7846808
A12: 43-01-01 | B12: DEPARTAMENTO ADMINISTRATIVO DEL DEPORTE, LA RECREACIÓN, LA ACTIVIDAD FÍSICA Y EL APROVECHAMIENTO DEL TIEMPO LIBRE – COLDEPORTES - GESTIÓN GENERAL | C12: A-2-0-4 | D12: A | E12: 2 | F12: 0 | G12: 4 | L12: Nación | M12: 10 | N12: CSF | O12: ADQUISICION DE BIENES Y SERVICIOS | P12: 2204194837 | Q12: 20000000 | R12: 0 | S12: 2224194837 | T12: 110209742 | U12: =S12-T12 -> 2113985095 | V12: 1.9132368e+09 | W12: 2.0074834e+08 | X12: 1.5854102e+09 | Y12: 1.2885731e+09 | Z12: 1.286829e+09 | AA12: 1.279918e+09
A13: 43-01-01 | B13: DEPARTAMENTO ADMINISTRATIVO DEL DEPORTE, LA RECREACIÓN, LA ACTIVIDAD FÍSICA Y EL APROVECHAMIENTO DEL TIEMPO LIBRE – COLDEPORTES - GESTIÓN GENERAL | C13: A-3-2-1-1 | D13: A | E13: 3 | F13: 2 | G13: 1 | H13: 1 | L13: Nación | M13: 11 | N13: SSF | O13: CUOTA DE AUDITAJE CONTRANAL | P13: 543261715 | Q13: 0 | R13: 0 | S13: 543261715 | T13: 0 | U13: =S13-T13 -> 543261715 | V13: 543261715 | W13: 0 | X13: 543261715 | Y13: 543261715 | Z13: 543261715 | AA13: 543261715
A14: 43-01-01 | B14: DEPARTAMENTO ADMINISTRATIVO DEL DEPORTE, LA RECREACIÓN, LA ACTIVIDAD FÍSICA Y EL APROVECHAMIENTO DEL TIEMPO LIBRE – COLDEPORTES - GESTIÓN GENERAL | C14: A-3-2-1-16 | D14: A | E14: 3 | F14: 2 | G14: 1 | H14: 16 | L14: Nación | M14: 10 | N14: CSF | O14: ESCUELA NACIONAL DEL DEPORTE - ART. 51 DECRETO 2845 DE 1984 | P14: 12064237746 | Q14: 0 | R14: 0 | S14: 12064237746 | T14: 1706423775 | U14: =S14-T14 -> 10357813971 | V14: 8.3755366e+09 | W14: 1.9822774e+09 | X14: 8.3755366e+09 | Y14: 8.3755366e+09 | Z14: 8.3755366e+09 | AA14: 8.3755366e+09
A15: 43-01-01 | B15: DEPARTAMENTO ADMINISTRATIVO DEL DEPORTE, LA RECREACIÓN, LA ACTIVIDAD FÍSICA Y EL APROVECHAMIENTO DEL TIEMPO LIBRE – COLDEPORTES - GESTIÓN GENERAL | C15: A-3-2-10-2 | D15: A | E15: 3 | F15: 2 | G15: 10 | H15: 2 | L15: Nación | M15: 10 | N15: CSF | O15: RECURSOS IMPUESTO NACIONAL AL CONSUMO TELEFONIA MOVIL - ARTICULO 72 LEY 1607 DE 2012 | P15: 30934844817 | Q15: 0 | R15: 27841360335 | S15: 3093484482 | T15: 0 | U15: =S15-T15 -> 3093484482 | V15: 0 | W15: 3093484482 | X15: 0 | Y15: 0 | Z15: 0 | AA15: 0
A16: 43-01-01 | B16: DEPARTAMENTO ADMINISTRATIVO DEL DEPORTE, LA RECREACIÓN, LA ACTIVIDAD FÍSICA Y EL APROVECHAMIENTO DEL TIEMPO LIBRE – COLDEPORTES - GESTIÓN GENERAL | C16: A-3-2-10-2-34 | D16: A | E16: 3 | F16: 2 | G16: 10 | H16: 2 | I16: 34 | L16: Nación | M16: 10 | N16: CSF | O16: APOYO PROGRAMAS DE FOMENTO Y DESARROLLO DEPORTIVO E INFRAESTRUCTURA - ANTIOQUIA | P16: 0 | Q16: 3.1514173e+09 | R16: 0 | S16: 3.1514173e+09 | T16: 0 | U16: =S16-T16 -> 3.1514173e+09 | V16: 3.1514173e+09 | W16: 0 | X16: 3.1514173e+09 | Y16: 3.1514173e+09 | Z16: 3.1514173e+09 | AA16: 3.1514173e+09
A17: 43-01-01 | B17: DEPARTAMENTO ADMINISTRATIVO DEL DEPORTE, LA RECREACIÓN, LA ACTIVIDAD FÍSICA Y EL APROVECHAMIENTO DEL TIEMPO LIBRE – COLDEPORTES - GESTIÓN GENERAL | C17: A-3-2-10-2-35 | D17: A | E17: 3 | F17: 2 | G17: 10 | H17: 2 | I17: 35 | L17: Nación | M17: 10 | N17: CSF | O17: APOYO PROGRAMAS DE FOMENTO Y DESARROLLO DEPORTIVO E INFRAESTRUCTURA - ATLANTICO | P17: 0 | Q17: 8.3219057e+08 | R17: 0 | S17: 8.3219057e+08 | T17: 0 | U17: =S17-T17 -> 8.3219057e+08 | V17: 8.3219057e+08 | W17: 0 | X17: 8.3219057e+08 | Y17: 8.3219057e+08 | Z17: 8.3219057e+08 | AA17: 8.3219057e+08
A18: 43-01-01 | B18: DEPARTAMENTO ADMINISTRATIVO DEL DEPORTE, LA RECREACIÓN, LA ACTIVIDAD FÍSICA Y EL APROVECHAMIENTO DEL TIEMPO LIBRE – COLDEPORTES - GESTIÓN GENERAL | C18: A-3-2-10-2-36 | D18: A | E18: 3 | F18: 2 | G18: 10 | H18: 2 | I18: 36 | L18: Nación | M18: 10 | N18: CSF | O18: APOYO PROGRAMAS DE FOMENTO Y DESARROLLO DEPORTIVO E INFRAESTRUCTURA - BOGOTA | P18: 0 | Q18: 1.5148529e+09 | R18: 0 | S18: 1.5148529e+09 | T18: 0 | U18: =S18-T18 -> 1.5148529e+09 | V18: 1.5148529e+09 | W18: 0 | X18: 1.5148529e+09 | Y18: 1.5148529e+09 | Z18: 1.5148529e+09 | AA18: 1.5148529e+09
A19: 43-01-01 | B19: DEPARTAMENTO ADMINISTRATIVO DEL DEPORTE, LA RECREACIÓN, LA ACTIVIDAD FÍSICA Y EL APROVECHAMIENTO DEL TIEMPO LIBRE – COLDEPORTES - GESTIÓN GENERAL | C19: A-3-2-10-2-37 | D19: A | E19: 3 | F19: 2 | G19: 10 | H19: 2 | I19: 37 | L19: Nación | M19: 10 | N19: CSF | O19: APOYO PROGRAMAS DE FOMENTO Y DESARROLLO DEPORTIVO E INFRAESTRUCTURA - BOLIVAR | P19: 0 | Q19: 1.4165494e+09 | R19: 0 | S19: 1.4165494e+09 | T19: 0 | U19: =S19-T19 -> 1.4165494e+09 | V19: 1.4165494e+09 | W19: 0 | X19: 1.4165494e+09 | Y19: 1.4165494e+09 | Z19: 1.4165494e+09 | AA19: 1.4165494e+09
A20: 43-01-01 | B20: DEPARTAMENTO ADMINISTRATIVO DEL DEPORTE, LA RECREACIÓN, LA ACTIVIDAD FÍSICA Y EL APROVECHAMIENTO DEL TIEMPO LIBRE – COLDEPORTES - GESTIÓN GENERAL | C20: A-3-2-10-2-38 | D20: A | E20: 3 | F20: 2 | G20: 10 | H20: 2 | I20: 38 | L20: Nación | M20: 10 | N20: CSF | O20: APOYO PROGRAMAS DE FOMENTO Y DESARROLLO DEPORTIVO E INFRAESTRUCTURA - BOYACA | P20: 0 | Q20: 2.3997524e+09 | R20: 0 | S20: 2.3997524e+09 | T20: 0 | U20: =S20-T20 -> 2.3997524e+09 | V20: 2.3997524e+09 | W20: 0 | X20: 2.3997524e+09 | Y20: 2.3997524e+09 | Z20: 2.3997524e+09 | AA20: 2.3997524e+09
A21: 43-01-01 | B21: DEPARTAMENTO ADMINISTRATIVO DEL DEPORTE, LA RECREACIÓN, LA ACTIVIDAD FÍSICA Y EL APROVECHAMIENTO DEL TIEMPO LIBRE – COLDEPORTES - GESTIÓN GENERAL | C21: A-3-2-10-2-39 | D21: A | E21: 3 | F21: 2 | G21: 10 | H21: 2 | I21: 39 | L21: Nación | M21: 10 | N21: CSF | O21: APOYO PROGRAMAS DE FOMENTO Y DESARROLLO DEPORTIVO E INFRAESTRUCTURA - CALDAS | P21: 0 | Q21: 5.0038721e+08 | R21: 0 | S21: 5.0038721e+08 | T21: 0 | U21: =S21-T21 -> 5.0038721e+08 | V21: 5.0038721e+08 | W21: 0 | X21: 5.0038721e+08 | Y21: 5.0038721e+08 | Z21: 5.0038721e+08 | AA21: 5.0038721e+08
A22: 43-01-01 | B22: DEPARTAMENTO ADMINISTRATIVO DEL DEPORTE, LA RECREACIÓN, LA ACTIVIDAD FÍSICA Y EL APROVECHAMIENTO DEL TIEMPO LIBRE – COLDEPORTES - GESTIÓN GENERAL | C22: A-3-2-10-2-40 | D22: A | E22: 3 | F22: 2 | G22: 10 | H22: 2 | I22: 40 | L22: Nación | M22: 10 | N22: CSF | O22: APOYO PROGRAMAS DE FOMENTO Y DESARROLLO DEPORTIVO E INFRAESTRUCTURA - CAQUETA | P22: 0 | Q22: 3.8620505e+08 | R22: 0 | S22: 3.8620505e+08 | T22: 0 | U22: =S22-T22 -> 3.8620505e+08 | V22: 3.8620505e+08 | W22: 0 | X22: 3.8620505e+08 | Y22: 3.8620505e+08 | Z22: 3.8620505e+08 | AA22: 3.8620505e+08
A23: 43-01-01 | B23: DEPARTAMENTO ADMINISTRATIVO DEL DEPORTE, LA RECREACIÓN, LA ACTIVIDAD FÍSICA Y EL APROVECHAMIENTO DEL TIEMPO LIBRE – COLDEPORTES - GESTIÓN GENERAL | C23: A-3-2-10-2-41 | D23: A | E23: 3 | F23: 2 | G23: 10 | H23: 2 | I23: 41 | L23: Nación | M23: 10 | N23: CSF | O23: APOYO PROGRAMAS DE FOMENTO Y DESARROLLO DEPORTIVO E INFRAESTRUCTURA - CAUCA | P23: 0 | Q23: 1.0283401e+09 | R23: 0 | S23: 1.0283401e+09 | T23: 0 | U23: =S23-T23 -> 1.0283401e+09 | V23: 1.0283401e+09 | W23: 0 | X23: 1.0283401e+09 | Y23: 1.0283401e+09 | Z23: 1.0283401e+09 | AA23: 1.0283401e+09
A24: 43-01-01 | B24: DEPARTAMENTO ADMINISTRATIVO DEL DEPORTE, LA RECREACIÓN, LA ACTIVIDAD FÍSICA Y EL APROVECHAMIENTO DEL TIEMPO LIBRE – COLDEPORTES - GESTIÓN GENERAL | C24: A-3-2-10-2-42 | D24: A | E24: 3 | F24: 2 | G24: 10 | H24: 2 | I24: 42 | L24: Nación | M24: 10 | N24: CSF | O24: APOYO PROGRAMAS DE FOMENTO Y DESARROLLO DEPORTIVO E INFRAESTRUCTURA - CESAR | P24: 0 | Q24: 721641824 | R24: 0 | S24: 721641824 | T24: 0 | U24: =S24-T24 -> 721641824 | V24: 721641824 | W24: 0 | X24: 721641824 | Y24: 721641824 | Z24: 721641824 | AA24: 721641824
A25: 43-01-01 | B25: DEPARTAMENTO ADMINISTRATIVO DEL DEPORTE, LA RECREACIÓN, LA ACTIVIDAD FÍSICA Y EL APROVECHAMIENTO DEL TIEMPO LIBRE – COLDEPORTES - GESTIÓN GENERAL | C25: A-3-2-10-2-43 | D25: A | E25: 3 | F25: 2 | G25: 10 | H25: 2 | I25: 43 | L25: Nación | M25: 10 | N25: CSF | O25: APOYO PROGRAMAS DE FOMENTO Y DESARROLLO DEPORTIVO E INFRAESTRUCTURA - CORDOBA | P25: 0 | Q25: 9.3378089e+08 | R25: 0 | S25: 9.3378089e+08 | T25: 0 | U25: =S25-T25 -> 9.3378089e+08 | V25: 9.3378089e+08 | W25: 0 | X25: 9.3378089e+08 | Y25: 9.3378089e+08 | Z25: 9.3378089e+08 | AA25: 9.3378089e+08
A26: 43-01-01 | B26: DEPARTAMENTO ADMINISTRATIVO DEL DEPORTE, LA RECREACIÓN, LA ACTIVIDAD FÍSICA Y EL APROVECHAMIENTO DEL TIEMPO LIBRE – COLDEPORTES - GESTIÓN GENERAL | C26: A-3-2-10-2-44 | D26: A | E26: 3 | F26: 2 | G26: 10 | H26: 2 | I26: 44 | L26: Nación | M26: 10 | N26: CSF | O26: APOYO PROGRAMAS DE FOMENTO Y DESARROLLO DEPORTIVO E INFRAESTRUCTURA - CUNDINAMARCA | P26: 0 | Q26: 2.1009881e+09 | R26: 0 | S26: 2.1009881e+09 | T26: 0 | U26: =S26-T26 -> 2.1009881e+09 | V26: 2.1009881e+09 | W26: 0 | X26: 2.1009881e+09 | Y26: 2.1009881e+09 | Z26: 2.1009881e+09 | AA26: 2.1009881e+09
A27: 43-01-01 | B27: DEPARTAMENTO ADMINISTRATIVO DEL DEPORTE, LA RECREACIÓN, LA ACTIVIDAD FÍSICA Y EL APROVECHAMIENTO DEL TIEMPO LIBRE – COLDEPORTES - GESTIÓN GENERAL | C27: A-3-2-10-2-45 | D27: A | E27: 3 | F27: 2 | G27: 10 | H27: 2 | I27: 45 | L27: Nación | M27: 10 | N27: CSF | O27: APOYO PROGRAMAS DE FOMENTO Y DESARROLLO DEPORTIVO E INFRAESTRUCTURA - CHOCO | P27: 0 | Q27: 7.9213839e+08 | R27: 0 | S27: 7.9213839e+08 | T27: 0 | U27: =S27-T27 -> 7.9213839e+08 | V27: 7.9213839e+08 | W27: 0 | X27: 7.9213839e+08 | Y27: 7.9213839e+08 | Z27: 0 | AA27: 0
... A48: 43-01-01 | B48: DEPARTAMENTO ADMINISTRATIVO DEL DEPORTE, LA RECREACIÓN, LA ACTIVIDAD FÍSICA Y EL APROVECHAMIENTO DEL TIEMPO LIBRE – COLDEPORTES - GESTIÓN GENERAL | C48: A-3-2-10-2-66 | D48: A | E48: 3 | F48: 2 | G48: 10 | H48: 2 | I48: 66 | L48: Nación | M48: 10 | N48: CSF | O48: APOYO PROGRAMAS DE FOMENTO Y DESARROLLO DEPORTIVO E INFRAESTRUCTURA - VICHADA | P48: 0 | Q48: 1.0838932e+08 | R48: 0 | S48: 1.0838932e+08 | T48: 0 | U48: =S48-T48 -> 1.0838932e+08 | V48: 1.0838932e+08 | W48: 0 | X48: 1.0838932e+08 | Y48: 1.0838932e+08 | Z48: 1.0838932e+08 | AA48: 1.0838932e+08
A49: 43-01-01 | B49: DEPARTAMENTO ADMINISTRATIVO DEL DEPORTE, LA RECREACIÓN, LA ACTIVIDAD FÍSICA Y EL APROVECHAMIENTO DEL TIEMPO LIBRE – COLDEPORTES - GESTIÓN GENERAL | C49: A-3-5-1-1 | D49: A | E49: 3 | F49: 5 | G49: 1 | H49: 1 | L49: Nación | M49: 10 | N49: CSF | O49: MESADAS PENSIONALES | P49: 5451896133 | Q49: 0 | R49: 0 | S49: 5451896133 | T49: 0 | U49: =S49-T49 -> 5451896133 | V49: 1444062991 | W49: 4007833142 | X49: 322943275 | Y49: 234342119 | Z49: 234342119 | AA49: 234342119
A50: 43-01-01 | B50: DEPARTAMENTO ADMINISTRATIVO DEL DEPORTE, LA RECREACIÓN, LA ACTIVIDAD FÍSICA Y EL APROVECHAMIENTO DEL TIEMPO LIBRE – COLDEPORTES - GESTIÓN GENERAL | C50: A-3-6-1-1 | D50: A | E50: 3 | F50: 6 | G50: 1 | H50: 1 | L50: Nación | M50: 10 | N50: CSF | O50: SENTENCIAS Y CONCILIACIONES | P50: 100000000 | Q50: 0 | R50: 0 | S50: 100000000 | T50: 0 | U50: =S50-T50 -> 100000000 | V50: 25448015 | W50: 74551985 | X50: 16715546 | Y50: 16715546 | Z50: 16715546 | AA50: 16715546
A51: 43-01-01 | B51: DEPARTAMENTO ADMINISTRATIVO DEL DEPORTE, LA RECREACIÓN, LA ACTIVIDAD FÍSICA Y EL APROVECHAMIENTO DEL TIEMPO LIBRE – COLDEPORTES - GESTIÓN GENERAL | C51: A-3-6-3-20 | D51: A | E51: 3 | F51: 6 | G51: 3 | H51: 20 | L51: Nación | M51: 10 | N51: CSF | O51: OTRAS TRANSFERENCIAS - PREVIO CONCEPTO DGPPN | P51: 1212970792 | Q51: 0 | R51: 1212970792 | S51: 0 | T51: 0 | U51: =S51-T51 -> 0 | V51: 0 | W51: 0 | X51: 0 | Y51: 0 | Z51: 0 | AA51: 0
A52: 43-01-01 | B52: DEPARTAMENTO ADMINISTRATIVO DEL DEPORTE, LA RECREACIÓN, LA ACTIVIDAD FÍSICA Y EL APROVECHAMIENTO DEL TIEMPO LIBRE – COLDEPORTES - GESTIÓN GENERAL | C52: C-111-1604-5 | D52: C | E52: 111 | F52: 1604 | G52: 5 | L52: Nación | M52: 10 | N52: CSF | O52: CONSTRUCCIÓN, ADECUACIÓN Y DOTACIÓN DE ESCENARIOS DEPORTIVOS PARA JUEGOS NACIONALES E INTERNACIONALES EN COLOMBIA | P52: 3510480000 | Q52: 0 | R52: 0 | S52: 3510480000 | T52: 0 | U52: =S52-T52 -> 3510480000 | V52: 939686289 | W52: 2570793711 | X52: 939686289 | Y52: 121118820 | Z52: 121118820 | AA52: 121118820
A53: 43-01-01 | B53: DEPARTAMENTO ADMINISTRATIVO DEL DEPORTE, LA RECREACIÓN, LA ACTIVIDAD FÍSICA Y EL APROVECHAMIENTO DEL TIEMPO LIBRE – COLDEPORTES - GESTIÓN GENERAL | C53: C-111-1604-5 | D53: C | E53: 111 | F53: 1604 | G53: 5 | L53: Nación | M53: 13 | N53: CSF | O53: CONSTRUCCIÓN, ADECUACIÓN Y DOTACIÓN DE ESCENARIOS DEPORTIVOS PARA JUEGOS NACIONALES E INTERNACIONALES EN COLOMBIA | P53: 69000000000 | Q53: 0 | R53: 69000000000 | S53: 0 | T53: 0 | U53: =S53-T53 -> 0 | V53: 0 | W53: 0 | X53: 0 | Y53: 0 | Z53: 0 | AA53: 0
A54: 43-01-01 | B54: DEPARTAMENTO ADMINISTRATIVO DEL DEPORTE, LA RECREACIÓN, LA ACTIVIDAD FÍSICA Y EL APROVECHAMIENTO DEL TIEMPO LIBRE – COLDEPORTES - GESTIÓN GENERAL | C54: C-111-1604-6 | D54: C | E54: 111 | F54: 1604 | G54: 6 | L54: Nación | M54: 10 | N54: CSF | O54: CONSTRUCCIÓN, ADECUACIÓN, MANTENIMIENTO Y DOTACIÓN DE CENTROS DE ALTO RENDIMIENTO EN COLOMBIA | P54: 5100000000 | Q54: 0 | R54: 0 | S54: 5100000000 | T54: 0 | U54: =S54-T54 -> 5100000000 | V54: 4932329987 | W54: 167670013 | X54: 4.667677e+09 | Y54: 3.358535e+08 | Z54: 10458482 | AA54: 10458482
A55: 43-01-01 | B55: DEPARTAMENTO ADMINISTRATIVO DEL DEPORTE, LA RECREACIÓN, LA ACTIVIDAD FÍSICA Y EL APROVECHAMIENTO DEL TIEMPO LIBRE – COLDEPORTES - GESTIÓN GENERAL | C55: C-111-1604-7 | D55: C | E55: 111 | F55: 1604 | G55: 7 | L55: Nación | M55: 10 | N55: CSF | O55: CONSTRUCCIÓN, ADECUACIÓN Y DOTACIÓN DE ESCENARIOS DEPORTIVOS, RECREATIVOS, LÚDICOS Y DE ACTIVIDAD FÍSICA EN COLOMBIA | P55: 52065024839 | Q55: 2000000000 | R55: 0 | S55: 54065024839 | T55: 0 | U55: =S55-T55 -> 54065024839 | V55: 30503877242 | W55: 23561147597 | X55: 28228488662 | Y55: 12309600945 | Z55: 7748761546 | AA55: 7748761546
A56: 43-01-01 | B56: DEPARTAMENTO ADMINISTRATIVO DEL DEPORTE, LA RECREACIÓN, LA ACTIVIDAD FÍSICA Y EL APROVECHAMIENTO DEL TIEMPO LIBRE – COLDEPORTES - GESTIÓN GENERAL | C56: C-111-1604-7 | D56: C | E56: 111 | F56: 1604 | G56: 7 | L56: Nación | M56: 11 | N56: CSF | O56: CONSTRUCCIÓN, ADECUACIÓN Y DOTACIÓN DE ESCENARIOS DEPORTIVOS, RECREATIVOS, LÚDICOS Y DE ACTIVIDAD FÍSICA EN COLOMBIA | P56: 72934975161 | Q56: 0 | R56: 0 | S56: 72934975161 | T56: 7100000000 | U56: =S56-T56 -> 65834975161 | V56: 3.1251216e+10 | W56: 3.4583759e+10 | X56: 1.8266897e+10 | Y56: 11689187838 | Z56: 9960123733 | AA56: 9960123733
A57: 43-01-01 | B57: DEPARTAMENTO ADMINISTRATIVO DEL DEPORTE, LA RECREACIÓN, LA ACTIVIDAD FÍSICA Y EL APROVECHAMIENTO DEL TIEMPO LIBRE – COLDEPORTES - GESTIÓN GENERAL | C57: C-111-1604-7 | D57: C | E57: 111 | F57: 1604 | G57: 7 | L57: Nación | M57: 13 | N57: CSF | O57: CONSTRUCCIÓN, ADECUACIÓN Y DOTACIÓN DE ESCENARIOS DEPORTIVOS, RECREATIVOS, LÚDICOS Y DE ACTIVIDAD FÍSICA EN COLOMBIA | P57: 5000000000 | Q57: 0 | R57: 0 | S57: 5000000000 | T57: 0 | U57: =S57-T57 -> 5000000000 | V57: 2643151108 | W57: 2356848892 | X57: 2379829000 | Y57: 952164366 | Z57: 253707535 | AA57: 253707535
A58: 43-01-01 | B58: DEPARTAMENTO ADMINISTRATIVO DEL DEPORTE, LA RECREACIÓN, LA ACTIVIDAD FÍSICA Y EL APROVECHAMIENTO DEL TIEMPO LIBRE – COLDEPORTES - GESTIÓN GENERAL | C58: C-111-1604-11 | D58: C | E58: 111 | F58: 1604 | G58: 11 | L58: Nación | M58: 13 | N58: CSF | O58: CONSTRUCCION, ADECUACION Y DOTACION ESCENARIOS DEPORTIVOS DE LA SEDES ESTABLECIDAS PARA LA REALIZACION DE LOS JUEGOS BOLIVARIANOS SANTA MARTA, MAGDALENA, CARIBE | P58: 0 | Q58: 59100000000 | R58: 0 | S58: 59100000000 | T58: 0 | U58: =S58-T58 -> 59100000000 | V58: 55021104192 | W58: 4078895808 | X58: 19081408397 | Y58: 2647341 | Z58: 2647341 | AA58: 2647341
A59: 43-01-01 | B59: DEPARTAMENTO ADMINISTRATIVO DEL DEPORTE, LA RECREACIÓN, LA ACTIVIDAD FÍSICA Y EL APROVECHAMIENTO DEL TIEMPO LIBRE – COLDEPORTES - GESTIÓN GENERAL | C59: C-111-1604-12 | D59: C | E59: 111 | F59: 1604 | G59: 12 | L59: Nación | M59: 13 | N59: CSF | O59: CONSTRUCCION ADECUACION Y DOTACION LOS ESCENARIOS DEPORTIVOS REQUERIDOS PARA LA CELEBRACION DE LOS JUEGOS CENTROAMERICANOS Y DEL CARIBE | P59: 0 | Q59: 9900000000 | R59: 0 | S59: 9900000000 | T59: 0 | U59: =S59-T59 -> 9900000000 | V59: 7255117295 | W59: 2644882705 | X59: 6859682520 | Y59: 7068606 | Z59: 6472022 | AA59: 6472022
A60: 43-01-01 | B60: DEPARTAMENTO ADMINISTRATIVO DEL DEPORTE, LA RECREACIÓN, LA ACTIVIDAD FÍSICA Y EL APROVECHAMIENTO DEL TIEMPO LIBRE – COLDEPORTES - GESTIÓN GENERAL | C60: C-123-1604-1 | D60: C | E60: 123 | F60: 1604 | G60: 1 | L60: Nación | M60: 10 | N60: CSF | O60: ADECUACION MANTENIMIENTO Y DOTACION SEDE COLDEPORTES BOGOTA | P60: 377400000 | Q60: 0 | R60: 0 | S60: 377400000 | T60: 0 | U60: =S60-T60 -> 377400000 | V60: 377000003 | W60: 399997 | X60: 65177559 | Y60: 0 | Z60: 0 | AA60: 0
...

Sheet Hoja1
A2: DIRECCIÓN RECURSOS Y HERRAMIENTAS
A3: RUBRO | B3: DESCRIPCION | C3: APR. ACTUAL | D3: CDP | E3: COMPROMISO | F3: OBLIGACION | G3: PAGOS
A4: C-111-1604-5 | B4: CONSTRUCCIÓN, ADECUACIÓN Y DOTACIÓN DE ESCENARIOS DEPORTIVOS PARA JUEGOS NACIONALES E INTERNACIONALES EN COLOMBIA | C4: 3510480000 | D4: 939686289 | E4: 939686289 | F4: 121118820 | G4: 121118820
A5: C-111-1604-6 | B5: CONSTRUCCIÓN, ADECUACIÓN, MANTENIMIENTO Y DOTACIÓN DE CENTROS DE ALTO RENDIMIENTO EN COLOMBIA | C5: 5100000000 | D5: 4932329987 | E5: 4.667677e+09 | F5: 3.358535e+08 | G5: 10458482
A6: C-111-1604-7 | B6: CONSTRUCCIÓN, ADECUACIÓN Y DOTACIÓN DE ESCENARIOS DEPORTIVOS, RECREATIVOS, LÚDICOS Y DE ACTIVIDAD FÍSICA EN COLOMBIA | C6: 124900000000 | D6: 6.4398245e+10 | E6: 4.8875214e+10 | F6: 24950953149 | G6: 17962592814
A7: C-111-1604-11 | B7: CONSTRUCCION, ADECUACION Y DOTACION ESCENARIOS DEPORTIVOS DE LA SEDES ESTABLECIDAS PARA LA REALIZACION DE LOS JUEGOS BOLIVARIANOS SANTA MARTA, MAGDALENA, CARIBE | C7: 59100000000 | D7: 55021104192 | E7: 19081408397 | F7: 2647341 | G7: 2647341
A8: C-111-1604-12 | B8: CONSTRUCCION ADECUACION Y DOTACION LOS ESCENARIOS DEPORTIVOS REQUERIDOS PARA LA CELEBRACION DE LOS JUEGOS CENTROAMERICANOS Y DEL CARIBE | C8: 9900000000 | D8: 7255117295 | E8: 6859682520 | F8: 7068606 | G8: 6472022
A9: C-213-1604-3 | B9: DOTACIÓN Y MANTENIMIENTO AL LABORATORIO DE CONTROL AL DOPAJE EN COLOMBIA | C9: 2400000000 | D9: 2.3718046e+09 | E9: 1.8162925e+09 | F9: 6.9160235e+08 | G9: 4.5749141e+08
A10: C-223-1604-2 | B10: IMPLEMENTACIÓN DE TECNOLOGIAS DE INFORMACION Y COMUNICACION PARA EL SISTEMA NACIONAL DEL DEPORTE EN COLOMBIA | C10: 1700000000 | D10: 1.3593525e+09 | E10: 8.8785145e+08 | F10: 4.2442665e+08 | G10: 3.2773192e+08
A11: C-310-1604-20 | B11: APOYO A LA INVESTIGACIÓN Y GESTIÓN DEL DEPORTE, LA RECREACIÓN, LA ACTIVIDAD FÍSICA Y APROVECHAMIENTO DEL TIEMPO LIBRE EN COLOMBIA | C11: 262500000 | D11: 39718702 | E11: 6718702 | F11: 2636236 | G11: 713361
A12: C-310-1604-33 | B12: APOYO AL DESARROLLO Y OPERACIÓN DEL CAR BOGOTA | C12: 2712000000 | D12: 2548856499 | E12: 2171410636 | F12: 1.6092575e+09 | G12: 1.4198772e+09
A13: TOTAL | C13: =SUM(C4:C12) -> 209584980000 | D13: =SUM(D4:D12) -> 1.3886621e+11 | E13: =SUM(E4:E12) -> 8.5305942e+10 | F13: =SUM(F4:F12) -> 2.8145564e+10 | G13: =SUM(G4:G12) -> 2.0309103e+10
A16: DIRECCIÓN POSICIONAMIENTO Y LIDERAZGO
A17: RUBRO | B17: DESCRIPCION | C17: APR. ACTUAL | D17: CDP | E17: COMPROMISO | F17: OBLIGACION | G17: PAGOS
A18: C-310-1604-18 | B18: APOYO AL DESARROLLO DEL SISTEMA PARALIMPICO PARA EL POSICIONAMIENTO Y LIDERAZGO DEPORTIVO EN COLOMBIA | C18: 5781990000 | D18: 5.7250304e+09 | E18: 5.0699476e+09 | F18: 4.3446857e+09 | G18: 4.2657882e+09
A19: C-310-1604-19 | B19: APOYO PARA EL DESARROLLO DEL DEPORTE DEL SISTEMA OLIMPICO Y CONVENCIONAL PARA EL POSICIONAMIENTO Y LIDERAZGO DEPORTIVO EN COLOMBIA | C19: =48842034141+250000000+REP_EPG034_EjecucionPresupuesta!U83 -> 49131710300 | D19: =48718885659.14+250000000+REP_EPG034_EjecucionPresupuesta!V83 -> 4.9008562e+10 | E19: =45897398557.14+REP_EPG034_EjecucionPresupuesta!X83 -> 4.5937075e+10 | F19: =36631822566.98+REP_EPG034_EjecucionPresupuesta!Y83 -> 3.6671499e+10 | G19: =35197372762.98+REP_EPG034_EjecucionPresupuesta!AA83 -> 3.5237049e+10
A20: C-310-1604-21 | B20: APOYO A LA ORGANIZACIÓN Y REALIZACION DE LOS JUEGOS DEPORTIVOS NACIONALES Y PARANACIONALES EN COLOMBIA | C20: =REP_EPG034_EjecucionPresupuesta!U68+REP_EPG034_EjecucionPresupuesta!U69 -> 100000000 | D20: =REP_EPG034_EjecucionPresupuesta!V68+REP_EPG034_EjecucionPresupuesta!V69 -> 98454760 | E20: =REP_EPG034_EjecucionPresupuesta!X68+REP_EPG034_EjecucionPresupuesta!X69 -> 98388879 | F20: =REP_EPG034_EjecucionPresupuesta!Y68+REP_EPG034_EjecucionPresupuesta!Y69 -> 52528679 | G20: =REP_EPG034_EjecucionPresupuesta!AA68+REP_EPG034_EjecucionPresupuesta!AA69 -> 32528679
A21: C-310-1604-22 | B21: APOYO A LA ORGANIZACIÓN, PARTICIPACIÓN Y REALIZACIÓN DE EVENTOS INTERNACIONALES EN COLOMBIA | C21: 3472000000 | D21: 3345720377 | E21: 3049710377 | F21: 2655620679 | G21: 2642590684
A22: C-310-1604-28 | B22: APOYO AL PROGRAMA NACIONAL ANTIDOPAJE EN COLOMBIA | C22: 1000000000 | D22: 9.9357916e+08 | E22: 9.8966303e+08 | F22: 7.485546e+08 | G22: 5.6757783e+08
A23: C-310-1604-32 | B23: APOYO AL DESARROLLO DEL DEPORTE A TRAVES DE CONVENIOS, INTERCAMBIOS, ACUERDOS Y PARTICIPACION INTERNACIONAL EN COLOMBIA | C23: 1390000000 | D23: 1362076461 | E23: 1361357330 | F23: 1095419741 | G23: 1092668087
A24: C-310-1604-36 | B24: APOYO A LA REALIZACION DE LOS JUEGOS CENTROAMERICANOS Y DEL CARIBE 2018, NACIONAL | C24: 100000000 | D24: 0 | E24: 0 | F24: 0 | G24: 0
A25: C-310-1604-37 | B25: APOYO A LA REALIZACION DE LOS JUEGOS BOLIVARIANOS SANTA MARTA 2017, NACIONAL | C25: 900000000 | D25: 752228650 | E25: 2228650 | F25: 1134072 | G25: 1134072
A26: TOTAL | C26: =SUM(C18:C25) -> 61875700300 | D26: =SUM(D18:D25) -> 6.1285652e+10 | E26: =SUM(E18:E25) -> 5.6508371e+10 | F26: =SUM(F18:F25) -> 4.5569442e+10 | G26: =SUM(G18:G25) -> 4.3839336e+10
A29: DIRECCIÓN FOMENTO Y DESARROLLO
A30: RUBRO | B30: DESCRIPCION | C30: APR. ACTUAL | D30: CDP | E30: COMPROMISO | F30: OBLIGACION | G30: PAGOS
A31: C-310-1604-17 | B31: APOYO A LA UNIVERSALIZACION DE LA PRACTICA REGULAR DE LA ACTIVIDAD FISICA Y DE HABITOS Y ESTILOS DE VIDA SALUDABLE EN COLOMBIA | C31: 7300000000 | D31: 7099435160 | E31: 6763223110 | F31: 4692371930 | G31: 3744201919
A32: C-310-1604-25 | B32: APOYO Y FOMENTO PARA EL DESARROLLO DEL DEPORTE SOCIAL COMUNITARIO EN COLOMBIA | C32: 6050000000 | D32: 5539200162 | E32: 3410602437 | F32: 2.0855968e+09 | G32: 1.908996e+09
A33: C-310-1604-30 | B33: APOYO Y FOMENTO PARA EL DESARROLLO DE LA RECREACIÓN EN COLOMBIA | C33: 8099869700 | D33: 8014900661 | E33: 7716239437 | F33: 5613043579 | G33: 4018412884
A34: TOTAL | C34: =SUM(C31:C33) -> 21449869700 | D34: =SUM(D31:D33) -> 20653535983 | E34: =SUM(E31:E33) -> 17890064984 | F34: =SUM(F31:F33) -> 1.2391012e+10 | G34: =SUM(G31:G33) -> 9.6716108e+09
A37: DIRECCIÓN IVC
A38: RUBRO | B38: DESCRIPCION | C38: APR. ACTUAL | D38: CDP | E38: COMPROMISO | F38: OBLIGACION | G38: PAGOS
A39: C-310-1604-29 | B39: APOYO A LA GESTIÓN DE INSPECCIÓN, VIGILANCIA Y CONTROL AL SISTEMA NACIONAL DEL DEPORTE EN COLOMBIA | C39: 700000000 | D39: 545788031 | E39: 437788031 | F39: 204123272 | G39: 190093172
A40: TOTAL | C40: =SUM(C39:C39) -> 700000000 | D40: =SUM(D39:D39) -> 545788031 | E40: =SUM(E39:E39) -> 437788031 | F40: =SUM(F39:F39) -> 204123272 | G40: =SUM(G39:G39) -> 190093172
A43: DIRECCIÓN
A44: RUBRO | B44: DESCRIPCION | C44: APR. ACTUAL | D44: CDP | E44: COMPROMISO | F44: OBLIGACION | G44: PAGOS
A45: C-310-1604-31 | B45: APOYO Y FOMENTO AL DESARROLLO DE LA EDUCACIÓN FÍSICA EXTRAESCOLAR Y EL DEPORTE FORMATIVO DE LA INFANCIA, ADOLESCENCIA Y JUVENTUD EN COLOMBIA | C45: 44051050000 | D45: 42329842760 | E45: 40420268770 | F45: 27744600152 | G45: 17521423608
A46: TOTAL | C46: =SUM(C45:C45) -> 44051050000 | D46: =SUM(D45:D45) -> 42329842760 | E46: =SUM(E45:E45) -> 40420268770 | F46: =SUM(F45:F45) -> 27744600152 | G46: =SUM(G45:G45) -> 17521423608
A49: SUBDIRECCIÓN
A50: RUBRO | B50: DESCRIPCION | C50: APR. ACTUAL | D50: CDP | E50: COMPROMISO | F50: OBLIGACION | G50: PAGOS
A51: C-310-1604-23 | B51: APOYO AL DESARROLLO DEL PROGRAMA DE CONVIVENCIA Y PAZ EN COLOMBIA | C51: 2050000000 | D51: 1939852452 | E51: 1924852452 | F51: 1129936580 | G51: 1128430008
...
