Workbook

Sheet Balance
A1: MINISTERIO DEL DEPORTE
A2: ESTADO DE SITUACIÓN FINANCIERA
A3: A 30 DE NOVIEMBRE DE 2020
A4: (Cifras expresadas en pesos colombianos sin decímales)
A5: Presentación a Nivel de Clasificación de Cuentas
A7: Cuenta | B7: ACTIVO | E7: Periodo Actual SD a 30/Nov/2020 | F7: Periodo Anterior SD a 30/Nov/2019 | G7: Var. % | I7: Cuenta | J7: PASIVO Y PATRIMONIO | M7: Periodo Actual SD a 30/Nov/2020 | N7: Periodo Anterior SD a 30/Nov/2019 | O7: Var. %
A9: 1 | B9: ACTIVO CORRIENTE | E9: =+E11+E15+E23+E27 -> 1.1613333e+11 | F9: =+F11+F15+F23+F27 -> 1.8244388e+11 | G9: =IFERROR((E9-F9)/E9,-100%) -> -0.57098638 | I9: 2 | J9: PASIVO CORRIENTE | M9: =+M11+M22+M27+M31 -> 8.2391021e+09 | N9: =+N11+N22+N27+N31 -> 1.7112089e+10 | O9: =IFERROR((M9-N9)/M9,-100%) -> -1.0769361
A11: 1.1 | B11: EFECTIVO Y EQUIVALENTES AL EFECTIVO | E11: =SUM(E12:E13) -> 42950544 | F11: =SUM(F12:F13) -> 143738053 | G11: =IFERROR((E11-F11)/E11,-100%) -> -2.3465945 | I11: 2.4 | J11: CUENTAS POR PAGAR | M11: =SUM(M12:M20) -> 6.9973605e+09 | N11: =SUM(N12:N20) -> 1.5466548e+10 | O11: =IFERROR((M11-N11)/M11,-100%) -> -1.2103403
A12: 1.1.05 | B12: CAJA | E12: =SUMIFS('NOV20'!$F$10:$F$665,'NOV20'!$A$10:$A$665,Balance!A12) -> 30000000 | F12: =SUMIFS('NOV19'!$F$10:$F$624,'NOV19'!$A$10:$A$624,Balance!A12) -> 0 | G12: =IFERROR((E12-F12)/E12,-100%) -> 1 | I12: 2.4.01 | J12: ADQUISICION DE BIENES Y SERVICIOS NACIONALES | M12: =SUMIFS('NOV20'!$F$10:$F$665,'NOV20'!$A$10:$A$665,Balance!I12) -> 6.6089654e+09 | N12: =SUMIFS('NOV19'!$F$10:$F$540,'NOV19'!$A$10:$A$540,Balance!I12) -> 1.4333332e+10 | O12: =IFERROR((M12-N12)/M12,-100%) -> -1.1687709
A13: 1.1.10 | B13: DEPÓSITOS EN INSTITUCIONES FINANCIERAS | E13: =SUMIFS('NOV20'!$F$10:$F$665,'NOV20'!$A$10:$A$665,Balance!A13) -> 12950544 | F13: =SUMIFS('NOV19'!$F$10:$F$624,'NOV19'!$A$10:$A$624,Balance!A13) -> 143738053 | G13: =IFERROR((E13-F13)/E13,-100%) -> -10.098997 | I13: 2.4.03 | J13: TRANSFERENCIAS POR PAGAR | M13: =SUMIFS('NOV20'!$F$10:$F$665,'NOV20'!$A$10:$A$665,Balance!I13) -> 0 | N13: =SUMIFS('NOV19'!$F$10:$F$540,'NOV19'!$A$10:$A$540,Balance!I13) -> 191767630 | O13: =IFERROR((M13-N13)/M13,-100%) -> -1
I14: 2.4.07 | J14: RECURSOS A FAVOR DE TERCEROS | M14: =SUMIFS('NOV20'!$F$10:$F$665,'NOV20'!$A$10:$A$665,Balance!I14) -> 1.5561734e+08 | N14: =SUMIFS('NOV19'!$F$10:$F$540,'NOV19'!$A$10:$A$540,Balance!I14) -> 7.144079e+08 | O14: =IFERROR((M14-N14)/M14,-100%) -> -3.5907989
A15: 1.3 | B15: CUENTAS POR COBRAR | E15: =SUM(E16:E21) -> 3.986774e+08 | F15: =SUM(F16:F21) -> 1.5784275e+10 | G15: =IFERROR((E15-F15)/E15,-100%) -> -38.591598 | I15: 2.4.24 | J15: DESCUENTOS DE NOMINA | M15: =SUMIFS('NOV20'!$F$10:$F$665,'NOV20'!$A$10:$A$665,Balance!I15) -> 749400 | N15: =SUMIFS('NOV19'!$F$10:$F$540,'NOV19'!$A$10:$A$540,Balance!I15) -> 16212507 | O15: =IFERROR((M15-N15)/M15,-100%) -> -20.633983
A16: 1.3.11 | B16: CONTRIBUCIONES TASAS E INGRESOS NO TRIBUTARIOS | E16: 0 | F16: =SUMIFS('NOV19'!$F$10:$F$624,'NOV19'!$A$10:$A$624,Balance!A16) -> 5.5476219e+09 | G16: =IFERROR((E16-F16)/E16,-100%) -> -1 | I16: 2.4.36 | J16: RETENCIÓN EN LA FUENTE E IMPUESTO DE TIMBRE | M16: =SUMIFS('NOV20'!$F$10:$F$665,'NOV20'!$A$10:$A$665,Balance!I16) -> 229405176 | N16: =SUMIFS('NOV19'!$F$10:$F$540,'NOV19'!$A$10:$A$540,Balance!I16) -> 1.9946527e+08 | O16: =IFERROR((M16-N16)/M16,-100%) -> 0.13051102
A17: 1.3.17 | B17: PRESTACIÓN DE SERVICIOS | E17: =SUMIFS('NOV20'!$F$10:$F$665,'NOV20'!$A$10:$A$665,Balance!A17) -> 0 | F17: =SUMIFS('NOV19'!$F$10:$F$624,'NOV19'!$A$10:$A$624,Balance!A17) -> 2381196.5 | G17: =IFERROR((E17-F17)/E17,-100%) -> -1 | I17: 2.4.40 | J17: IMPUESTOS, CONTRIBUCIONES Y TASAS | M17: =SUMIFS('NOV20'!$F$10:$F$665,'NOV20'!$A$10:$A$665,Balance!I17) -> 0 | N17: =SUMIFS('NOV19'!$F$10:$F$540,'NOV19'!$A$10:$A$540,Balance!I17) -> 0
A18: 1.3.37 | B18: TRANSFERENCIAS POR COBRAR | E18: =SUMIFS('NOV20'!$F$10:$F$665,'NOV20'!$A$10:$A$665,Balance!A18) -> 1.9723188e+08 | F18: =SUMIFS('NOV19'!$F$10:$F$624,'NOV19'!$A$10:$A$624,Balance!A18) -> 1.8544763e+08 | G18: =IFERROR((E18-F18)/E18,-100%) -> 0.059748168 | I18: 2.4.45 | J18: IMPUESTO AL VALOR AGREGADO - IVA | M18: =SUMIFS('NOV20'!$F$10:$F$665,'NOV20'!$A$10:$A$665,Balance!I18) -> 805 | N18: =SUMIFS('NOV19'!$F$10:$F$540,'NOV19'!$A$10:$A$540,Balance!I18) -> 11362613 | O18: =IFERROR((M18-N18)/M18,-100%) -> -14114.047
A19: 1.3.84 | B19: OTRAS CUENTAS POR COBRAR | E19: =+'NOV20'!F32+'NOV20'!F30 -> 201445523 | F19: =SUMIFS('NOV19'!$F$10:$F$624,'NOV19'!$A$10:$A$624,Balance!A19) -> 1.2010711e+10 | G19: =IFERROR((E19-F19)/E19,-100%) -> -58.622624 | I19: 2.4.60 | J19: CRÉDITOS JUDICIALES | M19: =SUMIFS('NOV20'!$F$10:$F$665,'NOV20'!$A$10:$A$665,Balance!I19) -> 0 | N19: =SUMIFS('NOV19'!$F$10:$F$540,'NOV19'!$A$10:$A$540,Balance!I19) -> 0 | O19: =IFERROR((M19-N19)/M19,-100%) -> -1
A20: 1.3.85 | B20: CUENTAS POR COBRAR DE DIFÍCIL RECAUDO | E20: 0 | F20: =SUMIFS('NOV19'!$F$10:$F$624,'NOV19'!$A$10:$A$624,Balance!A20) -> 1.084922e+09 | G20: =IFERROR((E39-F20)/E39,-100%) -> 0.531971 | I20: 2.4.90 | J20: OTRAS CUENTAS POR PAGAR | M20: =SUMIFS('NOV20'!$F$10:$F$665,'NOV20'!$A$10:$A$665,Balance!I20) -> 2622365 | N20: =SUMIFS('NOV19'!$F$10:$F$540,'NOV19'!$A$10:$A$540,Balance!I20) -> 0 | O20: =IFERROR((M20-N20)/M20,-100%) -> 1
A21: 1.3.86 | B21: DETERIORO ACUMULADO DE CUENTAS POR COBRAR (CR) | E21: 0 | F21: =SUMIFS('NOV19'!$F$10:$F$624,'NOV19'!$A$10:$A$624,Balance!A21) -> -3.0468082e+09 | G21: =IFERROR((E40-F21)/E40,-100%) -> 0.77489553
I22: 2.5 | J22: BENEFICIOS A LOS EMPLEADOS | M22: =SUM(M23:M25) -> 1241741597 | N22: =SUM(N23:N25) -> 1645540708 | O22: =IFERROR((M22-N22)/M22,-100%) -> -0.32518771
A23: 1.5 | B23: INVENTARIOS | E23: =SUM(E24:E25) -> 1.048061e+09 | F23: =+F25+F24 -> 6.8552821e+08 | G23: =IFERROR((E23-F23)/E23,-100%) -> 0.34590811 | I23: 2.5.11 | J23: BENEFICIOS A LOS EMPLEADOS A CORTO PLAZO | M23: =SUMIFS('NOV20'!$F$10:$F$665,'NOV20'!$A$10:$A$665,Balance!I23) -> 1241741597 | N23: =SUMIFS('NOV19'!$F$10:$F$540,'NOV19'!$A$10:$A$540,Balance!I23) -> 1645540708 | O23: =IFERROR((M23-N23)/M23,-100%) -> -0.32518771
A24: 1.5.14 | B24: MATERIALES Y SUMINISTROS | E24: =SUMIFS('NOV20'!$F$10:$F$665,'NOV20'!$A$10:$A$665,Balance!A24) -> 1.5195549e+09 | F24: =SUMIFS('NOV19'!$F$10:$F$624,'NOV19'!$A$10:$A$624,Balance!A24) -> 7.1009871e+08 | G24: =IFERROR((E24-F24)/E24,-100%) -> 0.53269297 | I24: 2.5.14 | J24: BENEFICIOS POSEMPLEO - PENSIONES | M24: 0 | N24: 0 | O24: =IFERROR((M24-N24)/M24,-100%) -> -1
A25: 1.5.80 | B25: DETERIORO ACUMULADO DE INVENTARIOS (CR) | E25: =SUMIFS('NOV20'!$F$10:$F$665,'NOV20'!$A$10:$A$665,Balance!A25) -> -4.7149392e+08 | F25: =SUMIFS('NOV19'!$F$10:$F$624,'NOV19'!$A$10:$A$624,Balance!A25) -> -24570500 | G25: =IFERROR((E25-F25)/E25,-100%) -> 0.94788798 | I25: 2.5.15 | J25: OTROS BENEFICIOS POSEMPLEO | M25: =SUMIFS('NOV20'!N23:N678,'NOV20'!I23:I678,Balance!I25) -> 0 | N25: =SUMIFS('NOV19'!$F$10:$F$540,'NOV19'!$A$10:$A$540,Balance!I25) -> 0 | O25: =IFERROR((M25-N25)/M25,-100%) -> -1
A27: 1.9 | B27: OTROS ACTIVOS | E27: =SUM(E28:E32) -> 1.1464364e+11 | F27: =SUM(F28:F32) -> 165830339795 | G27: =IFERROR((E27-F27)/E27,-100%) -> -0.44648527 | I27: 2.7 | J27: PROVISIONES | M27: =+M28 -> 0 | N27: =+N28 -> 0 | O27: =IFERROR((M27-N27)/M27,-100%) -> -1
A28: 1.9.05 | B28: BIENES Y SERVICIOS PAGADOS POR ANTICIPADO | E28: =SUMIFS('NOV20'!$F$10:$F$665,'NOV20'!$A$10:$A$665,Balance!A28) -> 329727122 | F28: =SUMIFS('NOV19'!$F$10:$F$624,'NOV19'!$A$10:$A$624,Balance!A28) -> 304077504 | G28: =IFERROR((E28-F28)/E28,-100%) -> 0.07779044 | I28: 2.7.01 | J28: LITIGIOS Y DEMANDAS | M28: 0 | N28: 0 | O28: =IFERROR((M28-N28)/M28,-100%) -> -1
A29: 1.9.06 | B29: AVANCES Y ANTICIPOS ENTREGADOS | E29: =SUMIFS('NOV20'!$F$10:$F$665,'NOV20'!$A$10:$A$665,Balance!A29) -> 62594375 | F29: =SUMIFS('NOV19'!$F$10:$F$624,'NOV19'!$A$10:$A$624,Balance!A29) -> 954798980 | G29: =IFERROR((E29-F29)/E29,-100%) -> -14.253751
A30: 1.9.07 | B30: DERECHOS DE COMPENSACIONES POR IMPUESTOS Y CONTRIBUCIONES | E30: =SUMIFS('NOV20'!$F$10:$F$665,'NOV20'!$A$10:$A$665,Balance!A30) -> 2957000 | F30: =SUMIFS('NOV19'!$F$10:$F$624,'NOV19'!$A$10:$A$624,Balance!A30) -> 0
A31: 1.9.08 | B31: RECURSOS ENTREGADOS EN ADMINISTRACIÓN | E31: =SUMIFS('NOV20'!$F$10:$F$665,'NOV20'!$A$10:$A$665,Balance!A31) -> 5.1806279e+10 | F31: =SUMIFS('NOV19'!$F$10:$F$624,'NOV19'!$A$10:$A$624,Balance!A31) -> 2.4766353e+10 | G31: =IFERROR((E31-F31)/E31,-100%) -> 0.52194302 | I31: 2.9 | J31: OTROS PASIVOS | M31: =+M32 -> 0 | N31: =+N32 -> 0 | O31: =IFERROR((M31-N31)/M31,-100%) -> -1
A32: 1.9.86 | B32: ACTIVOS DIFERIDOS | E32: =SUMIFS('NOV20'!$F$10:$F$665,'NOV20'!$A$10:$A$665,Balance!A32) -> 62442084357 | F32: =SUMIFS('NOV19'!$F$10:$F$624,'NOV19'!$A$10:$A$624,Balance!A32) -> 1.3980511e+11 | G32: =IFERROR((E32-F32)/E32,-100%) -> -1.2389565 | I32: 2.9.10 | J32: INGRESOS RECIBIDOS POR ANTICIPADO | M32: =SUMIFS('NOV20'!$F$10:$F$665,'NOV20'!$A$10:$A$665,Balance!I32) -> 0 | N32: =SUMIFS('NOV19'!$F$10:$F$540,'NOV19'!$A$10:$A$540,Balance!I32) -> 0 | O32: =IFERROR((M32-N32)/M32,-100%) -> -1
A34: 1 | B34: ACTIVO NO CORRIENTE | E34: =E36+E42 -> 1.1727697e+11 | F34: =+F42 -> 1.1436647e+11 | G34: =IFERROR((E34-F34)/E34,-100%) -> 0.024817246
I35: 2 | J35: PASIVO NO CORRIENTE | M35: =+M37+M40 -> 4.5903747e+10 | N35: =+N37+N40 -> 4.0580227e+10 | O35: =IFERROR((M35-N35)/M35,-100%) -> 0.11597137
A36: 1.3 | B36: CUENTAS POR COBRAR | E36: =SUM(E37:E40) -> 4.3044592e+08 | F36: =SUM(F37:F40) -> 0 | G36: =IFERROR((E36-F36)/E36,-100%) -> 1
A37: 1.3.11 | B37: CONTRIBUCIONES TASAS E INGRESOS NO TRIBUTARIOS | E37: =SUMIFS('NOV20'!$F$10:$F$665,'NOV20'!$A$10:$A$665,Balance!A37) -> 1623524710 | F37: 0 | G37: =IFERROR((E37-F37)/E37,-100%) -> 1 | I37: 2.5 | J37: BENEFICIOS A LOS EMPLEADOS | M37: =+M38 -> 1.8002331e+10 | N37: =+N38 -> 1.9380276e+10 | O37: =IFERROR((M37-N37)/M37,-100%) -> -0.076542619
A38: 1.3.84 | B38: OTRAS CUENTAS POR COBRAR | E38: =SUMIFS('NOV20'!$F$10:$F$665,'NOV20'!$A$10:$A$665,Balance!A38)-E19 -> 1.002394e+10 | F38: 0 | G38: =IFERROR((E38-F38)/E38,-100%) -> 1 | I38: 2.5.14 | J38: BENEFICIOS POSEMPLEO - PENSIONES | M38: =SUMIFS('NOV20'!$F$10:$F$665,'NOV20'!$A$10:$A$665,Balance!I38) -> 1.8002331e+10 | N38: =SUMIFS('NOV19'!$F$10:$F$540,'NOV19'!$A$10:$A$540,Balance!I38) -> 1.9380276e+10 | O38: =IFERROR((M38-N38)/M38,-100%) -> -0.076542619
A39: 1.3.85 | B39: CUENTAS POR COBRAR DE DIFÍCIL RECAUDO | E39: =SUMIFS('NOV20'!$F$10:$F$665,'NOV20'!$A$10:$A$665,Balance!A39) -> 2.3180658e+09 | F39: 0 | G39: =IFERROR((#REF!-F39)/#REF!,-100%) -> -1
A40: 1.3.86 | B40: DETERIORO ACUMULADO DE CUENTAS POR COBRAR (CR) | E40: =SUMIFS('NOV20'!$F$10:$F$665,'NOV20'!$A$10:$A$665,Balance!A40) -> -1.3535085e+10 | F40: 0 | G40: =IFERROR((#REF!-F40)/#REF!,-100%) -> -1 | I40: 2.7 | J40: PROVISIONES | M40: =+M41 -> 2.7901416e+10 | N40: =+N41 -> 2.119995e+10 | O40: =IFERROR((M40-N40)/M40,-100%) -> 0.24018372
I41: 2.7.01 | J41: LITIGIOS Y DEMANDAS | M41: =SUMIFS('NOV20'!$F$10:$F$665,'NOV20'!$A$10:$A$665,Balance!I41) -> 2.7901416e+10 | N41: =SUMIFS('NOV19'!$F$10:$F$540,'NOV19'!$A$10:$A$540,Balance!I41) -> 2.119995e+10 | O41: =IFERROR((M41-N41)/M41,-100%) -> 0.24018372
A42: 1.6 | B42: PROPIEDADES, PLANTA Y EQUIPO | E42: =SUM(E43:E53) -> 1.1684652e+11 | F42: =SUM(F43:F53) -> 1.1436647e+11 | G42: =IFERROR((E42-F42)/E42,-100%) -> 0.021224812
A43: 1.6.05 | B43: TERRENOS | E43: =SUMIFS('NOV20'!$F$10:$F$665,'NOV20'!$A$10:$A$665,Balance!A43) -> 28310678550 | F43: =SUMIFS('NOV19'!$F$10:$F$624,'NOV19'!$A$10:$A$624,Balance!A43) -> 28310678550 | G43: =IFERROR((E43-F43)/E43,-100%) -> 0
A44: 1.6.35 | B44: BIENES MUEBLES EN BODEGA | E44: =SUMIFS('NOV20'!$F$10:$F$665,'NOV20'!$A$10:$A$665,Balance!A44) -> 5.5957878e+08 | F44: =SUMIFS('NOV19'!$F$10:$F$624,'NOV19'!$A$10:$A$624,Balance!A44) -> 74832212 | G44: =IFERROR((E44-F44)/E44,-100%) -> 0.86627046 | I44: 3 | J44: PATRIMONIO | M44: =+M46 -> 1.7926745e+11 | N44: =+N46 -> 2.3911804e+11 | O44: =IFERROR((M44-N44)/M44,-100%) -> -0.33386202
A45: 1.6.36 | B45: PROPIEDADES, PLANTA Y EQUIPO EN MANTENIMIENTO | E45: =SUMIFS('NOV20'!$F$10:$F$665,'NOV20'!$A$10:$A$665,Balance!A45) -> 6.546534e+08 | F45: =SUMIFS('NOV19'!$F$10:$F$624,'NOV19'!$A$10:$A$624,Balance!A45) -> 5.3591417e+08 | G45: =IFERROR((E45-F45)/E45,-100%) -> 0.18137724
...

Sheet Resultados
A1: MINISTERIO DEL DEPORTE
A2: ESTADO DE RESULTADOS
A3: A 30 DE NOVIEMBRE 2020
A4: (Cifras expresadas en pesos colombianos sin decímales)
A5: Presentación a Nivel de Clasificación de Cuentas
B8: Cuenta | C8: INGRESOS - GASTOS | H8: Periodo Actual SD a 30/Nov/2020 | I8: Periodo Anterior SD a 30/Nov/2019 | J8: Var. %
B10: 4 | C10: INGRESOS | H10: =+H12+H15+H18+H21+H26 -> 3.5937359e+11 | I10: =+I12+I15+I18+I21+I26 -> 3.7339608e+11 | J10: =IFERROR((H10-I10)/H10,-100%) -> -0.039019265 | L10: =+'NOV19'!F376 -> 3.7339608e+11 | M10: =+'NOV20'!F361 -> 3.5937359e+11
L11: =+I10-L10 -> 0 | M11: =+H10-M10 -> 0
B12: 4.1 | C12: INGRESOS FISCALES | H12: =+H13 -> 3.9538699e+08 | I12: =+I13 -> 1854900039 | J12: =IFERROR((H12-I12)/H12,-100%) -> -3.6913533
B13: 4.1.10 | C13: NO TRIBUTARIOS | H13: =SUMIFS('NOV20'!$F$10:$F$665,'NOV20'!$A$10:$A$665,Resultados!B13) -> 3.9538699e+08 | I13: =SUMIFS('NOV19'!$F$10:$F$624,'NOV19'!$A$10:$A$624,Resultados!B13) -> 1854900039 | J13: =IFERROR((H13-I13)/H13,-100%) -> -3.6913533
B15: 4.3 | C15: VENTA DE SERVICIOS | H15: =+H16 -> 39780 | I15: =+I16 -> 70273.5 | J15: =IFERROR((H15-I15)/H15,-100%) -> -0.76655354
B16: 4.3.90 | C16: OTROS SERVICIOS | H16: =SUMIFS('NOV20'!$F$10:$F$665,'NOV20'!$A$10:$A$665,Resultados!B16) -> 39780 | I16: =SUMIFS('NOV19'!$F$10:$F$540,'NOV19'!$A$10:$A$540,Resultados!B16) -> 70273.5 | J16: =IFERROR((H16-I16)/H16,-100%) -> -0.76655354
B18: 4.4 | C18: TRANSFERENCIAS Y SUBVENCIONES | H18: =+H19 -> 1.2675845e+08 | I18: =+I19 -> 3.4248237e+08 | J18: =IFERROR((H18-I18)/H18,-100%) -> -1.7018503
B19: 4.4.13 | C19: SISTEMA GENERAL DE REGALIAS | H19: =SUMIFS('NOV20'!$F$10:$F$665,'NOV20'!$A$10:$A$665,Resultados!B19) -> 1.2675845e+08 | I19: =SUMIFS('NOV19'!$F$10:$F$540,'NOV19'!$A$10:$A$540,Resultados!B19) -> 3.4248237e+08 | J19: =IFERROR((H19-I19)/H19,-100%) -> -1.7018503
B21: 4.7 | C21: OPERACIONES INTERISTITUCIONALES | H21: =SUM(H22:H24) -> 3.5222597e+11 | I21: =+I22+I24 -> 3.2894935e+11 | J21: =IFERROR((H21-I21)/H21,-100%) -> 0.066084325
B22: 4.7.05 | C22: FONDOS RECIBIDOS | H22: =SUMIFS('NOV20'!$F$10:$F$665,'NOV20'!$A$10:$A$665,Resultados!B22) -> 3.4846958e+11 | I22: =SUMIFS('NOV19'!$F$10:$F$624,'NOV19'!$A$10:$A$624,Resultados!B22) -> 3.2685578e+11 | J22: =IFERROR((H22-I22)/H22,-100%) -> 0.06202493
B23: 4.7.20 | C23: OPERACIONES DE ENLACE | H23: =SUMIFS('NOV20'!$F$10:$F$665,'NOV20'!$A$10:$A$665,Resultados!B23) -> 517919 | I23: =SUMIFS('NOV19'!$F$10:$F$624,'NOV19'!$A$10:$A$624,Resultados!B23) -> 0
B24: 4.7.22 | C24: OPERACIONES SIN FLUJO DE EFECTIVO | H24: =SUMIFS('NOV20'!$F$10:$F$665,'NOV20'!$A$10:$A$665,Resultados!B24) -> 3.7558669e+09 | I24: =SUMIFS('NOV19'!$F$10:$F$624,'NOV19'!$A$10:$A$624,Resultados!B24) -> 2093571085 | J24: =IFERROR((H24-I24)/H24,-100%) -> 0.44258645
B26: 4.8 | C26: OTROS INGRESOS | H26: =SUM(H27:H30) -> 6.6254345e+09 | I26: =SUM(I27:I30) -> 4.2249275e+10 | J26: =IFERROR((H26-I26)/H26,-100%) -> -5.3768309
B27: 4.8.02 | C27: FINANCIEROS | H27: =SUMIFS('NOV20'!$F$10:$F$665,'NOV20'!$A$10:$A$665,Resultados!B27) -> 1143010555 | I27: =SUMIFS('NOV19'!$F$10:$F$624,'NOV19'!$A$10:$A$624,Resultados!B27) -> 4.7790424e+09 | J27: =IFERROR((H27-I27)/H27,-100%) -> -3.1811009
B28: 4.8.06 | C28: AJUSTE POR DIFERENCIA EN CAMBIO | H28: =SUMIFS('NOV20'!$F$10:$F$665,'NOV20'!$A$10:$A$665,Resultados!B28) -> 72208762 | I28: =SUMIFS('NOV19'!$F$10:$F$624,'NOV19'!$A$10:$A$624,Resultados!B28) -> 58653080 | J28: =IFERROR((H28-I28)/H28,-100%) -> 0.18772905
B29: 4.8.08 | C29: INGRESOS DIVERSOS | H29: =SUMIFS('NOV20'!$F$10:$F$665,'NOV20'!$A$10:$A$665,Resultados!B29) -> 5.390605e+09 | I29: =SUMIFS('NOV19'!$F$10:$F$624,'NOV19'!$A$10:$A$624,Resultados!B29) -> 3.7399498e+10 | J29: =IFERROR((H29-I29)/H29,-100%) -> -5.9379036
B30: 4.8.30 | C30: REVERSIÓN DE LAS PÉRDIDAS POR DETERIORO DE VALOR | H30: =SUMIFS('NOV20'!$F$10:$F$665,'NOV20'!$A$10:$A$665,Resultados!B30) -> 19610210 | I30: =SUMIFS('NOV19'!$F$10:$F$540,'NOV19'!$A$10:$A$540,Resultados!B30) -> 12081784 | J30: =IFERROR((H30-I30)/H30,-100%) -> 0.3839034
B33: 5 | C33: GASTOS | H33: =+H35+H45+H50+H54+H57+H60 -> 2.1334351e+11 | I33: =+I35+I45+I50+I54+I57+I60 -> 2.4630036e+11 | J33: =IFERROR((H33-I33)/H33,-100%) -> -0.15447785 | L33: =+'NOV19'!F430 -> 2.4630036e+11 | M33: =+'NOV20'!F421 -> 2.1334351e+11
L34: =+I33-L33 -> 0 | M34: =+M33-H33 -> 0
B35: 5.1 | C35: DE ADMINISTRACIÓN Y OPERACIÓN | H35: =SUM(H36:H43) -> 2.1942273e+10 | I35: =SUM(I36:I43) -> 1.902592e+10 | J35: =IFERROR((H35-I35)/H35,-100%) -> 0.13291024
B36: 5.1.01 | C36: SUELDOS Y SALARIOS | H36: =SUMIFS('NOV20'!$F$10:$F$665,'NOV20'!$A$10:$A$665,Resultados!B36) -> 9651411298 | I36: =SUMIFS('NOV19'!$F$10:$F$624,'NOV19'!$A$10:$A$624,Resultados!B36) -> 8839159380 | J36: =IFERROR((H36-I36)/H36,-100%) -> 0.084158875
B37: 5.1.02 | C37: CONTRIBUCIONES IMPUTADAS | H37: =SUMIFS('NOV20'!$F$10:$F$665,'NOV20'!$A$10:$A$665,Resultados!B37) -> 14280886 | I37: =SUMIFS('NOV19'!$F$10:$F$624,'NOV19'!$A$10:$A$624,Resultados!B37) -> 16294407 | J37: =IFERROR((H37-I37)/H37,-100%) -> -0.14099412
B38: 5.1.03 | C38: CONTRIBUCIONES EFECTIVAS | H38: =SUMIFS('NOV20'!$F$10:$F$665,'NOV20'!$A$10:$A$665,Resultados!B38) -> 2408686837 | I38: =SUMIFS('NOV19'!$F$10:$F$624,'NOV19'!$A$10:$A$624,Resultados!B38) -> 2298721956 | J38: =IFERROR((H38-I38)/H38,-100%) -> 0.045653457
B39: 5.1.04 | C39: APORTES SOBRE LA NÓMINA | H39: =SUMIFS('NOV20'!$F$10:$F$665,'NOV20'!$A$10:$A$665,Resultados!B39) -> 505309000 | I39: =SUMIFS('NOV19'!$F$10:$F$624,'NOV19'!$A$10:$A$624,Resultados!B39) -> 471032260 | J39: =IFERROR((H39-I39)/H39,-100%) -> 0.067833227
B40: 5.1.07 | C40: PRESTACIONES SOCIALES | H40: =SUMIFS('NOV20'!$F$10:$F$665,'NOV20'!$A$10:$A$665,Resultados!B40) -> 3651487689 | I40: =SUMIFS('NOV19'!$F$10:$F$624,'NOV19'!$A$10:$A$624,Resultados!B40) -> 3108837323 | J40: =IFERROR((H40-I40)/H40,-100%) -> 0.14861076
B41: 5.1.08 | C41: GASTOS DE PERSONAL DIVERSOS | H41: =SUMIFS('NOV20'!$F$10:$F$665,'NOV20'!$A$10:$A$665,Resultados!B41) -> 0 | I41: =SUMIFS('NOV19'!$F$10:$F$540,'NOV19'!$A$10:$A$540,Resultados!B41) -> 102482062 | J41: =IFERROR((H41-I41)/H41,-100%) -> -1
B42: 5.1.11 | C42: GENERALES | H42: =SUMIFS('NOV20'!$F$10:$F$665,'NOV20'!$A$10:$A$665,Resultados!B42) -> 5.3641747e+09 | I42: =SUMIFS('NOV19'!$F$10:$F$624,'NOV19'!$A$10:$A$624,Resultados!B42) -> 3.7721203e+09 | J42: =IFERROR((H42-I42)/H42,-100%) -> 0.29679391
B43: 5.1.20 | C43: IMPUESTOS, CONTRIBUCIONES Y TASAS | H43: =SUMIFS('NOV20'!$F$10:$F$665,'NOV20'!$A$10:$A$665,Resultados!B43) -> 3.4692221e+08 | I43: =SUMIFS('NOV19'!$F$10:$F$624,'NOV19'!$A$10:$A$624,Resultados!B43) -> 417272085 | J43: =IFERROR((H43-I43)/H43,-100%) -> -0.20278286
B45: 5.3 | C45: DETERIORO, DEPRECIACIONES, AMORTIZACIONES Y PROVISIONES | H45: =H46+H47+H48 -> 9.8472854e+09 | I45: =I46+I47+I48 -> 6.1632034e+09 | J45: =IFERROR((H45-I45)/H45,-100%) -> 0.37412158
B46: 5.3.47 | C46: DETERIORO DE CUENTAS POR COBRAR | H46: =SUMIFS('NOV20'!$F$10:$F$665,'NOV20'!$A$10:$A$665,Resultados!B46) -> 72203842 | I46: =SUMIFS('NOV19'!$F$10:$F$624,'NOV19'!$A$10:$A$624,Resultados!B46) -> 59439864 | J46: =IFERROR((H46-I46)/H46,-100%) -> 0.17677699
B47: 5.3.60 | C47: DEPRECIACIÓN DE PROPIEDADES, PLANTA Y EQUIPO | H47: =SUMIFS('NOV20'!$F$10:$F$665,'NOV20'!$A$10:$A$665,Resultados!B47) -> 3.0983496e+09 | I47: =SUMIFS('NOV19'!$F$10:$F$624,'NOV19'!$A$10:$A$624,Resultados!B47) -> 3.1355755e+09 | J47: =IFERROR((H47-I47)/H47,-100%) -> -0.012014742
B48: 5.3.68 | C48: PROVISIÓN LITIGIOS Y DEMANDAS | H48: =SUMIFS('NOV20'!$F$10:$F$665,'NOV20'!$A$10:$A$665,Resultados!B48) -> 6676731972 | I48: =SUMIFS('NOV19'!$F$10:$F$624,'NOV19'!$A$10:$A$624,Resultados!B48) -> 2.9681881e+09 | J48: =IFERROR((H48-I48)/H48,-100%) -> 0.55544298
B50: 5.4 | C50: TRANSFERENCIAS Y SUBVENCIONES | H50: =+H51+H52 -> 4.7708467e+10 | I50: =+I51+I52 -> 6.89126e+10 | J50: =IFERROR((H50-I50)/H50,-100%) -> -0.44445221
B51: 5.4.23 | C51: OTRAS TRANSFERENCIAS | H51: =SUMIFS('NOV20'!$F$10:$F$665,'NOV20'!$A$10:$A$665,Resultados!B51) -> 4.7708467e+10 | I51: =SUMIFS('NOV19'!$F$10:$F$624,'NOV19'!$A$10:$A$624,Resultados!B51) -> 6.89126e+10 | J51: =IFERROR((H51-I51)/H51,-100%) -> -0.44445221
...

Sheet NOV19
A2: Informacion_1 | B2: Informacion_2
A3: Codigo de Consolidacion | B3: 024800000
A4: Descripcion | B4: DEPARTAMENTO ADMINISTRATIVO DEL DEPORTE, LA RECREACION, LA ACTIVIDAD FISICA Y EL APROVECHAMIENTO DEL TIEMPO LIBRE - COLDEPORTES
A5: Fecha | B5: 2020-12-28 10:08:22
A6: Fecha Inicial Periodo Inicial | B6: 2019-01-01 00:00:00
A7: Fecha Final Periodo Final | B7: 2019-11-30 00:00:00
A9: Codigo | B9: Descripcion | C9: Saldo Inicial | D9: Movimientos Debito | E9: Movimientos Credito | F9: Saldo Final
A10: 1 | B10: ACTIVOS | C10: 2.0439044e+11 | D10: 3.8766992e+11 | E10: 2.9525001e+11 | F10: 2.9681036e+11 | G10: =+Balance!F55 -> 2.9681036e+11 | H10: =+F10-G10 -> 0
A11: 1.1 | B11: EFECTIVO Y EQUIVALENTES AL EFECTIVO | C11: 50705228 | D11: 6.7591934e+09 | E11: 6.6661606e+09 | F11: 143738053
A12: 1.1.10 | B12: DEPÓSITOS EN INSTITUCIONES FINANCIERAS | C12: 50705228 | D12: 6.7591934e+09 | E12: 6.6661606e+09 | F12: 143738053
A13: 1.1.10.05 | B13: Cuenta corriente | C13: 50705228 | D13: 6.7591934e+09 | E13: 6.6661606e+09 | F13: 143738053
A14: 1.1.10.05.001 | B14: Cuenta corriente | C14: 50705228 | D14: 6.7591934e+09 | E14: 6.6661606e+09 | F14: 143738053
A15: 1.3 | B15: CUENTAS POR COBRAR | C15: 1.6130044e+10 | D15: 5.3308997e+10 | E15: 5.3654766e+10 | F15: 1.5784275e+10
A16: 1.3.11 | B16: CONTRIBUCIONES TASAS E INGRESOS NO TRIBUTARIOS | C16: 3.7084466e+09 | D16: 1.8956717e+09 | E16: 56496504 | F16: 5.5476219e+09
A17: 1.3.11.04 | B17: Sanciones | C17: 3.7084466e+09 | D17: 1.8956717e+09 | E17: 56496504 | F17: 5.5476219e+09
A18: 1.3.11.04.004 | B18: Disciplinarias | C18: 0 | D18: 40112643 | E18: 40112643 | F18: 0
A19: 1.3.11.04.007 | B19: Administrativas y fiscales | C19: 7.1249439e+08 | D19: 4687452 | E19: 3459004.8 | F19: 7.1372284e+08
A20: 1.3.11.04.008 | B20: Sanciones | C20: 2995952236 | D20: 1850871642 | E20: 12924856 | F20: 4833899022
A21: 1.3.17 | B21: PRESTACIÓN DE SERVICIOS | C21: 5914545 | D21: 8588453.2 | E21: 12121802 | F21: 2381196.5
A22: 1.3.17.26 | B22: Recreativos, culturales, y deportivos | C22: 5914545 | D22: 8588453.2 | E22: 12121802 | F22: 2381196.5
... A199: 1.9.86.05.001 | B199: Gasto diferido por subvenciones condicionadas | C199: 411000000 | D199: 8.4451526e+10 | E199: 5.3667119e+10 | F199: 3.1195407e+10
A200: 2 | B200: PASIVOS | C200: 9.59649e+10 | D200: 3.3826955e+11 | E200: 2.9999697e+11 | F200: 5.7692316e+10 | G200: =+Balance!N9 -> 1.7112089e+10 | H200: =+Balance!N35 -> 4.0580227e+10 | I200: =+G200+H200 -> 5.7692316e+10 | J200: =+F200-I200 -> 0
A201: 2.4 | B201: CUENTAS POR PAGAR | C201: 45427926734 | D201: 3.1259383e+11 | E201: 2.8263245e+11 | F201: 1.5466548e+10
A202: 2.4.01 | B202: ADQUISICION DE BIENES Y SERVICIOS NACIONALES | C202: 4.4541645e+10 | D202: 2.8936166e+11 | E202: 2.5915335e+11 | F202: 1.4333332e+10
A203: 2.4.01.01 | B203: Bienes y servicios | C203: 163689288 | D203: 2.5960118e+08 | E203: 1.4624029e+08 | F203: 50328399
A204: 2.4.01.01.001 | B204: Bienes y servicios | C204: 163689288 | D204: 2.5960118e+08 | E204: 1.4624029e+08 | F204: 50328399
A205: 2.4.01.02 | B205: Proyectos de inversion | C205: 4.4377956e+10 | D205: 289102060617 | E205: 2.5900711e+11 | F205: 14283003821
A206: 2.4.01.02.001 | B206: Proyectos de inversión | C206: 4.4377956e+10 | D206: 289102060617 | E206: 2.5900711e+11 | F206: 14283003821
A207: 2.4.03 | B207: TRANSFERENCIAS POR PAGAR | C207: 107044764 | D207: 1.4610641e+10 | E207: 1.4695364e+10 | F207: 191767630
A208: 2.4.03.15 | B208: Otras transferencias | C208: 107044764 | D208: 1.4610641e+10 | E208: 1.4695364e+10 | F208: 191767630
A209: 2.4.03.15.001 | B209: Otras transferencias | C209: 107044764 | D209: 1.4610641e+10 | E209: 1.4695364e+10 | F209: 191767630
A210: 2.4.07 | B210: RECURSOS A FAVOR DE TERCEROS | C210: 1.3496989e+08 | D210: 1.0472502e+08 | E210: 6.8416303e+08 | F210: 7.144079e+08
A211: 2.4.07.06 | B211: Cobro cartera de terceros | C211: 8000218 | D211: 33117677 | E211: 29775772 | F211: 4658313
A212: 2.4.07.06.001 | B212: Cobro cartera de terceros | C212: 8000218 | D212: 29996972 | E212: 25531324 | F212: 3534570
... A338: 2.9.10.07.002 | B338: Ventas de servicios | C338: 16672419 | D338: 16672419 | E338: 0 | F338: 0
A339: 3 | B339: PATRIMONIO | C339: 1.0842554e+11 | D339: 1.7692805e+11 | E339: 1.8052483e+11 | F339: 1.1202232e+11 | G339: =+Balance!N44 -> 2.3911804e+11 | H339: =+Resultados!I67 -> 1.2709572e+11 | I339: =+G339-H339 -> 1.1202232e+11 | J339: =+F339-I339 -> 0
A340: 3.1 | B340: PATRIMONIO DE LAS ENTIDADES DE GOBIERNO | C340: 1.0842554e+11 | D340: 1.7692805e+11 | E340: 1.8052483e+11 | F340: 1.1202232e+11
A341: 3.1.05 | B341: CAPITAL FISCAL | C341: 1.1244084e+10 | D341: 0 | E341: 0 | F341: 1.1244084e+10
A342: 3.1.05.06 | B342: Capital fiscal | C342: 1.1244084e+10 | D342: 0 | E342: 0 | F342: 1.1244084e+10
A343: 3.1.05.06.001 | B343: Capital fiscal nación | C343: 1.1244084e+10 | D343: 0 | E343: 0 | F343: 1.1244084e+10
...

Sheet NOV20
A2: Informacion_1 | B2: Informacion_2
A3: Codigo de Consolidacion | B3: 024800000
A4: Descripcion | B4: DEPARTAMENTO ADMINISTRATIVO DEL DEPORTE, LA RECREACION, LA ACTIVIDAD FISICA Y EL APROVECHAMIENTO DEL TIEMPO LIBRE - COLDEPORTES
A5: Fecha | B5: 2020-12-28 10:02:06
A6: Fecha Inicial Periodo Inicial | B6: 2020-01-01 00:00:00
A7: Fecha Final Periodo Final | B7: 2020-11-30 00:00:00
A9: Codigo | B9: Descripcion | C9: Saldo Inicial | D9: Movimientos Debito | E9: Movimientos Credito | F9: Saldo Final
A10: 1 | B10: ACTIVOS | C10: 1.5904432e+11 | D10: 1.9770182e+11 | E10: 1.2333585e+11 | F10: 2.334103e+11 | G10: =+Balance!E55 -> 2.334103e+11 | H10: =+F10-G10 -> 0
A11: 1.1 | B11: EFECTIVO Y EQUIVALENTES AL EFECTIVO | C11: 1.6212465e+08 | D11: 6.1911046e+09 | E11: 6.3102787e+09 | F11: 42950544
A12: 1.1.05 | B12: CAJA | C12: 0 | D12: 30000000 | E12: 0 | F12: 30000000
A13: 1.1.05.02 | B13: Caja menor | C13: 0 | D13: 30000000 | E13: 0 | F13: 30000000
A14: 1.1.05.02.002 | B14: Cuenta corriente | C14: 0 | D14: 30000000 | E14: 0 | F14: 30000000
A15: 1.1.10 | B15: DEPÓSITOS EN INSTITUCIONES FINANCIERAS | C15: 1.6212465e+08 | D15: 6.1611046e+09 | E15: 6.3102787e+09 | F15: 12950544
A16: 1.1.10.05 | B16: Cuenta corriente | C16: 1.6212465e+08 | D16: 6.1611046e+09 | E16: 6.3102787e+09 | F16: 12950544
A17: 1.1.10.05.001 | B17: Cuenta corriente | C17: 1.6212465e+08 | D17: 6.1611046e+09 | E17: 6.3102787e+09 | F17: 12950544
A18: 1.3 | B18: CUENTAS POR COBRAR | C18: 4.8975774e+08 | D18: 1.370796e+10 | E18: 1.3368595e+10 | F18: 8.2912332e+08 | G18: corriente | H18: no corriente
A19: 1.3.11 | B19: CONTRIBUCIONES TASAS E INGRESOS NO TRIBUTARIOS | C19: 1257335716 | D19: 385196880 | E19: 19007886 | F19: 1623524710
A20: 1.3.11.04 | B20: Sanciones | C20: 1257335716 | D20: 385196880 | E20: 19007886 | F20: 1623524710
A21: 1.3.11.04.004 | B21: Disciplinarias | C21: 0 | D21: 12596950 | E21: 9596950 | F21: 3000000
A22: 1.3.11.04.008 | B22: Sanciones | C22: 1257335716 | D22: 372599930 | E22: 9410936 | F22: 1620524710
A23: 1.3.17 | B23: PRESTACIÓN DE SERVICIOS | C23: 0 | D23: 1354780 | E23: 1354780 | F23: 0
A24: 1.3.17.26 | B24: Recreativos, culturales, y deportivos | C24: 0 | D24: 1354780 | E24: 1354780 | F24: 0
A25: 1.3.17.26.001 | B25: Recreativos, culturales, y deportivos | C25: 0 | D25: 1354780 | E25: 1354780 | F25: 0
A26: 1.3.37 | B26: TRANSFERENCIAS POR COBRAR | C26: 1.8809165e+08 | D26: 1.4908583e+08 | E26: 1.399456e+08 | F26: 1.9723188e+08
A27: 1.3.37.02 | B27: Sistema general de regalías | C27: 1.8809165e+08 | D27: 1.4908583e+08 | E27: 1.399456e+08 | F27: 1.9723188e+08
A28: 1.3.37.02.001 | B28: Sistema general de regalías | C28: 1.8809165e+08 | D28: 1.4908583e+08 | E28: 1.399456e+08 | F28: 1.9723188e+08 | G28: regalias
A29: 1.3.84 | B29: OTRAS CUENTAS POR COBRAR | C29: 1.175012e+10 | D29: 8.2675789e+09 | E29: 9.7923129e+09 | F29: 1.0225386e+10 | H29: =+F29-F30-F32 -> 1.002394e+10 | I29: =+[2]Balance!E38 -> 1.002394e+10 | J29: =+H29-I29 -> 0
A30: 1.3.84.16 | B30: Enajenación de activos | C30: 74887862 | D30: 1.1319555e+08 | E30: 723945.23 | F30: 187359469 | G30: CISA
A31: 1.3.84.16.001 | B31: Enajenación de activos | C31: 74887862 | D31: 1.1319555e+08 | E31: 723945.23 | F31: 187359469
A32: 1.3.84.26 | B32: Pago por cuenta de terceros | C32: 77584862 | D32: 216224483 | E32: 279723291 | F32: 14086054 | G32: incapacidades
A33: 1.3.84.26.001 | B33: Pago por cuenta de terceros | C33: 77584862 | D33: 216224483 | E33: 279723291 | F33: 14086054
A34: 1.3.84.27 | B34: Recursos de acreedores reintegrados a tesorerías | C34: 0 | D34: 5427340 | E34: 5427340 | F34: 0
A35: 1.3.84.27.001 | B35: Recursos de acreedores reintegrados a tesorerías | C35: 0 | D35: 5427340 | E35: 5427340 | F35: 0
A36: 1.3.84.35 | B36: Otros intereses de mora | C36: 0 | D36: 559344 | E36: 0 | F36: 559344
A37: 1.3.84.35.001 | B37: Otros intereses de mora | C37: 0 | D37: 559344 | E37: 0 | F37: 559344
A38: 1.3.84.36 | B38: Otros intereses por cobrar | C38: 0 | D38: 112775 | E38: 112775 | F38: 0
A39: 1.3.84.36.001 | B39: Otros intereses por cobrar | C39: 0 | D39: 112775 | E39: 112775 | F39: 0
A40: 1.3.84.39 | B40: Arrendamiento operativo | C40: 8998235 | D40: 496020477 | E40: 505018712 | F40: 0
A41: 1.3.84.39.001 | B41: Arrendamiento operativo | C41: 8998235 | D41: 496020477 | E41: 505018712 | F41: 0
A42: 1.3.84.90 | B42: Otras cuentas por cobrar | C42: 1.1588649e+10 | D42: 7.436039e+09 | E42: 9.0013069e+09 | F42: 1.0023381e+10
...
