Workbook

Sheet  AMENAZAS sede Administrativa
B3: IDENTIFICACIÓN DE AMENAZAS
B4: COLDEPORTES: SEDE ADMINISTRATIVA - JULIO DE 2017
B5: AMENAZA | C5: INTERNO | D5: EXTERNO | E5: DESCRIPCIÓN DE LA AMENAZA | F5: CALIFICACIÓN | G5: COLOR
C6: (Que se puede generar dentro de la organización) | D6: (Que se puede generar fuera de la organización y afectarla porque se propaga) | E6: (Esta descripción debe ser lo más detallada incluyendo en lo posible la fuente que la generaría, registros históricos, o estudios que sustenten la posibilidad de ocurrencia del evento) | F6: Posible: Es aquel fenomeno que nunca ha sucedido, pude suceder o es factible Probable: Es aquel fenomeno que ya ha ocurrido en el lugar en unas condiciones similares, es decir que existen razones y argumentos para creer que sucederá Inminente: Es aquel fenomeno esperado que tiene alta probabilidad de ocurrir o con informacion que la hace evidente
B7: DE ORIGEN NATURAL
B8: Incendios Forestales | D8: X | E8: El fuego es un fenómeno que se produce cuando se le aplica calor a un cuerpo combustible (en éste caso material vegetal) en presencia del aire. Coldeportes se encuentra ubicada en áreas próximas a zonas verdes y de vegetación; con cercanías al jardin botánico y al parque Simon Bolivar. | F8: Posible
B9: Movimientos Sísmicos | D9: X | E9: Basado en el estudio de microzonificación sismica en Bogotá “aún cuando la amenaza sísmica para Santafé de Bogotá no corresponde a valores extremos en el país, el riesgo si lo es debido al alto grado de vulnerabilidad de sus edificaciones". Coldeportes fue construida en los años 60, por lo que se podría considerar como una edificación vulnerable. | F9: Probable
B10: Eventos Atmosféricos: Vendavales | C10: X | D10: X | E10: En Bogotá se han presentado vendavales que han provocado caída de arboles, levantamiento de tejados, rompimiento de vidrios, personas lesionadas. | F10: Probable
B11: Eventos Atmosféricos: Tormentas eléctricas | C11: X | D11: X | E11: Según el IDEAM, Bogotá se vió afectada por el fenómeno del niño, generando afectaciones. Haciendo mención al peligro que los rayos puedan representar. | F11: Probable
B12: Eventos Atmosféricos: Granizadas y lluvias torrenciales | C12: X | D12: X | E12: El cambio climatico ha afectado a Bogotá. Las granizadas y lluvias torrenciales han ocasionado inundaciones en la ciudad, por acumulación de basuras en las alcantarillas. | F12: Probable
B13: DE ORIGEN ANTRÓPICO NO INTENCIONAL
B14: Incendios (Eléctricos, térmicos) | C14: X | E14: La sede Administrativa cuenta con redes eléctricas, equipos energizados, sustancias químicas (productos de aseo), material combustible (la cual esta representada por mobiliario, madera, papel, elementos acolchados de las sillas, etc.) que podría generar este tipo de amenaza. En un circuito o instalación hay sobrecarga o esta sobrecargada, cuando la suma de la potencia de los aparatos que están a él conectados, es superior a la potencia para la cual esta diseñado el circuito de la instalación. Siendo un factor influyente la carga ocupacional existente en la sede administrativa ya que supera su capacidad. Un corto circuito se puede producir por un fallo en un aparato o línea eléctrica (en una conexión entre dos terminales de un elemento de un circuito eléctrico). | F14: Posible
B15: Materiales peligrosos (derrames) | C15: X | E15: Derrames de productos de aseo | F15: Posible
B16: Inundación por deficiencias de la infraestructura hidraúlica (redes de alcantarillado) | C16: X | E16: Se podrían presentar daños y taponamiento de las redes hidraúlicas, generando inundaciones al exterior y/o interior de la edificación. Falta de mantenimiento a redes de Alcantarillado (acumulación de basuras). | F16: Posible
B17: Fallas Estructurales | C17: X | E17: Las instalaciones de Coldeportes tiene una edificación sin remodelaciones. Según lo manifestado por funcionarios de Coldeportes, las instalaciones están presentado grietas. Adicionalmente, las fallas estructurales podrían ser una consecuencia de un sismo o terremoto que se presentará. | F17: Inminente
B18: Fallas de Equipos y Sistemas | C18: X | E18: Falta de mantenimiento e inspecciones a los equipos y sistemas contraincendios. Extintores sin carga vigente Gabinetes sin pruebas correspondientes (hidrostáticas) | F18: Inminente
B19: Falla en la red de acueducto | C19: X | E19: Se puede presentar por falta de mantenimiento en la red de acueducto de coldeportes. | F19: Posible
B20: DE ORIGEN SOCIAL
B21: Comportamientos no adaptativos | C21: X | D21: X | E21: Se podrían presentar casos de visitantes como de personal interno con comportamientos que puedan afectar al personal al interior de las instalaciones. | F21: Posible
B22: Accidentes de vehículos | C22: X | D22: X | E22: Coldeportes esta ubicado sobre una avenida principal de la ciudad, vía de alto tráfico vehícular (Av. Cra 68). Adicionalmente esta la cicloruta. A nivel interno la entrada vehícular y parqueadero, es zona de transito para el personal, por lo cual se podría ver afectada en una colisión automovilística. El aeropuerto esta ubicado en una zona cercana a Coldeportes, en el espacio aéreo hay transito de aviones. | F22: Inminente
B23: Accidentes Personales | C23: X | D23: X | E23: Se pueden presentar caídas, uso, e ingreso de bicicletas. | F23: Probable
B24: Revueltas /Asonadas / Sabotaje | C24: X | D24: X | E24: Por estar ubicada al frente del parque Simon Bolivar, donde se realizan de forma continua eventos, que podrían convertirse en desórdenes públicos en la zona. | F24: Probable
B25: Atentados Terroristas | C25: X | D25: X | E25: El terrorismo es un acto violento e intimidatorio motivado por razones varias (políticas, económicas, etc) que busca generar miedo en la población. Se tienen antecedentes de situaciones presentadas en la ciudad de Bogotá en diferentes lugares públicos. | F25: Probable
B26: Hurtos, Asaltos | C26: X | D26: X | E26: Las manifestaciones y/o desórdenes públicos, pueden traer como consecuencia robos. Intención de la delincuencia en contra de las instalaciones o de personalidades que ingresan o transitan por esta vía. A nivel interno circulan de manera continua visitantes, los cuales en medio de ellos podrían infiltrarse personas con intenciones de hurtar. | F26: Probable
B27: Aglomeraciones de público | C27: X | D27: X | E27: Gran cantidad de personas reunidas en un mismo lugar. Se puede presentar en la sede administrativa por la afluencia de visitantes y por las actividades que se lleven a cabo en el salon de eventos. Y asociados a manifestaciones o protestas cercanas a esta área. | F27: Probable

Sheet VULNERABILDAD Administrativa
B2: ANÁLISIS VULNERABILIDAD
B3: COLDEPORTES: SEDE ADMINISTRATIVA - JULIO DE 2017
B4: Calificación
B5: Criterio / Calificación | C5: Interpretación
B6: SI (1) | C6: Cuando existe o tiene un nivel bueno o cuando se dispone de los elementos en optimas condiciones
B7: NO (0) | C7: Cuando no existe o tiene un nivel deficiente
B8: PARCIAL (0.5) | C8: Cuando la implementación no esta terminada o tiene un nivel regular
B9: 2.1 PUNTO A EVALUAR: PERSONAS | C9: RESPUESTA | F9: CALIFICACIÓN | G9: OBSERVACIONES
B10: Gestión Organizacional | C10: Si | D10: No | E10: Parcial
B11: ¿Existe una política general en Gestión del Riesgo donde se indican lineamientos de prevención y preparación ante una emergencia? | E11: X | F11: 0.5 | G11: Se cuenta con políticas internas, y la política de gestión del riesgo esta en proceso de aprobación
B12: ¿Existe un esquema organizacional para la respuesta a emergencias (Brigadas, C.O.E - Comité Operativo de Emergencias: Es la estructura responsable de coordinar la ejecución de las actividades antes, durante y después de una emergencia o desastres. Así mismo, las personas que lo integren deben tener poder de decisión y aptitudes que las hagan idóneas para ocupar estos cargos.)? | C12: X | F12: 1 | G12: Se cuenta con brigada de emergencias, conformada por 23 funcionarios 14 contratistas de Coldeportes.
B13: ¿Los funcionarios han adquirido responsabilidades específicas en caso de emergencia? y se mantiene actualizado? | E13: X | F13: 0.5 | G13: No todos los funcionarios y colaboradores de Coldeportes, han adquirido responsabilidades específicas en caso de emergencia.
B14: ¿Se promueve y se practica activamente con los funcionarios y colaboradores el plan de preparación para emergencias? | E14: X | F14: 0.5 | G14: Se promueve y se practica el plan de emergencias pero no con la totalidad de los funcionarios.
B15: ¿El esquema organizacional para la respuesta a emergencias garantiza la respuesta a los eventos que se puedan presentar tanto en los horarios laborales como en los no laborales? | E15: X | F15: 0.5 | G15: Se cuenta con personal competente de seguridad y planta en horario laboral como fuera del mismo para dar respuesta a una emergencia
B16: ¿Han establecido mecanismos de interacción con su entorno que faciliten dar respuesta apropiada a los eventos que se puedan presentar? (Comités de Ayuda Mutua-CAM). CAM: Convenio de ayuda entre organizaciones, para prestar asistencia humana y/o técnica en caso de que un evento supere la propia capacidad. | E16: X | F16: 0.5 | G16: Existe un apoyo reciproco bilateral con el comité olimpico colombiano para componentes de brigadas y primeros auxilios, el cual deberá ser formalizado. se cuenta con el servicio de EMERMEDICA para zona segura y atención asistencial en caso de emergencia
B17: ¿Existen instrumentos, formatos u otros, para hacer inspecciones a las áreas para la identificación de condiciones inseguras que puedan generar emergencias? | C17: X | F17: 1 | G17: Existen 4 formatos de inspeccion para la identificación de condiciones inseguras que puedan generar emergencias. Orden y aseo Centros de Trabajo Vehicular Baños y Lavamanos Extintores
B18: ¿Hay un área encargada de mantener el plan de emergencias actualizado y operando? | C18: X | F18: 1 | G18: El área responsable de mantener el plan de emergencias actualizado y operando es Talento Humano.
B19: Promedio Gestión Organizacional | F19: =AVERAGE(F11:F18) -> 0.6875 | G19: BUENO
B20: Capacitación y Entrenamiento
B21: ¿Se cuenta con un programa de capacitación en prevención y respuesta ante emergencias para los brigadistas? | C21: X | F21: 1 | G21: Se cuenta con el Plan Institucional de Capacitación y con el Programa de Capacitación del Sistema de Gestión de Seguridad y Salud en el trabajo. Los brigadistas cuentan con el apoyo y la capacitación de la ARL.
B22: ¿Los miembros del comité de emergencias se han capacitado de acuerdo a su estructura organizacional y/o planes de acción? | D22: X | F22: 0 | G22: En las instalaciones no se cuenta con el C.O.E (Comité Operativo de Emergencias)
B23: ¿Las personas dentro de la organización han recibido alguna inducción o charla en temas de respuesta ante emergencias? | E23: X | F23: 0.5 | G23: Se tiene programado capacitaciones periódicas en temas de respuesta ante situaciones de emergencia, asi como en inducción de ingreso se les menciona que hacer en caso de emergencia dentro de la instalaciones.
B24: ¿Se ha socializado o divulgado el plan de emergencias o planes de acción en caso de emergencias a los funcionarios de la organización? | E24: X | F24: 0.5 | G24: Aún esta en construcción y actualización
B25: ¿Se cuenta con mecanismos o programa de socialización para el personal flotante "visitantes, usuarios, proveedores" sobre que hacer en caso de emergencia? | E25: X | F25: 0.5 | G25: Se esta desarrollando una estrategia de comunicación para el personal flotante con apoyo del personal de seguridad.
B26: ¿Se cuenta con mecanismos de difusión en temas de prevención y respuesta a emergencias? | C26: X | F26: 1 | G26: Se cuenta con el área de comunicaciones con los canales corporativos, se emplea el correo electrónico corporativo y se emplean comunicaciones en los protectores de pantalla de los computadores de Coldeportes.
B27: Promedio Capacitación y entrenamiento | F27: =AVERAGE(F21:F26) -> 0.58333333 | G27: REGULAR
B28: Características de seguridad
B29: ¿Se ha identificado y clasificado el personal fijo y flotante en los diferentes horarios laborales y no laborales (menores de edad, adultos mayores, personas con discapacidad física) según aplique? | E29: X | F29: 0.5 | G29: Se clasifica el personal fijo y flotante en los diferentes horarios laborales y no laborales de acuerdo al ingreso al personal; el cual es realizado en el área de recepción.
B30: ¿Se han contemplado acciones específicas teniendo en cuenta la clasificación de la población en la preparación y respuesta a emergencias? | C30: X | F30: 1 | G30: Se contempla lideres de piso conformado por brigadistas con el fin de optimizar la preparación y respuesta a emergencias en poblacion especifica
B31: ¿Se cuenta con un esquema o sistema de seguridad física - vigilancia? | C31: X | F31: 1 | G31: Se cuenta con la empresa de Seguridad con vigilancia las 24 horas en las instalaciones de la Sede Administrativa y se cuenta con cámaras de Seguridad.
B32: Promedio Características de seguridad | F32: =AVERAGE(F29:F31) -> 0.83333333 | G32: BUENO
B33: SUMA TOTAL DE PROMEDIOS | F33: =F19+F27+F32 -> 2.1041667 | G33: BAJA
B35: 2.2 PUNTO A EVALUAR: RECURSOS | C35: RESPUESTA | F35: CALIFICACIÓN | G35: OBSERVACIONES
B36: Suministros | C36: Si | D36: No | E36: Parcial
B37: ¿Se cuenta con elementos para señalización y delimitación "señales de pare", cinta de acordonamiento o balizamiento, conos reflectivos, entre otros? | C37: X | F37: 1 | G37: Se cuenta con señales, cinta y conos
B38: ¿Se cuenta con camillas e inmovilizadores cervicales en número suficiente y correctamente distribuidas acordes a las necesidades de la institución? | E38: X | F38: 0.5 | G38: Se cuenta con camillas distribuidas en cada piso. No son suficientes para el número de trabajadores de la sede.
B39: ¿Se cuenta con botiquines portátiles o fijos dotados y en número suficiente acorde a las necesidades de la institución? | C39: X | F39: 1 | G39: Se cuenta con botiquines fijo en cada piso
B40: ¿Se cuenta con paletas informativas - "número de piso"o áreas? | E40: X | F40: 0.5 | G40: Se cuenta con paletas informativas de "pare"
B41: ¿Se cuenta sistemas de comunicación masivos "perifoneo, altavoz o megáfono" para dirigir una evacuación o emergencia? | C41: X | F41: 1 | G41: Se cuenta con dos megafonos, ubicados en el punto de primeros auxilios
B42: ¿Se cuenta con elementos de protección personal para los brigadistas, de acuerdo con las amenazas identificadas y las necesidades de la organización? | D42: X | F42: 0
B43: ¿Se cuenta con médico, enfermera o punto de primeros auxilios? | C43: X | F43: 1 | G43: Se cuenta con un punto de primeros Auxilios (enfermería), con los elementos necasarios para atender primeros auxilios.
B44: ¿Se cuenta con implementos para el plan contraincedios tales como extintores. De acuerdo a las necesidades de la organización? | E44: X | F44: 0.5 | G44: Los extintores se encuentran con la carga vencida.
B45: ¿Se cuenta con equipos e implementos para evacuación y el control de la situación y población después de una emergencia con listado y copias de los documentos de los funcionarios, entre otros, acorde a las necesidades específicas? | E45: X | F45: 0.5 | G45: Se cuenta con listados actualizados de la poblacion flotante de la entidad en la SEDE ADMINITRATIVA
B46: Promedio Suministros | F46: =AVERAGE(F37:F45) -> 0.66666667 | G46: REGULAR
B47: Edificación
B48: ¿El tipo de construcción es sismo resistente o cuenta con un refuerzo estructural? | D48: X | F48: 0 | G48: Las instalaciones de la sede Administrativa de Coldeportes fue construida en los años 60, lo cual no garantiza la sismo resistencia. No existe ningún documento que demuestre la sismo resistencia.
B49: ¿Existen barreras, puertas y muros cortafuego dentro de la edificación? | D49: X | F49: 0
B50: ¿Las escaleras de emergencia cumplen con las características mínimas de seguridad, "con pasamanos, cintas antideslizantes, iluminación, señalización, según la normatividad vigente? | E50: X | F50: 0.5 | G50: Las escaleras se encuentran en buen estado, sin embargo no cuentan con señalización reflectiva, cintas antideslizantes, poca iluminación.
B51: ¿Están definidas las rutas de evacuación y salidas de emergencias, debidamente señalizadas y con iluminación alterna? | E51: X | F51: 0.5 | G51: No cuentan con iluminación alterna
B52: ¿Existe más de una salida de emergencia dentro de la sede según Art. 234 de la Res. 2400/79? | E52: X | F52: 0.5 | G52: Existen dos salidas: Una por la puerta principal y otra salida alterna por el área de comunicaciones, la cual no se encuentra habilitada.
B53: ¿Las rutas de evacuación cumplen con las características mínimas de seguridad "señalizadas, iluminadas, libres de obstáculos que dificulten un proceso de evacuación en caso de emergencias, entre otros" según normatividad NFPA 101? | C53: X | F53: 1
B54: ¿Se cuenta con parqueaderos para los vehículos dentro de la sede? | C54: X | F54: 1 | G54: Si, se cuenta con parqueaderos para motos, vehículos y bicicletas.
B55: ¿Las ventanas de la edificación cuentan con película de seguridad? | E55: X | F55: 0.5 | G55: Si, se cuenta con películas de seguridad en algunos pisos del edificio
B56: ¿El estado actual de la edificación esta en optimas condiciones? Verificar si las columnas, vigas, muros, entrepisos, fachadas y cubiertas, presentan algún deterioro físico considerable como fisuras, grietas, orificios, desprendimientos y/o caída de escombros sobre la población, funcionarios, visitantes o usuarios | E56: X | F56: 0.5 | G56: Al exterior del edificio en el piso uno (1) hay grietas.
B57: ¿Están señalizados los equipos contra incendio? | E57: X | F57: 0.5
B58: ¿Se realiza mantenimiento periódico a las instalaciones y/o edificaciones (techos) para determinar su estabilidad y seguridad, en caso de eventos atmosféricos? | C58: X | F58: 1 | G58: Se ha venido realizando diferentes adecuaciones locativas en la vigencia 2017
B59: ¿Se tienen asegurados o anclados enseres, gabinetes u objetos que puedan caer? | C59: X | F59: 1
B60: Promedio Edificaciones | F60: =AVERAGE(F48:F59) -> 0.58333333 | G60: REGULAR
B61: Equipos
B62: ¿Se cuenta con algún sistema de alarma, con puntos de activación y señalizados en caso de emergencia? | C62: X | F62: 1 | G62: Se cuenta con sistema de alarma sonora con puntos de activación y señalizados.
B63: ¿Se cuenta con sistemas automáticos de detección de incendios "detectores de humo"? | E63: X | F63: 0.5 | G63: En las instalaciones se tienen detectorres de humo; sin embargo se desconoce su funcionamiento.
B64: ¿Se cuenta con un sistema de comunicaciones internas, para la respuesta a emergencias? | E64: X | F64: 0.5 | G64: El whatsap esta establecido como un medio de comunicación interno. Hay brigadistas en cada piso. Se cuenta con radios de comunicación, sin embargo se ponen en funcionamiento en eventos especiales y masivos.
B65: ¿Se cuenta con redes contra incendios "roseadores y splinkers"? | E65: X | F65: 0.5
B66: ¿Se cuenta con vehículos propios de la empresa que permitan un transporte masivo en caso de emergencia? | C66: X | F66: 1 | G66: Se cuenta con 8 vehiculos propios de la entidad, disponibles en caso de una emergencia
B67: ¿Se cuenta con un programa de mantenimiento preventivo y correctivo para los equipos de emergencia? | E67: X | F67: 0.5 | G67: Se cuenta con un cronograma establecido para mantenimiento preventivo para los equipos de emergencia, el cual esta en gestión con la programación para el último trimestre de 2017.
B68: Promedio Equipos | F68: =AVERAGE(F62:F67) -> 0.66666667 | G68: REGULAR
B69: SUMA TOTAL DE PROMEDIOS | F69: =F46+F60+F68 -> 1.9166667 | G69: MEDIA
B71: 2.3 PUNTO A EVALUAR: SISTEMAS Y PROCESOS | C71: RESPUESTA | F71: CALIFICACIÓN | G71: OBSERVACIONES
B72: Servicios | C72: Si | D72: No | E72: Parcial
B73: ¿Se cuenta con suministro de energía? | C73: X | F73: 1
B74: ¿Se cuenta con suministro de gas natural propano? | C74: X | F74: N/A | G74: N/A
B75: ¿Se cuenta con suministro de agua potable? | C75: X | F75: 1
B76: ¿Se cuenta con un programa de recolección de basuras / programa de gestión de residuos? | C76: X | F76: 1
B77: ¿Se cuenta con servicio de radiocomunicaciones? | C77: X | F77: 1 | G77: Se cuenta con radios; sin embargo se emplean en eventos especiales y masivos
B78: Promedio Servicios | F78: =AVERAGE(F73:F77) -> 1 | G78: BUENO
B79: Sistemas Alternos
B80: ¿Se cuenta con un tanque de reserva de agua? | C80: X | F80: 1
B81: ¿Se cuenta con sistemas para el suministro de energía en caso de emergencia con planta eléctrica o paneles solares? | D81: X | F81: 0
B82: ¿Se cuenta con un sistema de iluminación de emergencias autónomo o que funciones con baterías portátiles? | D82: X | F82: 0
B83: ¿Se cuenta con hidrantes dentro o fuera de las instalaciones? | D83: X | F83: 0
B84: ¿Se cuenta con un sitio "propio o contratado" para reubicación de las instalaciones, así como del personal en caso de una emergencia? | D84: X | F84: 0
B85: Promedio Sistemas Alternos | F85: =AVERAGE(F80:F84) -> 0.2 | G85: MALO
B86: Recuperación
B87: ¿Se cuenta con alguna póliza de seguros para los funcionarios y/o contratistas? | C87: X | F87: 1
B88: ¿Se tiene asegurada la edificación en caso de terremoto, incendio, atentados terroristas, etc.? | C88: X | F88: 1
B89: ¿Se cuenta con un sistema alterno para asegurar los expedientes en medio magnético y con alguna compañía aseguradora? | C89: X | F89: 1
B90: ¿Se encuentran asegurados los equipos y todos los bienes en general? | C90: X | F90: 1
B91: Promedio Recuperación | F91: =AVERAGE(F87:F90) -> 1 | G91: BUENO
B92: SUMA TOTAL DE PROMEDIOS | F92: =F78+F85+F91 -> 2.2 | G92: BAJA

Sheet Analisis d Riesgo Administrati 
B2: CONSOLIDADO ANÁLISIS DE RIESGO - SEDE ADMINISTRATIVA
B3: ANÁLISIS DE AMENAZA | E3: ANÁLISIS DE VULNERABILIDAD
E4: PERSONAS | J4: RECURSOS | O4: SISTEMAS Y PROCESOS | T4: NIVEL DE RIESGO
B5: Amenaza | C5: Calificación | D5: Color Rombo Amenazas | E5: 1. Gestión Organizacional | F5: 2. Capacitación y Entrenamiento | G5: 3. Características de Seguridad | H5: Total Vulnerabilidad de Personas | I5: Color Rombo Personas | J5: 1. Suministros | K5: 2. Edificaciones | L5: 3. Equipos | M5: Total Vulnerabilidad de Recursos | N5: Color Rombo Recursos | O5: 1. Servicios | P5: 2. Sistemas Alternos | Q5: 3. Recuperación | R5: Total Vulnerabilidad Sistemas y Procesos | S5: Color Rombo Sistemas y Procesos | T5: Resultado del Diamante | U5: Interpretación Riesgo
B6: Incendios Forestales | C6: =' AMENAZAS sede Administrativa'!F8 -> Posible | E6: ='VULNERABILDAD Administrativa'!F19 -> 0.6875 | F6: ='VULNERABILDAD Administrativa'!F27 -> 0.58333333 | G6: ='VULNERABILDAD Administrativa'!F32 -> 0.83333333 | H6: =SUM(E6:G6) -> 2.1041667 | J6: ='VULNERABILDAD Administrativa'!F46 -> 0.66666667 | K6: ='VULNERABILDAD Administrativa'!F60 -> 0.58333333 | L6: ='VULNERABILDAD Administrativa'!F68 -> 0.66666667 | M6: =SUM(J6:L6) -> 1.9166667 | O6: ='VULNERABILDAD Administrativa'!F78 -> 1 | P6: ='VULNERABILDAD Administrativa'!F85 -> 0.2 | Q6: ='VULNERABILDAD Administrativa'!F91 -> 1 | R6: =SUM(O6:Q6) -> 2.2 | U6: BAJO
B7: Movimientos Sísmicos | C7: =' AMENAZAS sede Administrativa'!F9 -> Probable | E7: =E6 -> 0.6875 | F7: =F6 -> 0.58333333 | G7: =G6 -> 0.83333333 | H7: =H6 -> 2.1041667 | J7: =J6 -> 0.66666667 | K7: =K6 -> 0.58333333 | L7: =L6 -> 0.66666667 | M7: =M6 -> 1.9166667 | O7: =O6 -> 1 | P7: =P6 -> 0.2 | Q7: =Q6 -> 1 | R7: =R6 -> 2.2 | U7: BAJO
B8: Eventos Atmosféricos: Vendavales | C8: =' AMENAZAS sede Administrativa'!F10 -> Probable | E8: =E7 -> 0.6875 | F8: =F7 -> 0.58333333 | G8: =G7 -> 0.83333333 | H8: =H7 -> 2.1041667 | J8: =J7 -> 0.66666667 | K8: =K7 -> 0.58333333 | L8: =L7 -> 0.66666667 | M8: =M7 -> 1.9166667 | O8: =O7 -> 1 | P8: =P7 -> 0.2 | Q8: =Q7 -> 1 | R8: =R7 -> 2.2 | U8: BAJO
B9: Eventos Atmosféricos: Tormentas eléctricas | C9: =' AMENAZAS sede Administrativa'!F11 -> Probable | E9: =E8 -> 0.6875 | F9: =F8 -> 0.58333333 | G9: =G8 -> 0.83333333 | H9: =H8 -> 2.1041667 | J9: =J8 -> 0.66666667 | K9: =K8 -> 0.58333333 | L9: =L8 -> 0.66666667 | M9: =M8 -> 1.9166667 | O9: =O8 -> 1 | P9: =P8 -> 0.2 | Q9: =Q8 -> 1 | R9: =R8 -> 2.2 | U9: BAJO
B10: Eventos Atmosféricos: Granizadas y lluvias torrenciales | C10: =' AMENAZAS sede Administrativa'!F12 -> Probable | E10: =E9 -> 0.6875 | F10: =F9 -> 0.58333333 | G10: =G9 -> 0.83333333 | H10: =H9 -> 2.1041667 | J10: =J9 -> 0.66666667 | K10: =K9 -> 0.58333333 | L10: =L9 -> 0.66666667 | M10: =M9 -> 1.9166667 | O10: =O9 -> 1 | P10: =P9 -> 0.2 | Q10: =Q9 -> 1 | R10: =R9 -> 2.2 | U10: BAJO
B11: Incendios (Eléctricos, térmicos) | C11: =' AMENAZAS sede Administrativa'!F14 -> Posible | E11: =E10 -> 0.6875 | F11: =F10 -> 0.58333333 | G11: =G10 -> 0.83333333 | H11: =H10 -> 2.1041667 | J11: =J10 -> 0.66666667 | K11: =K10 -> 0.58333333 | L11: =L10 -> 0.66666667 | M11: =M10 -> 1.9166667 | O11: =O10 -> 1 | P11: =P10 -> 0.2 | Q11: =Q10 -> 1 | R11: =R10 -> 2.2 | U11: BAJO
B12: Materiales peligrosos (derrames) | C12: =' AMENAZAS sede Administrativa'!F15 -> Posible | E12: =E11 -> 0.6875 | F12: =F11 -> 0.58333333 | G12: =G11 -> 0.83333333 | H12: =H11 -> 2.1041667 | J12: =J11 -> 0.66666667 | K12: =K11 -> 0.58333333 | L12: =L11 -> 0.66666667 | M12: =M11 -> 1.9166667 | O12: =O11 -> 1 | P12: =P11 -> 0.2 | Q12: =Q11 -> 1 | R12: =R11 -> 2.2 | U12: BAJO
B13: Inundación por deficiencias de la infraestructura hidraúlica (redes de alcantarillado) | C13: =' AMENAZAS sede Administrativa'!F16 -> Posible | E13: =E12 -> 0.6875 | F13: =F12 -> 0.58333333 | G13: =G12 -> 0.83333333 | H13: =H12 -> 2.1041667 | J13: =J12 -> 0.66666667 | K13: =K12 -> 0.58333333 | L13: =L12 -> 0.66666667 | M13: =M12 -> 1.9166667 | O13: =O12 -> 1 | P13: =P12 -> 0.2 | Q13: =Q12 -> 1 | R13: =R12 -> 2.2 | U13: BAJO
B14: Fallas Estructurales | C14: =' AMENAZAS sede Administrativa'!F17 -> Inminente | E14: =E13 -> 0.6875 | F14: =F13 -> 0.58333333 | G14: =G13 -> 0.83333333 | H14: =H13 -> 2.1041667 | J14: =J13 -> 0.66666667 | K14: =K13 -> 0.58333333 | L14: =L13 -> 0.66666667 | M14: =M13 -> 1.9166667 | O14: =O13 -> 1 | P14: =P13 -> 0.2 | Q14: =Q13 -> 1 | R14: =R13 -> 2.2 | U14: MEDIO
B15: Fallas de Equipos y Sistemas | C15: =' AMENAZAS sede Administrativa'!F18 -> Inminente | E15: =E14 -> 0.6875 | F15: =F14 -> 0.58333333 | G15: =G14 -> 0.83333333 | H15: =H14 -> 2.1041667 | J15: =J14 -> 0.66666667 | K15: =K14 -> 0.58333333 | L15: =L14 -> 0.66666667 | M15: =M14 -> 1.9166667 | O15: =O14 -> 1 | P15: =P14 -> 0.2 | Q15: =Q14 -> 1 | R15: =R14 -> 2.2 | U15: MEDIO
B16: Falla en la red de acueducto | C16: =' AMENAZAS sede Administrativa'!F19 -> Posible | E16: =E15 -> 0.6875 | F16: =F15 -> 0.58333333 | G16: =G15 -> 0.83333333 | H16: =H15 -> 2.1041667 | J16: =J15 -> 0.66666667 | K16: =K15 -> 0.58333333 | L16: =L15 -> 0.66666667 | M16: =M15 -> 1.9166667 | O16: =O15 -> 1 | P16: =P15 -> 0.2 | Q16: =Q15 -> 1 | R16: =R15 -> 2.2 | U16: BAJO
B17: Comportamientos no adaptativos | C17: =' AMENAZAS sede Administrativa'!F21 -> Posible | E17: =E16 -> 0.6875 | F17: =F16 -> 0.58333333 | G17: =G16 -> 0.83333333 | H17: =H16 -> 2.1041667 | J17: =J16 -> 0.66666667 | K17: =K16 -> 0.58333333 | L17: =L16 -> 0.66666667 | M17: =M16 -> 1.9166667 | O17: =O16 -> 1 | P17: =P16 -> 0.2 | Q17: =Q16 -> 1 | R17: =R16 -> 2.2 | U17: BAJO
B18: Accidentes de vehículos | C18: =' AMENAZAS sede Administrativa'!F22 -> Inminente | E18: =E17 -> 0.6875 | F18: =F17 -> 0.58333333 | G18: =G17 -> 0.83333333 | H18: =H17 -> 2.1041667 | J18: =J17 -> 0.66666667 | K18: =K17 -> 0.58333333 | L18: =L17 -> 0.66666667 | M18: =M17 -> 1.9166667 | O18: =O17 -> 1 | P18: =P17 -> 0.2 | Q18: =Q17 -> 1 | R18: =R17 -> 2.2 | U18: MEDIO
B19: Accidentes Personales | C19: =' AMENAZAS sede Administrativa'!F23 -> Probable | E19: =E18 -> 0.6875 | F19: =F18 -> 0.58333333 | G19: =G18 -> 0.83333333 | H19: =H18 -> 2.1041667 | J19: =J18 -> 0.66666667 | K19: =K18 -> 0.58333333 | L19: =L18 -> 0.66666667 | M19: =M18 -> 1.9166667 | O19: =O18 -> 1 | P19: =P18 -> 0.2 | Q19: =Q18 -> 1 | R19: =R18 -> 2.2 | U19: BAJO
B20: Revueltas /Asonadas / Sabotaje | C20: =' AMENAZAS sede Administrativa'!F24 -> Probable | E20: =E19 -> 0.6875 | F20: =F19 -> 0.58333333 | G20: =G19 -> 0.83333333 | H20: =H19 -> 2.1041667 | J20: =J19 -> 0.66666667 | K20: =K19 -> 0.58333333 | L20: =L19 -> 0.66666667 | M20: =M19 -> 1.9166667 | O20: =O19 -> 1 | P20: =P19 -> 0.2 | Q20: =Q19 -> 1 | R20: =R19 -> 2.2 | U20: BAJO
B21: Atentados Terroristas | C21: =' AMENAZAS sede Administrativa'!F25 -> Probable | E21: =E20 -> 0.6875 | F21: =F20 -> 0.58333333 | G21: =G20 -> 0.83333333 | H21: =H20 -> 2.1041667 | J21: =J20 -> 0.66666667 | K21: =K20 -> 0.58333333 | L21: =L20 -> 0.66666667 | M21: =M20 -> 1.9166667 | O21: =O20 -> 1 | P21: =P20 -> 0.2 | Q21: =Q20 -> 1 | R21: =R20 -> 2.2 | U21: BAJO
B22: Hurtos, Asaltos | C22: =' AMENAZAS sede Administrativa'!F26 -> Probable | E22: =E21 -> 0.6875 | F22: =F21 -> 0.58333333 | G22: =G21 -> 0.83333333 | H22: =H21 -> 2.1041667 | J22: =J21 -> 0.66666667 | K22: =K21 -> 0.58333333 | L22: =L21 -> 0.66666667 | M22: =M21 -> 1.9166667 | O22: =O21 -> 1 | P22: =P21 -> 0.2 | Q22: =Q21 -> 1 | R22: =R21 -> 2.2 | U22: BAJO
B23: Aglomeraciones de público | C23: =' AMENAZAS sede Administrativa'!F27 -> Probable | E23: =E22 -> 0.6875 | F23: =F22 -> 0.58333333 | G23: =G22 -> 0.83333333 | H23: =H22 -> 2.1041667 | J23: =J22 -> 0.66666667 | K23: =K22 -> 0.58333333 | L23: =L22 -> 0.66666667 | M23: =M22 -> 1.9166667 | O23: =O22 -> 1 | P23: =P22 -> 0.2 | Q23: =Q22 -> 1 | R23: =R22 -> 2.2 | U23: BAJO

Sheet CAR 
B3: IDENTIFICACIÓN DE AMENAZAS
B4: COLDEPORTES: SEDE CENTRO DE ALTO RENDIMIENTO "CAR" - JULIO DE 2017
B5: AMENAZA | C5: INTERNO | D5: EXTERNO | E5: DESCRIPCIÓN DE LA AMENAZA | F5: CALIFICACIÓN | G5: COLOR
C6: (Que se puede generar dentro de la organización) | D6: (Que se puede generar fuera de la organización y afectarla porque se propaga) | E6: (Esta descripción debe ser lo más detallada incluyendo en lo posible la fuente que la generaría, registros históricos, o estudios que sustenten la posibilidad de ocurrencia del evento) | F6: Posible Probable Inminente
B7: DE ORIGEN NATURAL
B8: Incendios Forestales | D8: X | E8: El fuego es un fenómeno que se produce cuando se le aplica calor a un cuerpo combustible (en éste caso material vegetal) en presencia del aire. La sede del centro de alto rendimiento se encuentra ubicada en áreas próximas a zonas verdes y de vegetación. | F8: Posible
B9: Movimientos Sísmicos | D9: X | E9: Basado en el estudio de microzonificación sismica en Bogotá “aún cuando la amenaza sísmica para Santafé de Bogotá no corresponde a valores extremos en el país, el riesgo si lo es debido al alto grado de vulnerabilidad de sus edificaciones". EL CAR fue construido en los años 2000 por lo que se podría pensar que es una construcción sismo resistente. | F9: Probable
B10: Eventos Atmosféricos: Vendavales | C10: X | D10: X | E10: En Bogotá se han presentado vendavales que han provocado caída de arboles, levantamiento de tejados, rompimiento de vidrios, personas lesionadas. | F10: Probable
B11: Eventos Atmosféricos: Tormentas eléctricas | C11: X | D11: X | E11: Según el IDEAM, Bogotá se vió afectada por el fenómeno del niño, generando afectaciones. Haciendo mención al peligro que los rayos puedan representar. | F11: Probable
B12: Eventos Atmosféricos: Granizadas y lluvias torrenciales | C12: X | D12: X | E12: El cambio climatico ha afectado a Bogotá. Las granizadas y lluvias torrenciales han ocasionado inundaciones en la ciudad, por acumulación de basuras en las alcantarillas. | F12: Probable
B13: DE ORIGEN ANTRÓPICO NO INTENCIONAL
B14: Incendios (Eléctricos, térmicos, por productos químicos) | C14: X | E14: EL CAR cuenta con redes eléctricas, equipos energizados, sustancias químicas (productos de aseo), material combustible (la cual esta representada por mobiliario, madera, papel, elementos acolchados de las sillas, etc.) que podría generar este tipo de amenaza. Un corto circuito se puede producir por un fallo en un aparato o línea eléctrica (en una conexión entre dos terminales de un elemento de un circuito eléctrico). En la Bodega 7 del restaurante se almacenan productos químicos. También hay líquidos inflamables - Tanque de ACPM - junto al área señalizada como "calderas". En el área "Almacen e Insumos" hay productos químicos sin rotulación, ni protocolo de almacenamiento. En el Centro de Ciencias del Deporte - Laboratorio control al dopaje - Se manipulan productos químicos y cuentan con un área de cilindros de gases con propiedades explosivas. | F14: Posible
B15: Materiales peligrosos - pérdida de contención (derrames, fugas) | C15: X | E15: Derrames de productos industriales de aseo. Derrames de la Bodega 7 del restaurante se almacenan productos químicos, de líquidos inflamables y del área "Almacen e Insumos". En el Centro de Ciencias del Deporte - Laboratorio control al dopaje - Se manipulan productos químicos. | F15: Probable
B16: Inundación por deficiencias de la infraestructura hidraúlica (redes de alcantarillado) | C16: X | E16: Se podrían presentar daños y taponamiento de las redes hidraúlicas, generando inundaciones al exterior y/o interior de la edificación. Acumulación de basuras en el alcantarillado y falta de mantenimiento a redes. | F16: Posible
B17: Fallas Estructurales | C17: X | E17: Las fallas estructurales podrían ser una consecuencia de un sismo o terremoto que se presentará. En la sede el CAR - Centro de Ciencias del Deporte " En un área del Laboratorio control al dopaje" el techo se encuentra en condiciones deficientes . | F17: Inminente
B18: Fallas de Equipos y Sistemas | C18: X | E18: Falta de mantenimiento e inspecciones a los equipos y sistemas contraincendios. Cambio de equipos defectuosos. Extintores sin carga vigente Gabinetes contra incendio, sin las pruebas hidrostáticas correspondientes. | F18: Inminente
B19: Falla en la red de acueducto | C19: X | E19: Se puede presentar por falta de mantenimiento en la red de acueducto. | F19: Posible
B20: DE ORIGEN SOCIAL
B21: Comportamientos no adaptativos | C21: X | D21: X | E21: Se podrían presentar casos de visitantes como del personal interno con comportamientos que puedan afectar al personal al interior de las instalaciones. | F21: Posible
B22: Accidentes de vehículos | C22: X | D22: X | E22: El CAR esta ubicado sobre avenidas principales de la ciudad, vías de alto tráfico vehícular (Calle 63 y carrera 60). Adicionalmente cerca a la cicloruta. A nivel interno la entrada vehícular y parqueadero, se convierte en zona de transito para el personal y visitantes, que podría verse afectada en una colisión automovilística. | F22: Probable
B23: Accidentes Personales | C23: X | D23: X | E23: Al interior hay escaleras y afluencia continua de visitantes. Practican de deportes de diferentes niveles de riesgo. | F23: Posible
B24: Revueltas /Asonadas / Sabotaje | C24: X | D24: X | E24: El CAR por estar ubicado cerca al parque Simon Bolivar donde se realizan de forma continua eventos, que podrían convertirse en desórdenes públicos en la zona. | F24: Posible
B25: Atentados Terroristas | C25: X | D25: X | E25: El terrorismo es un acto violento e intimidatorio motivado por razones varias (políticas, económicas, etc) que busca generar miedo en la población. Se tienen antecedentes de situaciones presentadas en la ciudad de Bogotá en diferentes lugares públicos. | F25: Probable
B26: Hurtos, Asaltos | C26: X | D26: X | E26: Las manifestaciones y/o desórdenes públicos, pueden traer como consecuencia robos. Intención de la delincuencia en contra de las instalaciones o de personalidades que ingresan o transitan por las vías aledañas. A nivel interno circulan de manera continua visitantes, los cuales en medio de ellos podrían infiltrarse personas con intenciones de hurtar. | F26: Probable
B27: Aglomeraciones de público | C27: X | D27: X | E27: Gran cantidad de personas reunidas en un mismo lugar. En la sede el CAR por la afluencia de visitantes y deportistas por la esencia misma de la institución se convierte en un lugar de aglomeración de público. | F27: Probable

Sheet VULNERABILDAD CAR
B2: ANÁLISIS VULNERABILIDAD
B3: COLDEPORTES: SEDE CENTRO DE ALTO RENDIMIENTO "CAR" - JULIO DE 2017
B4: Calificación
B5: Criterio / Calificación | C5: Interpretación
B6: SI (1) | C6: Cuando existe o tiene un nivel bueno o cuando se dispone de los elementos en optimas condiciones
B7: NO (0) | C7: Cuando no existe o tiene un nivel deficiente
B8: PARCIAL (0.5) | C8: Cuando la implementación no esta terminada o tiene un nivel regular
B9: 2.1 PUNTO A EVALUAR: PERSONAS | C9: RESPUESTA | F9: CALIFICACIÓN | G9: OBSERVACIONES
B10: Gestión Organizacional | C10: Si | D10: No | E10: Parcial
B11: ¿Existe una política general en Gestión del Riesgo donde se indican lineamientos de prevención y preparación ante una emergencia? | E11: X | F11: 0.5 | G11: Se cuenta con la política de gestión del riesgo en estado borrador, el cual se encuentra pendiente para su aprobación y socialización
B12: ¿Existe un esquema organizacional para la respuesta a emergencias (Brigadas, C.O.E - Comité Operativo de Emergencias: Es la estructura responsable de coordinar la ejecución de las actividades antes, durante y después de una emergencia o desastres. Así mismo, las personas que lo integren deben tener poder de decisión y aptitudes que las hagan idóneas para ocupar estos cargos.)? | D12: X | F12: 0 | G12: No se cuenta con el C.O.E
B13: ¿Los funcionarios han adquirido responsabilidades específicas en caso de emergencia? y se mantiene actualizado? | E13: X | F13: 0.5 | G13: No todos los funcionarios y colaboradores de Coldeportes Sede el CAR, han adquirido responsabilidades específicas en caso de emergencia.
B14: ¿Se promueve y se practica activamente con los funcionarios y colaboradores el plan de preparación para emergencias? | E14: X | F14: 0.5 | G14: Se promueve y se practica el plan de emergencias pero no con la totalidad de los funcionarios.
B15: ¿El esquema organizacional para la respuesta a emergencias garantiza la respuesta a los eventos que se puedan presentar tanto en los horarios laborales como en los no laborales? | E15: X | F15: 0.5 | G15: Se apalanca con el personal de seguridad y demas funcionarios en horarios flexibles. En caso de un accidente en horario no laboral, el personal de seguridad han tenido inducciones y se encuentra en proceso de capacitacion, para dar soporte ante una emergencia.
B16: ¿Han establecido mecanismos de interacción con su entorno que faciliten dar respuesta apropiada a los eventos que se puedan presentar? (Comités de Ayuda Mutua-CAM). CAM: Convenio de ayuda entre organizaciones, para prestar asistencia humana y/o técnica en caso de que un evento supere la propia capacidad. | E16: X | F16: 0.5 | G16: Se cuenta con servicio de "Emermedica" que puede dar respuesta apropiada a los eventos que se puedan presentar. En el área donde esta ubicado el CAR, también se encuentra una sede del I.D.R.D. (Instituto Distrital de Recreación y Deporte) con quienes no se ha establecido ningún acercamiento de apoyo en caso de emergencia.
B17: ¿Existen instrumentos, formatos u otros, para hacer inspecciones a las áreas para la identificación de condiciones inseguras que puedan generar emergencias? | C17: X | F17: 1 | G17: El COPASST cuenta con instrumentos para las inspecciones en la sede el CAR (cuenta con 6 formatos de inspecciones vigentes).
B18: ¿Hay un área encargada de mantener el plan de emergencias actualizado y operando? | C18: X | F18: 1 | G18: El área responsable de mantener el plan de emergencias actualizado y operando es Talento Humano.
B19: Promedio Gestión Organizacional | F19: =AVERAGE(F11:F18) -> 0.5625 | G19: REGULAR
B20: Capacitación y Entrenamiento
B21: ¿Se cuenta con un programa de capacitación en prevención y respuesta ante emergencias para los brigadistas? | C21: X | F21: 1 | G21: Se cuenta con el Plan Institucional de Capacitación y con el Programa de Capacitación del Sistema de Gestión de Seguridad y Salud en el trabajo. Los brigadistas cuentan con el apoyo y la capacitación de POSITIVA ARL.
B22: ¿Los miembros del comité de emergencias se han capacitado de acuerdo a su estructura organizacional y/o planes de acción? | D22: X | F22: 0 | G22: Aún no se ha conformado el C.O.E (Comité Operativo de Emergencias).
B23: ¿Las personas dentro de la organización han recibido alguna inducción o charla en temas de respuesta ante emergencias? | C23: X | F23: 1 | G23: Se realizan charlas periódicas en temas de respuesta ante situaciones de emergencia. Se realiza inducción, al ingreso de funcionarios nuevos, sobre que hacer en caso de emergencia dentro de la instalaciones.
B24: ¿Se ha socializado o divulgado el plan de emergencias o planes de acción en caso de emergencias a los funcionarios de la organización? | E24: X | F24: 0.5 | G24: Se ha realizado charla introductoria del plan de emergencias la cual fue realizada en la semana de la salud para toda la entidad (Junio de 2017).
B25: ¿Se cuenta con mecanismos o programa de socialización para el personal flotante "visitantes, usuarios, proveedores" sobre que hacer en caso de emergencia? | E25: X | F25: 0.5 | G25: Se esta desarrollando una estrategia de comunicación para el personal flotante con apoyo del personal de seguridad.
B26: ¿Se cuenta con mecanismos de difusión en temas de prevención y respuesta a emergencias? | C26: X | F26: 1 | G26: Se cuenta con área de comunicaciones con los canales corporativos, se emplea el correo electrónico corporativo y se emplean comunicaciones en los protectores de pantalla de los computadores de Coldeportes.
B27: Promedio Capacitación y entrenamiento | F27: =AVERAGE(F21:F26) -> 0.66666667 | G27: REGULAR
B28: Características de seguridad
B29: ¿Se ha identificado y clasificado el personal fijo y flotante en los diferentes horarios laborales y no laborales (menores de edad, adultos mayores, personas con discapacidad física) según aplique? | E29: X | F29: 0.5
B30: ¿Se han contemplado acciones específicas teniendo en cuenta la clasificación de la población en la preparación y respuesta a emergencias? | C30: X | F30: 1 | G30: Se contempla lideres de zona conformado por brigadistas con el fin de optimizar la preparación y respuesta a emergencias en poblacion especifica.
B31: ¿Se cuenta con un esquema o sistema de seguridad física - vigilancia? | C31: X | F31: 1 | G31: Se cuenta con la empresa de Seguridad con vigilancia las 24 horas en las instalaciones de la Sede EL CAR y se cuenta con cámaras de Seguridad.
B32: Promedio Características de seguridad | F32: =AVERAGE(F29:F31) -> 0.83333333 | G32: BUENO
B33: SUMA TOTAL DE PROMEDIOS | F33: =F19+F27+F32 -> 2.0625 | G33: BAJA
B35: 2.2 PUNTO A EVALUAR: RECURSOS | C35: RESPUESTA | F35: CALIFICACIÓN | G35: OBSERVACIONES
B36: Suministros | C36: Si | D36: No | E36: Parcial
B37: ¿Se cuenta con elementos para señalización y delimitación "señales de pare", cinta de acordonamiento o balizamiento, conos reflectivos, entre otros? | C37: X | F37: 1 | G37: Se cuenta con señales, cinta y conos
B38: ¿Se cuenta con camillas e inmovilizadores cervicales en número suficiente y correctamente distribuidas acordes a las necesidades de la institución? | E38: X | F38: 0.5 | G38: Se cuenta con camillas distribuidas en las diferentes áreas.
B39: ¿Se cuenta con botiquines portátiles o fijos dotados y en número suficiente acorde a las necesidades de la institución? | C39: X | F39: 1 | G39: Se cuenta con botiquines fijos y portátiles en las diferentes áreas del CAR.
B40: ¿Se cuenta con paletas informativas - "número de piso"o áreas? | D40: X | F40: 0
B41: ¿Se cuenta sistemas de comunicación masivos "perifoneo, altavoz o megáfono" para dirigir una evacuación o emergencia? | E41: X | F41: 0.5 | G41: En el centro de ciencias del deporte, existe un megafono en la parte superior de la pared.
B42: ¿Se cuenta con elementos de protección personal para los brigadistas, de acuerdo con las amenazas identificadas y las necesidades de la organización? | D42: X | F42: 0
B43: ¿Se cuenta con médico, enfermera o punto de primeros auxilios? | D43: X | F43: 0
B44: ¿Se cuenta con implementos para el plan contraincedios tales como extintores. De acuerdo a las necesidades de la organización? | E44: X | F44: 0.5 | G44: Si se cuenta con extintores. Sin embargo se encuentran con la carga vencida.
B45: ¿Se cuenta con equipos e implementos para evacuación y el control de la situación y población después de una emergencia con listado y copias de los documentos de los funcionarios, entre otros, acorde a las necesidades específicas? | C45: X | F45: 1 | G45: Se cuenta con listados actualizados de los funcionarios del CAR.
B46: Promedio Suministros | F46: =AVERAGE(F37:F45) -> 0.5 | G46: REGULAR
B47: Edificación
B48: ¿El tipo de construcción es sismo resistente o cuenta con un refuerzo estructural? | D48: X | F48: 0
B49: ¿Existen barreras, puertas y muros cortafuego dentro de la edificación? | D49: X | F49: 0
B50: ¿Las escaleras de emergencia cumplen con las características mínimas de seguridad, "con pasamanos, cintas antideslizantes, iluminación, señalización, según la normatividad vigente? | E50: X | F50: 0.5 | G50: Las escaleras del CAR se encuentran en buen estado. Sin embargo no cuentan con cintas antideslizantes. Las escaleras internas del área del restaurante cuentan con poca iluminación.
B51: ¿Están definidas las rutas de evacuación y salidas de emergencias, debidamente señalizadas y con iluminación alterna? | E51: X | F51: 0.5 | G51: No cuentan con iluminación alterna
B52: ¿Existe más de una salida de emergencia dentro de la sede según Art. 234 de la Res. 2400/79? | C52: X | F52: 1 | G52: Si, existen varias salidas de emergencia.
B53: ¿Las rutas de evacuación cumplen con las características mínimas de seguridad "señalizadas, iluminadas, libres de obstáculos que dificulten un proceso de evacuación en caso de emergencias, entre otros" según normatividad NFPA 101? | E53: X | F53: 0.5 | G53: Las escaleras internas del restaurante se encuentran obstaculizadas, así como la salida de emergencia del gimnasio.
B54: ¿Se cuenta con parqueaderos para los vehículos dentro de la sede? | C54: X | F54: 1 | G54: Si, se cuenta con parqueaderos para motos, vehículos y bicicletas.
B55: ¿Las ventanas de la edificación cuentan con película de seguridad? | C55: X | F55: 1 | G55: Las ventanas de la edificación están diseñadas para golpes de impacto, permitiendo seguridad en caso de emergencia.
B56: ¿El estado actual de la edificación esta en optimas condiciones? Verificar si las columnas, vigas, muros, entrepisos, fachadas y cubiertas, presentan algún deterioro físico considerable como fisuras, grietas, orificios, desprendimientos y/o caída de escombros sobre la población, funcionarios, visitantes o usuarios | E56: X | F56: 0.5 | G56: La sede del CAR se encuentra en buenas condiciones. Sin embargo hay áreas que requieren ser verificadas tales como escaleras internas del restaurante, el área del almacen e insumos, techo del laboratorio de control al dopaje.
B57: ¿Están señalizados los equipos contra incendio? | E57: X | F57: 0.5
B58: ¿Se realiza mantenimiento periódico a las instalaciones y/o edificaciones (techos) para determinar su estabilidad y seguridad, en caso de eventos atmosféricos? | E58: X | F58: 0.5 | G58: Se ha venido realizando diferentes adecuaciones locativas en la vigencia 2017
B59: ¿Se tienen asegurados o anclados enseres, gabinetes u objetos que puedan caer? | D59: X | F59: 0
B60: Promedio Edificaciones | F60: =AVERAGE(F48:F59) -> 0.5 | G60: REGULAR
B61: Equipos
B62: ¿Se cuenta con algún sistema de alarma, con puntos de activación y señalizados en caso de emergencia? | E62: X | F62: 0.5 | G62: Se cuenta con sistema de alarma sonora con puntos de activación y señalizados. Sin embargo en la sede del CAR se desconoce su funcionamiento.
B63: ¿Se cuenta con sistemas automáticos de detección de incendios "detectores de humo"? | E63: X | F63: 0.5 | G63: En las instalaciones se tienen detectores de humo; sin embargo se desconoce su funcionamiento.
B64: ¿Se cuenta con un sistema de comunicaciones internas, para la respuesta a emergencias? | E64: X | F64: 0.5 | G64: El whatsap esta establecido como un medio de comunicación interno. Hay brigadistas en cada zona. Se cuenta con radios de comunicación, sin embargo se ponen en funcionamiento en eventos especiales y masivos.
B65: ¿Se cuenta con redes contra incendios "roseadores y splinkers"? | E65: X | F65: 0.5 | G65: Se desconoce su funcionamiento
B66: ¿Se cuenta con vehículos propios de la empresa que permitan un transporte masivo en caso de emergencia? | C66: X | F66: 1 | G66: Se cuenta con 8 vehículos propios de la entidad, en caso de estar disponibles se emplearían en caso de una emergencia.
B67: ¿Se cuenta con un programa de mantenimiento preventivo y correctivo para los equipos de emergencia? | E67: X | F67: 0.5 | G67: Se cuenta con un cronograma establecido para mantenimiento preventivo para los equipos de emergencia, el cual esta en gestión con la programación para el último trimestre de 2017.
B68: Promedio Equipos | F68: =AVERAGE(F62:F67) -> 0.58333333 | G68: REGULAR
B69: SUMA TOTAL DE PROMEDIOS | F69: =F46+F60+F68 -> 1.5833333 | G69: MEDIA
B71: 2.3 PUNTO A EVALUAR: SISTEMAS Y PROCESOS | C71: RESPUESTA | F71: CALIFICACIÓN | G71: OBSERVACIONES
B72: Servicios | C72: Si | D72: No | E72: Parcial
B73: ¿Se cuenta con suministro de energía? | C73: X | F73: 1
B74: ¿Se cuenta con suministro de gas natural propano? | C74: X | F74: 1 | G74: El gas propano es empleado para labores en el restaurante.
B75: ¿Se cuenta con suministro de agua potable? | C75: X | F75: 1
B76: ¿Se cuenta con un programa de recolección de basuras / programa de gestión de residuos? | C76: X | F76: 1
B77: ¿Se cuenta con servicio de radiocomunicaciones? | C77: X | F77: 1 | G77: Se cuenta con radios; sin embargo se emplean en eventos especiales y masivos
B78: Promedio Servicios | F78: =AVERAGE(F73:F77) -> 1 | G78: BUENO
B79: Sistemas Alternos
B80: ¿Se cuenta con un tanque de reserva de agua? | C80: X | F80: 1
B81: ¿Se cuenta con sistemas para el suministro de energía en caso de emergencia con planta eléctrica o paneles solares? | E81: X | F81: 0.5 | G81: Existe planta eléctrica que alimenta de energía los coliseos.
B82: ¿Se cuenta con un sistema de iluminación de emergencias autónomo o que funciones con baterías portátiles? | D82: X | F82: 0
B83: ¿Se cuenta con hidrantes dentro o fuera de las instalaciones? | D83: X | F83: 0
B84: ¿Se cuenta con un sitio "propio o contratado" para reubicación de las instalaciones, así como del personal en caso de una emergencia? | D84: X | F84: 0
B85: Promedio Sistemas Alternos | F85: =AVERAGE(F80:F84) -> 0.3 | G85: MALO
B86: Recuperación
B87: ¿Se cuenta con alguna póliza de seguros para los funcionarios y/o contratistas? | C87: X | F87: 1
B88: ¿Se tiene asegurada la edificación en caso de terremoto, incendio, atentados terroristas, etc.? | C88: X | F88: 1
B89: ¿Se cuenta con un sistema alterno para asegurar los expedientes en medio magnético y con alguna compañía aseguradora? | C89: X | F89: 1
B90: ¿Se encuentran asegurados los equipos y todos los bienes en general? | C90: X | F90: 1
B91: Promedio Recuperación | F91: =AVERAGE(F87:F90) -> 1 | G91: BUENO
B92: SUMA TOTAL DE PROMEDIOS | F92: =F78+F85+F91 -> 2.3 | G92: BAJA

Sheet Analisis d Riesgo CAR
B2: CONSOLIDADO ANÁLISIS DE RIESGO - SEDE CENTRO DE ALTO RENDIMIENTO "CAR" - JULIO DE 2017
B3: ANÁLISIS DE AMENAZA | E3: ANÁLISIS DE VULNERABILIDAD
E4: PERSONAS | J4: RECURSOS | O4: SISTEMAS Y PROCESOS | T4: NIVEL DE RIESGO
B5: Amenaza | C5: Calificación | D5: Color Rombo Amenazas | E5: 1. Gestión Organizacional | F5: 2. Capacitación y Entrenamiento | G5: 3. Características de Seguridad | H5: Total Vulnerabilidad de Personas | I5: Color Rombo Personas | J5: 1. Suministros | K5: 2. Edificaciones | L5: 3. Equipos | M5: Total Vulnerabilidad de Recursos | N5: Color Rombo Recursos | O5: 1. Servicios | P5: 2. Sistemas Alternos | Q5: 3. Recuperación | R5: Total Vulnerabilidad Sistemas y Procesos | S5: Color Rombo Sistemas y Procesos | T5: Resultado del Diamante | U5: Interpretación Riesgo
B6: Incendios Forestales | C6: ='CAR '!F8 -> Posible | E6: ='VULNERABILDAD CAR'!F19 -> 0.5625 | F6: ='VULNERABILDAD CAR'!F27 -> 0.66666667 | G6: ='VULNERABILDAD CAR'!F32 -> 0.83333333 | H6: ='VULNERABILDAD CAR'!F33 -> 2.0625 | J6: ='VULNERABILDAD CAR'!F46 -> 0.5 | K6: ='VULNERABILDAD CAR'!F60 -> 0.5 | L6: ='VULNERABILDAD CAR'!F68 -> 0.58333333 | M6: ='VULNERABILDAD CAR'!F69 -> 1.5833333 | O6: ='VULNERABILDAD CAR'!F78 -> 1 | P6: ='VULNERABILDAD CAR'!F85 -> 0.3 | Q6: ='VULNERABILDAD CAR'!F91 -> 1 | R6: ='VULNERABILDAD CAR'!F92 -> 2.3 | U6: BAJO
B7: Movimientos Sísmicos | C7: ='CAR '!F9 -> Probable | E7: =E6 -> 0.5625 | F7: =F6 -> 0.66666667 | G7: =G6 -> 0.83333333 | H7: =H6 -> 2.0625 | J7: =J6 -> 0.5 | K7: =K6 -> 0.5 | L7: =L6 -> 0.58333333 | M7: =M6 -> 1.5833333 | O7: =O6 -> 1 | P7: =P6 -> 0.3 | Q7: =Q6 -> 1 | R7: =R6 -> 2.3 | U7: BAJO
B8: Eventos Atmosféricos: Vendavales | C8: ='CAR '!F10 -> Probable | E8: =E7 -> 0.5625 | F8: =F7 -> 0.66666667 | G8: =G7 -> 0.83333333 | H8: =H7 -> 2.0625 | J8: =J7 -> 0.5 | K8: =K7 -> 0.5 | L8: =L7 -> 0.58333333 | M8: =M7 -> 1.5833333 | O8: =O7 -> 1 | P8: =P7 -> 0.3 | Q8: =Q7 -> 1 | R8: =R7 -> 2.3 | U8: BAJO
B9: Eventos Atmosféricos: Tormentas eléctricas | C9: ='CAR '!F11 -> Probable | E9: =E8 -> 0.5625 | F9: =F8 -> 0.66666667 | G9: =G8 -> 0.83333333 | H9: =H8 -> 2.0625 | J9: =J8 -> 0.5 | K9: =K8 -> 0.5 | L9: =L8 -> 0.58333333 | M9: =M8 -> 1.5833333 | O9: =O8 -> 1 | P9: =P8 -> 0.3 | Q9: =Q8 -> 1 | R9: =R8 -> 2.3 | U9: BAJO
B10: Eventos Atmosféricos: Granizadas y lluvias torrenciales | C10: ='CAR '!F12 -> Probable | E10: =E9 -> 0.5625 | F10: =F9 -> 0.66666667 | G10: =G9 -> 0.83333333 | H10: =H9 -> 2.0625 | J10: =J9 -> 0.5 | K10: =K9 -> 0.5 | L10: =L9 -> 0.58333333 | M10: =M9 -> 1.5833333 | O10: =O9 -> 1 | P10: =P9 -> 0.3 | Q10: =Q9 -> 1 | R10: =R9 -> 2.3 | U10: BAJO
B11: Incendios (Eléctricos, térmicos) | C11: ='CAR '!F14 -> Posible | E11: =E10 -> 0.5625 | F11: =F10 -> 0.66666667 | G11: =G10 -> 0.83333333 | H11: =H10 -> 2.0625 | J11: =J10 -> 0.5 | K11: =K10 -> 0.5 | L11: =L10 -> 0.58333333 | M11: =M10 -> 1.5833333 | O11: =O10 -> 1 | P11: =P10 -> 0.3 | Q11: =Q10 -> 1 | R11: =R10 -> 2.3 | U11: BAJO
B12: Materiales peligrosos (derrames) | C12: ='CAR '!F15 -> Probable | E12: =E11 -> 0.5625 | F12: =F11 -> 0.66666667 | G12: =G11 -> 0.83333333 | H12: =H11 -> 2.0625 | J12: =J11 -> 0.5 | K12: =K11 -> 0.5 | L12: =L11 -> 0.58333333 | M12: =M11 -> 1.5833333 | O12: =O11 -> 1 | P12: =P11 -> 0.3 | Q12: =Q11 -> 1 | R12: =R11 -> 2.3 | U12: BAJO
B13: Inundación por deficiencias de la infraestructura hidraúlica (redes de alcantarillado) | C13: ='CAR '!F16 -> Posible | E13: =E12 -> 0.5625 | F13: =F12 -> 0.66666667 | G13: =G12 -> 0.83333333 | H13: =H12 -> 2.0625 | J13: =J12 -> 0.5 | K13: =K12 -> 0.5 | L13: =L12 -> 0.58333333 | M13: =M12 -> 1.5833333 | O13: =O12 -> 1 | P13: =P12 -> 0.3 | Q13: =Q12 -> 1 | R13: =R12 -> 2.3 | U13: BAJO
B14: Fallas Estructurales | C14: ='CAR '!F17 -> Inminente | E14: =E13 -> 0.5625 | F14: =F13 -> 0.66666667 | G14: =G13 -> 0.83333333 | H14: =H13 -> 2.0625 | J14: =J13 -> 0.5 | K14: =K13 -> 0.5 | L14: =L13 -> 0.58333333 | M14: =M13 -> 1.5833333 | O14: =O13 -> 1 | P14: =P13 -> 0.3 | Q14: =Q13 -> 1 | R14: =R13 -> 2.3 | U14: MEDIO
B15: Fallas de Equipos y Sistemas | C15: ='CAR '!F18 -> Inminente | E15: =E14 -> 0.5625 | F15: =F14 -> 0.66666667 | G15: =G14 -> 0.83333333 | H15: =H14 -> 2.0625 | J15: =J14 -> 0.5 | K15: =K14 -> 0.5 | L15: =L14 -> 0.58333333 | M15: =M14 -> 1.5833333 | O15: =O14 -> 1 | P15: =P14 -> 0.3 | Q15: =Q14 -> 1 | R15: =R14 -> 2.3 | U15: MEDIO
B16: Falla en la red de acueducto | C16: ='CAR '!F19 -> Posible | E16: =E15 -> 0.5625 | F16: =F15 -> 0.66666667 | G16: =G15 -> 0.83333333 | H16: =H15 -> 2.0625 | J16: =J15 -> 0.5 | K16: =K15 -> 0.5 | L16: =L15 -> 0.58333333 | M16: =M15 -> 1.5833333 | O16: =O15 -> 1 | P16: =P15 -> 0.3 | Q16: =Q15 -> 1 | R16: =R15 -> 2.3 | U16: BAJO
B17: Comportamientos no adaptativos | C17: ='CAR '!F21 -> Posible | E17: =E16 -> 0.5625 | F17: =F16 -> 0.66666667 | G17: =G16 -> 0.83333333 | H17: =H16 -> 2.0625 | J17: =J16 -> 0.5 | K17: =K16 -> 0.5 | L17: =L16 -> 0.58333333 | M17: =M16 -> 1.5833333 | O17: =O16 -> 1 | P17: =P16 -> 0.3 | Q17: =Q16 -> 1 | R17: =R16 -> 2.3 | U17: BAJO
B18: Accidentes de vehículos | C18: ='CAR '!F22 -> Probable | E18: =E17 -> 0.5625 | F18: =F17 -> 0.66666667 | G18: =G17 -> 0.83333333 | H18: =H17 -> 2.0625 | J18: =J17 -> 0.5 | K18: =K17 -> 0.5 | L18: =L17 -> 0.58333333 | M18: =M17 -> 1.5833333 | O18: =O17 -> 1 | P18: =P17 -> 0.3 | Q18: =Q17 -> 1 | R18: =R17 -> 2.3 | U18: BAJO
B19: Accidentes Personales | C19: ='CAR '!F23 -> Posible | E19: =E18 -> 0.5625 | F19: =F18 -> 0.66666667 | G19: =G18 -> 0.83333333 | H19: =H18 -> 2.0625 | J19: =J18 -> 0.5 | K19: =K18 -> 0.5 | L19: =L18 -> 0.58333333 | M19: =M18 -> 1.5833333 | O19: =O18 -> 1 | P19: =P18 -> 0.3 | Q19: =Q18 -> 1 | R19: =R18 -> 2.3 | U19: BAJO
B20: Revueltas /Asonadas / Sabotaje | C20: ='CAR '!F24 -> Posible | E20: =E19 -> 0.5625 | F20: =F19 -> 0.66666667 | G20: =G19 -> 0.83333333 | H20: =H19 -> 2.0625 | J20: =J19 -> 0.5 | K20: =K19 -> 0.5 | L20: =L19 -> 0.58333333 | M20: =M19 -> 1.5833333 | O20: =O19 -> 1 | P20: =P19 -> 0.3 | Q20: =Q19 -> 1 | R20: =R19 -> 2.3 | U20: BAJO
B21: Atentados Terroristas | C21: ='CAR '!F25 -> Probable | E21: =E20 -> 0.5625 | F21: =F20 -> 0.66666667 | G21: =G20 -> 0.83333333 | H21: =H20 -> 2.0625 | J21: =J20 -> 0.5 | K21: =K20 -> 0.5 | L21: =L20 -> 0.58333333 | M21: =M20 -> 1.5833333 | O21: =O20 -> 1 | P21: =P20 -> 0.3 | Q21: =Q20 -> 1 | R21: =R20 -> 2.3 | U21: BAJO
B22: Hurtos, Asaltos | C22: ='CAR '!F26 -> Probable | E22: =E21 -> 0.5625 | F22: =F21 -> 0.66666667 | G22: =G21 -> 0.83333333 | H22: =H21 -> 2.0625 | J22: =J21 -> 0.5 | K22: =K21 -> 0.5 | L22: =L21 -> 0.58333333 | M22: =M21 -> 1.5833333 | O22: =O21 -> 1 | P22: =P21 -> 0.3 | Q22: =Q21 -> 1 | R22: =R21 -> 2.3 | U22: BAJO
B23: Aglomeraciones de público | C23: ='CAR '!F27 -> Probable | E23: =E22 -> 0.5625 | F23: =F22 -> 0.66666667 | G23: =G22 -> 0.83333333 | H23: =H22 -> 2.0625 | J23: =J22 -> 0.5 | K23: =K22 -> 0.5 | L23: =L22 -> 0.58333333 | M23: =M22 -> 1.5833333 | O23: =O22 -> 1 | P23: =P22 -> 0.3 | Q23: =Q22 -> 1 | R23: =R22 -> 2.3 | U23: BAJO
